{"text_format":"1","workbook":"xlsx","n_sheets":34,"sheets":["RA (PEB) (2)","Facesheet ","TS","Shedule C","Shedule B Elect","Shedule C Elect","Shedule B","Shedule B Abst","TS (2)","Recap","DSR-Sheet I  ","sheet 1 Bore ","sheet 1CW ","Sheet  -Office","Wh. ","EL","Lab Tests","Royaly ","Antiter","office build","Mtrs CW","Rain harvest","Bore Mtrs.","WBM Road","UG watertank","RA","RA (PEB)","01","Sheet1","RA Elect","Cement consumption","Sheet2","Lab Test","Sheet3"],"not_rendered":{"charts":0,"images":1,"macros":1,"external_links":11,"defined_names":215,"comments":0,"pivot_tables":0},"unopened":[],"bounds":{"document_bytes":16777216,"sheet_cells":100000,"rows_first":2000,"rows_last":500,"rows_between":2000,"halvings":0,"cell_chars":16384,"cell_head_chars":4096},"cells_cut":0,"cells_raw":0,"read":"whole","date_system":"1900"}

{"sheet":"RA (PEB) (2)","index":0,"n_rows":67,"n_cols":12,"rows_kept":67,"cut":false,"hidden":true,"merged":[[60,6,60,7],[61,6,61,7],[65,1,65,4],[0,0,0,6],[1,0,1,6],[3,0,3,6],[4,0,4,6],[19,1,19,2],[22,1,22,2]]}
["MAHARASHTRA STATE WAREHOUSING CORPORATION"]
["583/B, MARKET YARD, GULTEKADI, PUNE-411037"]
[null,null,1]
[{"$f":"'[1]Wh. '!B73","v":"NAME OF WORK :-  CONSTRUCTION OF 2/3600  MT CAP. PRE ENGINEERED WH BLDG WITH ANCILLARY WORKS AT:-MURTIZAPUR (MIDC) DIST. AKOLA."}]
[]
["I.N.5","Above Plinth PEB Structure"]
[null,null,null,null,"L","B","Area",null,null,"L","B","Area"]
[null,"Area of 1800MT ",null,42,22,{"$f":"D8*E8","v":924},null,5383293]
[null,"LessRock wool for wall(765 x 340.50/Sq.Mtr",null,765,340.5,null,null,{"$f":"D9*E9","v":260482.5}]
[null,"Less G.I.Wiremesh cost  for wall(765 x 67.00/Sq.Mtr)",null,765,67,null,null,{"$f":"D10*E10","v":51255}]
[null,"Net Cost After Deduction of Rock wool cost of Wall",null,null,null,null,null,{"$f":"H8-H9-H10","v":5071555.5}]
[null,"Rate / Sq.Mtr",null,null,null,null,null,{"$f":"H11/F8","v":5488.6964285714284}]
[null,"Area of 3000MT ",null,73,22,{"$f":"D13*E13","v":1606}]
[]
[null,"Rate analysis for 3000 MT ",null,null,null,null,{"$f":"F13*H12","v":8814846.4642857146}]
[]
[null,"Add 1% for Power & other misleanious ",null,null,null,null,{"$f":"G15*2%","v":176296.92928571429}]
[]
[]
[null,"Above Plinth PEB Cost (Without Partition  )",null,null,null,"Total",{"$f":"SUM(G15:G19)","v":8991143.393571429}]
[]
[]
[null,null,null,null,null,"Say",{"$f":"G20","v":8991143.393571429}]
[]
[null,"For 3000 MT"]
[null,null,null,"LENGTH","HT","AREA","COST","Cost/Sq.Mtr"]
[null,"22.42+22.42+42+42=128.84",null,128.84,5.45,{"$f":"D27*E27","v":702.178},4003611,{"$f":"G27/F27","v":5701.7038414760927}]
[null,"(3683322+320289)=4003611"]
[null,"For Partiation Wall  ",1,22.45,3,{"$f":"C29*D29*E29","v":67.349999999999994},{"$f":"F29*H27","v":384009.75372341479}]
[]
[]
[null,"Say Extra gable Cost For 22.00 m Span",null,null,null,null,{"$f":"G29","v":384009.75372341479}]
[null,null,null,null,null,null,null,null,null,{"$f":"'[1]Wh. '!G6","v":64.097999999999999},{"$f":"'[1]Wh. '!I6","v":29.158000000000001},{"$f":"J33*K33","v":1868.969484}]
[null,null,null,null,42,22,{"$f":"E34*F34","v":924}]
[null,null,null,"Length of Bldg","Height","Area","Cost","Cost/Sq.Mtr","Length of Bldg","Height","Area","Cost"]
[]
[null,"Structural Steel members for wh.Bldg",null,{"$f":"42+42+22+22","v":128},5.15,{"$f":"D37*E37","v":659.2},{"$f":"3349427","v":3349427},{"$f":"G37/F37","v":5081.0482402912621},{"$f":"63.87+63.87+29.24+29.24+29.24","v":215.46},5.15,{"$f":"I37*J37","v":1109.6190000000001},{"$f":"K37*H37","v":5638027.6673437506}]
[]
[null,"Errection ",null,null,null,null,291255,{"$f":"G39/F37","v":441.83100728155335},null,null,null,{"$f":"H39*K37","v":490264.08046875003}]
[]
[null,"Turbovent",12,null,null,null,117180,{"$f":"G41/C41","v":9765},20,null,null,{"$f":"I41*H41","v":195300}]
[null,null,null,null,null,null,null,null,"Nos"]
[null,"R S ",4,null,null,null,0,{"$f":"G43/C43","v":0},6,null,null,{"$f":"I43*H43","v":0}]
[null,null,null,null,null,null,null,null,"Nos"]
[null,"W",28,null,null,null,0,{"$f":"G45/C45","v":0},36,null,null,{"$f":"I45*H45","v":0}]
[null,null,null,null,null,null,null,null,"Nos"]
[null,"W2",46,null,null,null,134395,{"$f":"G47/C47","v":2921.6304347826085},76,null,null,{"$f":"I47*H47","v":222043.91304347824}]
[]
[null,"Rock wool ",null,null,null,1884,0,{"$f":"G49/F49","v":0},null,null,{"$f":"(1606*1884)/924","v":3274.5714285714284},{"$f":"K49*H49","v":0}]
[]
[null,"G.I.Wire",null,null,null,1884,0,{"$f":"G51/F51","v":0},null,null,{"$f":"(1606*1884)/924","v":3274.5714285714284},{"$f":"K51*H51","v":0}]
[]
[null,"Errection Charges for Laying Insulation ",null,null,null,1884,0,{"$f":"G53/F53","v":0},null,null,{"$f":"(1606*1884)/924","v":3274.5714285714284},{"$f":"K53*H53","v":0}]
[]
[null,"TOTAL ",null,null,null,null,{"$f":"SUM(G37:G54)","v":3892257},null,null,null,null,{"$f":"SUM(L37:L54)","v":6545635.6608559787}]
[null,null,null,null,null,null,null,"Add 10% contractors profit ",null,null,null,{"$f":"L55*10%","v":654563.56608559797}]
[null,null,null,null,null,null,null,null,null,null,"Total",{"$f":"SUM(L55:L56)","v":7200199.2269415762}]
[null,"Cost per Sq.Meter","For 1800 MT",null,null,null,{"$f":"G55/G34","v":4212.3993506493507},{"$f":"[1]Recap!G11","v":3600},"MT",null,null,{"$f":"L55/L33","v":3502.2699497730155}]
[]
[]
[null,null,null,"Periphery","Ht","Sheet area","Mahur quatated Rate",null,3932.8]
[null,"Cladding",null,{"$f":"42.22+22.39+42.22+22.39","v":129.22},5.5,{"$f":"D62*E62","v":710.71},"Add for RMP & XLPE",null,{"$f":"H67","v":173.73693216887875},null,"Area"]
[null,"Roofing",null,{"$f":"42.22*2","v":84.44},15.5,{"$f":"D63*E63","v":1308.82},null,null,{"$f":"SUM(I61:I62)","v":4106.5369321688786},"X",{"$f":"42.22*22.392","v":945.39023999999995},{"$f":"K63*I63","v":3882279.9358719997}]
[null,"gable ",null,{"$f":"2*0.5*22.39","v":22.39},1.5,{"$f":"E64*D64","v":33.585000000000001},null,"add 10 % ",{"$f":"I63*0.1","v":410.65369321688786}]
[null,null,null,null,"Total",{"$f":"SUM(F62:F64)","v":2053.1149999999998},null,"Total rs. ",{"$f":"SUM(I63:I64)","v":4517.1906253857669}]
[null," For RMP & XLPE isulation sheet",null,null,null,80]
[null,null,null,null,null,{"$f":"F65*F66","v":164249.19999999998},{"$f":"K63","v":945.39023999999995},{"$f":"F67/G67","v":173.73693216887875}]

{"sheet":"Facesheet ","index":1,"n_rows":53,"n_cols":5,"rows_kept":53,"cut":false,"hidden":true,"merged":[[30,0,30,4],[0,1,0,5],[1,1,1,5],[2,1,2,5],[5,14,5,18],[7,1,7,4],[15,1,15,4]]}
[null,"MAHARASHTRA STATE WAREHOUSING CORPORATION"]
[null,"( शासनाचा सार्वजनिक उपक्रम )"]
[null,"583/B, Market Yard, Gultekadi, Pune-37."]
[]
[1,"Estimated framed as per S.S. / Dy.Manager Complex"]
[null,"letter No ",null,"dated"]
[]
[2,"Estimate requirements recommended by Sr. Regional Manager"]
[null,"vide No - ",null,"dated - "]
[]
[3,"Part of annual programme of M&R /S.R. work vide item No- "]
[null,"H. O. letter  No-  "]
[]
[null,"Estimate framed in the office of ","Regional Manager , Aurangabad / Latur "]
[]
[null,{"$f":"'Wh. '!B5:M5","v":"NAME OF WORK :-  CONSTRUCTION OF 1/2160 MT CAP PRE- ENGINEERED WH BLDG WITH ANCILLARY WORKS AT: NAGZARI DIST. LATUR"}]
[]
[null,{"$f":"Recap!B10","v":"Based on E S S R -2019-20 & MR"}]
[]
[null,null,"Estimate Amounts Rs",null,{"$f":"Recap!F31","v":14309266.867946249}]
[]
[null,"Estimate framed by- ","Er. "]
[]
[null,"Dy, manager (Engg)  ","Er.  S.N. Bhosale "]
[]
[null,"Scrutinised  at HO. By                  ","Er.R.D. Jadhav, Pune"]
[]
[null,"Dy. Manager Engineering H.O","Er. S.M.Patokar "]
[]
[]
["General Description "]
[]
[null,"The major items of the estimate are as directed below."]
["Sr.no.","Brief Description of item","Quantity","Rate","Amounts"]
[1,{"$f":"Recap!B14","v":"S.W. I - W.H.BUILDING 1/2160M T "},null,null,{"$f":"Recap!#REF!","v":{"$error":"#REF!"}}]
[2,"S.W. II- OFFICE BLDG.(14.55 x 6.70)",null,null,{"$f":"Recap!#REF!","v":{"$error":"#REF!"}}]
[3,{"$f":"Recap!#REF!","v":{"$error":"#REF!"}},null,null,{"$f":"Recap!#REF!","v":{"$error":"#REF!"}}]
[4,{"$f":"Recap!B16","v":"S.W. II - Elecrification"},null,null,{"$f":"Recap!F16","v":106524.94999999998}]
[5]
[6]
[]
[]
[null,"The total esstimated cost is Rs",{"$f":"E20","v":14309266.867946249},"including  12% GST for civil work & 18 % GST "]
[null,"for pre engineered building  & "]
[null,"0.5% Labour insurance.  The work will be executed as per standard specifications of P.W.D. of Govt. "]
[null," of Maharashtra & as per the descriptions."]
[null,"                                                   "]
[]
[null,null,null,null,"Technically sanctioned by"]
[]
[]
[]
[null,null,null,"GENERAL MANAGER (ENGINEERING)"]

{"sheet":"TS","index":2,"n_rows":23,"n_cols":10,"rows_kept":23,"cut":false,"hidden":true,"merged":[[13,0,13,8],[13,9,13,10],[14,0,14,10],[15,1,15,10],[22,7,22,10],[12,0,12,10],[0,0,0,10],[1,0,1,10],[7,0,7,10],[9,2,9,10]]}
["MAHARASHTRA STATE WAREHOUSING CORPORATION"]
["583/B, Market Yard, Gultekadi, Pune-37."]
[]
[]
[]
[]
[]
["TECHNICAL SANCTION"]
[]
[null,null,{"$f":"'Wh. '!B5","v":"NAME OF WORK :-  CONSTRUCTION OF 1/2160 MT CAP PRE- ENGINEERED WH BLDG WITH ANCILLARY WORKS AT: NAGZARI DIST. LATUR"}]
[]
[]
["                   As per the delegations of powers vested with the undersigned, Technical "]
["Sanction have been accorded to the above cited work amounting to Rs",null,null,null,null,null,null,null,null,{"$f":"Recap!F31","v":14309266.867946249}]
[]
[null,"                The Field Officials are hereby directed; prior to taking up the above work in hand they should study all the sanctioned provisions & execute work accordingly.  All the necessary registers are also to be opened."]
[]
[]
[]
[]
[]
[]
[null,null,null,null,null,null,null,"GENERAL MANAGER (ENGG.)  "]

{"sheet":"Shedule C","index":3,"n_rows":304,"n_cols":5,"rows_kept":304,"cut":false,"hidden":true,"merged":[[5,0,5,4],[0,0,0,4],[1,0,1,4],[2,0,2,4],[3,0,3,4],[4,0,4,4],[297,1,297,4],[12,1,12,4],[6,0,6,4],[9,0,10,0],[9,1,10,1],[9,2,9,4]]}
["MAHARASHTRA STATE WAREHOUSING CORPORATION"]
["( A Govt. Public Sector Undertaking)"]
["583/B, MARKET YARD, GULTEKADI, PUNE-411037"]
[{"$f":"'Shedule B'!A5:G5","v":"NAME OF WORK :-  CONSTRUCTION OF 1/2160 MT CAP PRE- ENGINEERED WH BLDG WITH ANCILLARY WORKS AT: NAGZARI DIST. LATUR"}]
["SCHEDULE - 'C'"]
["ITEM WISE STANDARD SPECIFICATIONS"]
["             Specifications for the items of work to be carried out by the Contractor as given below"]
[]
[]
["Item No.","Name of Work","Standard Specifications  as  per Specification Book published by Govt. of Maharashtra Volume I-1979 and Volume -II 1981 Edition"]
[null,null,"Specification No.","Page No.","Additional specification if any"]
[1,2,3,4,5]
[null,{"$f":"'Shedule B'!B14:C14","v":"S.W. I - W.H.BUILDING 1/2160M T "}]
[{"$f":"'Shedule B'!A15","v":"1'"},{"$f":"'Shedule B'!C15","v":"Labour Charges for removing grass, thorney shurbs, subabhul & alike grass in plot making the ground clean by showel & phawaras etc. complete."},"---"," ---","As directed by Engineer in charge"]
[{"$f":"'Shedule B'!A16","v":"1\""},{"$f":"'Shedule B'!C16","v":"Cutting down trees including trunks and branches with girths above 30cm to 60cm and stacking the materials neatly with all lifts and lead of 1000m as directed and earth filling in the depression / pit if any."},"MORTH 201"," ---","As directed by Engineer in charge"]
[{"$f":"'Shedule B'!A17","v":"1-A"},{"$f":"'Shedule B'!C17","v":"Excavation for foundation in earth, soil of all types, sand, gravel and soft murum, including removing the excavated material up to a distance of 50 m. beyond the building area and stacking and spreading as directed, dewatering, preparing the bed for the foundation and necessary back filling, ramming, watering including shoring and strutting etc. complete. (Lift upto 1.5 m.) By Mechanical Means"},"Bd.A.1 ",259,"As directed by Engineer in charge"]
[{"$f":"'Shedule B'!A18","v":"1-A'"},{"$f":"'Shedule B'!C18","v":"Excavation for foundation in earth, soils of all types, sand,gravel and soft murum, including removing the excavated material upto a distance of 50 metres beyond the building area and stacking and spreading as directed, dewatering, preparing the bed for the foundation and necessary back filling, ramming, watering including shoring and strutting etc. complete. (Lift from 1.5m to 3.0m) By Mechanical Means"},"Bd.A.1",259,"As directed by Engineer in charge"]
[{"$f":"'Shedule B'!A19","v":" (1-A\") "},{"$f":"'Shedule B'!C19","v":"Excavation for foundation in earth, soils of all types, sand,gravel and soft murum, including removing the excavated material upto a distance of 50 metres beyond the building area and stacking and spreading as directed, dewatering, preparing the bed for the foundation and necessary back filling, ramming, watering including shoring and strutting etc. complete. (Lift from 3m to 4.5 m) By Mechanical Means"},"Bd.A.1",259,"As directed by Engineer in charge"]
[{"$f":"'Shedule B'!A20","v":"1-B"},{"$f":"'Shedule B'!C20","v":"Excavation for foundation in hard murum including removing the excavated material upto distance of 50 metres beyond the building area and stacking and spreading as directed dewatering, preparing the bed for the foundation and necessary back filling, ramming, watering including shoring and strutting etc. complete. (Lift upto 1.50 m) By Mechanical Means"},"Bd.A.2",259,"As directed by Engineer in charge"]
[{"$f":"'Shedule B'!A21","v":"1-B'"},{"$f":"'Shedule B'!C21","v":"Excavation for foundation in Hard murum including removing the excavated material upto a distance of 50 metres beyond the building area and stacking and spreading as directed, dewatering, preparing the bed for the foundation and necessary back filling, ramming, watering including shoring and strutting etc. complete. (Lift from 1.5 to 3.0m.) By Mechanical Means"},"Bd.A.2",259,"As directed by Engineer in charge"]
[{"$f":"'Shedule B'!A22","v":"1-C"},{"$f":"'Shedule B'!C22","v":"Excavation for foundation in hard murum and boulders including removing the excavated material up to a distance 50 metres, beyond the building area and stacking and spreading as directed, dewatering, preparing the bed for the foundation and necessary back filling, ramming, watering including shoring and strutting etc. complete. (Lift upto 1.5m.) By Mechanical Means"},"Bd.A.3",259,"As directed by Engineer in charge"]
[{"$f":"'Shedule B'!A23","v":"1-C'"},{"$f":"'Shedule B'!C23","v":"Excavation for foundation in Hard murum and boulders including removing the excavated material upto a distance of 50 metres, beyond the building area and stacking and spreading as directed, dewatering, preparing the bed for the foundation and necessary back filling, ramming, watering including shoring and strutting etc. complete. (Lift from 1.5 m to 3.0 m.) By Mechanical Means"},"Bd.A.3",259,"As directed by Engineer in charge"]
[{"$f":"'Shedule B'!A24","v":"1-D"},{"$f":"'Shedule B'!C24","v":"Excavation for foundation in Soft rock and old cement or lime masonry foundations including removing the excavated material upto a distance of 50 metres beyond the building area and stacking as directed, including dewatering, preparing the bed for the foundation and necessary back filling with available earth /murum, ramming, watering including shoring and strutting etc. complete (lift upto 1.5m) By Mechanical Means"},"Bd.A.4",259,"As directed by Engineer in charge"]
[{"$f":"'Shedule B'!A25","v":"1-E "},{"$f":"'Shedule B'!C25","v":"Excavation for foundation in Hard rock by blasting including trimming and leveling the bed by chiseling where necessary and removing the excavated material and stacking it in measurable heaps within a distance of 50 metres from the building area including dewatering and back filling with available earth/murum, watering, ramming, etc. complete. (Lift upto 1.5m) By Mechanical Means"},"Bd.A.5",259,"As directed by Engineer in charge"]
[{"$f":"'Shedule B'!A26","v":"1-G "},{"$f":"'Shedule B'!C26","v":"Excavation for roadway in earth, soil of all sorts, sand, gravel or soft murum including dressing section to the required grade, camber and side slopes and conveying the excavated materials with all lifts upto a lead of 50m. and spreading for embankment or stacking as directed."},"MORTH 301","--","As directed by Engineer in charge"]
[{"$f":"'Shedule B'!A27","v":"1 - H "},{"$f":"'Shedule B'!C27","v":"Excavation for roadway in hard murum and boulder including dressing section to the required grade, camber and side slopes and conveying the excavated materials with all lifts upto a lead of 50m.and spreading for embankment or stacking as directed."},"MORTH 301","--","As directed by Engineer in charge"]
[{"$f":"'Shedule B'!A28","v":"1-I"},{"$f":"'Shedule B'!C28","v":"Providing and fixing 25mm diameter steel anchor dowel in hard rock including drilling hole of 32 mm diameter up to 0.75 mtrs depth, placing the dowel in position and effectively grouting the hole with CM 1:1 proportion etc. complete."},"--","--","As directed by Engineer in charge"]
[{"$f":"'Shedule B'!A29","v":2},{"$f":"'Shedule B'!C29","v":"Providing and laying in situ / ready mix / ready mix M10 cement concrete of trap/ granite/ quartzite/ gneiss metal in foundation including necessary centering, formwork, bailing out water, compacting and curing etc. complete. (pan mixer) with natural /artifical sand)"},"BR.5 & B.7","105 & 38","As directed by Engineer in charge"]
[{"$f":"'Shedule B'!A30","v":3},{"$f":"'Shedule B'!C30","v":"Providing uncoursed rubble masonry of trap / granite / quartzite / gneiss stones in cement mortar 1:6 in foundation and plinth of inner walls / in plinth of external walls including bailing out water manually , striking joints on un exposed faces and watering etc.complete."},"Bd.H.1",329,"As directed by Engineer in charge"]
[{"$f":"'Shedule B'!A31","v":4},{"$f":"'Shedule B'!C31","v":"Providing second class Burnt Brick masonry with conventional/ I.S. type bricks in cement mortar 1:6 in foundations and plinth of inner walls/ in plinth external walls including bailing out water manually , striking joints on unexposed faces, raking out joints on exposed faces and watering etc. Complete."},"Bd.G.1",313,"As directed by Engineer in charge"]
[{"$f":"'Shedule B'!A32","v":5},{"$f":"'Shedule B'!C32","v":"Providing and fixing in position TMT - FE - 500 bar reinforcement of various diameters for R.C.C. pile caps, footings, foundations, slabs, beams columns, caOne Numberpies, staircase, newels, chajjas, lintels pardis, copings, fins, arches etc. as per detailed designs, drawings and schedules. including cutting, bending, hooking the bars, binding with wires or tack welding and supporting as required complete."},"Bd.F.17",306,"As directed by Engineer in charge"]
[{"$f":"'Shedule B'!A33","v":6},{"$f":"'Shedule B'!C33","v":"Providing and laying in situ /Ready Mix cement concrete M-30 of trap / granite /quartzite/ gneiss metal for R.C.C. work in foundations like raft, strip foundations, grillage and footings of R.C.C. columns and steel stanchions etc. including bailing out water, Steel centering formwork, laying/pumping cover blocks, compaction and curing roughening the surface if special finish is to be provided (Excluding reinforcement and structural steel) etc. complete. With fine aggregate (Natural Sand / Crushed sand VSI Grade finely washed etc)"},"Bd.F.3 & B.7","298 & 38","As directed by Engineer in charge"]
[{"$f":"'Shedule B'!A34","v":7},{"$f":"'Shedule B'!C34","v":"Providing and laying Cast in situ/Ready Mix cement concrete M-30 of trap / granite /quartzite/ gneiss metal for R.C.C. columns as per detailed designs and drawing or as directed including steel centering, formwork, cover blocks, laying/pumping, compaction finishing the formed surfaces with cement mortar 1:3 of sufficient minimum thickness to give a smooth and even surface or roughening if special finish is to be provided and curing etc. complete,(Excluding reinforcement and structural steel). With fine aggregate (Natural Sand / Crushed sand VSI Grade finely washed etc)"},"Bd.F.5  & B.7","300 & 38","As directed by Engineer in charge"]
[{"$f":"'Shedule B'!A35","v":8},{"$f":"'Shedule B'!C35","v":"Providing and laying Cast in situ/Ready Mix cement concrete M-30 of trap / granite /quartzite/ gneiss metal for R.C.C. beams and lintels as per detailed designs and drawings or as directed including steel centering, formwork, cover blocks, laying/pumping, compaction and roughening the surface if special finish is to be provided and curing etc. complete. (Excluding reinforcement and structural steel) etc. complete. With fine aggregate (Natural Sand / Crushed sand VSI Grade finely washed etc)"},"Bd.F.6 & B.7","300 & 38","As directed by Engineer in charge"]
[{"$f":"'Shedule B'!A36","v":9},{"$f":"'Shedule B'!C36","v":"Providing and laying Cast in situ/Ready Mix cement concrete M-30 of trap/ granite / quartzite/ gneiss metal for R.C.C. slabs and landings as per detailed designs and drawings including steel centering, formwork, cover blocks, laying/pumping, compaction finishing the formed surfaces with cement mortar 1:3 of sufficient minimum thickness to give a smooth and even surface or roughening if special finish is to be provided and curing etc. complete. (Excluding reinforcement and structural steel). With fine aggregate (Natural Sand / Crushed sand VSI Grade finely washed etc)"},"Bd.F.8 & B.7","302 & 38","As directed by Engineer in charge"]
[{"$f":"'Shedule B'!A37","v":10},{"$f":"'Shedule B'!C37","v":"Providing and laying Cast in situ/Ready Mix cement concrete M-30 of trap/ granite/ quartzite/ gneiss metal for R.C.C. chajja as per detailed design and drawings including steel centering, formwork, cover blocks compacting , curing , finishing and roughening the surface if special finish is to be provided and curing complete. (Excluding reinforcement and structural steel). With fine aggregate (Natural Sand / Crushed sand VSI Grade finely washed etc)"},"Bd.F.9 & B.7","303 & 38","As directed by Engineer in charge"]
[{"$f":"'Shedule B'!A38","v":11},{"$f":"'Shedule B'!C38","v":"Providing second class Burnt Brick masonry with conventional/ I.S. type bricks in cement mortar 1:6 in superstructure including striking joints, raking out joints, watering and scaffolding etc. Complete"},"Bd.G.5 ",315,"As directed by Engineer in charge"]
[{"$f":"'Shedule B'!A39","v":12},{"$f":"'Shedule B'!C39","v":"Providing and laying Cast in situ/Ready Mix cement concrete M-15 of trap/ granite/quartzite/gneiss metal for coping to plinth or parapet, moulded or chamfered as per drawing or as directed including steel centering, plywood/ steel formwork compacting, roughening them if special finish is to be provided, finishing uneven and honeycombed surface and curing etc. complete. The Cement Mortar 1:3 plaster is considered for rendering uneven and honeycombed surface only. Newly laid concrete shall be covered by gunny bag, plastic, tarpaulin etc. (Wooden centering will One Numbert be allowed.) With fine aggregate (Natural Sand / Crushed sand VSI Grade finely washed etc)"},"Bd.E. 3 & I.S. 456 (2000)",288,"As directed by Engineer in charge"]
[{"$f":"'Shedule B'!A40","v":"13A"},{"$f":"'Shedule B'!C40","v":"Providing internal cement plaster 20mm thick in two coats in cement mortar 1:4 with neeru finish, to concrete, brick surface, in all positions including scaffolding and curing etc.complete."},"Bd.L.4 & Bd. L.10","368 & 370","As directed by Engineer in charge"]
[{"$f":"'Shedule B'!A41","v":"13B"},{"$f":"'Shedule B'!C41","v":"Providing internal cement plaster 20mm thick in two coats in cement mortar 1:4 with cement slurry finish, to concrete, brick surface, in all positions including scaffolding and curing etc.complete."},"Bd.L.4 ",369,"As directed by Engineer in charge"]
[{"$f":"'Shedule B'!A42","v":"13C"},{"$f":"'Shedule B'!C42","v":"Providing internal cement plaster 20mm thick in two coats in cement mortar 1:4 with cement slurry finish, to concrete, brick surface, in all positions including scaffolding and curing etc.complete."},"Bd.L.4",369,"As directed by Engineer in charge"]
[{"$f":"'Shedule B'!A43","v":"13D"},{"$f":"'Shedule B'!C43","v":"Providing internal cement plaster 20mm thick in two coats in cement mortar 1:4 with cement slurry finish, to concrete, brick surface, in all positions including scaffolding and curing etc.complete."},"Bd.L.4",369,"As directed by Engineer in charge"]
[{"$f":"'Shedule B'!A44","v":"13E"},{"$f":"'Shedule B'!C44","v":"Providing and applying gypsum plaster (with Gypsum material of Gypsum India /Mega Sign or equivalent make) with finishing with gypsum material in 10 to 13 millimeter thickness to newly brick surface (Excluding rough cast plaster) in all position including preparing and Finishing the surface scaffolding etc. complete."},"BdL",null,"As directed by Engineer in charge"]
[{"$f":"'Shedule B'!A45","v":14},{"$f":"'Shedule B'!C45","v":"Providing and applying white-wash in three coats on old / new plastered or masonry surfaces and asbestos cement sheets including scaffolding and preparing the surface by brushing and brooming down etc. complete."},"Bd. P. I ",411,"As directed by Engineer in charge"]
[{"$f":"'Shedule B'!A46","v":15},{"$f":"'Shedule B'!C46","v":"Providing and applying three coats of exterior acraylic emulsion paint confirming to corresponding I.S. of approved manufacture and of approved colour to the plastered surfaces including cleaning, preparing the plaster surface, applying primer coat, scaffolding if necessary , and watering the surface for two days etc complete."},"Bd.O",401,"As directed by Engineer in charge"]
[{"$f":"'Shedule B'!A47","v":16},{"$f":"'Shedule B'!C47","v":"Providing and applying three coats (exterior quality) of flat oil paint of approved colour and shade to the plastered surface in buildings and workshops including scaffolding if necessary, cleaning the surface and preparing surface etc. complete. (including primer coat)"},"--","--","As directed by Engineer in charge"]
[{"$f":"'Shedule B'!A48","v":17},{"$f":"'Shedule B'!C48","v":"Providing sills of polished Kota stone 25 mm to 30mm thick, on a bed of 1:4 cement mortar including cement float, filling joints with slurry, curing polishing and cleaning etc. complete."},"Bd.M.29 ",391,"As directed by Engineer in charge"]
[{"$f":"'Shedule B'!A49","v":18},{"$f":"'Shedule B'!C49","v":"Providing and fixing in position aluminium openable ventilators as per detailed drawing and as directed by Engineer in charge with all necessary alluminium sections with powder coating including necessary fixtures and fastening with 5 mm thick float glass etc. complete. ( Note While arriving at the rate of item of item weight at 6.90 kg/Sqm is considered for only alummium ventilators ) and with G.I. wiremesh of 18 Gauge, 6 mm square mesh fixed to outside the frame of ventilator and grill of 12 mm sq. bars in vertical directions at 10 cms c/c fixed to outside surface of the frame  and approved quality and type fixtures, fittings including red oxide & oilpainting three coats.As per detailed drawing and as directed."},"Bd.E. 3 \n& \nI.S. 456 (2000)",288,"As directed by Engineer in charge"]
[{"$f":"'Shedule B'!A50","v":"19A"},{"$f":"'Shedule B'!C50","v":"Providing & fixing steel rolling shutter fabricated from 20 gauge steel laths with side guides, bottom rails, brackets of 10 G.M.S. sheet door suspension shaft of 50 mm dia, rolling springs of 45 cm length, locking arrangements with not less than 6mm thick strip and central lock as per specifications, housing box prepared out of 20 G sheets at the top, handles prepared out of 6mm thick flats 4 nos, holdfast patti 6 nos,for each side guide with 12 concrete nails / fasterner, including applying three coats of oilpaint of approved colour & shade etc. complete "},"Bd.T.55",510,"As directed by Engineer in charge"]
[{"$f":"'Shedule B'!A51","v":"19B"},{"$f":"'Shedule B'!C51","v":"Providing & fixing steel rolling Grill shutter fabricated from 20 gauge steel laths with side guides, bottom rails, brackets of 10 G.M.S. sheet door suspension shaft, rolling springs, locking arrangements with not less than 6mm thick strip and central lock as per specifications, housing box prepared out of 20 G sheets at the top, handles prepared out of 6mm thick flats 4 nos, holdfast patti 6 nos,for each side guide with 12 concrete nails / fasterner, including applying three coats of oilpaint of approved colour & shade etc. complete"},"Bd.T.55",510,"As directed by Engineer in charge"]
[{"$f":"'Shedule B'!A52","v":"19C"},{"$f":"'Shedule B'!C52","v":"Providing & fixing mechanical gear steel rolling shutter fabricated from 20 gauge steel laths with side guides, bottom rails, brackets of 10 G.M.S. sheet door suspension shaft of 50 mm dia, rolling springs of 45 cm length, locking arrangements with not less than 6mm thick strip and central lock as per specifications, housing box prepared out of 20 G sheets at the top, handles prepared out of 6mm thick flats 4 nos, holdfast patti 6 nos,for each side guide with 12 concrete nails / fasterner, including applying three coats of oilpaint of approved colour & shade etc. complete "},"Bd.T.55",510,"As directed by Engineer in charge"]
[{"$f":"'Shedule B'!A53","v":20},{"$f":"'Shedule B'!C53","v":"Filling in plinth and floors with approved excavated material in 15cm. to 20cm. layers including watering and compacting etc. complete."},"Bd.A.10",262,"As directed by Engineer in charge"]
[{"$f":"'Shedule B'!A54","v":"21A"},{"$f":"'Shedule B'!C54","v":"Providing Hard Murum cohesive One Numbern-swelling materials in plinth in layers of 20 cms etc. complete as directed. [ Only compacted thickness is payable ]"},"MORTH 408",139,"As directed by Engineer in charge"]
[{"$f":"'Shedule B'!A55","v":"21B"},{"$f":"'Shedule B'!C55","v":"Compacting the hard murum including laying in layers on each side with vibratory roller including artificial watering etc.\ncomplete."},"MORTH 409",142,"As directed by Engineer in charge"]
[{"$f":"'Shedule B'!A56","v":"22A"},{"$f":"'Shedule B'!C56","v":"Providing & laying stone metal layer of 20 cm thickness with 60 mm over size metal 65% and 40 mm size metal 35% with sand or stone chips spreading & leveling handpacking complete."},"Rd.20 & 29","197 & 205","As directed by Engineer in charge"]
[{"$f":"'Shedule B'!A57","v":"22B"},{"$f":"'Shedule B'!C57","v":"Compacting the sub grade / gravel / size metal (100 mm loose) layers for all widths with Power roller having weight 8 to 10 MT. Including necessary, labour, materials and artificial watering complete."},"Rd.32",206,"As directed by Engineer in charge"]
[{"$f":"'Shedule B'!A58","v":"23A"},{"$f":"'Shedule B'!C58","v":"Providing and laying in situ cement concrete M20 with tremix treatment for 150mm thickness for flooring with groove cutting of 4mm wide and 20mm deep with necessary refilling with bitumen including hardner for flooring ( Fosrok  Nitofloor hardtop non metallic floor harder  or similar ,) etc.complete."},"Bd.E.4 & B-7","289 & \n38","As directed by Engineer in charge"]
[{"$f":"'Shedule B'!A59","v":"23B"},{"$f":"'Shedule B'!C59","v":"Providing and laying in situ / ready mix / ready mix M15 cement concrete of trap/ granite/ quartzite/ gneiss metal in foundation including necessary centering, formwork, bailing out water, compacting and curing etc. complete. (pan mixer) with natural /artifical sand)"}," ---"," ---","As directed by Engineer in charge"]
[{"$f":"'Shedule B'!A60","v":"23C"},{"$f":"'Shedule B'!C60","v":"Providing groove cutting  50 mm x 6 mm in cement concrete flooring  etc. complete as directed."}," ---"," ---","As directed by Engineer in charge"]
[{"$f":"'Shedule B'!A61","v":24},{"$f":"'Shedule B'!C61","v":"Providing & fixing M.S. angle 50 x 50 x 6 mm with holdfasts at doorsills including fixing in bed concrete and then applying three coats of oilpaint etc. complete "},"Bd.C.2",275,"As directed by Engineer in charge"]
[{"$f":"'Shedule B'!A62","v":25},{"$f":"'Shedule B'!C62","v":"Providing and fabricating structural steel work in rolled sections like joists, channels, angles, tees etc. as per detailed design and drawings or as directed including cutting, fabricating, hoisting, erecting, fixing in position making riveted / bolted /welded connections without connecting plates, braces etc. and including one coat of anticorrosive paint and over it two coats of oil painting of approved quality and shade etc. complete."},"Bd.C.2 ",275,"As directed by Engineer in charge"]
[{"$f":"'Shedule B'!A63","v":26},{"$f":"'Shedule B'!C63","v":"Providing & laying cement concrete pipe of 450 mm dia Np2 class in proper line level & slope including excavation providing & fixing collars in cement morter 1:1 complete."},"CD7",162,"As directed by Engineer in charge"]
[{"$f":"'Shedule B'!A64","v":27},{"$f":"'Shedule B'!C64","v":"Providing & supplying single ladder of 45cm width made out of high tension aluminum alloy light in weight, side channel 2 5/8 x 1 ¼ dia approximately & of 1” dia nonslip corrugated tubings at 10” c/c with solid rubber shoes & caps etc complete"},"---","---","As directed by Engineer in charge"]
[{"$f":"'Shedule B'!A65","v":28},{"$f":"'Shedule B'!C65","v":"Providing & fixing lightening conductor system comprising of erecting Air termination consisting of tubular copper rod of 25 mm dia 1.2 mm thick with multiple points head 1.2 metre long [heavy duty] welded or clamped to G.I. pipe pole “ B” grade 50 mm dia of required length with M.S. round base plate 25 cm dia 10 cm thick at bottom embedded in cement concrete M-10 foundation of size 45 cm dia x 45 cm height and providing earthing with copper earth plate of size 60 x 60 x 0.3cms with cadmium plated nut bolts to fix earthing strip burried in specially prepared earth pit 1.50 m below ground level with 40 kg charcoal and salt with alternate layers of charcoal and salt and G.I. pipe 40 mm dia 2.00 m length burried in earth upto earthing plate remaining portion above ground level for watering and refilling including copper strip of 25 mm x 3 mm shall be rivated and soldered to the lower end of the conductor and carried along the strench up to this spot where the copper plate shall be burried. The other end of the strip shall be contected to the copper earth plate by rivating and soldering etc. complete"},"Bd.W.1",581,"As directed by Engineer in charge"]
[{"$f":"'Shedule B'!A66","v":29},{"$f":"'Shedule B'!C66","v":"Providing and fixing 90 cm x 60 cm Marble plate engraving 10 cm. height letter, figures including painting the lefters/figures with approved colour and shade complete"},"Bd.W.7 ",586,"As directed by Engineer in charge"]
[{"$f":"'Shedule B'!A67","v":"30A"},{"$f":"'Shedule B'!C67","v":"Conveying the materials obtained from excavation including all lifts, laying in layers, breaking clods, dressing to the required lines, curves, grades and section for a lead over 50 to 300m from the site of excavation to the site of deposition as directed by Engineer in charge."},"MORTH 305",63,"As directed by Engineer in charge"]
[{"$f":"'Shedule B'!A68","v":"30B"},{"$f":"'Shedule B'!C68","v":"Conveying the materials obtained from excavation including laying in layers, breaking clods, dressing to the required lines, curves, grades and section for all leads & lifts from the site of excavation to the site of deposition  away from building as directed engineer in charge."},"MORTH 305",63,"As directed by Engineer in charge"]
[{"$f":"'Shedule B'!A69","v":31},{"$f":"'Shedule B'!C69","v":"Providing expansion joints in R.C.C. framed structure (exterior Columns) with plain premoulded filler 25 mm thick and 3 mm thick alluminium plate, hold fast, fixing T.W. battens on internal face, finishing etc. complete as directed."},"Bd.K.1 ",359,"As directed by Engineer in charge"]
[{"$f":"'Shedule B'!A70","v":32},{"$f":"'Shedule B'!C70","v":"Providing soling using 80 mm size trap metal in 15 cm. Layer including filling voids with Crushed sand/grit, ramming, watering etc. complete."},"Bd A.","--","As directed by Engineer in charge"]
[{"$f":"'Shedule B'!A71","v":33},{"$f":"'Shedule B'!C71","v":" Providing pre-constructional Anti-termite treatment as per I.S. 6313 (Part-II) - 1973 by treating the  top surface of plinth filling at the rate of  5 litres of emulsion concentrates of 0.5 percent of Hephoclore per square meter of surface "}," ---"," ---","As directed by Engineer in charge"]
[null,{"$f":"'Shedule B'!B75:C75","v":"Sub Work II  -  Office Building"}]
[{"$f":"'Shedule B'!A77","v":1},{"$f":"'Shedule B'!C77","v":"Excavation for foundation in earth, soil of all types, sand, gravel and soft murum, including removing the excavated material up to a distance of 50 m. beyond the building area and stacking and spreading as directed, dewatering, preparing the bed for the foundation and necessary back filling, ramming, watering including shoring and strutting etc. complete. (Lift upto 1.5 m.) By Mechanical Means"},"Bd.A.1 ",259,"As directed by Engineer in charge"]
[{"$f":"'Shedule B'!A79","v":2},{"$f":"'Shedule B'!C79","v":"Excavation for foundation in earth, soils of all types, sand,gravel and soft murum, including removing the excavated material upto a distance of 50 metres beyond the building area and stacking and spreading as directed, dewatering, preparing the bed for the foundation and necessary back filling, ramming, watering including shoring and strutting etc. complete. (Lift from 1.5m to 3.0m) By Mechanical Means"},"Bd.A.1 ",259,"As directed by Engineer in charge"]
[{"$f":"'Shedule B'!A81","v":3},{"$f":"'Shedule B'!C81","v":"Excavation for foundation in hard murum including removing the excavated material upto distance of 50 metres beyond the building area and stacking and spreading as directed dewatering, preparing the bed for the foundation and necessary back filling, ramming, watering including shoring and strutting etc. complete. (Lift upto 1.50 m) By Mechanical Means"},"Bd.A.2",259,"As directed by Engineer in charge"]
[{"$f":"'Shedule B'!A83","v":4},{"$f":"'Shedule B'!C83","v":"Excavation for foundation in hard murum and boulders including removing the excavated material up to a distance 50 metres, beyond the building area and stacking and spreading as directed, dewatering, preparing the bed for the foundation and necessary back filling, ramming, watering including shoring and strutting etc. complete. (Lift upto 1.5m.) By Mechanical Means"},"Bd.A.2",259,"As directed by Engineer in charge"]
[{"$f":"'Shedule B'!A85","v":5},{"$f":"'Shedule B'!C85","v":"Excavation for foundation in Soft rock and old cement or lime masonry foundations including removing the excavated material upto a distance of 50 metres beyond the building area and stacking as directed, including dewatering, preparing the bed for the foundation and necessary back filling with available earth /murum, ramming, watering including shoring and strutting etc. complete (lift upto 3.0m) By Mechanical Means"},"Bd.A.4",259,"As directed by Engineer in charge"]
[{"$f":"'Shedule B'!A87","v":6},{"$f":"'Shedule B'!C87","v":"Excavation for foundation in Hard rock by chiselling, wedging, line drilling, etc. including trimming and levelling the bed, removing the excavated material upto a distance of 50metres beyond the building area stacking as directed, dewatering and back filling with available earth /murum watering, ramming etc. complete. (all lifts). By Mechanical Means"},"Bd.A.5",259,"As directed by Engineer in charge"]
[{"$f":"'Shedule B'!A89","v":7},{"$f":"'Shedule B'!C89","v":"Excavation for foundation in Hard rock by controlled blasting including trimming and leveling the bed by chiseling where necessary and removing the excavated material and stacking it in measurable heaps within a distance of 50 metres from the building area including dewatering and back filling with available earth/murum, watering, ramming, etc. complete. (all lifts) By Mechanical Means"},"Bd.A.5",259,"As directed by Engineer in charge"]
[{"$f":"'Shedule B'!A91","v":8},{"$f":"'Shedule B'!C91","v":"Excavation for roadway in earth, soil of all sorts, sand, gravel or soft murum including dressing section to the required grade, camber and side slopes and conveying the excavated materials with all lifts upto a lead of 50m. and spreading for embankment or stacking as directed."},"MORTH 301","--","As directed by Engineer in charge"]
[{"$f":"'Shedule B'!A93","v":9},{"$f":"'Shedule B'!C93","v":"Providing and laying in situ / ready mix / ready mix M10 cement concrete of trap/ granite/ quartzite/ gneiss metal in foundation including necessary centering, formwork, bailing out water, compacting and curing etc. complete. (pan mixer) with natural /artifical sand)"},"BR.5 & B.7","105 & 38","As directed by Engineer in charge"]
[{"$f":"'Shedule B'!A95","v":10},{"$f":"'Shedule B'!C95","v":"Providing uncoursed rubble masonry of trap / granite / quartzite / gneiss stones in cement mortar 1:6 in foundation and plinth of inner walls / in plinth of external walls including bailing out water manually , striking joints on un exposed faces and watering etc.complete."},"Bd.H.1",329,"As directed by Engineer in charge"]
[{"$f":"'Shedule B'!A97","v":11},{"$f":"'Shedule B'!C97","v":"Providing second class Burnt Brick masonry with conventional/ I.S. type bricks in cement mortar 1:6 in foundations and plinth of inner walls/ in plinth external walls including bailing out water manually , striking joints on unexposed faces, raking out joints on exposed faces and watering etc. Complete."},"Bd.G.1",313,"As directed by Engineer in charge"]
[{"$f":"'Shedule B'!A99","v":12},{"$f":"'Shedule B'!C99","v":"Providing second class Burnt Brick masonry with conventional/ I.S. type bricks in cement mortar 1:6 in superstructure including striking joints, raking out joints, watering and scaffolding etc. Complete"},"Bd.G.5 ",315,"As directed by Engineer in charge"]
[{"$f":"'Shedule B'!A101","v":13},{"$f":"'Shedule B'!C101","v":"Providing and laying in situ /Ready Mix cement concrete M-20 of trap / granite /quartzite/ gneiss metal for R.C.C. work in foundations like raft, strip foundations, grillage and footings of R.C.C. columns and steel stanchions etc. including bailing out water, Steel centering formwork, laying/pumping cover blocks, compaction and curing roughening the surface if special finish is to be provided (Excluding reinforcement and structural steel) etc. complete. With fine aggregate (Natural Sand / Crushed sand VSI Grade finely washed etc)"},"Bd. F3",298,"As directed by Engineer in charge"]
[{"$f":"'Shedule B'!A103","v":14},{"$f":"'Shedule B'!C103","v":"Providing and laying Cast in situ/Ready Mix cement concrete M-20 of trap / granite /quartzite/ gneiss metal for R.C.C. columns as per detailed designs and drawing or as directed including steel centering, formwork, cover blocks, laying/pumping, compaction finishing the formed surfaces with cement mortar 1:3 of sufficient minimum thickness to give a smooth and even surface or roughening if special finish is to be provided and curing etc. complete,(Excluding reinforcement and structural steel). With fine aggregate (Natural Sand / Crushed sand VSI Grade finely washed etc)"},"Bd. F 5 ",300,"As directed by Engineer in charge"]
[{"$f":"'Shedule B'!A105","v":15},{"$f":"'Shedule B'!C105","v":"Providing and laying Cast in situ/Ready Mix cement concrete M-20 of trap / granite /quartzite/ gneiss metal for R.C.C. beams and lintels as per detailed designs and drawings or as directed including steel centering, formwork, cover blocks, laying/pumping, compaction and roughening the surface if special finish is to be provided and curing etc. complete. (Excluding reinforcement and structural steel) etc. complete. With fine aggregate (Natural Sand / Crushed sand VSI Grade finely washed etc)"},"Bd. F. 6 ",300,"As directed by Engineer in charge"]
[{"$f":"'Shedule B'!A107","v":16},{"$f":"'Shedule B'!C107","v":"Providing and laying Cast in situ/Ready Mix cement concrete M-20 of trap/ granite/ quartzite/ gneiss metal for R.C.C. chajja as per detailed design and drawings including steel centering, formwork, cover blocks compacting , curing , finishing and roughening the surface if special finish is to be provided and curing complete. (Excluding reinforcement and structural steel). With fine aggregate (Natural Sand / Crushed sand VSI Grade finely washed etc)"},"Bd. F. 9",303,"As directed by Engineer in charge"]
[{"$f":"'Shedule B'!A109","v":17},{"$f":"'Shedule B'!C109","v":"Providing and laying Cast in situ/Ready Mix cement concrete M-20 of trap/ granite / quartzite/ gneiss metal for R.C.C. slabs and landings as per detailed designs and drawings including steel centering, formwork, cover blocks, laying/pumping, compaction finishing the formed surfaces with cement mortar 1:3 of sufficient minimum thickness to give a smooth and even surface or roughening if special finish is to be provided and curing etc. complete. (Excluding reinforcement and structural steel). With fine aggregate (Natural Sand / Crushed sand VSI Grade finely washed etc)"},"Bd. F. 8",302,"As directed by Engineer in charge"]
[{"$f":"'Shedule B'!A111","v":18},{"$f":"'Shedule B'!C111","v":"Providing and fixing in position TMT - FE - 500 bar reinforcement of various diameters for R.C.C. pile caps, footings, foundations, slabs, beams columns, caOne Numberpies, staircase, newels, chajjas, lintels pardis, copings, fins, arches etc. as per detailed designs, drawings and schedules. including cutting, bending, hooking the bars, binding with wires or tack welding and supporting as required complete."},"Bd.F.17",306,"As directed by Engineer in charge"]
[{"$f":"'Shedule B'!A113","v":19},{"$f":"'Shedule B'!C113","v":" Providing II class B.B. masonary with conventional / I. s. type bricks in cement morter ( 1: 4 ) in half brick thick wall including longitudinal reinforcement of 2 bars of 6mm dia / 2 hoop iron strips 25mm x 1.6 mm at every III course properly bent & bounded at ends scaffolding, racking out joints and watering complete. [Bd.G.7 / P 316 ]"},"Bd. F. 17",306,"As directed by Engineer in charge"]
[{"$f":"'Shedule B'!A115","v":20},{"$f":"'Shedule B'!C115","v":"Providing cement plaster 12 mm thick in C. M. 1 : 4 in single coat with neeru finish with even & smooth finish to concrete or brick surface in all positions including scaffolding curing etc. complete as directed. [Bd. L. 2/368 + Bd. L. 10]"},"Bd.L.4 & Bd. L.10","368 & 370","As directed by Engineer in charge"]
[{"$f":"'Shedule B'!A117","v":21},{"$f":"'Shedule B'!C117","v":"Providing sand faced plaster externally in cement mortar using approved screened sand, in all positions including base coat of 15mm thick in cement mortar 1:4 using waterproofing compound at 1kg per cement bag curing the same for not less than 2days and keeping the surface of the base coat rough to receive the sand faced treatment 6to8mm thick in cement mortar 1:4 finishing the surface by taking out grains and curing for fourteen days scaffolding etc.complete. (Bd.L.7/369)"},"Bd.L.4 ",369,"As directed by Engineer in charge"]
[{"$f":"'Shedule B'!A119","v":22},{"$f":"'Shedule B'!C119","v":"Providing rough cast cement plster externally in two coats to concrete, brick or stone masonry surfaces in all positions with base coat of 12 to 15 mm. thick in C.M. 1:4 and rough cast treatment 12 mm. thick in proportion 1:1.5:3 including scaffolding and fourteen days curing etc. complete. [ Spec. No.:  Bd. L. 8/Page No. 370 ]( It.No. 12 / Page No. 370)"},"Bd.L.4 ",369,"As directed by Engineer in charge"]
[{"$f":"'Shedule B'!A121","v":23},{"$f":"'Shedule B'!C121","v":"Providing cement plaster 20 mm thick in C.M. 1:4( PLINTH)  with 1.5mm thick cement   finish to concrete /brick surface in all positions including scaffolding curing etc. complete as directed.(Bd.L.4/368)"},"Bd.L.4 ",369,"As directed by Engineer in charge"]
[{"$f":"'Shedule B'!A123","v":24},{"$f":"'Shedule B'!C123","v":" Providing & applying cement paint  in three coats on plastered or masonary surface of approved manufacture & of approved colour including primer coat scafdfolding & preparing the surface complete. [ Bd. O. 8/406]"},"Bd. O.8",406,"As directed by Engineer in charge"]
[{"$f":"'Shedule B'!A125","v":25},{"$f":"'Shedule B'!C125","v":"Providing & applying oilbound distemper in three coats on plastered or masonary surface of approved manufacturer & of approved colour including primer coat scafolding & preparing the surface watering for two days complete. [Bd. P. 5/413]"},"Bd. P. 5(a) ",413,"As directed by Engineer in charge"]
[{"$f":"'Shedule B'!A127","v":26},{"$f":"'Shedule B'!C127","v":"Providing & applying whitewash three  coats on plastered or masonary surface including scafafolding & preparing the surface by brushing & brooming down complete. [Bd. P. 1/411]"},"Bd. P. I ",411,"As directed by Engineer in charge"]
[{"$f":"'Shedule B'!A129","v":27},{"$f":"'Shedule B'!C129","v":" Providing & fixing in position solid core flush door single leaf 35 mm thick decorative type of exterior grade as per detailed drawing including superior Indian teak wood door frame 60 x 100 mm with ventilator as directed all necessary beads, moldings and lippings wrought iron hold fasts, chromium plated fixtures & fastenings without brass mortice lock including three coats of oilpainting as directed by Engineer – in charge [Bd. T. 34 P 499]"},"Bd. T . 34",499,"As directed by Engineer in charge"]
[{"$f":"'Shedule B'!A131","v":28},{"$f":"'Shedule B'!C131","v":" Providing & fixing Country teak wood single leaf, second class fully panelled door, without ventilator as per detailed drawing including Iron Oxidiesed fixtures and fastenings and finishing the wood work with one coat of primer etc. including door frame 60 x 100 mm complete. Panels 12mm tk. exterior grade prelaminated particle boarf [Spec. No. Bd. T. 8/ P 482] (Item No. 6 / Page No. 81)"},"BD. T. 11",499,"As directed by Engineer in charge"]
[{"$f":"'Shedule B'!A133","v":29},{"$f":"'Shedule B'!C133","v":"  Providing & fixing Country teak wood Double leaf, second class fully panelled framed and braced door,  with ventilator without / with Ironbars as per detailed drawing including the door frame 60 x 100 mm, Ironfixtures and fastenings and finishing with primer coat etc.complee [Spec. No. Bd. T. 19/ P 493]"},"BD. T. 11",499,"As directed by Engineer in charge"]
[{"$f":"'Shedule B'!A135","v":30},{"$f":"'Shedule B'!C135","v":" Providing & fixing in position solid core flush door single leaf 32 mm thick decorative type of exterior grade as per detailed drawing including superior Indian teak woo door frame 60 x 100 mm without Ventilator as directed all necessary beads, moldings and lippings wrought iron hold fasts, chromium plated fixtures & fastening without brass mortice lock including three coats of oilpainting as directed by Engineer – in charge [ Bd. T. 36 P 500]"},"BD. T. 11",499,"As directed by Engineer in charge"]
[{"$f":"'Shedule B'!A137","v":31},{"$f":"'Shedule B'!C137","v":"providing & fixing in position teak wood wall cupboard plain planked with three teakwood shelves 50cm wide & 25 mm thick including teakwood frame of  50 mm x 75mm and shutters of 25 mm thick teak wood planks with 12mm thick & 75 mm wide ladges with C. P. fixtures and fastenings hold fasts, with three coats of oilpainting complete as directed by Engineer – in charge"},"--","--","As directed by Engineer in charge"]
[{"$f":"'Shedule B'!A139","v":32},{"$f":"'Shedule B'!C139","v":"Providing & fixing M. S. grillwork for windows & ventilators upto 20 kg/sqm as per drawing including fixtures necessary welding and painting one coat of anticorrosive paint & two coats of oilpainting complete as directed [Bd. U1 P 537] "},"BD. V 1 ",537,"As directed by Engineer in charge"]
[{"$f":"'Shedule B'!A141","v":33},{"$f":"'Shedule B'!C141","v":"Providing Hard Murum cohesive non-swelling materials in plinth in layers of 20 cms etc. complete as directed. [ Only compacted thickness is payable ]"},"Bd. M 12 ",385,"As directed by Engineer in charge"]
[{"$f":"'Shedule B'!A143","v":34},{"$f":"'Shedule B'!C143","v":" Providing & fixing in position for flooring, of vetrified tiles of approved quality & make 600 x 600 mm size & tk. for flooring  width on 1 : 4 cement plaster including cement float filling cement joints with neat cement slurry, curing, rubbing polishing & cleaning complete."},"Bd. M 12 ",385,"As directed by Engineer in charge"]
[{"$f":"'Shedule B'!A145","v":35},{"$f":"'Shedule B'!C145","v":"Providing & fixing in position for dado & skirting of vetrified tiles of approved quality & make 600 x 600 mm size & tk. for Dado & Skirting  width on 1 : 4 cement plaster including cement float filling cement joints with neat cement slurry, curing, rubbing polishing & cleaning complete."},"Bd. M 12 ",385,"As directed by Engineer in charge"]
[{"$f":"'Shedule B'!A147","v":36},{"$f":"'Shedule B'!C147","v":" Providing & fixing in position sills of polished shahabad stone slabs 25mm to 30mm tk and required width on 1 : 4 cement float filling cement joints with neat cement slurry, curing, rubbing polishing & cleaning complete. [ Bd. M. 29/331]"},"BD. M. 29 b",391,"As directed by Engineer in charge"]
[{"$f":"'Shedule B'!A149","v":37},{"$f":"'Shedule B'!C149","v":"Providing and laying matt finish ceramic tiles of having size 30cmx30cm confirming to I.S. 15622/2006 (groupDII-A) and 7to8mm thick for flooring in required position laid on a bed of 1:4 cement mortar including cement float, filling joint with white /colour cement slurry cleaning curing etc. complete."},"Bd. M. 12 ",385,"As directed by Engineer in charge"]
[{"$f":"'Shedule B'!A151","v":38},{"$f":"'Shedule B'!C151","v":"Providing and laying ceramic tiles of having size 30cm.x30cm. and confirming to corresponding I.S. for dado and skirting in required position with ready made adhesive mortar of approved quality on plaster of 1:2 cement mortar including joint filling with white/ colour cement slurry cleaning curing etc. complete."},"Bd. M. 13",386,"As directed by Engineer in charge"]
[{"$f":"'Shedule B'!A153","v":39},{"$f":"'Shedule B'!C153","v":" Providing & fixing Indian type white glazed Orissa type earthenware 580 x 440 mm water closet pan including S trap white earthenware foot rest cast iron soil & vent pipe upto the outside face of the wall 1:2:4 brickbat lime concrete bedding 10 Litre fibre highlevel tank flushing cistern with fittings, inlet pipe with stop tap, bracket for fixing the cistern 32 mm dia PVC pipe with fittings & clamps 20 mm dia G. I. Over flow pipe with mosquitoproof capping G. I. Chain  pull, painting of cistren & exposed pipes & fittings & making good walls & floor with enameled tank & PVC pipe as directed [Bd. V. 30/565]"},"BD. V ",null,"As directed by Engineer in charge"]
[{"$f":"'Shedule B'!A155","v":40},{"$f":"'Shedule B'!C155","v":"Providing and fixing European type white glazed earthenware coupled closet symphonic trap with symphonic low level white glazed 10litres cistern with black back lite seat with all necessary pipe connection etc. complete [Bd. V. 30/565].\n"},"BD. V ",null,"As directed by Engineer in charge"]
[{"$f":"'Shedule B'!A157","v":41},{"$f":"'Shedule B'!C157","v":"Providing & fixing white glazed wash hand basin of 55 x 40 cms size including cold water pillar tap brackets, rubber plug & brass chain, stop tap & necessary pipe connections including PVC vest pipe & trap upto outside face of the wall. [Bd. V. 30 / P 565]"},"BD. V ",30,"As directed by Engineer in charge"]
[{"$f":"'Shedule B'!A159","v":42},{"$f":"'Shedule B'!C159","v":" Providing & fixing 10cms Rigid  C.I. Nahani trap including C.I Grating bend & piece of C.I. Pipe upto the outside face of the wall complete"},"BD. V. 32",567,"As directed by Engineer in charge"]
[{"$f":"'Shedule B'!A161","v":43},{"$f":"'Shedule B'!C161","v":" Providing & fixing 15 x 10cms salt glazed stoneware gully trap in C. C. 1:4:8 outside the building including cast iron grating in the sink, connecting glazed stoneware pipe, brick masonary chamber and cast iron lead & cast iron grating for gully trap. [bd. V. 38 / P 572]"},"Bd. V. 38",572,"As directed by Engineer in charge"]
[{"$f":"'Shedule B'!A163","v":44},{"$f":"'Shedule B'!C163","v":"Providing & constructing brick masonary inspection chamber 60 x 45cms including 1:4:8  C. C. foundation 1:2:4 cement concrete channels half round G S W pipes, brick masonary, plastering from inside with frame fixed in cement concrete etc. complete with R. C. C. cover. [Bd. V. 43 / P 574]"},"BD. V. 43",574,"As directed by Engineer in charge"]
[{"$f":"'Shedule B'!A165","v":45},{"$f":"'Shedule B'!C165","v":"Providing Soak pit including excavating and filling with brickbat [Bd. V. 46 / P 576]"},"BD.V. 46",576,"As directed by Engineer in charge"]
[{"$f":"'Shedule B'!A167","v":46},{"$f":"'Shedule B'!C167","v":"Providing & fixing hume pipe septic tank 900 mm diameterwith vent pipe and cap including necessary fittings (incuding excavation and laying) Bd.V.45 Page No.575"},"BD. V. 45",575,"As directed by Engineer in charge"]
[{"$f":"'Shedule B'!A169","v":47},{"$f":"'Shedule B'!C169","v":" Providing & laying 110 MM dia U.P.V.C. SOIL / VENT / WASTE SWR pipesalt glazed stoneware pipe including fittings such as bends, tees, single junction, double junction laying, jointing ( including excavation & refilling the trenches) complete [Bd. V. 39 / P 573] "},"BD. V",null,"As directed by Engineer in charge"]
[{"$f":"'Shedule B'!A171","v":48},{"$f":"'Shedule B'!C171","v":"Providing & fixing stainess steel sink 600 mm x 450 mm x 250 mm including all connection of the G.I. supply and lead waste pipes upto the out side face of the wall, cold water chromium plated screw down bib tap, rolled steel on C.I. brackets, rubber plug with chain and stop tap etc. complete. [Spec. No. Bd. V. 31 / P.No. 566] (It.No. 25 / P.No. 113) "},"BD.V. 4",null,"As directed by Engineer in charge"]
[{"$f":"'Shedule B'!A173","v":49},{"$f":"'Shedule B'!C173","v":" Providing & laying in trenches 15 mm dia heavy grade (type) having embossed as ISI marked G. I. Pipes weight of 1.25 kg/Mtrs. with screwed socket joints & necessary G. I. Fittings such as sockets, backnuts, elbows, bends, tees, reducers, enlargers, plugs, clamps etc including necessary drilling holes in walls, slabs etc. and remaking good the demolished portion to restore the same in original condition neatly and  primer providing & applying anticorrosive primer  paint and two coats of oilpaintings complete "},"BD.V. 5",551,"As directed by Engineer in charge"]
[{"$f":"'Shedule B'!A175","v":50},{"$f":"'Shedule B'!C175","v":" Providing & laying in trenches 20 mm dia heavy grade (type) having embossed as ISI marked G. I. Pipes weight of 1.25 kg/Mtrs. with screwed socket joints & necessary G. I. Fittings such as sockets, backnuts, elbows, bends, tees, reducers, enlargers, plugs, clamps etc including necessary drilling holes in walls, slabs etc. and remaking good the demolished portion to restore the same in original condition neatly and  primer providing & applying anticorrosive primer  paint and two coats of oilpaintings complete "},"BD.V.5 ",551,"As directed by Engineer in charge"]
[{"$f":"'Shedule B'!A177","v":51},{"$f":"'Shedule B'!C177","v":" Providing & fixing on walls, ceiling, flooring, 15 mm dia heavy grade (type) having embossed as ISI marked G. I. Pipes weight of 1.48 kg/Rms. with screwed socket joints & necessary G. I. Fittings such as sockets, backnuts, elbows, bends, tees, reducers, enlargers, plugs, clamps etc including necessary drilling holes in walls, slabs etc. and remaking good the demolished portion to restore the same in original condition neatly and providing & applying anticorrosive primer oilpaint and two coats of oilpaintings complete. [Bd. V. 5 / P 551] "},"BD.V.5 ",551,"As directed by Engineer in charge"]
[{"$f":"'Shedule B'!A179","v":52},{"$f":"'Shedule B'!C179","v":" Providing & laying in treches 25 mm dia heavy  grade (type) having embossed as ISI marked G. I. Pipes weight of 2.49 kg/Rms. with screwed socket joints & necessary G. I. Fittings such as sockets, backnuts, elbows, bends, tees, reducers, enlargers, plugs, clamps etc including necessary drilling holes in walls, slabs etc. and remaking good the demolished portion to restore the same in original condition neatly and providing & applying anticorrosive primer oilpaint and two coats of oilpaintings complete. [Bd. V. 5 / P 551]"},"BD.V.5 ",551,"As directed by Engineer in charge"]
[{"$f":"'Shedule B'!A181","v":53},{"$f":"'Shedule B'!C181","v":"Providing & fixing on walls, ceiling, flooring, 25mm dia heavy grade (type) having embossed as ISI marked G. I. Pipes weight of  2.49  kg/Mtre. with screwed socket joints & necessary G. I. Fittings such as sockets, backnuts, elbows, bends, tees, reducers, enlargers, plugs, clamps etc including necessary drilling holes in walls, slabs etc. and remaking good the demolished portion to restore the same in original condition neatly and providing & applying anticorrosive primer oilpaint and two coats of oilpaintings complete. [Bd. V. 5 / P 551] "},"BD.V.5 ",551,"As directed by Engineer in charge"]
[{"$f":"'Shedule B'!A183","v":54},{"$f":"'Shedule B'!C183","v":" Providing & fixing on walls, ceiling, flooring, 20mm dia heavy grade (type) having embossed as ISI marked G. I. Pipes weight of 1.93 kg/Mtre. with screwed socket joints & necessary G. I. Fittings such as sockets, backnuts, elbows, bends, tees, reducers, enlargers, plugs, clamps etc including necessary drilling holes in walls, slabs etc. and remaking good the demolished portion to restore the same in original condition neatly and providing & applying anticorrosive primer oilpaint and two coats of oilpaintings complete. [Bd. V. 5 / P 551] "},"BD.V.5 c",551,"As directed by Engineer in charge"]
[{"$f":"'Shedule B'!A185","v":55},{"$f":"'Shedule B'!C185","v":" Providing & fixing in position 45 x 55 cms high class mirror over wash hand basin including all accessories, and necessary fittings etc. Complete as directed."},"BD.V. ",null,"As directed by Engineer in charge"]
[{"$f":"'Shedule B'!A187","v":56},{"$f":"'Shedule B'!C187","v":"Providing & fixing in position cast iron oxidised brackets mounted on country cut teak wood plank of size 90 x10 x 2.5 cms duly polished & fixed on wall properly etc. complete"},"--","--","As directed by Engineer in charge"]
[{"$f":"'Shedule B'!A189","v":57},{"$f":"'Shedule B'!C189","v":" Providing & fixing H. D. P container one piece mouled watertank made out of low density polyethler and build corrugations inclusive of delivery upto destination housing fixing of accessories such as inlet, outlet, overflow inclusive of all taxes as directed."},"BD.5 ",null,"As directed by Engineer in charge"]
[{"$f":"'Shedule B'!A191","v":58},{"$f":"'Shedule B'!C191","v":"Providing & fixing 15 mm dia screw down bib / stop tap of brass including necessary socket, union, nuts complete. [Bd. V. 8 / P 554]"},"BD.V.8 ",554,"As directed by Engineer in charge"]
[{"$f":"'Shedule B'!A193","v":59},{"$f":"'Shedule B'!C193","v":" Providing, construction and erecting in position flag post as per drawing and design as directed by Engineer in charge"},"--","--","As directed by Engineer in charge"]
[{"$f":"'Shedule B'!A195","v":60},{"$f":"'Shedule B'!C195","v":"Providing & constructing water platform as per drawing & design as directed by Engineer in charge."},"--","--","As directed by Engineer in charge"]
[{"$f":"'Shedule B'!A197","v":61},{"$f":"'Shedule B'!C197","v":"Providing cement based waterproofing treatment to terraces(Indian waterproofing or a like) with brickbats laid in required slope to drain the water for any span after cleaning the base surface. Applying a coat of cement slurry admixed with approved waterproofing compound and laying the brickbats on bottom layer in C.M. 1:5 admixed with approved waterproofing compound filling up to half depth of brick bats, curing this layer for 3days, applying cement slurry over this layer joints of brickbats with C.M. 1:3 admixed with approved waterproofing compound and finally top finishing with average 20mm. thick layers of same mortar added with jute fiber at 1Kg per bag including finishing the surface smooth with cement slurry admixed with approved waterproofing compound. Marking finished surface with false squares of 300mmx300mm. making the junctions at the parapet rounded and tapered top for required height, with dripmouldat the junction of plaster and parapet and curing and covering 10years Guarantee against leakproofness on Court fee stamp paper of Rs. 500/- including ponding test etc. complete.\ncomplete."},"BD.J.",null,"As directed by Engineer in charge"]
[{"$f":"'Shedule B'!A199","v":62},{"$f":"'Shedule B'!C199","v":"Providing & fixing 15mm dia. Screw down whealed stop tap of gun metal / brass including necessary  socket / union nuts etc. complete. [Bd.V.9/555]"},"BD.9 ",555,"As directed by Engineer in charge"]
[{"$f":"'Shedule B'!A201","v":63},{"$f":"'Shedule B'!C201","v":"Providing & fixing 25mm dia. Screw down whealed stop tap of gun metal / brass including necessary  socket / union nuts etc. complete.[Bd.V.9/555]"},"BD.9 ",555,"As directed by Engineer in charge"]
[{"$f":"'Shedule B'!A203","v":64},{"$f":"'Shedule B'!C203","v":" Providing & fixing 20mm dia. Screw down whealed stop tap of gun metal / brass including necessary  socket / union nuts etc. complete.[Bd.V.9/555]"},"BD.9 ",555,"As directed by Engineer in charge"]
[{"$f":"'Shedule B'!A205","v":65},{"$f":"'Shedule B'!C205","v":"Providing &  fixing in position alluminium exctruded section two track sliding window up to 1.5 m. ht. outer frame made from section of over all size 62 x 45 mm with fixed vintilator  fully glazed of any size with powder coating as per detailed drawing and as directed by Engineer-in-charge with all necessary alluminium section including necessary fixtures and fastening such as 5 mm thick clear glass etc. complete. ( as directed by Engineer-in-charge )"},"BD.T. ",null,"As directed by Engineer in charge"]
[{"$f":"'Shedule B'!A207","v":66},{"$f":"'Shedule B'!C207","v":"Providing 25 to 30mm thick partions of polished black kadappa stone slab of approved shapes, quality and colour for platform  urinals, including cutting holes of required sizes in the appropriate places to receive pipes etc., fixing in cement mortar 1:3 curing and cleaning complete. [Bd.M.35 / 393]"},"BD.M. 35",393,"As directed by Engineer in charge"]
[{"$f":"'Shedule B'!A209","v":67},{"$f":"'Shedule B'!C209","v":" Providing & fixing 20 mm dia.  alluminuim powder coated palemat rod including fixtures as directed."},"--","--","As directed by Engineer in charge"]
[{"$f":"'Shedule B'!A211","v":68},{"$f":"'Shedule B'!C211","v":" Providing & fixing white glazed earthenware semi stall type Urinals without cistern with inlet pipes stop tap, UPVC flush pipe, with fittings and flushing arrangement including UPVC soil pipe, UPVC trap and soil pipe connection upto the outside face of the wall, making good to damaged surface testing etc. complete. (Prior approval of sample and brand by Ex. Engineer is necessary befor use.)  ( Spec.No. :  As directed by Engineer - in - Charge)   "},"BD.V. 26",564,"As directed by Engineer in charge"]
[{"$f":"'Shedule B'!A213","v":69},{"$f":"'Shedule B'!C213","v":" Conveying the materials obtained from excavation including laying in layers, breaking clods, dressing to the required lines, curves, grades and section for all leads up to 3 Km. from the site of excavation to the site of deposition  aeay from complex as directed. (Rd.18 Page No. 197)"},"--","--","As directed by Engineer in charge"]
[{"$f":"'Shedule B'!A215","v":70},{"$f":"'Shedule B'!C215","v":" Filling in plinth with approved excavated stuff obtained from departmental land including watering, compacting etc. complete as directed.(Bd. A.10/262)"},"MORTH ",305,"As directed by Engineer in charge"]
[{"$f":"'Shedule B'!A217","v":71},{"$f":"'Shedule B'!C217","v":"Providing & laying stone metal layer of 20 cm thickness with 60 mm over size metal 65% and 40 mm size metal 35% with sand or stone chips spreading & leveling handpacking complete.[Rd.22/201,Rd.20/200 &Rd.20/205 ]"},"--","--","As directed by Engineer in charge"]
[{"$f":"'Shedule B'!A219","v":72},{"$f":"'Shedule B'!C219","v":"Providing and laying Cast in situ/Ready Mix cement concrete M-15 of trap/ granite/quartzite/gneiss metal for coping to plinth or parapet, moulded or chamfered as per drawing or as directed including steel centering, plywood/ steel formwork compacting, roughening them if special finish is to be provided, finishing uneven and honeycombed surface and curing etc. complete. The Cement Mortar 1:3 plaster is considered for rendering uneven and honeycombed surface only. Newly laid concrete shall be covered by gunny bag, plastic, tarpaulin etc. (Wooden centering will One Numbert be allowed.) With fine aggregate (Natural Sand / Crushed sand VSI Grade finely washed etc)"},"Bd.E.4 ",289,"As directed by Engineer in charge"]
[{"$f":"'Shedule B'!A221","v":73},{"$f":"'Shedule B'!C221","v":"Providing & laying 20 to 25 mm th. Polished Kota stone slabs for treads & risers of steps & staircases with rounded nosing for the treads on a bed of 1:4 C.M. including cement float, filling joints with neat cement slurry,curring,polishing & cleaning complete.(Bd. M.22/390)"},"BD.M. 22",390,"As directed by Engineer in charge"]
[{"$f":"'Shedule B'!A223","v":74},{"$f":"'Shedule B'!C223","v":"Providing & fixing chromium plated towel rod 16 mm dia. and 75 Cm in length including all accessories etc. complete  ( As directed by Engineer incharge ) ( It No..49/Page No. 119)"},"BD.V. ",null,"As directed by Engineer in charge"]
[{"$f":"'Shedule B'!A225","v":75},{"$f":"'Shedule B'!C225","v":" Providing & fixing U.P.S.V. Soil / vent / waste pipe 75 mm dia.of approved make with standing min. pressure of 4 Kg. / Cm. Sq. from standard manufactres with necessary fixture and fittings such as bend, tees, single junction, double junction, slotted vent offsets on walls or in the ground including excavation, laying refilling the trench etc. complete. As directed by Engineer incharge (BDV - 36 C ) ( It No..32/Page No. 115)"},"BD.V. ",null,"As directed by Engineer in charge"]
[{"$f":"'Shedule B'!A227","v":76},{"$f":"'Shedule B'!C227","v":"Providing, laying & fixing  C.P.V.C pipe 15 mm dia.on wall (with standing 4 Kg. to 6 Kg./ Cm. Sq. pressure) with fittings such as bend, tees, reducers, clamps etc. including necessary excavation trench filling etc. complete. As directed by Engineer incharge (BDV - 60 A ) ( It No..47/Page No. 118)"},"BD.V.5",551,"As directed by Engineer in charge"]
[{"$f":"'Shedule B'!A229","v":77},{"$f":"'Shedule B'!C229","v":"Providing &  fixing  a set of 5 fire buckets of special quality 0.03 m diameter including painting lettering & providing  M.S. stand, Iron hooks & locking arrangements & three coats of white zince paint for stand  etc. complete. as per drawing. As directed by Engineer incharge ( It No..51/Page No. 131)"},"--","--","As directed by Engineer in charge"]
[{"$f":"'Shedule B'!A231","v":78},{"$f":"'Shedule B'!C231","v":" Providing & fabricating cycle stand made up of M.S. Angle 50 x 50 x 6 mm & 16 mm diameter including cuting, joining, welding & prepring as per drawing including oil painting in three coats.  As directed by Engineer incharge "},"--","--","As directed by Engineer in charge"]
[{"$f":"'Shedule B'!A233","v":79},{"$f":"'Shedule B'!C233","v":" Providing and fixing collapsible steel gate in one/two leaves with hot rolled vertical channels of 18x9x3mm minimum size, crossings of M.S.flats of size 18x5mm Tor E secti on for runner of minimum 40x6mm size for flange, M.S.flat for top runner of minimum size 40x12mm with roller wheels confirming to grade F.G.150 fitted with snap headed rivets of minimum size 6mm max. spacing of vertical channels be 100mm enclosed gate position and clear space of 150mm between two sets of crossings with holdfasts, stoppers, spaces, handles, locking arrangement and one coat of red lead primer and oil painting etc. complete. (I.S. 10521 1983).(BDT.57)"},"BD.T. 57",511,"As directed by Engineer in charge"]
[{"$f":"'Shedule B'!A235","v":80},{"$f":"'Shedule B'!C235","v":" Free Standing Table @ 1500Lx600Dx750HT Providing and fixing Table of Size 1500x600x750mm. Top: made from 25mm Prelaminated Particle board. All edges are covered by 2mm. Thk. PVC edge bands glued by hot melt glue applied by auto edge banding machine. Legs: C Shape made from CRCA Sheet with Powder Coat finish. Modesty panel: Made from 18mm bothside pre laminated particle boards. Al ledges are covered by 0.8mm PVC edge bands glued by hot melt glue applied by auto edge banding machine. KEYBOARD TRAY (WITHOUT MOUSE TRAY) :- Metal Powder Coated - Black Color, CPU TROLLEY :- Metal Powder Coated - Black Color, 3 DRAWER PEDESTAL UNIT having over all size 392Lx450Dx680Ht. mm. with central lock and key. Drawers and body are complete metal with powder coat finish, facia in 18 mm prelaminated particle board.(51.26/421)"},"--","--","As directed by Engineer in charge"]
[{"$f":"'Shedule B'!A237","v":81},{"$f":"'Shedule B'!C237","v":"Providing & Arrangemnt of Mid Back, ECO CTS Mechanism, Fixed Armrest, Gaslift for Seat height adjustment, Standards- prongP/ Nylon Base with Fabric Upholstery (51.43/466)."},"--","--","As directed by Engineer in charge"]
[{"$f":"'Shedule B'!A239","v":82},{"$f":"'Shedule B'!C239","v":"Providing and fixing Openable Steel Full Height Steel Storage of 750x450x2100Ht, with 4 adjustable shelves, Complete body & shutter made in 0.8 mm thick & Top in 2 mm thick CRCA, 4 Shutter to be mounted with the help of cup hinges, and 4 adjustable levelers, enitre storage in powder coated finish with 60 to 80 microns as as per drawing."},"--","--","As directed by Engineer in charge"]
[null,{"$f":"'Shedule B'!B242","v":{"$error":"#REF!"}}]
[{"$f":"'Shedule B'!A243","v":"1A"},{"$f":"'Shedule B'!C243","v":"Excavation for roadway in earth, soil of all sorts, sand, gravel or soft murum including dressing section to the required grade, camber and side slopes and conveying the excavated materials with all lifts upto a lead of 50m. and spreading for embankment or stacking as directed."},"MORTH 301","--","As directed by Engineer in charge"]
[{"$f":"'Shedule B'!A244","v":"1B"},{"$f":"'Shedule B'!C244","v":"Excavation for roadway in hard murum and boulder including dressing section to the required grade, camber and side slopes and conveying the excavated materials with all lifts upto a lead of 50m.and spreading for embankment or stacking as directed."},"MORTH 301","--","As directed by Engineer in charge"]
[{"$f":"'Shedule B'!A245","v":"1C"},{"$f":"'Shedule B'!C245","v":"Excavation for roadway in soft rock, including dressing section to the required grade, camber and side slopes and conveying the excavated materials with all lifts upto a lead of 50m. and spreading or stacking as directed."},"MORTH 301","--","As directed by Engineer in charge"]
[{"$f":"'Shedule B'!A246","v":"1D"},{"$f":"'Shedule B'!C246","v":"Excavation for roadway in hard rock by controlled blasting including dressing section to the required grade, camber and side slopes and conveying the excavated materials with all lifts upto a lead of 50m. and spreading for embankment or stocking as directed."},"MORTH 301","--","As directed by Engineer in charge"]
[{"$f":"'Shedule B'!A247","v":"1E"},{"$f":"'Shedule B'!C247","v":"Providing soling using 23 cm trap metal in 15 cm. Layer including filling voids with Crushed sand/grit, ramming, watering etc. complete."},"Bd A.","--","As directed by Engineer in charge"]
[{"$f":"'Shedule B'!A248","v":2},{"$f":"'Shedule B'!C248","v":"Supplying trap/granite/quartzite/gneiss stone metal of required size by bringing the boulders / Rubble at the road side breaking them to required gradation including conveying the boulders /Rubble and stacking the broken metal etc. complete . (Prior approval of sample stack of broken metal by the Ex. Engineer is necessary the date of approval will form part of the measurements) a) 60 mm Metal, By breaking Boulders (Hand broken)."},"Rd.29",205,"As directed by Engineer in charge"]
[{"$f":"'Shedule B'!A249","v":3},{"$f":"'Shedule B'!C249","v":"Supplying trap/granite/quartzite/gneiss stone metal of required size by bringing the boulders / Rubble at the road side breaking them to required gradation including conveying the boulders /Rubble and stacking the broken metal etc. complete . (Prior approval of sample stack of broken metal by the Ex. Engineer is necessary the date of approval will form part of the measurements) a) 40 mm Metal, By breaking Boulders (Hand broken)."},"Rd.29",205,"As directed by Engineer in charge"]
[{"$f":"'Shedule B'!A250","v":"4 - A"},{"$f":"'Shedule B'!C250","v":"Supplying hard murum/ kankar at the road site, including conveying and stacking complete."},"Rd.23",202,"As directed by Engineer in charge"]
[{"$f":"'Shedule B'!A251","v":"4 - B"},{"$f":"'Shedule B'!C251","v":"Supplying soft murum at the road site, including conveying and stacking complete."},"Rd.24",203,"As directed by Engineer in charge"]
[{"$f":"'Shedule B'!A252","v":"5 - A"},{"$f":"'Shedule B'!C252","v":"Spreading hard murum/ soft murrum/ gravel or kankar for side width complete"},"Rd.28",205,"As directed by Engineer in charge"]
[{"$f":"'Shedule B'!A253","v":"5 - B"},{"$f":"'Shedule B'!C253","v":"Spreading soft murum/ soft murrum/ gravel or kankar for side\nwidth complete"},"Rd.28",205,"As directed by Engineer in charge"]
[{"$f":"'Shedule B'!A254","v":6},{"$f":"'Shedule B'!C254","v":"Spreading 60 mm metal for road work including sectioOne Numberng etc complete as directed by Engineer in charge ."},"Rd.29",205,"As directed by Engineer in charge"]
[{"$f":"'Shedule B'!A255","v":7},{"$f":"'Shedule B'!C255","v":"Spreading 40 mm metal for road work including sectioOne Numberng etc complete as directed by Engineer in charge ."},"Rd.29",205,"As directed by Engineer in charge"]
[{"$f":"'Shedule B'!A256","v":"8A"},{"$f":"'Shedule B'!C256","v":"Compacting the sub grade/gravel/oversize metal (200 mm loose) layers for all width with Power roller having weight 8 to 10 MT. including necessary, labour, materials and artificial watering complete."},"--","--","As directed by Engineer in charge"]
[{"$f":"'Shedule B'!A257","v":"8B"},{"$f":"'Shedule B'!C257","v":"Compacting the sub grade/gravel/oversize metal (200 mm loose) layers for all width with Power roller having weight 8 to 10 MT. including necessary, labour, materials and artificial watering complete."},"--","--","As directed by Engineer in charge"]
[{"$f":"'Shedule B'!A258","v":9},{"$f":"'Shedule B'!C258","v":"Compacting the hard murum side widths including laying in layers on each side with vibratory roller including artificial watering etc.complete."},"Rd.38",210,"As directed by Engineer in charge"]
[{"$f":"'Shedule B'!A259","v":10},{"$f":"'Shedule B'!C259","v":"Providing and fixing trap/ granite/ quartzite/ gneiss guard stone/ indicator stones/ boundary stones of standard size and shape including fixing in block of fixing in M-15 R.C.C. 1:4:8 standard size with white washing etc.complete"},"MORTH 807",357,"As directed by Engineer in charge"]
[{"$f":"'Shedule B'!A260","v":"11A"},{"$f":"'Shedule B'!C260","v":"Excavation for foundation in earth, soil of all types, sand, gravel and soft murum, including removing the excavated material up to a distance of 50 m. beyond the building area and stacking and spreading as directed, dewatering, preparing the bed for the foundation and necessary back filling, ramming, watering including shoring and strutting etc. complete. (Lift upto 1.5 m.) By Mechanical Means"},"Bd.A.1 ",259,"As directed by Engineer in charge"]
[{"$f":"'Shedule B'!A261","v":"11 B"},{"$f":"'Shedule B'!C261","v":"Excavation for foundation in hard murum including removing the excavated material upto distance of 50 metres beyond the building area and stacking and spreading as directed, dewatering, preparing the bed for the foundation and necessary back filling, ramming, watering including shoring and strutting etc. complete. (Lift upto 1.50 m) By Mechanical Means"},"Bd.A.2 ",259,"As directed by Engineer in charge"]
[{"$f":"'Shedule B'!A262","v":"11C"},{"$f":"'Shedule B'!C262","v":"Excavation for foundation in hard murum and boulders including removing the excavated material up to a distance 50 metres, beyond the building area and stacking and spreading as directed, dewatering, preparing the bed for the foundation and necessary back filling, ramming, watering including shoring and strutting etc. complete. (Lift upto 1.5m.) By Mechanical Means"},"Bd.A.3",259,"As directed by Engineer in charge"]
[{"$f":"'Shedule B'!A263","v":12},{"$f":"'Shedule B'!C263","v":"Providing and laying in situ / ready mix / ready mix M10 cement concrete of trap/ granite/ quartzite/ gneiss metal in foundation including necessary centering, formwork, bailing out water, compacting and curing etc. complete.(pan mixer) with natural /artifical sand)"},"BR.5 & B.7","105 & 38","As directed by Engineer in charge"]
[{"$f":"'Shedule B'!A264","v":13},{"$f":"'Shedule B'!C264","v":"Providing uncoursed rubble masonry of trap / granite / quartzite / gneiss stones in cement mortar 1:6 in foundation and plinth of inner walls / in plinth of external walls including bailing out water manually , striking joints on un exposed faces and watering etc.complete."},"Bd.H.1",329,"As directed by Engineer in charge"]
[{"$f":"'Shedule B'!A265","v":14},{"$f":"'Shedule B'!C265","v":"Providing and fixing in position TMT - FE - 500 bar reinforcement of various diameters for R.C.C. pile caps, footings, foundations, slabs, beams columns, caOne Numberpies, staircase, newels, chajjas, lintels pardis, copings, fins, arches etc. as per detailed designs, drawings and schedules. including cutting, bending, hooking the bars, binding with wires or tack welding and supporting as required complete."},"Bd.F.17",306,"As directed by Engineer in charge"]
[{"$f":"'Shedule B'!A266","v":15},{"$f":"'Shedule B'!C266","v":"Providing and laying Cast in situ/Ready Mix cement concrete M-30 of trap / granite /quartzite/ gneiss metal for R.C.C. beams and lintels as per detailed designs and drawings or as directed including steel centering, formwork, cover blocks, laying/pumping, compaction and roughening the surface if special finish is to be provided and curing etc. complete. (Excluding reinforcement and structural steel). With fine aggregate (Natural Sand / Crushed sand VSI Grade finely washed etc)"},"Bd.F.6 & B.7","300 & 38","As directed by Engineer in charge"]
[{"$f":"'Shedule B'!A267","v":16},{"$f":"'Shedule B'!C267","v":"Providing internal cement plaster 20mm thick in two coats in cement mortar 1:4 with cement slurry finish, to concrete, brick surface, in all positions including scaffolding and curing etc.complete."},"Bd.L.4 ",369,"As directed by Engineer in charge"]
[{"$f":"'Shedule B'!A269","v":18},{"$f":"'Shedule B'!C269","v":"Providing & laying C. C. pipe of NP2 class 600 mm dia metre in proper line, level & slope including providing & laying in position the coller in C. M. 1 : 2 etc. complete. "},"CD7",162,"As directed by Engineer in charge"]
[{"$f":"'Shedule B'!A270","v":19},{"$f":"'Shedule B'!C270","v":"Supplynig & spreading Hard mumrum for cushioning of R C C pipe including watering rammi ng & leveling etc complete."},"--","--","As directed by Engineer in charge"]
[{"$f":"'Shedule B'!A273","v":"22A"},{"$f":"'Shedule B'!C273","v":"Providing earth work in embankment with approved materials obtained from departmental land upto lead of 50m. including all lifts, laying in layers of 20cm. to 30cm. thickness breaking clods, dressing to the required lines, curves, grades & section, watering and compaction with vibratory roller to achieve One Numbert less than 97 % of standard proctor density etc. complete. (Material obtained from departmental Land)"},"MORTH 305","--","As directed by Engineer in charge"]
[{"$f":"'Shedule B'!A274","v":"22B"},{"$f":"'Shedule B'!C274","v":"Providing embankment with approved hard murum obtained from other sources including all leads & lifts, laying in layers of 20cm. to 30cm. thickness breaking clods, dressing to the required lines, curves, grades & section, watering and compaction with vibratory roller with V-Sat attachment to achieve One Numbert less than 97 % of standard proctor density etc. complete ( Material obtained from Other sources)"},"MORTH 305","--","As directed by Engineer in charge"]
[{"$f":"'Shedule B'!A275","v":23},{"$f":"'Shedule B'!C275","v":"Conveying materials obtained from road cutting including all lifts, laying in layers of 20cm to 30cm. breaking clods, dressing to the required lines, curves, grades and section, watering and compacting to One Numbert less than 97% of standard Proctor density for a lead of over 50m. to 300m. inclusive from the site of excavation to the site of deposition as directed."},"Rd.M.18",197,"As directed by Engineer in charge"]
[{"$f":"'Shedule B'!A276","v":24},{"$f":"'Shedule B'!C276","v":"Conveying the materials obtained from excavation including all lifts, laying in layers, breaking clods, dressing to the required lines, curves, grades and section for all leads & lifts from the site of excavation to the site of deposition as directed."},"Rd.M.18",197,"As directed by Engineer in charge"]
[{"$f":"'Shedule B'!A277","v":25},{"$f":"'Shedule B'!C277","v":0},"MORTH 505",null,"As directed by Engineer in charge"]
[]
[null,{"$f":"'Shedule B'!B281:C281","v":{"$error":"#REF!"}}]
[{"$f":"'Shedule B'!A282","v":1},{"$f":"'Shedule B'!C282","v":"Excavation for foundation in earth, soil of all types, sand, gravel and soft murum, including removing the excavated material up to a distance of 50 m. beyond the building area and stacking and spreading as directed, dewatering, preparing the bed for the foundation and necessary back filling, ramming, watering including shoring and strutting etc. complete. (Lift upto 1.5 m.) By Mechanical Means"},{"$f":"C16","v":"Bd.A.1 "},null,"As directed by Engineer-in-charge."]
[]
[{"$f":"'Shedule B'!A284","v":2},{"$f":"'Shedule B'!C284","v":"Excavation for foundation in hard murum including removing the excavated material upto distance of 50 metres beyond the building area and stacking and spreading as directed, dewatering, preparing the bed for the foundation and necessary back filling, ramming, watering including shoring and strutting etc. complete. (Lift upto 1.50m)   By Mechanical Means"},{"$f":"C19","v":"Bd.A.2"},null,"As directed by Engineer-in-charge."]
[]
[{"$f":"'Shedule B'!A286","v":3},{"$f":"'Shedule B'!C286","v":"Excavation for foundation in hard murum and boulders including removing the excavated material up to a distance 50 metres, beyond the building area and stacking and spreading as directed, dewatering,preparing the bed for the foundation and necessary back filling,ramming, watering including shoring and strutting etc. complete. (Lift upto 1.5m.) By Mechanical Means"},{"$f":"C21","v":"Bd.A.3"},null,"As directed by Engineer-in-charge."]
[]
[{"$f":"'Shedule B'!A288","v":4},{"$f":"'Shedule B'!C288","v":"Excavation for foundation in Soft rock and old cement or lime masonry foundations including removing the excavated material upto a distance of 50 metres beyond the building area and stacking as directed, including dewatering, preparing the bed for the foundation and necessary back filling with available earth /murum, ramming watering including shoring and strutting etc. complete (lift upto 1.5m) By Mechanical Means"},{"$f":"C23","v":"Bd.A.4"},null,"As directed by Engineer-in-charge."]
[]
[{"$f":"'Shedule B'!A290","v":5},{"$f":"'Shedule B'!C290","v":"Providing soling using 80mm size trap metal in15cm.layer including filling voids with Crushed sand/grit, ramming, watering etc. complete."},{"$f":"C69","v":"Bd A."},null,"As directed by Engineer-in-charge."]
[]
[{"$f":"'Shedule B'!A292","v":6},{"$f":"'Shedule B'!C292","v":"Providing and filling in the foundation with sand of approved quality including watering, compacting etc.complete.(To be executed with prior approval of Superintending Engineer)"},"Bd A",null,"As directed by Engineer-in-charge."]
[]
[{"$f":"'Shedule B'!A294","v":7},{"$f":"'Shedule B'!C294","v":"Providing and laying Cast in situ / Ready Mix cement concrete in M-10 of trap / granite/quartzite/gneiss metal for foundation and bedding including bailing out water, Steel centering, formwork, laying / pumping, compacting, roughening them if special finish is to be provided, finishing if required and curing complete, With fine aggregate (Natural Sand/Crusheds and VSI Grade finely washed etc)"},{"$f":"C28","v":"BR.5 & B.7"},null,"As directed by Engineer-in-charge."]
[]
[{"$f":"'Shedule B'!A296","v":8},{"$f":"'Shedule B'!C296","v":"Filling in plinth and floors with approved excavated materials  approved by Engineer in charge in layers of 15cmto20cm including watering and compaction etc. complete."},{"$f":"C52","v":"Bd.A.10"},null,"As directed by Engineer-in-charge."]
[]
[{"$f":"'Shedule B'!A298","v":9},{"$f":"'Shedule B'!C298","v":"Providing and fixing H.D.P container Syntex  only 3 layer   one piece moulded water tank made out of low density polythyler and built corrugation including of delivery up to destination hoisting and fixing of accessories such as inlet, outlet overflow of all tanks capacity above 1000 to 20,000 litres  ( Syntex only ) \n"},"…",null,"Syntex only & As directed by Engineer-in-charge."]
[]
[{"$f":"'Shedule B'!A300","v":10},{"$f":"'Shedule B'!C300","v":"Conveying the materials obtained from excavation (B C Soil) including laying in layers, breaking clods, dressing to the required lines, curves, grades and section for all leads & lifts from the site of excavation to the site of deposition  away from "},{"$f":"C184","v":"Rd.M.18"},null,"As directed by Engineer-in-charge."]
[]
[{"$f":"'Shedule B'!A302","v":11},{"$f":"'Shedule B'!C302","v":"Conveying the materials obtained from excavation  including laying in layers, breaking clods, dressing to the required lines, curves, grades and section for all leads & lifts from the site of excavation to the site of deposition  aeay from 300 to 500 m"},{"$f":"C207","v":"Rd.M.18"},null,"As directed by Engineer-in-charge."]
[]
[{"$f":"'Shedule B'!A304","v":12},{"$f":"'Shedule B'!C304","v":"Providing and laying in trenches 25 mm dia. CPVC pipe including necessary excavation, fittings. Refilling trenches etc. complete. Including removing existing pipe line if necessary and conveying and stacking the same in PWD chowky or as directed etc. complete."},"BD.V. 5",551,"As directed by Engineer-in-charge."]
[]
[{"$f":"'Shedule B'!A306","v":13},{"$f":"'Shedule B'!C306","v":"Providing and laying in trenches 20 mm dai. CPVC pipe including necessary excavation, fittings. Refilling trenches etc. complete. Including removing existing pipe line if necessary and conveying and stacking the same in PWD chowky or as directed etc. complete."},"BD.V. 5",551,"As directed by Engineer-in-charge."]
[]
[{"$f":"'Shedule B'!A308","v":14},{"$f":"'Shedule B'!C308","v":"Providing and fixing screw down for 15 mm dia. wheeled stop tap of brass including necessary sockets/union nut complete)."},"BD.V. 9",555,"As directed by Engineer-in-charge."]
[]
[{"$f":"'Shedule B'!A310","v":15},{"$f":"'Shedule B'!C310","v":"Providing and fixing screw down 15 mm dia. wheeled stop tap of brass including necessary sockets/union nut complete"},"BD.V. 9",555,"As directed by Engineer-in-charge."]
[]
[{"$f":"'Shedule B'!A312","v":16},{"$f":"'Shedule B'!C312","v":"Supplying and erecting cetrifugal water pump   3.75 KW / 5.00 HP ,  65 mm suction and 50 mm delivery pipe … ( 12-1-10/208) ele"},"--","--","As directed by Engineer-in-charge."]
[]
[{"$f":"'Shedule B'!A314","v":17},{"$f":"'Shedule B'!C314","v":"Supplying and erecting D.O. L. starter  400 V 3 ph.  ( 12-4-2/218 ) ele"},"--","--","As directed by Engineer-in-charge."]
[]
[{"$f":"'Shedule B'!A316","v":18},{"$f":"'Shedule B'!C316","v":"Supplying and erecting  65 mm dia. Ball type footvalve  ( 16-6-34/248 ) ele"},"--","--","As directed by Engineer-in-charge."]
[]
[{"$f":"'Shedule B'!A318","v":19},{"$f":"'Shedule B'!C318","v":"Supplying and erecting  & terminating XLPE armoured cable  4 core 6 sqmm  copper conductor  ( 7-2-32/133) ele "},"--","--","As directed by Engineer-in-charge."]
[]
[{"$f":"'Shedule B'!A320","v":20},{"$f":"'Shedule B'!C320","v":"Supplying and erecting  & marking FPMCB  6  Amp to 32 Amp  ( 5-3-16/97) ele "},"--","--","As directed by Engineer-in-charge."]
[]
[{"$f":"'Shedule B'!A322","v":21},{"$f":"'Shedule B'!C322","v":"Supplying and erecting  CRCA sheet metal  one way enclosure suitable for DPMCB  ( 5-4-23/99) ele"},"--","--","As directed by Engineer-in-charge."]
[]
[{"$f":"'Shedule B'!A324","v":22},{"$f":"'Shedule B'!C324","v":"Providing earthing with GI earthplate  size 60x60x0.6 cm ( 9-1-1/161) ele"},"--","--","As directed by Engineer-in-charge."]
[]
[{"$f":"'Shedule B'!A326","v":23},{"$f":"'Shedule B'!C326","v":"Supplying and ercting GI sheet 1.6 mm (  16SWG) for fabrication of boxes  ( 6-1-2/114) ele "},"--","--","As directed by Engineer-in-charge."]
[]
[{"$f":"'Shedule B'!A328","v":24},{"$f":"'Shedule B'!C328","v":"Supplying and ercting marine plywood 18/19 mm tk. ( 6-1-14/114) ele"},"--","--","As directed by Engineer-in-charge."]
[]
[{"$f":"'Shedule B'!A330","v":25},{"$f":"'Shedule B'!C330","v":"Supplying and ercting HDP pipe  ISI mark 50 mm dia. ( 16-5-18/247) ele "},"--","--","As directed by Engineer-in-charge."]
[]
[{"$f":"'Shedule B'!A332","v":26},{"$f":"'Shedule B'!C332","v":"Providing and laying in trenches 50 mm dia. CPVC pipe including necessary excavation, fittings. Refilling trenches etc. complete. Including removing existing pipe line if necessary and conveying and stacking the same as directed etc. complete."},"BD.V. 5",551,"As directed by Engineer-in-charge."]
[]
[null,{"$f":"'Shedule B'!B336","v":{"$error":"#REF!"}}]
[{"$f":"'Shedule B'!A337","v":1},{"$f":"'Shedule B'!C337","v":"Drilling the bore well 150 mm dia. Upto a depth as directed in all types of strata by using bore drilling machine incluiding all necessary  material & equipment etc. complete as directed."},"--","--","As directed by Engineer-in-charge."]
[{"$f":"'Shedule B'!A339","v":2},{"$f":"'Shedule B'!C339","v":" Providing and fixing M. S. casing pipe of 150mm diameter of approved make with help of drilling machine upto desired depth including lowering & grouting etc. complete as directed.."},"--","--","As directed by Engineer-in-charge."]
[{"$f":"'Shedule B'!A341","v":3},{"$f":"'Shedule B'!C341","v":"Supplying and erecting submersible pumpset of 1.125 KW/1.5 HP with 230 V, 50 c/s AC supply suitable for 150 mm dia. borewell suitable for 84 to 40 LPM discharge at 30 to 90 m head & (max. efficiency at 69 m head & 60 lpm) discharge & delivery pipe of Size-50 mm diameter with a necessary H type clamps as per specification no. WP-SMP"},"--","--","As directed by Engineer-in-charge."]
[{"$f":"'Shedule B'!A343","v":4},{"$f":"'Shedule B'!C343","v":"Supplying, erecting & terminating PVC armoured cable 3 core 4 sq mm copper conductor continuous 5.48 sq mm (12 SWG) G.I. earth wire complete erected with glands & lugs, on wall/ trusses/pole or laid in provided trench/ pipe as per specification no. CB-LT/CU "},"--","--","As directed by Engineer-in-charge."]
[{"$f":"'Shedule B'!A345","v":5},{"$f":"'Shedule B'!C345","v":"Supplying and erecting high density polythene pipe ISI mark 32 mm dia. suitable for pressure of 6 kg/cm2 connected to Jet/Submersible pump with required material complete."},"--","--","As directed by Engineer-in-charge."]
[{"$f":"'Shedule B'!A347","v":"6-A"},{"$f":"'Shedule B'!C347","v":" Making trench in hard soil of suitable width and depth as per IS for laying provided L.T cable up to 25 sq mm complete. As per specification No. CW-EXN-CTR"},"--","--","As directed by Engineer-in-charge."]
[{"$f":"'Shedule B'!A349","v":"6-B"},{"$f":"'Shedule B'!C349","v":"Supplyng and laying 75 mm diameter GI pipe A grade ISI mark for cable laid underground at required depth upto 90 cm including excavation, laying pipe, remaking the surface as it is. "},"--","--","As directed by Engineer-in-charge."]
[{"$f":"'Shedule B'!A351","v":7},{"$f":"'Shedule B'!C351","v":"Supplying and erecting G.I.pipe 15 mm dia. ‘B’ class at position with accessories. As per specification No. CW-PLB/GP"},"--","--","As directed by Engineer-in-charge."]
[{"$f":"'Shedule B'!A353","v":8},{"$f":"'Shedule B'!C353","v":"Supplying and erecting ISI mark G.I.pipe 20 mm dia.‘B’ class at position with accessories. As per specification No. CW-PLB/GP"},"--","--","As directed by Engineer-in-charge."]
[{"$f":"'Shedule B'!A355","v":9},{"$f":"'Shedule B'!C355","v":" Providing & fixing in position 15 mm diameter screw down bib tap/ stop tap of brass heavy type and make including necessary sockets union nuts etc. complete."},"--","--","As directed by Engineer-in-charge."]
[{"$f":"'Shedule B'!A357","v":10},{"$f":"'Shedule B'!C357","v":"Providing & fixing in position 20 mm diameter screw down bib tap/ stop tap of brass heavy type and make including necessary sockets union nuts etc. complete."},"--","--","As directed by Engineer-in-charge."]
[{"$f":"'Shedule B'!A359","v":11},{"$f":"'Shedule B'!C359","v":" Supplying and and fixing PVC wire rope for borewell etc. complete. "},"--","--","As directed by Engineer-in-charge."]
[{"$f":"'Shedule B'!A361","v":12},{"$f":"'Shedule B'!C361","v":"Supplying & erecting automatic control panel for 1 Ph, 230 volt, A.c. Submersible/centrifugal pump set upto 2 HP consisting of DOL starter Of suitable relay range S.P.P., Combined ammeter/ voltmeter, phase indicating lamp enclosed in CRCA powder coated Vibration proof encloser with IP 54 protection. Control Panel should offer single phasing, phase reversal, phase inbalence etc ( Similar to LT model no.MR G2) ."},"--","--","As directed by Engineer-in-charge."]
[{"$f":"'Shedule B'!A363","v":13},{"$f":"'Shedule B'!C363","v":"Supplying and erecting flat flexible 3 core 2.5 sq mm PVC sheathed submersible type copper cable suitably clamped at fixed intervals with column pipe assembly complete."},"--","--","As directed by Engineer-in-charge."]
[{"$f":"'Shedule B'!A365","v":14},{"$f":"'Shedule B'!C365","v":"Supplying and erecting 40mm dia. Gun metal foot valve at position with necessary materials."},"--","--","As directed by Engineer-in-charge."]
[{"$f":"'Shedule B'!A367","v":15},{"$f":"'Shedule B'!C367","v":"Supplying, erecting & marking DPMCB 6A to 32A, C- series (for  motor/power)  in  provided  distribution  board   as  per   specification No. SW-SWR/MCB  "},"--","--","As directed by Engineer-in-charge."]
[{"$f":"'Shedule B'!A369","v":16},{"$f":"'Shedule B'!C369","v":"Supplying & erecting CRCA sheet metal one way enclosures suitable  for  D.P.M.C.B.   /T.P.  M.C.B.   /F.P  M.C.B.  Complete   erected on angle iron frame.  "},"--","--","As directed by Engineer-in-charge."]
[]
[null,{"$f":"'Shedule B'!B373:C373","v":{"$error":"#REF!"}}]
[{"$f":"'Shedule B'!A374","v":1},{"$f":"'Shedule B'!C374","v":"Excavation for foundation insoil depth upto 1.50m  including removing the excavated stuff upto a distance of 50 meters beyond the building area all lifts stacking or spreading as directed, dewatering, shoring, strutting if necessary preparing the bed for foundation including necessary backfilling  etc complete (Bd.A2/ 260)"},"BD.A1 ",259,"As directed by Engineer-in-charge."]
[{"$f":"'Shedule B'!A376","v":"1-A"},{"$f":"'Shedule B'!C376","v":"Excavation for foundation insoil depth 1.50m to 3.00including removing the excavated stuff upto a distance of 50 meters beyond the building area all lifts stacking or spreading as directed, dewatering, shoring, strutting if necessary preparing the bed for foundation including necessary backfilling  etc complete (Bd.A2/ 260)"},"BD.A1 ",259,"As directed by Engineer-in-charge."]
[{"$f":"'Shedule B'!A378","v":"1-B"},{"$f":"'Shedule B'!C378","v":"Excavation for foundation in hard murum depth upto 1.50m  including removing the excavated stuff upto a distance of 50 meters beyond the building area all lifts stacking or spreading as directed, dewatering, shoring, strutting if necessary preparing the bed for foundation including necessary backfilling  etc complete (Bd.A2/ 260)"},"BD.A2 ",256,"As directed by Engineer-in-charge."]
[{"$f":"'Shedule B'!A380","v":"1-C"},{"$f":"'Shedule B'!C380","v":"Excavation for foundation in hard murum depth  1.50m TO 3.00  including removing the excavated stuff upto a distance of 50 meters beyond the building area all lifts stacking or spreading as directed, dewatering, shoring, strutting if necessary preparing the bed for foundation including necessary backfilling  etc complete (Bd.A2/ 260)"},"BD.A2 ",256,"As directed by Engineer-in-charge."]
[{"$f":"'Shedule B'!A382","v":"1-D"},{"$f":"'Shedule B'!C382","v":"Excavation for foundation in hard murum  & boulderdepth upto 1.50m  including removing the excavated stuff upto a distance of 50 meters beyond the building area all lifts stacking or spreading as directed, dewatering, shoring, strutting if necessary preparing the bed for foundation including necessary backfilling  etc complete (Bd.A2/ 260)"},"BD.A2 ",256,"As directed by Engineer-in-charge."]
[{"$f":"'Shedule B'!A384","v":"1-E"},{"$f":"'Shedule B'!C384","v":"Excavation for foundation in hard murum  & boulderdepth  1.50m TO 3.00  including removing the excavated stuff upto a distance of 50 meters beyond the building area all lifts stacking or spreading as directed, dewatering, shoring, strutting if necessary preparing the bed for foundation including necessary backfilling  etc complete (Bd.A2/ 260)"},"BD.A2 ",256,"As directed by Engineer-in-charge."]
[{"$f":"'Shedule B'!A386","v":2},{"$f":"'Shedule B'!C386","v":"Providing & laying in situ cement concrete M-15 of  trap metal for foundation & bedding including dewatering if necessary, compacting, curing etc. complete. [Bd. E.1  /287]"},"BD.A. 6",260,"As directed by Engineer-in-charge."]
[{"$f":"'Shedule B'!A388","v":3},{"$f":"'Shedule B'!C388","v":" Providing & Laying  dry /trap rubble stone metal soling 15 cm to 20 cm, thick including hand packing and compacting complewte."},"BD.A.",null,"As directed by Engineer-in-charge."]
[{"$f":"'Shedule B'!A390","v":4},{"$f":"'Shedule B'!C390","v":" Providing & filling  brick  bat in excavated pit as directed by Engineer- in -charge."},"Bd.E. 1",null,"As directed by Engineer-in-charge."]
[{"$f":"'Shedule B'!A392","v":5},{"$f":"'Shedule B'!C392","v":" Providing & filling Sand in excavated pit of approved quality including watering compaction complete."},"BD.A. ",null,"As directed by Engineer-in-charge."]
[{"$f":"'Shedule B'!A394","v":6},{"$f":"'Shedule B'!C394","v":"Providing & Laying   in position polythene  sheet over excavated pit as directed by Engineer- in - charge."},"--","--","As directed by Engineer-in-charge."]
[{"$f":"'Shedule B'!A396","v":7},{"$f":"'Shedule B'!C396","v":" Providing & layiung  PVC PIPES 110 MM dia on the top of pit to drain the rain water inside the pit as directed by Engineer- in - charge."},"--","--","As directed by Engineer-in-charge."]
[{"$f":"'Shedule B'!A398","v":8},{"$f":"'Shedule B'!C398","v":" Conveying the materials obtained from excavation including laying in layers, breaking clods, dressing to the required lines, curves, grades and section for all leads & lifts from the site of excavation to the site of deposition  area away  from complex as directed. "},"--","--","As directed by Engineer-in-charge."]
[{"$f":"'Shedule B'!A400","v":9},{"$f":"'Shedule B'!C400","v":"Drilling the bore well 150 mm dia. Upto a depth as directed in all types of strata by using bore drilling machine incluiding all necessary  material & equipment etc. complete as directed."},"--","--","As directed by Engineer-in-charge."]
[{"$f":"'Shedule B'!#REF!","v":{"$error":"#REF!"}},{"$f":"'Shedule B'!#REF!","v":{"$error":"#REF!"}},"--","--","As directed by Engineer-in-charge."]
[{"$f":"'Shedule B'!#REF!","v":{"$error":"#REF!"}},{"$f":"'Shedule B'!#REF!","v":{"$error":"#REF!"}},"--","--","As directed by Engineer-in-charge."]
[]
[null,{"$f":"'Shedule B'!B405:C405","v":{"$error":"#REF!"}}]
[{"$f":"'Shedule B'!A406","v":1},{"$f":"'Shedule B'!C406","v":"Excavation for foundation in earth soil of all types sand, gravel & soft murum, depth upto 1.50 meters including removing the excavated stuff upto a distance of 50 meters beyond the bldg. area all lifts stacking or spreading as directed, etc. complete"},"BD.A1 ",259,"As directed by Engineer-in-charge."]
[{"$f":"'Shedule B'!A408","v":2},{"$f":"'Shedule B'!C408","v":"Excavation for foundation in hard murum including removing the excavated materials upto distance of 50 metres beyond the building area and stacking and spreading as directed, dewatering, preparing the bed for the foundation and necessary back filling, ramming, watering including shoring and strutting etc. complete. (Lift upto 1.50 m)"},"BD.A2 ",256,"As directed by Engineer-in-charge."]
[{"$f":"'Shedule B'!A410","v":3},{"$f":"'Shedule B'!C410","v":"Providing and laying Cast in situ/Ready Mix cement concrete in M-10 of trap/ granite/ quartzite/ gneiss metal for foundation and bedding including bailing out water, formwork, laying/pumping, compacting, roughening them if special finish is to be provided, finishing if required and curing complete, Drum Type mixer/concrete Batch mix plant (Pan mixer) etc.complete. With natural sand/V.S.I. quality Artificial Sand"},"BD.H1 ",329,"As directed by Engineer-in-charge."]
[{"$f":"'Shedule B'!A412","v":4},{"$f":"'Shedule B'!C412","v":"Providing & laying in situ cement concrete M20 of trap metal for R.C.C. work in column footing,  including dewatering if necessary, formwork, compaction, finishing curing etc. complete.(Excluding reinforcement) "},"BD.F.3. ",298,"As directed by Engineer-in-charge."]
[{"$f":"'Shedule B'!A414","v":5},{"$f":"'Shedule B'!C414","v":"Providing and laying Cast in situ/Ready Mix cement concrete M- 20 of trap / granite /quartzite/ gneiss metal for R.C.C. columns as per detailed designs and drawing or as directed including centering, formwork, cover blocks, laying/pumping, compaction finishing the formed surfaces with cement mortar 1:3 of sufficient minimum thickness to give a smooth and even surface or roughening if special finish is to be provided and curing etc.  complete,(Excluding reinforcement and structural steel)"},"BD.F.5",300,"As directed by Engineer-in-charge."]
[{"$f":"'Shedule B'!A416","v":6},{"$f":"'Shedule B'!C416","v":"Providing and fixing in position TMT - FE - 500 bar reinforcement of various diameters for R.C.C. pile caps, footings, foundations, slabs, beams columns, canopies, staircase, newels, chajjas, lintels pardis, copings, fins, arches etc. as per detailed designs, drawings and schedules. including cutting, bending, hooking the bars, binding with wires or tack welding and supporting as required etc.complete."},"BD.F.17",306,"As directed by Engineer-in-charge."]
[{"$f":"'Shedule B'!A418","v":7},{"$f":"'Shedule B'!C418","v":"Providing cement plaster 20 mm thick in C.M. 1:4 with even and smooth 1.5mm thick cement finish to concrete /brick surface in all positions including scaffolding curing etc. complete as directed."},"BD.L.4 ",368,"As directed by Engineer-in-charge."]
[{"$f":"'Shedule B'!A420","v":8},{"$f":"'Shedule B'!C420","v":"Providing and applying three coats of water proof cement paint of approved manufacture and of approved colour to plastered surfaces including scaffolding if ecessary, cleaning and preparing the surface, watering for two days etc. complete."},"BD.0.8",406,"As directed by Engineer-in-charge."]
[{"$f":"'Shedule B'!A422","v":9},{"$f":"'Shedule B'!C422","v":"Providing & erecting 1.5 M high wire  with7 rows of barbed wire fencing two diagonals  and two verticle barbed wire at centre of panel , supported on M.S. angle post [50x50x6 mm] 2.50 m c/c and fixing the same in C.C. block 1:4:8 of size 45x45x45 cms fastening the wire and applying two coats of approved paints. (By using New Angle)"},"BD.W3",583,"As directed by Engineer-in-charge."]
[{"$f":"'Shedule B'!A424","v":10},{"$f":"'Shedule B'!C424","v":"Filling in plinth & floors with approad excavated material or murum in layers of 15 to 20 cms including watering & compaction etc. complete."},"BD.A.10",262,"As directed by Engineer-in-charge."]
[{"$f":"'Shedule B'!A426","v":11},{"$f":"'Shedule B'!C426","v":"Providing earth work in embankment with approved materials obtained from other sources upto lead of 50m. including all lifts, laying in layers of 20cm. to 30cm. thickness breaking clods, dressing to the required lines, curves, grades & section, watering and compaction with vibratory roller with V-Sat attachment to achieve not less than 97 % of standard proctor density etc. complete ( Material obtained from Other sources)"},"MORTH ",305,"As directed by Engineer-in-charge."]
[{"$f":"'Shedule B'!A428","v":12},{"$f":"'Shedule B'!C428","v":"Conveying the materials obtained from excavation including laying in layers, breaking clods, dressing to the required lines, curves, grades and section for all leads & lifts from the site of excavation to the site of deposition  away from complex."},"--","--","As directed by Engineer-in-charge."]
[{"$f":"'Shedule B'!A430","v":13},{"$f":"'Shedule B'!C430","v":"Providing & erecting M.S.tubular gate of M.S. tubular pipes and M.S.flats as per drawing & design including hinges, pivot locks and applying one coat of approved anticorrosive paint and two coats of oilpaint etc. complete."},"--","--","As directed by Engineer-in-charge."]
[{"$f":"'Shedule B'!A432","v":14},{"$f":"'Shedule B'!C432","v":"Providing and laying cement concrete pipe of IS 458:2003 NP-3 class of 0.90 m diameter in proper line, level and slope etc. complete."},"--","--","As directed by Engineer-in-charge."]
[]
[]
[null,{"$f":"'Shedule B'!B436:C436","v":"Sub work III:- Material Lab Testing charges"}]
["1 To 19","Laboratory testing charges for various material required for the construction of work by the contractor on the basis of testing frequency and charges fixed as given below."," ---"," ---","As given below "]
[]
[null,"1 ) The test shall be carried out in accordance as per specification &  as directed by Engineer in charge .2) The testing of materials shall be carried out as per the frequency specified through & as directed by engineer incharge approved lab & shall be there responsibility of contractor.3)The material required for testing shall be sent by the contractor to the specified Laboratory at his own risk and cost.4)In case the desired results are not obtained during testing or the materialis rejected due to unsatisfactory results the testing charges shall not be paid to the contractor.5)It shall be obligatory on contractor to produce the test result .6)In case additional testing of material found necessary due to change in source,no  seperate payment shall be made and it shall be the entire responsiblity of contractor.7)Testing charges are mentioned in tender and it will be the responsibility of contractor to pay the testing charges to the concerned Laboratory inaccordance with the rates finalised. No difference shall be payable to the contractor in case testing charges are revised by the Laboratory.8)Material Testing shall be carried out as directed by Engineer in Charge."]
[]
[null,{"$f":"'Shedule B'!B462:C462","v":"SUBWORK IV :- Royalty Charges"}]
[{"$f":"'Shedule B'!A464","v":1},{"$f":"'Shedule B'!C464","v":"Royalty charges for sand "},"--","--","As directed by Engineer in charge"]
[{"$f":"'Shedule B'!A465","v":2},{"$f":"'Shedule B'!C465","v":"Royalty Charges for hand broken road metal 40 mm metal & 80mm metal etc. complete."},"--","--","As directed by Engineer in charge"]
[{"$f":"'Shedule B'!A466","v":3},{"$f":"'Shedule B'!C466","v":"Royalty Charges for Murum etc. Completed."},"--","--","As directed by Engineer in charge"]
[{"$f":"'Shedule B'!A467","v":4},{"$f":"'Shedule B'!C467","v":"Royalty Charges for UCR masonary rubble etc. complete."},"--","--","As directed by Engineer in charge"]

{"sheet":"Shedule B Elect","index":4,"n_rows":63,"n_cols":8,"rows_kept":63,"cut":false,"hidden":true,"merged":[[64,4,64,5],[66,2,66,6],[14,1,14,2],[10,0,11,0],[10,1,11,1],[10,2,11,2],[10,3,10,4],[10,5,11,5],[10,6,11,6],[8,0,8,6],[0,0,0,6],[1,0,1,6],[2,0,2,6],[4,0,4,6],[6,0,6,6]]}
["MAHARASHTRA STATE  WAREHOUSING CORPORATION"]
["( A Govt. Public Sector Undertaking)"]
["583/B, MARKET YARD, GULTEKADI, PUNE-411037"]
[]
[{"$f":"Recap!B6","v":"NAME OF WORK :-  CONSTRUCTION OF 1/2160 MT CAP PRE- ENGINEERED WH BLDG WITH ANCILLARY WORKS AT: NAGZARI DIST. LATUR"}]
[]
["SCHEDULE - 'B' "]
[]
["Memorandum showing Items of work to be carried out by the contractor "]
[]
["Item One Number.","Quantity Estimated but may be more or less","Items of work","Estimated Rates",null,"Unit","Total Amount in Rupees according to estimated quantity"]
[null,null,null,"Rupees in Figures","Rupees in Word"]
[1,2,3,4,5,6,7]
[]
[null,{"$f":"Recap!B16","v":"S.W. II - Elecrification"}]
[{"$f":"EL!A14","v":1},{"$f":"EL!C14","v":40},"Supplying, erecting & terminating XLPE armoured cable 3 core 6 sq. mm. copper conductor continuous 5.48 sq. mm. (12 SWG) G.I. earth wire complete erected with glands & lugs, on wall/ trusses/ pole or laid in provided trench/ pipe as per specification no. CB-LT/CU",{"$f":"EL!J14","v":281.39999999999998},"Two Hundred Eighty One & Ps. Fourty Only ","One Running Meter",{"$f":"D16*B16","v":11256},{"$f":"NumberToWord(D16)","v":"Two Hundred Eighty One & Ps. Fourty Only "}]
[{"$f":"EL!A15","v":2},{"$f":"EL!C15","v":20},"Supplying, erecting & terminating XLPE armoured cable 3 core 10 sq. mm. copper conductor continuous 5.48 sq. mm. (12 SWG) G.I. earth wire complete erected with glands & lugs, on wall/ trusses/ pole or laid in provided trench/ pipe as per specification no. CB-LT/CU",{"$f":"EL!J15","v":425.25},"Four Hundred Twenty Five & Ps. Twenty Five Only ","One Running Meter",8505,"Four Hundred Twenty Five & Ps. Twenty Five Only "]
[{"$f":"EL!A16","v":"3-A"},{"$f":"EL!C16","v":15},"Making trench of suitable width and depth in soft soil for laying provided LT cable up to and including 16 sq.mm complete as per specification no. CW-EXN-CTR",{"$f":"EL!J16","v":150.15},"One Hundred Fifty & Ps. Fifteen Only ","One Running Meter",2252.25,"One Hundred Fifty & Ps. Fifteen Only "]
[{"$f":"EL!A17","v":"3-B"},{"$f":"EL!C17","v":5},"Making trench of suitable width and depth in hard murum / tar road for laying provided LT cable up to and including 16 sq. mm complete as per specification no. CW-EXN-CTR",{"$f":"EL!J17","v":184.8},"One Hundred Eighty Four & Ps. Eighty Only ","One Running Meter",924,"One Hundred Eighty Four & Ps. Eighty Only "]
[{"$f":"EL!A18","v":"4-A"},{"$f":"EL!C18","v":10},"Supplying and erecting ISI mark GI pipe 75/80 mm dia. ‘B’ class at position with accessories complete. Specification no. CW PLB/GP.",{"$f":"EL!J18","v":1087.8},"One Thousand Eighty Seven & Ps. Eighty Only ","One Running Meter",10878,"One Thousand Eighty Seven & Ps. Eighty Only "]
[{"$f":"EL!A19","v":"4-B"},{"$f":"EL!C19","v":14},"Supplying & erecting G.I. pipe ‘A’ class 25 mm dia. erected for enclosing XLPE armoured cable on wall/pole as per specification no. CB-CE",{"$f":"EL!J19","v":194.25},"One Hundred Ninety Four & Ps. Twenty Five Only ","One Running Meter",2719.5,"One Hundred Ninety Four & Ps. Twenty Five Only "]
[{"$f":"EL!A20","v":5},{"$f":"EL!C20","v":14},"Supplying & erecting Siemens type brass cable glands for 2 to 4 core 2.5 sq. mm. /2 to 4 core 4 sq. mm. /2 core 6 sq. mm. For XLPE armoured cable as per specification no. CB-GL",{"$f":"EL!J20","v":54.6},"Fifty Four & Ps. Sixty Only ","One Number",764.4,"Fifty Four & Ps. Sixty Only "]
[{"$f":"EL!A21","v":6},{"$f":"EL!C21","v":5},"Providing point wiring for street light with PVC unarmoured cable 1100Volt grade ISI mark 3 core 1.5 sqmm stranded / solid copper erected on wall with G. I. Saddle duly painted @ 0,25 m C/C rigidly grouted in the wall with the help of plated screw including 4” x 4” M. S. box 2 way with epoxy painting & inside 15 amp Nylon connector strip for street light connection etc. complete as directed by Engineer in charge. ",{"$f":"EL!J21","v":1083.9000000000001},"One Thousand Eighty Three & Ps. Ninety Only ","One Number",5419.5,"One Thousand Eighty Three & Ps. Ninety Only "]
[{"$f":"EL!A22","v":7},{"$f":"EL!C22","v":4},"Supplying & erecting weatherproof powder coated distribution board 4 way with 2 x 6 Amp S. P. M. C. B. Industrial plug socket 10 A with top cover necessary connection etc complete with approved make.",{"$f":"EL!J22","v":1279.95},"One Thousand Two Hundred Seventy Nine & Ps. Ninety Five Only ","One Number",5119.8,"One Thousand Two Hundred Seventy Nine & Ps. Ninety Five Only "]
[{"$f":"EL!A23","v":8},{"$f":"EL!C23","v":90},"Supplying & erecting mains PVC unarmoured cable 1100Volt grade ISI mark 3 core / 2.5 sqmm stranded / solid copper complete erected on wall with duly painted G. I. Saddle @ 0.25 m C/C & rigidly grouted in the wall with the help of plated screws.",{"$f":"EL!J23","v":109.4},"One Hundred Nine & Ps. Fourty Only ","One Running Meter",9846,"One Hundred Nine & Ps. Fourty Only "]
[{"$f":"EL!A24","v":9},{"$f":"EL!C24","v":3},"Supplying, erecting & marking DPMCB 6 A to 32 A B- series (for lighting) in provided distribution board as per specification no. SWSWR/ MCB",{"$f":"EL!J24","v":457.8},"Four Hundred Fifty Seven & Ps. Eighty Only ","One Number",1373.4,"Four Hundred Fifty Seven & Ps. Eighty Only "]
[{"$f":"EL!A25","v":10},{"$f":"EL!C25","v":1},"Supplying shock proof type Hand Lamp with lamp holder, guarded glass and 10 m of 3 core PVC flexible cord with hand shield type 3 pin 6 amp plug top.",{"$f":"EL!J25","v":1512},"One Thousand Five Hundred Twelve Only ","One Number",1512,"One Thousand Five Hundred Twelve Only "]
[{"$f":"EL!A26","v":11},{"$f":"EL!C26","v":3},"Supplying and erecting LED street light fitting suitable for 20 to 25W, with PF > 0.95 class IP 65 and above housing of pressure die cast aluminium alloy and heat sink extruded aluminium complete as per specification No FG-ODF/FLS-2.",{"$f":"EL!J26","v":2559.9},"Two Thousand Five Hundred Fifty Nine & Ps. Ninety Only ","One Number",7679.7000000000007,"Two Thousand Five Hundred Fifty Nine & Ps. Ninety Only "]
[{"$f":"EL!A27","v":12},{"$f":"EL!C27","v":1},"Providing earthing with galvanized iron earth plate size 60 x 60 x 0.6 cm with funnel with a wire mesh for watering and brick masonry block C.l. cover complete with all materials, testing & recording the results as per specification no. EA-EP",{"$f":"EL!J27","v":5416.95},"Five Thousand Four Hundred Sixteen & Ps. Ninety Five Only ","One Number",5416.95,"Five Thousand Four Hundred Sixteen & Ps. Ninety Five Only "]
[]
[{"$f":"EL!A28","v":13},{"$f":"EL!C28","v":1},"Supplying & erecting CRCA sheet metal one way enclosures suitable for DP MCB /TP MCB /FP MCB erected on angle iron/GI frame complete.",{"$f":"EL!J28","v":358.05},"Three Hundred Fifty Eight & Ps. Five Only ","One Number",{"$f":"D31*B31","v":358.05},"Three Hundred Fifty Eight & Ps. Five Only "]
[]
[14,{"$f":"EL!C30","v":7},"Point wiring for light bell with 2-1.5 sq mm PVC insulated wire",409.5,"Four Hundred Nine & Ps. Fifty Only ","One Number",{"$f":"D33*B33","v":2866.5}]
[]
[15,12,"Point wiring for independent plug with 2 - 1.5 sq mm PVC insulated wire",462,"Four Hundred Sixty Two Only ","One Number",{"$f":"D35*B35","v":5544}]
[]
[16,12,"Point wiring  with 2- 1.5 sq mm PVC insulated wire",409.5,"Four Hundred Nine & Ps. Fifty Only ","One Number",{"$f":"D37*B37","v":4914}]
[]
[{"$f":"EL!A32","v":17},6,"S & F CFL lamps 11 W",229.95,"Two Hundred Twenty Nine & Ps. Ninety Five Only ","One Number",{"$f":"D39*B39","v":1379.6999999999998},"Two Hundred Twenty Nine & Ps. Ninety Five Only "]
[]
[18,2,"S & E marine plywood 19 mm thick",1326.15,"One Thousand Three Hundred Twenty Six & Ps. Fifteen Only ","sq mm",{"$f":"D41*B41","v":2652.3}]
[]
[]
[]
[]
[19,2,"P & F MS boxes of 16 SWG",2222.85,"Two Thousand Two Hundred Twenty Two & Ps. Eighty Five Only ","sq mm",{"$f":"D46*B46","v":4445.7}]
[]
[]
[20,4,"Supplying & erecting ready to use Retrofit T 8 LED 18/20",623.70000000000005,"Six Hundred Twenty Three & Ps. Seventy Only ","One Number",{"$f":"D49*B49","v":2494.8000000000002}]
[]
[21,4,"Supplying & erecting  48 \" with step dimmer",2033.85,"Two Thousand Thirty Three & Ps. Eighty Five Only ","One Number",{"$f":"D51*B51","v":8135.4}]
[]
[22,4,"Supplying & erecting  4 pole insulator only switch version of MCB 40 Amp",620.54999999999995,"Six Hundred Twenty & Ps. Fifty Five Only ","One Number",{"$f":"D53*B53","v":2482.1999999999998}]
[]
[]
[23,1,"Supplying & erecting 40 mm dia GI pipe 2.5 m length for earth plate",1311.45,"One Thousand Three Hundred Eleven & Ps. Fourty Five Only ","One Number",{"$f":"D56*B56","v":1311.45}]
[]
[]
[{"$f":"EL!A39","v":24},1,"Supplying and fixing wiremesh (Jali) cover suitable for fitting / fan or for any purpose, complete with necessary materials. The jali cover shall be made from good quality G.I. wire mesh size 25 x 25 (mm) and made up of 14 SWG G.I. wire with side / supporting MS strips of suitable size.",439.95,"Four Hundred Thirty Nine & Ps. Ninety Five Only ","One Number",{"$f":"D59*B59","v":439.95},"Four Hundred Thirty Nine & Ps. Ninety Five Only "]
[25,2,"S & E ding dong type call bell",129.15,"One Hundred Twenty Nine & Ps. Fifteen Only ","One Number",{"$f":"D60*B60","v":258.3}]
[{"$f":"EL!A41","v":26},{"$f":"EL!C31","v":7},"Supplying & erecting 4\"x4\" epoxy coated 3 way junction box with 10 Amp. nylon connector strip as directed by Engineer-in-charge. ",60,"Sixty Only ","One Number",{"$f":"D61*B61","v":420},"Sixty Only "]
[{"$f":"EL!A42","v":27},{"$f":"EL!C32","v":4},"Supplying and erecting steel cubular swaged pole 139.70x114.30x88.90 mm dia with 4.5 x3.65 x3.25 mm tk. ( 4.50 +1.75+1.75 ) mtr. Length respectively and total 8.00 mtr. Long with pole cap , base plate in provided foundatin ( weight  101.00 kg ) ",8105,"Eight Thousand One Hundred Five Only ","One Number",{"$f":"D62*B62","v":32420}]
[null,"In words","Two Lakh Eighty Five Thousand Five Hundred Fifty One & Ps. Twenty Only ",null,null,"Total",{"$f":"SUM(G16:G62)","v":143788.84999999998}]

{"sheet":"Shedule C Elect","index":5,"n_rows":41,"n_cols":5,"rows_kept":41,"cut":false,"hidden":true,"merged":[[6,0,6,4],[9,0,10,0],[9,1,10,1],[9,2,9,4],[0,0,0,4],[1,0,1,4],[2,0,2,4],[3,0,3,4],[4,0,4,4],[5,0,5,4]]}
["MAHARASHTRA STATE WAREHOUSING CORPORATION"]
["( A Govt. Public Sector Undertaking)"]
["583/B, MARKET YARD, GULTEKADI, PUNE-411037"]
[{"$f":"'Shedule B'!A5:G5","v":"NAME OF WORK :-  CONSTRUCTION OF 1/2160 MT CAP PRE- ENGINEERED WH BLDG WITH ANCILLARY WORKS AT: NAGZARI DIST. LATUR"}]
["SCHEDULE - 'C'"]
["ITEM WISE STANDARD SPECIFICATIONS"]
["             Specifications for the items of work to be carried out by the Contractor as given below"]
[]
[]
["Item No.","Name of Work","Standard Specifications  as  per Specification Book published by Govt. of Maharashtra Volume I-1979 and Volume -II 1981 Edition"]
[null,null,"Specification No.","Page No.","Additional specification if any"]
[1,2,3,4,5]
[null,{"$f":"'Shedule B'!#REF!","v":{"$error":"#REF!"}}]
[{"$f":"'Shedule B'!#REF!","v":{"$error":"#REF!"}},{"$f":"'Shedule B'!#REF!","v":{"$error":"#REF!"}},"CB-LT/CU",113,"As per enclosed specification sheet."]
[{"$f":"'Shedule B'!#REF!","v":{"$error":"#REF!"}},{"$f":"'Shedule B'!#REF!","v":{"$error":"#REF!"}},"CB-LT/CU",113,"As per enclosed specification sheet."]
[{"$f":"'Shedule B'!#REF!","v":{"$error":"#REF!"}},{"$f":"'Shedule B'!#REF!","v":{"$error":"#REF!"}},"CW-EXN-CTR",207,"As per enclosed specification sheet."]
[{"$f":"'Shedule B'!#REF!","v":{"$error":"#REF!"}},{"$f":"'Shedule B'!#REF!","v":{"$error":"#REF!"}},"CW-EXN-CTR",207,"As per enclosed specification sheet."]
[{"$f":"'Shedule B'!#REF!","v":{"$error":"#REF!"}},{"$f":"'Shedule B'!#REF!","v":{"$error":"#REF!"}},"--","--","As directed by Engineer in charge"]
[{"$f":"'Shedule B'!#REF!","v":{"$error":"#REF!"}},{"$f":"'Shedule B'!#REF!","v":{"$error":"#REF!"}},"--","--","As directed by Engineer in charge"]
[{"$f":"'Shedule B'!#REF!","v":{"$error":"#REF!"}},{"$f":"'Shedule B'!#REF!","v":{"$error":"#REF!"}},"CB-GL",119,"As per enclosed specification sheet."]
[{"$f":"'Shedule B'!#REF!","v":{"$error":"#REF!"}},{"$f":"'Shedule B'!#REF!","v":{"$error":"#REF!"}},"--","--","As directed by Engineer in charge"]
[{"$f":"'Shedule B'!#REF!","v":{"$error":"#REF!"}},{"$f":"'Shedule B'!#REF!","v":{"$error":"#REF!"}},"SW-SWR/MCB","--","As directed by Engineer in charge"]
[{"$f":"'Shedule B'!#REF!","v":{"$error":"#REF!"}},{"$f":"'Shedule B'!#REF!","v":{"$error":"#REF!"}},"--","--","As directed by Engineer in charge"]
[{"$f":"'Shedule B'!#REF!","v":{"$error":"#REF!"}},{"$f":"'Shedule B'!#REF!","v":{"$error":"#REF!"}},"SW-SWR/MCB","--","As per enclosed specification sheet."]
[{"$f":"'Shedule B'!#REF!","v":{"$error":"#REF!"}},{"$f":"'Shedule B'!#REF!","v":{"$error":"#REF!"}},"--","--","As directed by Engineer in charge"]
[{"$f":"'Shedule B'!#REF!","v":{"$error":"#REF!"}},{"$f":"'Shedule B'!#REF!","v":{"$error":"#REF!"}},"FG-ODF/LED",58,"As per enclosed specification sheet."]
[{"$f":"'Shedule B'!#REF!","v":{"$error":"#REF!"}},{"$f":"'Shedule B'!#REF!","v":{"$error":"#REF!"}},"EA-EP",141,"As per enclosed specification sheet."]
[{"$f":"'Shedule B'!#REF!","v":{"$error":"#REF!"}},{"$f":"'Shedule B'!#REF!","v":{"$error":"#REF!"}},"SW-SWR/MCBDB",103,"As per enclosed specification sheet."]
[14,{"$f":"'Shedule B Elect'!C33","v":"Point wiring for light bell with 2-1.5 sq mm PVC insulated wire"},"WG-MA/PC",9,"As per enclosed specification sheet."]
[15,{"$f":"'Shedule B Elect'!C35","v":"Point wiring for independent plug with 2 - 1.5 sq mm PVC insulated wire"},"WG/PW/SW",17,"As per enclosed specification sheet."]
[16,{"$f":"'Shedule B Elect'!C37","v":"Point wiring  with 2- 1.5 sq mm PVC insulated wire"},"WG/PW/SW",17,"As per enclosed specification sheet."]
[{"$f":"'Shedule B'!#REF!","v":{"$error":"#REF!"}},{"$f":"'Shedule B Elect'!C39","v":"S & F CFL lamps 11 W"},"CFL",53,"As per enclosed specification sheet."]
[18,{"$f":"'Shedule B Elect'!C41","v":"S & E marine plywood 19 mm thick"},"--","--","As directed by Engineer in charge"]
[19,{"$f":"'Shedule B Elect'!C46","v":"P & F MS boxes of 16 SWG"},"--","--","As directed by Engineer in charge"]
[20,{"$f":"'Shedule B Elect'!C49","v":"Supplying & erecting ready to use Retrofit T 8 LED 18/20"},"--","--","As directed by Engineer in charge"]
[21,{"$f":"'Shedule B Elect'!C51","v":"Supplying & erecting  48 \" with step dimmer"},"FG-FN/CF",66,"As per enclosed specification sheet."]
[22,{"$f":"'Shedule B Elect'!C53","v":"Supplying & erecting  4 pole insulator only switch version of MCB 40 Amp"},"SW-SWR/MCB",102,"As per enclosed specification sheet."]
[23,{"$f":"'Shedule B Elect'!C56","v":"Supplying & erecting 40 mm dia GI pipe 2.5 m length for earth plate"},"EA-EP",141,"As per enclosed specification sheet."]
[{"$f":"'Shedule B'!#REF!","v":{"$error":"#REF!"}},{"$f":"'Shedule B'!#REF!","v":{"$error":"#REF!"}},"--","--","As directed by Engineer in charge"]
[{"$f":"'Shedule B'!#REF!","v":{"$error":"#REF!"}},{"$f":"'Shedule B'!#REF!","v":{"$error":"#REF!"}},"--","--","As directed by Engineer in charge"]
[27,{"$f":"'Shedule B Elect'!C62","v":"Supplying and erecting steel cubular swaged pole 139.70x114.30x88.90 mm dia with 4.5 x3.65 x3.25 mm tk. ( 4.50 +1.75+1.75 ) mtr. Length respectively and total 8.00 mtr. Long with pole cap , base plate in provided foundatin ( weight  101.00 kg ) "},"OH-PL/STP",125,"As per enclosed specification sheet."]

{"sheet":"Shedule B","index":6,"n_rows":471,"n_cols":7,"rows_kept":471,"cut":false,"hidden":true,"merged":[[372,1,372,2],[404,1,404,2],[470,2,470,6],[10,0,11,0],[10,1,11,1],[10,2,11,2],[10,3,10,4],[10,5,11,5],[10,6,11,6],[13,1,13,2],[435,1,435,2],[461,1,461,2],[467,4,467,5],[468,4,468,5],[241,1,241,2],[280,1,280,2],[74,1,74,2],[8,0,8,6],[0,0,0,6],[1,0,1,6],[2,0,2,6],[4,0,4,6],[6,0,6,6]]}
["MAHARASHTRA STATE  WAREHOUSING CORPORATION"]
["( A Govt. Public Sector Undertaking)"]
["583/B, MARKET YARD, GULTEKADI, PUNE-411037"]
[]
[{"$f":"Recap!B6","v":"NAME OF WORK :-  CONSTRUCTION OF 1/2160 MT CAP PRE- ENGINEERED WH BLDG WITH ANCILLARY WORKS AT: NAGZARI DIST. LATUR"}]
[]
["SCHEDULE - 'B' "]
[]
["Memorandum showing Items of work to be carried out by the contractor "]
[]
["Item One Number.","Quantity Estimated but may be more or less","Items of work","Estimated Rates",null,"Unit","Total Amount in Rupees according to estimated quantity"]
[null,null,null,"Rupees in Figures","Rupees in Word"]
[1,2,3,4,5,6,7]
[null,{"$f":"Recap!B14","v":"S.W. I - W.H.BUILDING 1/2160M T "}]
[{"$f":"'DSR-Sheet I  '!B65","v":"1'"},{"$f":"'DSR-Sheet I  '!D65","v":0},"Labour Charges for removing grass, thorney shurbs, subabhul & alike grass in plot making the ground clean by showel & phawaras etc. complete.",{"$f":"'DSR-Sheet I  '!O65","v":2},{"$f":"NumberToWord(D15)","v":"Two Only "},"One Square Meter",{"$f":"ROUND(B15*D15,0)","v":0}]
[{"$f":"'DSR-Sheet I  '!B66","v":"1\""},{"$f":"'DSR-Sheet I  '!D66","v":0},"Cutting down trees including trunks and branches with girths above 30cm to 60cm and stacking the materials neatly with all lifts and lead of 1000m as directed and earth filling in the depression / pit if any.",{"$f":"'DSR-Sheet I  '!O66","v":411},{"$f":"NumberToWord(D16)","v":"Four Hundred Eleven Only "},"One Number",{"$f":"ROUND(B16*D16,0)","v":0}]
[{"$f":"'DSR-Sheet I  '!B67","v":"1-A"},{"$f":"'DSR-Sheet I  '!D67","v":265},"Excavation for foundation in earth, soil of all types, sand, gravel and soft murum, including removing the excavated material up to a distance of 50 m. beyond the building area and stacking and spreading as directed, dewatering, preparing the bed for the foundation and necessary back filling, ramming, watering including shoring and strutting etc. complete. (Lift upto 1.5 m.) By Mechanical Means",{"$f":"'DSR-Sheet I  '!O67","v":157},{"$f":"NumberToWord(D17)","v":"One Hundred Fifty Seven Only "},"One Cubic Meter",41605]
[{"$f":"'DSR-Sheet I  '!B68","v":"1-A'"},{"$f":"'DSR-Sheet I  '!D68","v":1},"Excavation for foundation in earth, soils of all types, sand,gravel and soft murum, including removing the excavated material upto a distance of 50 metres beyond the building area and stacking and spreading as directed, dewatering, preparing the bed for the foundation and necessary back filling, ramming, watering including shoring and strutting etc. complete. (Lift from 1.5m to 3.0m) By Mechanical Means",{"$f":"'DSR-Sheet I  '!O68","v":196},"One Hundred Ninety Six Only ","One Cubic Meter",196]
[{"$f":"'DSR-Sheet I  '!B69","v":" (1-A\") "},{"$f":"'DSR-Sheet I  '!D69","v":0},"Excavation for foundation in earth, soils of all types, sand,gravel and soft murum, including removing the excavated material upto a distance of 50 metres beyond the building area and stacking and spreading as directed, dewatering, preparing the bed for the foundation and necessary back filling, ramming, watering including shoring and strutting etc. complete. (Lift from 3m to 4.5 m) By Mechanical Means",{"$f":"'DSR-Sheet I  '!O69","v":0},"Only ","One Cubic Meter",0]
[{"$f":"'DSR-Sheet I  '!B70","v":"1-B"},{"$f":"'DSR-Sheet I  '!D70","v":44},"Excavation for foundation in hard murum including removing the excavated material upto distance of 50 metres beyond the building area and stacking and spreading as directed dewatering, preparing the bed for the foundation and necessary back filling, ramming, watering including shoring and strutting etc. complete. (Lift upto 1.50 m) By Mechanical Means",{"$f":"'DSR-Sheet I  '!O70","v":172},"One Hundred Seventy Two Only ","One Cubic Meter",7568]
[{"$f":"'DSR-Sheet I  '!B71","v":"1-B'"},{"$f":"'DSR-Sheet I  '!D71","v":0},"Excavation for foundation in Hard murum including removing the excavated material upto a distance of 50 metres beyond the building area and stacking and spreading as directed, dewatering, preparing the bed for the foundation and necessary back filling, ramming, watering including shoring and strutting etc. complete. (Lift from 1.5 to 3.0m.) By Mechanical Means",{"$f":"'DSR-Sheet I  '!O71","v":215},"Two Hundred Fifteen Only ","One Cubic Meter",0]
[{"$f":"'DSR-Sheet I  '!B72","v":"1-C"},{"$f":"'DSR-Sheet I  '!D72","v":0},"Excavation for foundation in hard murum and boulders including removing the excavated material up to a distance 50 metres, beyond the building area and stacking and spreading as directed, dewatering, preparing the bed for the foundation and necessary back filling, ramming, watering including shoring and strutting etc. complete. (Lift upto 1.5m.) By Mechanical Means",{"$f":"'DSR-Sheet I  '!O72","v":191},"One Hundred Ninety One Only ","One Cubic Meter",0]
[{"$f":"'DSR-Sheet I  '!B73","v":"1-C'"},{"$f":"'DSR-Sheet I  '!D73","v":0},"Excavation for foundation in Hard murum and boulders including removing the excavated material upto a distance of 50 metres, beyond the building area and stacking and spreading as directed, dewatering, preparing the bed for the foundation and necessary back filling, ramming, watering including shoring and strutting etc. complete. (Lift from 1.5 m to 3.0 m.) By Mechanical Means",{"$f":"'DSR-Sheet I  '!O73","v":236},"Two Hundred Thirty Six Only ","One Cubic Meter",0]
[{"$f":"'DSR-Sheet I  '!B74","v":"1-D"},{"$f":"'DSR-Sheet I  '!D74","v":0},"Excavation for foundation in Soft rock and old cement or lime masonry foundations including removing the excavated material upto a distance of 50 metres beyond the building area and stacking as directed, including dewatering, preparing the bed for the foundation and necessary back filling with available earth /murum, ramming, watering including shoring and strutting etc. complete (lift upto 1.5m) By Mechanical Means",{"$f":"'DSR-Sheet I  '!O74","v":329},"Three Hundred Twenty Nine Only ","One Cubic Meter",0]
[{"$f":"'DSR-Sheet I  '!B75","v":"1-E "},{"$f":"'DSR-Sheet I  '!D75","v":0},"Excavation for foundation in Hard rock by blasting including trimming and leveling the bed by chiseling where necessary and removing the excavated material and stacking it in measurable heaps within a distance of 50 metres from the building area including dewatering and back filling with available earth/murum, watering, ramming, etc. complete. (Lift upto 1.5m) By Mechanical Means",{"$f":"'DSR-Sheet I  '!O75","v":670},"Six Hundred Seventy Only ","One Cubic Meter",0]
[{"$f":"'DSR-Sheet I  '!B77","v":"1-G "},{"$f":"'DSR-Sheet I  '!D77","v":0},"Excavation for roadway in earth, soil of all sorts, sand, gravel or soft murum including dressing section to the required grade, camber and side slopes and conveying the excavated materials with all lifts upto a lead of 50m. and spreading for embankment or stacking as directed.",{"$f":"'DSR-Sheet I  '!O77","v":73},"Seventy Three Only ","One Cubic Meter",0]
[{"$f":"'DSR-Sheet I  '!B78","v":"1 - H "},{"$f":"'DSR-Sheet I  '!D78","v":0},"Excavation for roadway in hard murum and boulder including dressing section to the required grade, camber and side slopes and conveying the excavated materials with all lifts upto a lead of 50m.and spreading for embankment or stacking as directed.",{"$f":"'DSR-Sheet I  '!O78","v":84},"Eighty Four Only ","One Cubic Meter",0]
[{"$f":"'DSR-Sheet I  '!B79","v":"1-I"},{"$f":"'DSR-Sheet I  '!D79","v":0},"Providing and fixing 25mm diameter steel anchor dowel in hard rock including drilling hole of 32 mm diameter up to 0.75 mtrs depth, placing the dowel in position and effectively grouting the hole with CM 1:1 proportion etc. complete.",{"$f":"'DSR-Sheet I  '!O79","v":403},"Four Hundred Three Only ","One Number",0]
[{"$f":"'DSR-Sheet I  '!B80","v":2},{"$f":"'DSR-Sheet I  '!D80","v":100},"Providing and laying in situ / ready mix / ready mix M10 cement concrete of trap/ granite/ quartzite/ gneiss metal in foundation including necessary centering, formwork, bailing out water, compacting and curing etc. complete. (pan mixer) with natural /artifical sand)",{"$f":"'DSR-Sheet I  '!O80","v":5341.48},"Five Thousand Three Hundred Fourty One & Ps. Fourty Eight Only ","One Cubic Meter",534148]
[{"$f":"'DSR-Sheet I  '!B81","v":3},{"$f":"'DSR-Sheet I  '!D81","v":0},"Providing uncoursed rubble masonry of trap / granite / quartzite / gneiss stones in cement mortar 1:6 in foundation and plinth of inner walls / in plinth of external walls including bailing out water manually , striking joints on un exposed faces and watering etc.complete.",{"$f":"'DSR-Sheet I  '!O81","v":4972.13},"Four Thousand Nine Hundred Seventy Two & Ps. Thirteen Only ","One Cubic Meter",0]
[{"$f":"'DSR-Sheet I  '!B82","v":4},{"$f":"'DSR-Sheet I  '!D82","v":28},"Providing second class Burnt Brick masonry with conventional/ I.S. type bricks in cement mortar 1:6 in foundations and plinth of inner walls/ in plinth external walls including bailing out water manually , striking joints on unexposed faces, raking out joints on exposed faces and watering etc. Complete.",{"$f":"'DSR-Sheet I  '!O82","v":6389.8},"Six Thousand Three Hundred Eighty Nine & Ps. Eighty Only ","One Cubic Meter",178914]
[{"$f":"'DSR-Sheet I  '!B83","v":5},{"$f":"'DSR-Sheet I  '!D83","v":14.72},"Providing and fixing in position TMT - FE - 500 bar reinforcement of various diameters for R.C.C. pile caps, footings, foundations, slabs, beams columns, caOne Numberpies, staircase, newels, chajjas, lintels pardis, copings, fins, arches etc. as per detailed designs, drawings and schedules. including cutting, bending, hooking the bars, binding with wires or tack welding and supporting as required complete.",{"$f":"'DSR-Sheet I  '!O83","v":62581},"Sixty Two Thousand Five Hundred Eighty One Only ","One Metric Tonne",921192]
[{"$f":"'DSR-Sheet I  '!B84","v":6},{"$f":"'DSR-Sheet I  '!D84","v":19},"Providing and laying in situ /Ready Mix cement concrete M-30 of trap / granite /quartzite/ gneiss metal for R.C.C. work in foundations like raft, strip foundations, grillage and footings of R.C.C. columns and steel stanchions etc. including bailing out water, Steel centering formwork, laying/pumping cover blocks, compaction and curing roughening the surface if special finish is to be provided (Excluding reinforcement and structural steel) etc. complete. With fine aggregate (Natural Sand / Crushed sand VSI Grade finely washed etc)",{"$f":"'DSR-Sheet I  '!O84","v":6220.31},"Six Thousand Two Hundred Twenty & Ps. Thirty One Only ","One Cubic Meter",118186]
[{"$f":"'DSR-Sheet I  '!B85","v":7},{"$f":"'DSR-Sheet I  '!D85","v":33},"Providing and laying Cast in situ/Ready Mix cement concrete M-30 of trap / granite /quartzite/ gneiss metal for R.C.C. columns as per detailed designs and drawing or as directed including steel centering, formwork, cover blocks, laying/pumping, compaction finishing the formed surfaces with cement mortar 1:3 of sufficient minimum thickness to give a smooth and even surface or roughening if special finish is to be provided and curing etc. complete,(Excluding reinforcement and structural steel). With fine aggregate (Natural Sand / Crushed sand VSI Grade finely washed etc)",{"$f":"'DSR-Sheet I  '!O85","v":11490.91},"Eleven Thousand Four Hundred Ninety & Ps. Ninety One Only ","One Cubic Meter",379200]
[{"$f":"'DSR-Sheet I  '!B86","v":8},{"$f":"'DSR-Sheet I  '!D86","v":59},"Providing and laying Cast in situ/Ready Mix cement concrete M-30 of trap / granite /quartzite/ gneiss metal for R.C.C. beams and lintels as per detailed designs and drawings or as directed including steel centering, formwork, cover blocks, laying/pumping, compaction and roughening the surface if special finish is to be provided and curing etc. complete. (Excluding reinforcement and structural steel) etc. complete. With fine aggregate (Natural Sand / Crushed sand VSI Grade finely washed etc)",{"$f":"'DSR-Sheet I  '!O86","v":10214.11},"Ten Thousand Two Hundred Fouteen & Ps. Eleven Only ","One Cubic Meter",602632]
[{"$f":"'DSR-Sheet I  '!B87","v":9},{"$f":"'DSR-Sheet I  '!D87","v":13},"Providing and laying Cast in situ/Ready Mix cement concrete M-30 of trap/ granite / quartzite/ gneiss metal for R.C.C. slabs and landings as per detailed designs and drawings including steel centering, formwork, cover blocks, laying/pumping, compaction finishing the formed surfaces with cement mortar 1:3 of sufficient minimum thickness to give a smooth and even surface or roughening if special finish is to be provided and curing etc. complete. (Excluding reinforcement and structural steel). With fine aggregate (Natural Sand / Crushed sand VSI Grade finely washed etc)",{"$f":"'DSR-Sheet I  '!O87","v":12238.56},"Twelve Thousand Two Hundred Thirty Eight & Ps. Fifty Six Only ","One Cubic Meter",159101]
[{"$f":"'DSR-Sheet I  '!B88","v":10},{"$f":"'DSR-Sheet I  '!D88","v":4},"Providing and laying Cast in situ/Ready Mix cement concrete M-30 of trap/ granite/ quartzite/ gneiss metal for R.C.C. chajja as per detailed design and drawings including steel centering, formwork, cover blocks compacting , curing , finishing and roughening the surface if special finish is to be provided and curing complete. (Excluding reinforcement and structural steel). With fine aggregate (Natural Sand / Crushed sand VSI Grade finely washed etc)",{"$f":"'DSR-Sheet I  '!O88","v":11442.46},"Eleven Thousand Four Hundred Fourty Two & Ps. Fourty Six Only ","One Cubic Meter",45770]
[{"$f":"'DSR-Sheet I  '!B89","v":11},{"$f":"'DSR-Sheet I  '!D89","v":144},"Providing second class Burnt Brick masonry with conventional/ I.S. type bricks in cement mortar 1:6 in superstructure including striking joints, raking out joints, watering and scaffolding etc. Complete",{"$f":"'DSR-Sheet I  '!O89","v":6389.8},"Six Thousand Three Hundred Eighty Nine & Ps. Eighty Only ","One Cubic Meter",920131]
[{"$f":"'DSR-Sheet I  '!B90","v":12},{"$f":"'DSR-Sheet I  '!D90","v":0},"Providing and laying Cast in situ/Ready Mix cement concrete M-15 of trap/ granite/quartzite/gneiss metal for coping to plinth or parapet, moulded or chamfered as per drawing or as directed including steel centering, plywood/ steel formwork compacting, roughening them if special finish is to be provided, finishing uneven and honeycombed surface and curing etc. complete. The Cement Mortar 1:3 plaster is considered for rendering uneven and honeycombed surface only. Newly laid concrete shall be covered by gunny bag, plastic, tarpaulin etc. (Wooden centering will One Numbert be allowed.) With fine aggregate (Natural Sand / Crushed sand VSI Grade finely washed etc)",{"$f":"'DSR-Sheet I  '!O90","v":5845.61},"Five Thousand Eight Hundred Fourty Five & Ps. Sixty One Only ","One Cubic Meter",0]
[{"$f":"'DSR-Sheet I  '!B91","v":"13A"},{"$f":"'DSR-Sheet I  '!D91","v":902},"Providing internal cement plaster 20mm thick in two coats in cement mortar 1:4 with neeru finish, to concrete, brick surface, in all positions including scaffolding and curing etc.complete.",{"$f":"'DSR-Sheet I  '!O91","v":411.91},"Four Hundred Eleven & Ps. Ninety One Only ","One Square Meter",371543]
[{"$f":"'DSR-Sheet I  '!B92","v":"13B"},{"$f":"'DSR-Sheet I  '!D92","v":60},"Providing internal cement plaster 20mm thick in two coats in cement mortar 1:4 with cement slurry finish, to concrete, brick surface, in all positions including scaffolding and curing etc.complete.",{"$f":"'DSR-Sheet I  '!O92","v":411.91},"Four Hundred Eleven & Ps. Ninety One Only ","One Square Meter",24715]
[{"$f":"'DSR-Sheet I  '!B93","v":"13C"},{"$f":"'DSR-Sheet I  '!D93","v":1080},"Providing internal cement plaster 20mm thick in two coats in cement mortar 1:4 with cement slurry finish, to concrete, brick surface, in all positions including scaffolding and curing etc.complete.",{"$f":"'DSR-Sheet I  '!O93","v":417.91},"Four Hundred Seventeen & Ps. Ninety One Only ","One Square Meter",451343]
[{"$f":"'DSR-Sheet I  '!B94","v":"13D"},{"$f":"'DSR-Sheet I  '!D94","v":0},"Providing internal cement plaster 20mm thick in two coats in cement mortar 1:4 with cement slurry finish, to concrete, brick surface, in all positions including scaffolding and curing etc.complete.",{"$f":"'DSR-Sheet I  '!O94","v":474.91},"Four Hundred Seventy Four & Ps. Ninety One Only ","One Square Meter",0]
[{"$f":"'DSR-Sheet I  '!B95","v":"13E"},{"$f":"'DSR-Sheet I  '!D95","v":0},"Providing and applying gypsum plaster (with Gypsum material of Gypsum India /Mega Sign or equivalent make) with finishing with gypsum material in 10 to 13 millimeter thickness to newly brick surface (Excluding rough cast plaster) in all position including preparing and Finishing the surface scaffolding etc. complete.",{"$f":"'DSR-Sheet I  '!O95","v":536},"Five Hundred Thirty Six Only ","One Square Meter",0]
[{"$f":"'DSR-Sheet I  '!B96","v":14},{"$f":"'DSR-Sheet I  '!D96","v":902},"Providing and applying white-wash in three coats on old / new plastered or masonry surfaces and asbestos cement sheets including scaffolding and preparing the surface by brushing and brooming down etc. complete.",{"$f":"'DSR-Sheet I  '!O96","v":12.6},"Twelve & Ps. Sixty Only ","One Square Meter",11365]
[{"$f":"'DSR-Sheet I  '!B97","v":15},{"$f":"'DSR-Sheet I  '!D97","v":1080},"Providing and applying three coats of exterior acraylic emulsion paint confirming to corresponding I.S. of approved manufacture and of approved colour to the plastered surfaces including cleaning, preparing the plaster surface, applying primer coat, scaffolding if necessary , and watering the surface for two days etc complete.",{"$f":"'DSR-Sheet I  '!O97","v":212},"Two Hundred Twelve Only ","One Square Meter",228960]
[{"$f":"'DSR-Sheet I  '!B98","v":16},{"$f":"'DSR-Sheet I  '!D98","v":35},"Providing and applying three coats (exterior quality) of flat oil paint of approved colour and shade to the plastered surface in buildings and workshops including scaffolding if necessary, cleaning the surface and preparing surface etc. complete. (including primer coat)",{"$f":"'DSR-Sheet I  '!O98","v":73},"Seventy Three Only ","One Square Meter",2555]
[{"$f":"'DSR-Sheet I  '!B99","v":17},{"$f":"'DSR-Sheet I  '!D99","v":20},"Providing sills of polished Kota stone 25 mm to 30mm thick, on a bed of 1:4 cement mortar including cement float, filling joints with slurry, curing polishing and cleaning etc. complete.",{"$f":"'DSR-Sheet I  '!O99","v":1080},"One Thousand Eighty Only ","One Square Meter",21600]
[{"$f":"'DSR-Sheet I  '!B100","v":18},{"$f":"'DSR-Sheet I  '!D100","v":51},"Providing and fixing in position aluminium openable ventilators as per detailed drawing and as directed by Engineer in charge with all necessary alluminium sections with powder coating including necessary fixtures and fastening with 5 mm thick float glass etc. complete. ( Note While arriving at the rate of item of item weight at 6.90 kg/Sqm is considered for only alummium ventilators ) and with G.I. wiremesh of 18 Gauge, 6 mm square mesh fixed to outside the frame of ventilator and grill of 12 mm sq. bars in vertical directions at 10 cms c/c fixed to outside surface of the frame  and approved quality and type fixtures, fittings including red oxide & oilpainting three coats.As per detailed drawing and as directed.",{"$f":"'DSR-Sheet I  '!O100","v":6038.04},"Six Thousand Thirty Eight & Ps. Four Only ","One Square Meter",307940]
[{"$f":"'DSR-Sheet I  '!B101","v":"19A"},{"$f":"'DSR-Sheet I  '!D101","v":0},"Providing & fixing steel rolling shutter fabricated from 20 gauge steel laths with side guides, bottom rails, brackets of 10 G.M.S. sheet door suspension shaft of 50 mm dia, rolling springs of 45 cm length, locking arrangements with not less than 6mm thick strip and central lock as per specifications, housing box prepared out of 20 G sheets at the top, handles prepared out of 6mm thick flats 4 nos, holdfast patti 6 nos,for each side guide with 12 concrete nails / fasterner, including applying three coats of oilpaint of approved colour & shade etc. complete ",{"$f":"'DSR-Sheet I  '!O101","v":4294.1000000000004},"Four Thousand Two Hundred Ninety Four & Ps. Ten Only ","One Square Meter",0]
[{"$f":"'DSR-Sheet I  '!B102","v":"19B"},{"$f":"'DSR-Sheet I  '!D102","v":0},"Providing & fixing steel rolling Grill shutter fabricated from 20 gauge steel laths with side guides, bottom rails, brackets of 10 G.M.S. sheet door suspension shaft, rolling springs, locking arrangements with not less than 6mm thick strip and central lock as per specifications, housing box prepared out of 20 G sheets at the top, handles prepared out of 6mm thick flats 4 nos, holdfast patti 6 nos,for each side guide with 12 concrete nails / fasterner, including applying three coats of oilpaint of approved colour & shade etc. complete",{"$f":"'DSR-Sheet I  '!O102","v":3146.67},"Three Thousand One Hundred Fourty Six & Ps. Sixty Seven Only ","One Square Meter",0]
[{"$f":"'DSR-Sheet I  '!B103","v":"19C"},{"$f":"'DSR-Sheet I  '!D103","v":0},"Providing & fixing mechanical gear steel rolling shutter fabricated from 20 gauge steel laths with side guides, bottom rails, brackets of 10 G.M.S. sheet door suspension shaft of 50 mm dia, rolling springs of 45 cm length, locking arrangements with not less than 6mm thick strip and central lock as per specifications, housing box prepared out of 20 G sheets at the top, handles prepared out of 6mm thick flats 4 nos, holdfast patti 6 nos,for each side guide with 12 concrete nails / fasterner, including applying three coats of oilpaint of approved colour & shade etc. complete ",{"$f":"'DSR-Sheet I  '!O103","v":4424.55},"Four Thousand Four Hundred Twenty Four & Ps. Fifty Five Only ","One Square Meter",{"$f":"ROUND(B52*D52,0)","v":0}]
[{"$f":"'DSR-Sheet I  '!B104","v":20},{"$f":"'DSR-Sheet I  '!D104","v":106},"Filling in plinth and floors with approved excavated material in 15cm. to 20cm. layers including watering and compacting etc. complete.",{"$f":"'DSR-Sheet I  '!O104","v":96},"Ninety Six Only ","One Cubic Meter ",10176]
[{"$f":"'DSR-Sheet I  '!B105","v":"21A"},{"$f":"'DSR-Sheet I  '!D105","v":859.42500000000018},"Providing Hard Murum cohesive One Numbern-swelling materials in plinth in layers of 20 cms etc. complete as directed. [ Only compacted thickness is payable ]",{"$f":"'DSR-Sheet I  '!O105","v":733.21},"Seven Hundred Thirty Three & Ps. Twenty One Only ","One Cubic Meter ",630139]
[{"$f":"'DSR-Sheet I  '!B106","v":"21B"},{"$f":"'DSR-Sheet I  '!D106","v":3333},"Compacting the hard murum including laying in layers on each side with vibratory roller including artificial watering etc.\ncomplete.",{"$f":"'DSR-Sheet I  '!O106","v":16},"Sixteen Only ","One Square Meter",53328]
[{"$f":"'DSR-Sheet I  '!B107","v":"22A"},{"$f":"'DSR-Sheet I  '!D107","v":222.2},"Providing & laying stone metal layer of 20 cm thickness with 60 mm over size metal 65% and 40 mm size metal 35% with sand or stone chips spreading & leveling handpacking complete.",{"$f":"'DSR-Sheet I  '!O107","v":1455.38},"One Thousand Four Hundred Fifty Five & Ps. Thirty Eight Only ","One Cubic Meter",323385]
[{"$f":"'DSR-Sheet I  '!B108","v":"22B"},{"$f":"'DSR-Sheet I  '!D108","v":130.5},"Compacting the sub grade / gravel / size metal (100 mm loose) layers for all widths with Power roller having weight 8 to 10 MT. Including necessary, labour, materials and artificial watering complete.",{"$f":"'DSR-Sheet I  '!O108","v":25},"Twenty Five Only ","One Square Meter ",3263]
[{"$f":"'DSR-Sheet I  '!B109","v":"23A"},{"$f":"'DSR-Sheet I  '!D109","v":1111},"Providing and laying in situ cement concrete M20 with tremix treatment for 150mm thickness for flooring with groove cutting of 4mm wide and 20mm deep with necessary refilling with bitumen including hardner for flooring ( Fosrok  Nitofloor hardtop non metallic floor harder  or similar ,) etc.complete.",{"$f":"'DSR-Sheet I  '!O109","v":904.85},"Nine Hundred Four & Ps. Eighty Five Only ","One Square Meter",1005288]
[{"$f":"'DSR-Sheet I  '!B110","v":"23B"},{"$f":"'DSR-Sheet I  '!D110","v":0},"Providing and laying in situ / ready mix / ready mix M15 cement concrete of trap/ granite/ quartzite/ gneiss metal in foundation including necessary centering, formwork, bailing out water, compacting and curing etc. complete. (pan mixer) with natural /artifical sand)",{"$f":"'DSR-Sheet I  '!O110","v":4979.97},"Four Thousand Nine Hundred Seventy Nine & Ps. Ninety Seven Only ","One Cubic Meter",0]
[{"$f":"'DSR-Sheet I  '!B111","v":"23C"},{"$f":"'DSR-Sheet I  '!D111","v":0},"Providing groove cutting  50 mm x 6 mm in cement concrete flooring  etc. complete as directed.",{"$f":"'DSR-Sheet I  '!O111","v":0},"Only ","One Running Meter",0]
[{"$f":"'DSR-Sheet I  '!B112","v":24},{"$f":"'DSR-Sheet I  '!D112","v":0},"Providing & fixing M.S. angle 50 x 50 x 6 mm with holdfasts at doorsills including fixing in bed concrete and then applying three coats of oilpaint etc. complete ",{"$f":"'DSR-Sheet I  '!O112","v":0},"Only ","One Running Meter",0]
[{"$f":"'DSR-Sheet I  '!B113","v":25},{"$f":"'DSR-Sheet I  '!D113","v":0},"Providing and fabricating structural steel work in rolled sections like joists, channels, angles, tees etc. as per detailed design and drawings or as directed including cutting, fabricating, hoisting, erecting, fixing in position making riveted / bolted /welded connections without connecting plates, braces etc. and including one coat of anticorrosive paint and over it two coats of oil painting of approved quality and shade etc. complete.",{"$f":"'DSR-Sheet I  '!O113","v":73844},"Seventy Three Thousand Eight Hundred Fourty Four Only ","  One M.T.",0]
[{"$f":"'DSR-Sheet I  '!B114","v":26},{"$f":"'DSR-Sheet I  '!D114","v":0},"Providing & laying cement concrete pipe of 450 mm dia Np2 class in proper line level & slope including excavation providing & fixing collars in cement morter 1:1 complete.",{"$f":"'DSR-Sheet I  '!O114","v":946},"Nine Hundred Fourty Six Only ","One Running Meter",0]
[27,{"$f":"'DSR-Sheet I  '!D115","v":0},"Providing & supplying single ladder of 45cm width made out of high tension aluminum alloy light in weight, side channel 2 5/8 x 1 ¼ dia approximately & of 1” dia nonslip corrugated tubings at 10” c/c with solid rubber shoes & caps etc complete",{"$f":"'DSR-Sheet I  '!O115","v":1000},"One Thousand Only ","One Running Meter",0]
[{"$f":"'DSR-Sheet I  '!B117","v":28},{"$f":"'DSR-Sheet I  '!D117","v":15},"Providing & fixing lightening conductor system comprising of erecting Air termination consisting of tubular copper rod of 25 mm dia 1.2 mm thick with multiple points head 1.2 metre long [heavy duty] welded or clamped to G.I. pipe pole “ B” grade 50 mm dia of required length with M.S. round base plate 25 cm dia 10 cm thick at bottom embedded in cement concrete M-10 foundation of size 45 cm dia x 45 cm height and providing earthing with copper earth plate of size 60 x 60 x 0.3cms with cadmium plated nut bolts to fix earthing strip burried in specially prepared earth pit 1.50 m below ground level with 40 kg charcoal and salt with alternate layers of charcoal and salt and G.I. pipe 40 mm dia 2.00 m length burried in earth upto earthing plate remaining portion above ground level for watering and refilling including copper strip of 25 mm x 3 mm shall be rivated and soldered to the lower end of the conductor and carried along the strench up to this spot where the copper plate shall be burried. The other end of the strip shall be contected to the copper earth plate by rivating and soldering etc. complete",{"$f":"'DSR-Sheet I  '!O117","v":2098.13},"Two Thousand Ninety Eight & Ps. Thirteen Only ","One Running Meter ",31472]
[{"$f":"'DSR-Sheet I  '!B118","v":29},{"$f":"'DSR-Sheet I  '!D118","v":0},"Providing and fixing 90 cm x 60 cm Marble plate engraving 10 cm. height letter, figures including painting the lefters/figures with approved colour and shade complete",{"$f":"'DSR-Sheet I  '!O118","v":12424},"Twelve Thousand Four Hundred Twenty Four Only ","One Square Meter",0]
[{"$f":"'DSR-Sheet I  '!B119","v":"30A"},{"$f":"'DSR-Sheet I  '!D119","v":0},"Conveying the materials obtained from excavation including all lifts, laying in layers, breaking clods, dressing to the required lines, curves, grades and section for a lead over 50 to 300m from the site of excavation to the site of deposition as directed by Engineer in charge.",{"$f":"'DSR-Sheet I  '!O119","v":129},"One Hundred Twenty Nine Only ","One Cubic Meter",0]
[{"$f":"'DSR-Sheet I  '!B120","v":"30B"},{"$f":"'DSR-Sheet I  '!D120","v":267},"Conveying the materials obtained from excavation including laying in layers, breaking clods, dressing to the required lines, curves, grades and section for all leads & lifts from the site of excavation to the site of deposition  away from building as directed engineer in charge.",{"$f":"'DSR-Sheet I  '!O120","v":186.55},"One Hundred Eighty Six & Ps. Fifty Five Only ","One Cubic Meter",49809]
[{"$f":"'DSR-Sheet I  '!B121","v":31},{"$f":"'DSR-Sheet I  '!D121","v":0},"Providing expansion joints in R.C.C. framed structure (exterior Columns) with plain premoulded filler 25 mm thick and 3 mm thick alluminium plate, hold fast, fixing T.W. battens on internal face, finishing etc. complete as directed.",{"$f":"'DSR-Sheet I  '!O121","v":3979},"Three Thousand Nine Hundred Seventy Nine Only ","One Square Meter",0]
[{"$f":"'DSR-Sheet I  '!B122","v":32},{"$f":"'DSR-Sheet I  '!D122","v":0},"Providing soling using 80 mm size trap metal in 15 cm. Layer including filling voids with Crushed sand/grit, ramming, watering etc. complete.",{"$f":"'DSR-Sheet I  '!O122","v":1640.48},"One Thousand Six Hundred Fourty & Ps. Fourty Eight Only ","One Cubic  Meter",0]
[{"$f":"'DSR-Sheet I  '!B123","v":33},{"$f":"'DSR-Sheet I  '!D123","v":1111}," Providing pre-constructional Anti-termite treatment as per I.S. 6313 (Part-II) - 1973 by treating the  top surface of plinth filling at the rate of  5 litres of emulsion concentrates of 0.5 percent of Hephoclore per square meter of surface ",{"$f":"'DSR-Sheet I  '!O123","v":83},"Eighty Three Only ","One Square Meter",{"$f":"ROUND(B71*D71,0)","v":92213}]
[null,null,null,null,null,"Total ",{"$f":"SUM(G15:G71)","v":7527737}]
[null,"In words",{"$f":"NumberToWord(G72)","v":{"$error":"#NAME?"}}]
[]
[null,"Sub Work II  -  Office Building"]
[]
[1,{"$f":"'Sheet  -Office'!C73","v":0},"Excavation for foundation in earth, soil of all types, sand, gravel and soft murum, including removing the excavated material up to a distance of 50 m. beyond the building area and stacking and spreading as directed, dewatering, preparing the bed for the foundation and necessary back filling, ramming, watering including shoring and strutting etc. complete. (Lift upto 1.5 m.) By Mechanical Means",{"$f":"'Sheet  -Office'!O73","v":157},{"$f":"NumberToWord(D77)","v":"One Hundred Fifty Seven Only "},"One Cubic Meter",{"$f":"ROUND(B77*D77,0)","v":0}]
[]
[2,{"$f":"'Sheet  -Office'!C75","v":0},"Excavation for foundation in earth, soils of all types, sand,gravel and soft murum, including removing the excavated material upto a distance of 50 metres beyond the building area and stacking and spreading as directed, dewatering, preparing the bed for the foundation and necessary back filling, ramming, watering including shoring and strutting etc. complete. (Lift from 1.5m to 3.0m) By Mechanical Means",{"$f":"'Sheet  -Office'!O75","v":196},"One Hundred Ninety Six Only ","One Cubic Meter",{"$f":"ROUND(B79*D79,0)","v":0}]
[]
[3,{"$f":"'Sheet  -Office'!C77","v":0},"Excavation for foundation in hard murum including removing the excavated material upto distance of 50 metres beyond the building area and stacking and spreading as directed dewatering, preparing the bed for the foundation and necessary back filling, ramming, watering including shoring and strutting etc. complete. (Lift upto 1.50 m) By Mechanical Means",{"$f":"'Sheet  -Office'!O77","v":172},"One Hundred Seventy Two Only ","One Cubic Meter",{"$f":"ROUND(B81*D81,0)","v":0}]
[]
[4,{"$f":"'Sheet  -Office'!C79","v":0},"Excavation for foundation in hard murum and boulders including removing the excavated material up to a distance 50 metres, beyond the building area and stacking and spreading as directed, dewatering, preparing the bed for the foundation and necessary back filling, ramming, watering including shoring and strutting etc. complete. (Lift upto 1.5m.) By Mechanical Means",{"$f":"'Sheet  -Office'!O79","v":191},"One Hundred Ninety One Only ","One Cubic Meter",{"$f":"ROUND(B83*D83,0)","v":0}]
[]
[5,{"$f":"'Sheet  -Office'!C81","v":0},"Excavation for foundation in Soft rock and old cement or lime masonry foundations including removing the excavated material upto a distance of 50 metres beyond the building area and stacking as directed, including dewatering, preparing the bed for the foundation and necessary back filling with available earth /murum, ramming, watering including shoring and strutting etc. complete (lift upto 3.0m) By Mechanical Means",{"$f":"'Sheet  -Office'!O81","v":329},"Three Hundred Twenty Nine Only ","One Cubic Meter",{"$f":"ROUND(B85*D85,0)","v":0}]
[]
[6,{"$f":"'Sheet  -Office'!C83","v":0},"Excavation for foundation in Hard rock by chiselling, wedging, line drilling, etc. including trimming and levelling the bed, removing the excavated material upto a distance of 50metres beyond the building area stacking as directed, dewatering and back filling with available earth /murum watering, ramming etc. complete. (all lifts). By Mechanical Means",{"$f":"'Sheet  -Office'!O83","v":1027},"One Thousand Twenty Seven Only ","One Cubic Meter",{"$f":"ROUND(B87*D87,0)","v":0}]
[]
[7,{"$f":"'Sheet  -Office'!C85","v":0},"Excavation for foundation in Hard rock by controlled blasting including trimming and leveling the bed by chiseling where necessary and removing the excavated material and stacking it in measurable heaps within a distance of 50 metres from the building area including dewatering and back filling with available earth/murum, watering, ramming, etc. complete. (all lifts) By Mechanical Means",{"$f":"'Sheet  -Office'!O85","v":893},"Eight Hundred Ninety Three Only ","One Cubic Meter",{"$f":"ROUND(B89*D89,0)","v":0}]
[]
[8,{"$f":"'Sheet  -Office'!C87","v":0},"Excavation for roadway in earth, soil of all sorts, sand, gravel or soft murum including dressing section to the required grade, camber and side slopes and conveying the excavated materials with all lifts upto a lead of 50m. and spreading for embankment or stacking as directed.",{"$f":"'Sheet  -Office'!O87","v":73},"Seventy Three Only ","One Cubic Meter",{"$f":"ROUND(B91*D91,0)","v":0}]
[]
[9,{"$f":"'Sheet  -Office'!C89","v":0},"Providing and laying in situ / ready mix / ready mix M10 cement concrete of trap/ granite/ quartzite/ gneiss metal in foundation including necessary centering, formwork, bailing out water, compacting and curing etc. complete. (pan mixer) with natural /artifical sand)",{"$f":"'Sheet  -Office'!O89","v":5579.78},"Five Thousand Five Hundred Seventy Nine & Ps. Seventy Eight Only ","One Cubic Meter",{"$f":"ROUND(B93*D93,0)","v":0}]
[]
[10,{"$f":"'Sheet  -Office'!C91","v":0},"Providing uncoursed rubble masonry of trap / granite / quartzite / gneiss stones in cement mortar 1:6 in foundation and plinth of inner walls / in plinth of external walls including bailing out water manually , striking joints on un exposed faces and watering etc.complete.",{"$f":"'Sheet  -Office'!O91","v":5012.05},"Five Thousand Twelve & Ps. Five Only ","One Cubic Meter",{"$f":"ROUND(B95*D95,0)","v":0}]
[]
[11,{"$f":"'Sheet  -Office'!C93","v":0},"Providing second class Burnt Brick masonry with conventional/ I.S. type bricks in cement mortar 1:6 in foundations and plinth of inner walls/ in plinth external walls including bailing out water manually , striking joints on unexposed faces, raking out joints on exposed faces and watering etc. Complete.",{"$f":"'Sheet  -Office'!O93","v":6369.07},"Six Thousand Three Hundred Sixty Nine & Ps. Seven Only ","One Cubic Meter",{"$f":"ROUND(B97*D97,0)","v":0}]
[]
[12,{"$f":"'Sheet  -Office'!C95","v":0},"Providing second class Burnt Brick masonry with conventional/ I.S. type bricks in cement mortar 1:6 in superstructure including striking joints, raking out joints, watering and scaffolding etc. Complete",{"$f":"'Sheet  -Office'!O95","v":5175.22},"Five Thousand One Hundred Seventy Five & Ps. Twenty Two Only ","One Cubic Meter",{"$f":"ROUND(B99*D99,0)","v":0}]
[]
[13,{"$f":"'Sheet  -Office'!C97","v":0},"Providing and laying in situ /Ready Mix cement concrete M-20 of trap / granite /quartzite/ gneiss metal for R.C.C. work in foundations like raft, strip foundations, grillage and footings of R.C.C. columns and steel stanchions etc. including bailing out water, Steel centering formwork, laying/pumping cover blocks, compaction and curing roughening the surface if special finish is to be provided (Excluding reinforcement and structural steel) etc. complete. With fine aggregate (Natural Sand / Crushed sand VSI Grade finely washed etc)",{"$f":"'Sheet  -Office'!O97","v":6154.66},"Six Thousand One Hundred Fifty Four & Ps. Sixty Six Only ","One Cubic Meter",{"$f":"ROUND(B101*D101,0)","v":0}]
[]
[14,{"$f":"'Sheet  -Office'!C99","v":0},"Providing and laying Cast in situ/Ready Mix cement concrete M-20 of trap / granite /quartzite/ gneiss metal for R.C.C. columns as per detailed designs and drawing or as directed including steel centering, formwork, cover blocks, laying/pumping, compaction finishing the formed surfaces with cement mortar 1:3 of sufficient minimum thickness to give a smooth and even surface or roughening if special finish is to be provided and curing etc. complete,(Excluding reinforcement and structural steel). With fine aggregate (Natural Sand / Crushed sand VSI Grade finely washed etc)",{"$f":"'Sheet  -Office'!O99","v":11425.26},"Eleven Thousand Four Hundred Twenty Five & Ps. Twenty Six Only ","One Cubic Meter",{"$f":"ROUND(B103*D103,0)","v":0}]
[]
[15,{"$f":"'Sheet  -Office'!C101","v":0},"Providing and laying Cast in situ/Ready Mix cement concrete M-20 of trap / granite /quartzite/ gneiss metal for R.C.C. beams and lintels as per detailed designs and drawings or as directed including steel centering, formwork, cover blocks, laying/pumping, compaction and roughening the surface if special finish is to be provided and curing etc. complete. (Excluding reinforcement and structural steel) etc. complete. With fine aggregate (Natural Sand / Crushed sand VSI Grade finely washed etc)",{"$f":"'Sheet  -Office'!O101","v":10148.459999999999},"Ten Thousand One Hundred Fourty Eight & Ps. Fourty Six Only ","One Cubic Meter",{"$f":"ROUND(B105*D105,0)","v":0}]
[]
[16,{"$f":"'Sheet  -Office'!C103","v":0},"Providing and laying Cast in situ/Ready Mix cement concrete M-20 of trap/ granite/ quartzite/ gneiss metal for R.C.C. chajja as per detailed design and drawings including steel centering, formwork, cover blocks compacting , curing , finishing and roughening the surface if special finish is to be provided and curing complete. (Excluding reinforcement and structural steel). With fine aggregate (Natural Sand / Crushed sand VSI Grade finely washed etc)",{"$f":"'Sheet  -Office'!O103","v":11374.91},"Eleven Thousand Three Hundred Seventy Four & Ps. Ninety One Only ","One Cubic Meter",{"$f":"ROUND(B107*D107,0)","v":0}]
[]
[17,{"$f":"'Sheet  -Office'!C105","v":0},"Providing and laying Cast in situ/Ready Mix cement concrete M-20 of trap/ granite / quartzite/ gneiss metal for R.C.C. slabs and landings as per detailed designs and drawings including steel centering, formwork, cover blocks, laying/pumping, compaction finishing the formed surfaces with cement mortar 1:3 of sufficient minimum thickness to give a smooth and even surface or roughening if special finish is to be provided and curing etc. complete. (Excluding reinforcement and structural steel). With fine aggregate (Natural Sand / Crushed sand VSI Grade finely washed etc)",{"$f":"'Sheet  -Office'!O105","v":12171.01},"Twelve Thousand One Hundred Seventy One & Ps. One Only ","One Cubic Meter",{"$f":"ROUND(B109*D109,0)","v":0}]
[]
[18,{"$f":"'Sheet  -Office'!C107","v":0},"Providing and fixing in position TMT - FE - 500 bar reinforcement of various diameters for R.C.C. pile caps, footings, foundations, slabs, beams columns, caOne Numberpies, staircase, newels, chajjas, lintels pardis, copings, fins, arches etc. as per detailed designs, drawings and schedules. including cutting, bending, hooking the bars, binding with wires or tack welding and supporting as required complete.",{"$f":"'Sheet  -Office'!O107","v":62581},"Sixty Two Thousand Five Hundred Eighty One Only ","One Metric Ton",{"$f":"ROUND(B111*D111,0)","v":0}]
[]
[19,{"$f":"'Sheet  -Office'!C109","v":0}," Providing II class B.B. masonary with conventional / I. s. type bricks in cement morter ( 1: 4 ) in half brick thick wall including longitudinal reinforcement of 2 bars of 6mm dia / 2 hoop iron strips 25mm x 1.6 mm at every III course properly bent & bounded at ends scaffolding, racking out joints and watering complete. [Bd.G.7 / P 316 ]",{"$f":"'Sheet  -Office'!O109","v":852.32},"Eight Hundred Fifty Two & Ps. Thirty Two Only ","One Cubic Meter",{"$f":"ROUND(B113*D113,0)","v":0}]
[]
[20,{"$f":"'Sheet  -Office'!C111","v":0},"Providing cement plaster 12 mm thick in C. M. 1 : 4 in single coat with neeru finish with even & smooth finish to concrete or brick surface in all positions including scaffolding curing etc. complete as directed. [Bd. L. 2/368 + Bd. L. 10]",{"$f":"'Sheet  -Office'!O111","v":302.62},"Three Hundred Two & Ps. Sixty Two Only ","One Square Meter",{"$f":"ROUND(B115*D115,0)","v":0}]
[]
[21,{"$f":"'Sheet  -Office'!C113","v":0},"Providing sand faced plaster externally in cement mortar using approved screened sand, in all positions including base coat of 15mm thick in cement mortar 1:4 using waterproofing compound at 1kg per cement bag curing the same for not less than 2days and keeping the surface of the base coat rough to receive the sand faced treatment 6to8mm thick in cement mortar 1:4 finishing the surface by taking out grains and curing for fourteen days scaffolding etc.complete. (Bd.L.7/369)",{"$f":"'Sheet  -Office'!O113","v":718.39},"Seven Hundred Eighteen & Ps. Thirty Nine Only ","One Square Meter",{"$f":"ROUND(B117*D117,0)","v":0}]
[]
[22,{"$f":"'Sheet  -Office'!C115","v":0},"Providing rough cast cement plster externally in two coats to concrete, brick or stone masonry surfaces in all positions with base coat of 12 to 15 mm. thick in C.M. 1:4 and rough cast treatment 12 mm. thick in proportion 1:1.5:3 including scaffolding and fourteen days curing etc. complete. [ Spec. No.:  Bd. L. 8/Page No. 370 ]( It.No. 12 / Page No. 370)",{"$f":"'Sheet  -Office'!O115","v":570.39},"Five Hundred Seventy & Ps. Thirty Nine Only ","One Square Meter",{"$f":"ROUND(B119*D119,0)","v":0}]
[]
[23,{"$f":"'Sheet  -Office'!C117","v":0},"Providing cement plaster 20 mm thick in C.M. 1:4( PLINTH)  with 1.5mm thick cement   finish to concrete /brick surface in all positions including scaffolding curing etc. complete as directed.(Bd.L.4/368)",{"$f":"'Sheet  -Office'!O117","v":488.39},"Four Hundred Eighty Eight & Ps. Thirty Nine Only ","One Square Meter",{"$f":"ROUND(B121*D121,0)","v":0}]
[]
[24,{"$f":"'Sheet  -Office'!C119","v":0}," Providing & applying cement paint  in three coats on plastered or masonary surface of approved manufacture & of approved colour including primer coat scafdfolding & preparing the surface complete. [ Bd. O. 8/406]",{"$f":"'Sheet  -Office'!O119","v":86},"Eighty Six Only ","One Square Meter",{"$f":"ROUND(B123*D123,0)","v":0}]
[]
[25,{"$f":"'Sheet  -Office'!C121","v":0},"Providing & applying oilbound distemper in three coats on plastered or masonary surface of approved manufacturer & of approved colour including primer coat scafolding & preparing the surface watering for two days complete. [Bd. P. 5/413]",{"$f":"'Sheet  -Office'!O121","v":69.5},"Sixty Nine & Ps. Fifty Only ","One Square Meter",{"$f":"ROUND(B125*D125,0)","v":0}]
[]
[26,{"$f":"'Sheet  -Office'!C123","v":0},"Providing & applying whitewash three  coats on plastered or masonary surface including scafafolding & preparing the surface by brushing & brooming down complete. [Bd. P. 1/411]",{"$f":"'Sheet  -Office'!O123","v":12.6},"Twelve & Ps. Sixty Only ","One Square Meter",{"$f":"ROUND(B127*D127,0)","v":0}]
[]
[27,{"$f":"'Sheet  -Office'!C125","v":0}," Providing & fixing in position solid core flush door single leaf 35 mm thick decorative type of exterior grade as per detailed drawing including superior Indian teak wood door frame 60 x 100 mm with ventilator as directed all necessary beads, moldings and lippings wrought iron hold fasts, chromium plated fixtures & fastenings without brass mortice lock including three coats of oilpainting as directed by Engineer – in charge [Bd. T. 34 P 499]",{"$f":"'Sheet  -Office'!O125","v":6004.95},"Six Thousand Four & Ps. Ninety Five Only ","One Square Meter",{"$f":"ROUND(B129*D129,0)","v":0}]
[]
[28,{"$f":"'Sheet  -Office'!C127","v":0}," Providing & fixing Country teak wood single leaf, second class fully panelled door, without ventilator as per detailed drawing including Iron Oxidiesed fixtures and fastenings and finishing the wood work with one coat of primer etc. including door frame 60 x 100 mm complete. Panels 12mm tk. exterior grade prelaminated particle boarf [Spec. No. Bd. T. 8/ P 482] (Item No. 6 / Page No. 81)",{"$f":"'Sheet  -Office'!O127","v":7862.17},"Seven Thousand Eight Hundred Sixty Two & Ps. Seventeen Only ","One Cubic Meter",{"$f":"ROUND(B131*D131,0)","v":0}]
[]
[29,{"$f":"'Sheet  -Office'!C129","v":0},"  Providing & fixing Country teak wood Double leaf, second class fully panelled framed and braced door,  with ventilator without / with Ironbars as per detailed drawing including the door frame 60 x 100 mm, Ironfixtures and fastenings and finishing with primer coat etc.complee [Spec. No. Bd. T. 19/ P 493]",{"$f":"'Sheet  -Office'!O129","v":9445.9500000000007},"Nine Thousand Four Hundred Fourty Five & Ps. Ninety Five Only ","One Square Meter",{"$f":"ROUND(B133*D133,0)","v":0}]
[]
[30,{"$f":"'Sheet  -Office'!C131","v":0}," Providing & fixing in position solid core flush door single leaf 32 mm thick decorative type of exterior grade as per detailed drawing including superior Indian teak woo door frame 60 x 100 mm without Ventilator as directed all necessary beads, moldings and lippings wrought iron hold fasts, chromium plated fixtures & fastening without brass mortice lock including three coats of oilpainting as directed by Engineer – in charge [ Bd. T. 36 P 500]",{"$f":"'Sheet  -Office'!O131","v":6805.89},"Six Thousand Eight Hundred Five & Ps. Eighty Nine Only ","One Square Meter",{"$f":"ROUND(B135*D135,0)","v":0}]
[]
[31,{"$f":"'Sheet  -Office'!C133","v":0},"providing & fixing in position teak wood wall cupboard plain planked with three teakwood shelves 50cm wide & 25 mm thick including teakwood frame of  50 mm x 75mm and shutters of 25 mm thick teak wood planks with 12mm thick & 75 mm wide ladges with C. P. fixtures and fastenings hold fasts, with three coats of oilpainting complete as directed by Engineer – in charge",{"$f":"'Sheet  -Office'!O133","v":11792},"Eleven Thousand Seven Hundred Ninety Two Only ","One Square Meter",{"$f":"ROUND(B137*D137,0)","v":0}]
[]
[32,{"$f":"'Sheet  -Office'!C135","v":0},"Providing & fixing M. S. grillwork for windows & ventilators upto 20 kg/sqm as per drawing including fixtures necessary welding and painting one coat of anticorrosive paint & two coats of oilpainting complete as directed [Bd. U1 P 537] ",{"$f":"'Sheet  -Office'!O135","v":1528},"One Thousand Five Hundred Twenty Eight Only ","One Square Meter",{"$f":"ROUND(B139*D139,0)","v":0}]
[]
[33,{"$f":"'Sheet  -Office'!C137","v":0},"Providing Hard Murum cohesive non-swelling materials in plinth in layers of 20 cms etc. complete as directed. [ Only compacted thickness is payable ]",{"$f":"'Sheet  -Office'!O137","v":875.45},{"$f":"NumberToWord(D141)","v":"Eight Hundred Seventy Five & Ps. Fourty Five Only "},"One Cubic Meter",{"$f":"ROUND(B141*D141,0)","v":0}]
[]
[34,{"$f":"'Sheet  -Office'!C139","v":0}," Providing & fixing in position for flooring, of vetrified tiles of approved quality & make 600 x 600 mm size & tk. for flooring  width on 1 : 4 cement plaster including cement float filling cement joints with neat cement slurry, curing, rubbing polishing & cleaning complete.",{"$f":"'Sheet  -Office'!O139","v":1051.8800000000001},"One Thousand Fifty One & Ps. Eighty Eight Only ","One Square Meter",{"$f":"ROUND(B143*D143,0)","v":0}]
[]
[35,{"$f":"'Sheet  -Office'!C141","v":0},"Providing & fixing in position for dado & skirting of vetrified tiles of approved quality & make 600 x 600 mm size & tk. for Dado & Skirting  width on 1 : 4 cement plaster including cement float filling cement joints with neat cement slurry, curing, rubbing polishing & cleaning complete.",{"$f":"'Sheet  -Office'!O141","v":1111.8800000000001},"One Thousand One Hundred Eleven & Ps. Eighty Eight Only ","One Square Meter",0]
[]
[36,{"$f":"'Sheet  -Office'!C143","v":0}," Providing & fixing in position sills of polished shahabad stone slabs 25mm to 30mm tk and required width on 1 : 4 cement float filling cement joints with neat cement slurry, curing, rubbing polishing & cleaning complete. [ Bd. M. 29/331]",{"$f":"'Sheet  -Office'!O143","v":1104.8800000000001},"One Thousand One Hundred Four & Ps. Eighty Eight Only ","One Square Meter",{"$f":"ROUND(B147*D147,0)","v":0}]
[]
[37,{"$f":"'Sheet  -Office'!C145","v":0},"Providing and laying matt finish ceramic tiles of having size 30cmx30cm confirming to I.S. 15622/2006 (groupDII-A) and 7to8mm thick for flooring in required position laid on a bed of 1:4 cement mortar including cement float, filling joint with white /colour cement slurry cleaning curing etc. complete.",{"$f":"'Sheet  -Office'!O145","v":1074.8800000000001},"One Thousand Seventy Four & Ps. Eighty Eight Only ","One Square Meter",{"$f":"ROUND(B149*D149,0)","v":0}]
[]
[38,{"$f":"'Sheet  -Office'!C147","v":0},"Providing and laying ceramic tiles of having size 30cm.x30cm. and confirming to corresponding I.S. for dado and skirting in required position with ready made adhesive mortar of approved quality on plaster of 1:2 cement mortar including joint filling with white/ colour cement slurry cleaning curing etc. complete.",{"$f":"'Sheet  -Office'!O147","v":1132.8800000000001},"One Thousand One Hundred Thirty Two & Ps. Eighty Eight Only ","One Square Meter",{"$f":"ROUND(B151*D151,0)","v":0}]
[]
[39,{"$f":"'Sheet  -Office'!C149","v":0}," Providing & fixing Indian type white glazed Orissa type earthenware 580 x 440 mm water closet pan including S trap white earthenware foot rest cast iron soil & vent pipe upto the outside face of the wall 1:2:4 brickbat lime concrete bedding 10 Litre fibre highlevel tank flushing cistern with fittings, inlet pipe with stop tap, bracket for fixing the cistern 32 mm dia PVC pipe with fittings & clamps 20 mm dia G. I. Over flow pipe with mosquitoproof capping G. I. Chain  pull, painting of cistren & exposed pipes & fittings & making good walls & floor with enameled tank & PVC pipe as directed [Bd. V. 30/565]",{"$f":"'Sheet  -Office'!O149","v":6011},"Six Thousand Eleven Only ","One Number",{"$f":"ROUND(B153*D153,0)","v":0}]
[]
[40,{"$f":"'Sheet  -Office'!C151","v":0},"Providing and fixing European type white glazed earthenware coupled closet symphonic trap with symphonic low level white glazed 10litres cistern with black back lite seat with all necessary pipe connection etc. complete [Bd. V. 30/565].\n",{"$f":"'Sheet  -Office'!O151","v":9287},"Nine Thousand Two Hundred Eighty Seven Only ","One Number",{"$f":"ROUND(B155*D155,0)","v":0}]
[]
[41,{"$f":"'Sheet  -Office'!C153","v":0},"Providing & fixing white glazed wash hand basin of 55 x 40 cms size including cold water pillar tap brackets, rubber plug & brass chain, stop tap & necessary pipe connections including PVC vest pipe & trap upto outside face of the wall. [Bd. V. 30 / P 565]",{"$f":"'Sheet  -Office'!O153","v":4711},"Four Thousand Seven Hundred Eleven Only ","One Number",{"$f":"ROUND(B157*D157,0)","v":0}]
[]
[42,{"$f":"'Sheet  -Office'!C155","v":0}," Providing & fixing 10cms Rigid  C.I. Nahani trap including C.I Grating bend & piece of C.I. Pipe upto the outside face of the wall complete",{"$f":"'Sheet  -Office'!O155","v":684},"Six Hundred Eighty Four Only ","One Number",{"$f":"ROUND(B159*D159,0)","v":0}]
[]
[43,{"$f":"'Sheet  -Office'!C157","v":0}," Providing & fixing 15 x 10cms salt glazed stoneware gully trap in C. C. 1:4:8 outside the building including cast iron grating in the sink, connecting glazed stoneware pipe, brick masonary chamber and cast iron lead & cast iron grating for gully trap. [bd. V. 38 / P 572]",{"$f":"'Sheet  -Office'!O157","v":1169},"One Thousand One Hundred Sixty Nine Only ","One Number",{"$f":"ROUND(B161*D161,0)","v":0}]
[]
[44,{"$f":"'Sheet  -Office'!C159","v":0},"Providing & constructing brick masonary inspection chamber 60 x 45cms including 1:4:8  C. C. foundation 1:2:4 cement concrete channels half round G S W pipes, brick masonary, plastering from inside with frame fixed in cement concrete etc. complete with R. C. C. cover. [Bd. V. 43 / P 574]",{"$f":"'Sheet  -Office'!O159","v":6975},"Six Thousand Nine Hundred Seventy Five Only ","One Number",{"$f":"ROUND(B163*D163,0)","v":0}]
[]
[45,{"$f":"'Sheet  -Office'!C161","v":0},"Providing Soak pit including excavating and filling with brickbat [Bd. V. 46 / P 576]",{"$f":"'Sheet  -Office'!O161","v":2363},"Two Thousand Three Hundred Sixty Three Only ","One Number",{"$f":"ROUND(B165*D165,0)","v":0}]
[]
[46,{"$f":"'Sheet  -Office'!C163","v":0},"Providing & fixing hume pipe septic tank 900 mm diameterwith vent pipe and cap including necessary fittings (incuding excavation and laying) Bd.V.45 Page No.575",{"$f":"'Sheet  -Office'!O163","v":14018},"Fouteen Thousand Eighteen Only ","One Number",{"$f":"ROUND(B167*D167,0)","v":0}]
[]
[47,{"$f":"'Sheet  -Office'!C165","v":0}," Providing & laying 110 MM dia U.P.V.C. SOIL / VENT / WASTE SWR pipesalt glazed stoneware pipe including fittings such as bends, tees, single junction, double junction laying, jointing ( including excavation & refilling the trenches) complete [Bd. V. 39 / P 573] ",{"$f":"'Sheet  -Office'!O165","v":652},"Six Hundred Fifty Two Only ","One Running Meter",{"$f":"ROUND(B169*D169,0)","v":0}]
[]
[48,{"$f":"'Sheet  -Office'!C167","v":0},"Providing & fixing stainess steel sink 600 mm x 450 mm x 250 mm including all connection of the G.I. supply and lead waste pipes upto the out side face of the wall, cold water chromium plated screw down bib tap, rolled steel on C.I. brackets, rubber plug with chain and stop tap etc. complete. [Spec. No. Bd. V. 31 / P.No. 566] (It.No. 25 / P.No. 113) ",{"$f":"'Sheet  -Office'!O167","v":14490},"Fouteen Thousand Four Hundred Ninety Only ","One Number",{"$f":"ROUND(B171*D171,0)","v":0}]
[]
[49,{"$f":"'Sheet  -Office'!C169","v":0}," Providing & laying in trenches 15 mm dia heavy grade (type) having embossed as ISI marked G. I. Pipes weight of 1.25 kg/Mtrs. with screwed socket joints & necessary G. I. Fittings such as sockets, backnuts, elbows, bends, tees, reducers, enlargers, plugs, clamps etc including necessary drilling holes in walls, slabs etc. and remaking good the demolished portion to restore the same in original condition neatly and  primer providing & applying anticorrosive primer  paint and two coats of oilpaintings complete ",{"$f":"'Sheet  -Office'!O169","v":357},"Three Hundred Fifty Seven Only ","One Running Meter ",{"$f":"ROUND(B173*D173,0)","v":0}]
[]
[50,{"$f":"'Sheet  -Office'!C171","v":0}," Providing & laying in trenches 20 mm dia heavy grade (type) having embossed as ISI marked G. I. Pipes weight of 1.25 kg/Mtrs. with screwed socket joints & necessary G. I. Fittings such as sockets, backnuts, elbows, bends, tees, reducers, enlargers, plugs, clamps etc including necessary drilling holes in walls, slabs etc. and remaking good the demolished portion to restore the same in original condition neatly and  primer providing & applying anticorrosive primer  paint and two coats of oilpaintings complete ",{"$f":"'Sheet  -Office'!O171","v":425},"Four Hundred Twenty Five Only ","One Running Meter ",0]
[]
[51,{"$f":"'Sheet  -Office'!C173","v":0}," Providing & fixing on walls, ceiling, flooring, 15 mm dia heavy grade (type) having embossed as ISI marked G. I. Pipes weight of 1.48 kg/Rms. with screwed socket joints & necessary G. I. Fittings such as sockets, backnuts, elbows, bends, tees, reducers, enlargers, plugs, clamps etc including necessary drilling holes in walls, slabs etc. and remaking good the demolished portion to restore the same in original condition neatly and providing & applying anticorrosive primer oilpaint and two coats of oilpaintings complete. [Bd. V. 5 / P 551] ",{"$f":"'Sheet  -Office'!O173","v":357},"Three Hundred Fifty Seven Only ","One Running Meter ",{"$f":"ROUND(B177*D177,0)","v":0}]
[]
[52,{"$f":"'Sheet  -Office'!C175","v":0}," Providing & laying in treches 25 mm dia heavy  grade (type) having embossed as ISI marked G. I. Pipes weight of 2.49 kg/Rms. with screwed socket joints & necessary G. I. Fittings such as sockets, backnuts, elbows, bends, tees, reducers, enlargers, plugs, clamps etc including necessary drilling holes in walls, slabs etc. and remaking good the demolished portion to restore the same in original condition neatly and providing & applying anticorrosive primer oilpaint and two coats of oilpaintings complete. [Bd. V. 5 / P 551]",{"$f":"'Sheet  -Office'!O175","v":458},"Four Hundred Fifty Eight Only ","One Running Meter ",{"$f":"ROUND(B179*D179,0)","v":0}]
[]
[53,{"$f":"'Sheet  -Office'!C177","v":0},"Providing & fixing on walls, ceiling, flooring, 25mm dia heavy grade (type) having embossed as ISI marked G. I. Pipes weight of  2.49  kg/Mtre. with screwed socket joints & necessary G. I. Fittings such as sockets, backnuts, elbows, bends, tees, reducers, enlargers, plugs, clamps etc including necessary drilling holes in walls, slabs etc. and remaking good the demolished portion to restore the same in original condition neatly and providing & applying anticorrosive primer oilpaint and two coats of oilpaintings complete. [Bd. V. 5 / P 551] ",{"$f":"'Sheet  -Office'!O177","v":503},"Five Hundred Three Only ","One Running Meter ",{"$f":"ROUND(B181*D181,0)","v":0}]
[]
[54,{"$f":"'Sheet  -Office'!C179","v":0}," Providing & fixing on walls, ceiling, flooring, 20mm dia heavy grade (type) having embossed as ISI marked G. I. Pipes weight of 1.93 kg/Mtre. with screwed socket joints & necessary G. I. Fittings such as sockets, backnuts, elbows, bends, tees, reducers, enlargers, plugs, clamps etc including necessary drilling holes in walls, slabs etc. and remaking good the demolished portion to restore the same in original condition neatly and providing & applying anticorrosive primer oilpaint and two coats of oilpaintings complete. [Bd. V. 5 / P 551] ",{"$f":"'Sheet  -Office'!O179","v":430},"Four Hundred Thirty Only ","One Running Meter ",{"$f":"ROUND(B183*D183,0)","v":0}]
[]
[55,{"$f":"'Sheet  -Office'!C181","v":0}," Providing & fixing in position 45 x 55 cms high class mirror over wash hand basin including all accessories, and necessary fittings etc. Complete as directed.",{"$f":"'Sheet  -Office'!O181","v":703},"Seven Hundred Three Only ","One Number",{"$f":"ROUND(B185*D185,0)","v":0}]
[]
[56,{"$f":"'Sheet  -Office'!C183","v":0},"Providing & fixing in position cast iron oxidised brackets mounted on country cut teak wood plank of size 90 x10 x 2.5 cms duly polished & fixed on wall properly etc. complete",{"$f":"'Sheet  -Office'!O183","v":200},"Two Hundred Only ","One Number",0]
[]
[57,{"$f":"'Sheet  -Office'!C185","v":0}," Providing & fixing H. D. P container one piece mouled watertank made out of low density polyethler and build corrugations inclusive of delivery upto destination housing fixing of accessories such as inlet, outlet, overflow inclusive of all taxes as directed.",{"$f":"'Sheet  -Office'!O185","v":11},"Eleven Only ","One Liter",{"$f":"ROUND(B189*D189,0)","v":0}]
[]
[58,{"$f":"'Sheet  -Office'!C187","v":0},"Providing & fixing 15 mm dia screw down bib / stop tap of brass including necessary socket, union, nuts complete. [Bd. V. 8 / P 554]",{"$f":"'Sheet  -Office'!O187","v":548},"Five Hundred Fourty Eight Only ","One Number",{"$f":"ROUND(B191*D191,0)","v":0}]
[]
[59,{"$f":"'Sheet  -Office'!C189","v":0}," Providing, construction and erecting in position flag post as per drawing and design as directed by Engineer in charge",{"$f":"'Sheet  -Office'!O189","v":6424},"Six Thousand Four Hundred Twenty Four Only ","One Number",{"$f":"ROUND(B193*D193,0)","v":0}]
[]
[60,{"$f":"'Sheet  -Office'!C191","v":0},"Providing & constructing water platform as per drawing & design as directed by Engineer in charge.",{"$f":"'Sheet  -Office'!O191","v":6822},"Six Thousand Eight Hundred Twenty Two Only ","One Number",{"$f":"ROUND(B195*D195,0)","v":0}]
[]
[61,{"$f":"'Sheet  -Office'!C193","v":0},"Providing cement based waterproofing treatment to terraces(Indian waterproofing or a like) with brickbats laid in required slope to drain the water for any span after cleaning the base surface. Applying a coat of cement slurry admixed with approved waterproofing compound and laying the brickbats on bottom layer in C.M. 1:5 admixed with approved waterproofing compound filling up to half depth of brick bats, curing this layer for 3days, applying cement slurry over this layer joints of brickbats with C.M. 1:3 admixed with approved waterproofing compound and finally top finishing with average 20mm. thick layers of same mortar added with jute fiber at 1Kg per bag including finishing the surface smooth with cement slurry admixed with approved waterproofing compound. Marking finished surface with false squares of 300mmx300mm. making the junctions at the parapet rounded and tapered top for required height, with dripmouldat the junction of plaster and parapet and curing and covering 10years Guarantee against leakproofness on Court fee stamp paper of Rs. 500/- including ponding test etc. complete.\ncomplete.",{"$f":"'Sheet  -Office'!O193","v":937},"Nine Hundred Thirty Seven Only ","One Square Meter",{"$f":"ROUND(B197*D197,0)","v":0}]
[]
[62,{"$f":"'Sheet  -Office'!C195","v":0},"Providing & fixing 15mm dia. Screw down whealed stop tap of gun metal / brass including necessary  socket / union nuts etc. complete. [Bd.V.9/555]",{"$f":"'Sheet  -Office'!O195","v":402},"Four Hundred Two Only ","One Number",{"$f":"ROUND(B199*D199,0)","v":0}]
[]
[63,{"$f":"'Sheet  -Office'!C197","v":0},"Providing & fixing 25mm dia. Screw down whealed stop tap of gun metal / brass including necessary  socket / union nuts etc. complete.[Bd.V.9/555]",{"$f":"'Sheet  -Office'!O197","v":707},"Seven Hundred Seven Only ","One Number",{"$f":"ROUND(B201*D201,0)","v":0}]
[]
[64,{"$f":"'Sheet  -Office'!C199","v":0}," Providing & fixing 20mm dia. Screw down whealed stop tap of gun metal / brass including necessary  socket / union nuts etc. complete.[Bd.V.9/555]",{"$f":"'Sheet  -Office'!O199","v":516},"Five Hundred Sixteen Only ","One Number",{"$f":"ROUND(B203*D203,0)","v":0}]
[]
[65,{"$f":"'Sheet  -Office'!C201","v":0},"Providing &  fixing in position alluminium exctruded section two track sliding window up to 1.5 m. ht. outer frame made from section of over all size 62 x 45 mm with fixed vintilator  fully glazed of any size with powder coating as per detailed drawing and as directed by Engineer-in-charge with all necessary alluminium section including necessary fixtures and fastening such as 5 mm thick clear glass etc. complete. ( as directed by Engineer-in-charge )",{"$f":"'Sheet  -Office'!O201","v":4924},{"$f":"NumberToWord(D205)","v":"Four Thousand Nine Hundred Twenty Four Only "},"One Square Meter",{"$f":"ROUND(B205*D205,0)","v":0}]
[]
[66,{"$f":"'Sheet  -Office'!C203","v":0},"Providing 25 to 30mm thick partions of polished black kadappa stone slab of approved shapes, quality and colour for platform  urinals, including cutting holes of required sizes in the appropriate places to receive pipes etc., fixing in cement mortar 1:3 curing and cleaning complete. [Bd.M.35 / 393]",{"$f":"'Sheet  -Office'!O203","v":997},"Nine Hundred Ninety Seven Only ","One Square Meter",{"$f":"ROUND(B207*D207,0)","v":0}]
[]
[67,{"$f":"'Sheet  -Office'!C205","v":0}," Providing & fixing 20 mm dia.  alluminuim powder coated palemat rod including fixtures as directed.",{"$f":"'Sheet  -Office'!O205","v":150},"One Hundred Fifty Only ","One Running Meter",{"$f":"ROUND(B209*D209,0)","v":0}]
[]
[68,{"$f":"'Sheet  -Office'!C207","v":0}," Providing & fixing white glazed earthenware semi stall type Urinals without cistern with inlet pipes stop tap, UPVC flush pipe, with fittings and flushing arrangement including UPVC soil pipe, UPVC trap and soil pipe connection upto the outside face of the wall, making good to damaged surface testing etc. complete. (Prior approval of sample and brand by Ex. Engineer is necessary befor use.)  ( Spec.No. :  As directed by Engineer - in - Charge)   ",{"$f":"'Sheet  -Office'!O207","v":3947},"Three Thousand Nine Hundred Fourty Seven Only ","One Number",{"$f":"ROUND(B211*D211,0)","v":0}]
[]
[69,{"$f":"'Sheet  -Office'!C209","v":0}," Conveying the materials obtained from excavation including laying in layers, breaking clods, dressing to the required lines, curves, grades and section for all leads up to 3 Km. from the site of excavation to the site of deposition  aeay from complex as directed. (Rd.18 Page No. 197)",{"$f":"'Sheet  -Office'!O209","v":154.79},"One Hundred Fifty Four & Ps. Seventy Nine Only ","One Cubic Meter ",{"$f":"ROUND(B213*D213,0)","v":0}]
[]
[70,{"$f":"'Sheet  -Office'!C211","v":0}," Filling in plinth with approved excavated stuff obtained from departmental land including watering, compacting etc. complete as directed.(Bd. A.10/262)",{"$f":"'Sheet  -Office'!O211","v":155},"One Hundred Fifty Five Only ","One Cubic Meter ",{"$f":"ROUND(B215*D215,0)","v":0}]
[]
[71,{"$f":"'Sheet  -Office'!C213","v":0},"Providing & laying stone metal layer of 20 cm thickness with 60 mm over size metal 65% and 40 mm size metal 35% with sand or stone chips spreading & leveling handpacking complete.[Rd.22/201,Rd.20/200 &Rd.20/205 ]",{"$f":"'Sheet  -Office'!O213","v":1440.25},"One Thousand Four Hundred Fourty & Ps. Twenty Five Only ","One Cubic Meter ",{"$f":"ROUND(B217*D217,0)","v":0}]
[]
[72,{"$f":"'Sheet  -Office'!C215","v":0},"Providing and laying Cast in situ/Ready Mix cement concrete M-15 of trap/ granite/quartzite/gneiss metal for coping to plinth or parapet, moulded or chamfered as per drawing or as directed including steel centering, plywood/ steel formwork compacting, roughening them if special finish is to be provided, finishing uneven and honeycombed surface and curing etc. complete. The Cement Mortar 1:3 plaster is considered for rendering uneven and honeycombed surface only. Newly laid concrete shall be covered by gunny bag, plastic, tarpaulin etc. (Wooden centering will One Numbert be allowed.) With fine aggregate (Natural Sand / Crushed sand VSI Grade finely washed etc)",{"$f":"'Sheet  -Office'!O215","v":5681.88},"Five Thousand Six Hundred Eighty One & Ps. Eighty Eight Only ","One Cubic Meter ",{"$f":"ROUND(B219*D219,0)","v":0}]
[]
[73,{"$f":"'Sheet  -Office'!C217","v":0},"Providing & laying 20 to 25 mm th. Polished Kota stone slabs for treads & risers of steps & staircases with rounded nosing for the treads on a bed of 1:4 C.M. including cement float, filling joints with neat cement slurry,curring,polishing & cleaning complete.(Bd. M.22/390)",{"$f":"'Sheet  -Office'!O217","v":951.88},"Nine Hundred Fifty One & Ps. Eighty Eight Only ","One Cubic Meter",{"$f":"ROUND(B221*D221,0)","v":0}]
[]
[74,{"$f":"'Sheet  -Office'!C219","v":0},"Providing & fixing chromium plated towel rod 16 mm dia. and 75 Cm in length including all accessories etc. complete  ( As directed by Engineer incharge ) ( It No..49/Page No. 119)",{"$f":"'Sheet  -Office'!O219","v":242},"Two Hundred Fourty Two Only ","One Square Meter ",{"$f":"ROUND(B223*D223,0)","v":0}]
[]
[75,{"$f":"'Sheet  -Office'!C221","v":0}," Providing & fixing U.P.S.V. Soil / vent / waste pipe 75 mm dia.of approved make with standing min. pressure of 4 Kg. / Cm. Sq. from standard manufactres with necessary fixture and fittings such as bend, tees, single junction, double junction, slotted vent offsets on walls or in the ground including excavation, laying refilling the trench etc. complete. As directed by Engineer incharge (BDV - 36 C ) ( It No..32/Page No. 115)",{"$f":"'Sheet  -Office'!O221","v":480},"Four Hundred Eighty Only ","One Cubic  Meter",{"$f":"ROUND(B225*D225,0)","v":0}]
[]
[76,{"$f":"'Sheet  -Office'!C223","v":0},"Providing, laying & fixing  C.P.V.C pipe 15 mm dia.on wall (with standing 4 Kg. to 6 Kg./ Cm. Sq. pressure) with fittings such as bend, tees, reducers, clamps etc. including necessary excavation trench filling etc. complete. As directed by Engineer incharge (BDV - 60 A ) ( It No..47/Page No. 118)",{"$f":"'Sheet  -Office'!O223","v":219},"Two Hundred Nineteen Only ","One Square Meter",{"$f":"ROUND(B227*D227,0)","v":0}]
[]
[77,{"$f":"'Sheet  -Office'!C225","v":0},"Providing &  fixing  a set of 5 fire buckets of special quality 0.03 m diameter including painting lettering & providing  M.S. stand, Iron hooks & locking arrangements & three coats of white zince paint for stand  etc. complete. as per drawing. As directed by Engineer incharge ( It No..51/Page No. 131)",{"$f":"'Sheet  -Office'!O225","v":1000},"One Thousand Only ","One Running Meter",{"$f":"ROUND(B229*D229,0)","v":0}]
[]
[78,{"$f":"'Sheet  -Office'!C227","v":0}," Providing & fabricating cycle stand made up of M.S. Angle 50 x 50 x 6 mm & 16 mm diameter including cuting, joining, welding & prepring as per drawing including oil painting in three coats.  As directed by Engineer incharge ",{"$f":"'Sheet  -Office'!O227","v":3913},"Three Thousand Nine Hundred Thirteen Only ","One Running Meter",{"$f":"ROUND(B231*D231,0)","v":0}]
[]
[79,{"$f":"'Sheet  -Office'!C229","v":0}," Providing and fixing collapsible steel gate in one/two leaves with hot rolled vertical channels of 18x9x3mm minimum size, crossings of M.S.flats of size 18x5mm Tor E secti on for runner of minimum 40x6mm size for flange, M.S.flat for top runner of minimum size 40x12mm with roller wheels confirming to grade F.G.150 fitted with snap headed rivets of minimum size 6mm max. spacing of vertical channels be 100mm enclosed gate position and clear space of 150mm between two sets of crossings with holdfasts, stoppers, spaces, handles, locking arrangement and one coat of red lead primer and oil painting etc. complete. (I.S. 10521 1983).(BDT.57)",{"$f":"'Sheet  -Office'!O229","v":2939},"Two Thousand Nine Hundred Thirty Nine Only ","One Kilogram",{"$f":"ROUND(B233*D233,0)","v":0}]
[]
[80,{"$f":"'Sheet  -Office'!C231","v":0}," Free Standing Table @ 1500Lx600Dx750HT Providing and fixing Table of Size 1500x600x750mm. Top: made from 25mm Prelaminated Particle board. All edges are covered by 2mm. Thk. PVC edge bands glued by hot melt glue applied by auto edge banding machine. Legs: C Shape made from CRCA Sheet with Powder Coat finish. Modesty panel: Made from 18mm bothside pre laminated particle boards. Al ledges are covered by 0.8mm PVC edge bands glued by hot melt glue applied by auto edge banding machine. KEYBOARD TRAY (WITHOUT MOUSE TRAY) :- Metal Powder Coated - Black Color, CPU TROLLEY :- Metal Powder Coated - Black Color, 3 DRAWER PEDESTAL UNIT having over all size 392Lx450Dx680Ht. mm. with central lock and key. Drawers and body are complete metal with powder coat finish, facia in 18 mm prelaminated particle board.(51.26/421)",{"$f":"'Sheet  -Office'!O231","v":16893},"Sixteen Thousand Eight Hundred Ninety Three Only ",null,0]
[]
[81,{"$f":"'Sheet  -Office'!C233","v":0},"Providing & Arrangemnt of Mid Back, ECO CTS Mechanism, Fixed Armrest, Gaslift for Seat height adjustment, Standards- prongP/ Nylon Base with Fabric Upholstery (51.43/466).",{"$f":"'Sheet  -Office'!O233","v":6520},"Six Thousand Five Hundred Twenty Only ",null,0]
[]
[82,{"$f":"'Sheet  -Office'!C235","v":0},"Providing and fixing Openable Steel Full Height Steel Storage of 750x450x2100Ht, with 4 adjustable shelves, Complete body & shutter made in 0.8 mm thick & Top in 2 mm thick CRCA, 4 Shutter to be mounted with the help of cup hinges, and 4 adjustable levelers, enitre storage in powder coated finish with 60 to 80 microns as as per drawing.",{"$f":"'Sheet  -Office'!O235","v":18925},"Eighteen Thousand Nine Hundred Twenty Five Only ",null,0]
[null,"In words","Thirty Lakh Sixty Seven Thousand Fourty Three Only ",null,null,"Total",{"$f":"SUM(G77:G239)","v":0}]
[]
[null,{"$f":"Recap!#REF!","v":{"$error":"#REF!"}}]
[{"$f":"'DSR-Sheet I  '!B143","v":"1A"},{"$f":"'DSR-Sheet I  '!D143","v":0},"Excavation for roadway in earth, soil of all sorts, sand, gravel or soft murum including dressing section to the required grade, camber and side slopes and conveying the excavated materials with all lifts upto a lead of 50m. and spreading for embankment or stacking as directed.",{"$f":"'DSR-Sheet I  '!O143","v":73},{"$f":"NumberToWord(D243)","v":"Seventy Three Only "},"One Cubic  Meter",{"$f":"ROUND(B243*D243,0)","v":0}]
[{"$f":"'DSR-Sheet I  '!B144","v":"1B"},{"$f":"'DSR-Sheet I  '!D144","v":0},"Excavation for roadway in hard murum and boulder including dressing section to the required grade, camber and side slopes and conveying the excavated materials with all lifts upto a lead of 50m.and spreading for embankment or stacking as directed.",{"$f":"'DSR-Sheet I  '!O144","v":84},"Eighty Four Only ","One Cubic  Meter",0]
[{"$f":"'DSR-Sheet I  '!B145","v":"1C"},{"$f":"'DSR-Sheet I  '!D145","v":0},"Excavation for roadway in soft rock, including dressing section to the required grade, camber and side slopes and conveying the excavated materials with all lifts upto a lead of 50m. and spreading or stacking as directed.",{"$f":"'DSR-Sheet I  '!O145","v":120},"One Hundred Twenty Only ","One Cubic  Meter",0]
[{"$f":"'DSR-Sheet I  '!B146","v":"1D"},{"$f":"'DSR-Sheet I  '!D146","v":0},"Excavation for roadway in hard rock by controlled blasting including dressing section to the required grade, camber and side slopes and conveying the excavated materials with all lifts upto a lead of 50m. and spreading for embankment or stocking as directed.",{"$f":"'DSR-Sheet I  '!O146","v":167},"One Hundred Sixty Seven Only ","One Cubic  Meter",0]
["1E",{"$f":"'DSR-Sheet I  '!D147","v":0},"Providing soling using 23 cm trap metal in 15 cm. Layer including filling voids with Crushed sand/grit, ramming, watering etc. complete.",{"$f":"'DSR-Sheet I  '!O147","v":1402.45},"One Thousand Four Hundred Two & Ps. Fourty Five Only ","One Cubic  Meter",0]
[{"$f":"'DSR-Sheet I  '!B148","v":2},{"$f":"'DSR-Sheet I  '!D148","v":0},"Supplying trap/granite/quartzite/gneiss stone metal of required size by bringing the boulders / Rubble at the road side breaking them to required gradation including conveying the boulders /Rubble and stacking the broken metal etc. complete . (Prior approval of sample stack of broken metal by the Ex. Engineer is necessary the date of approval will form part of the measurements) a) 60 mm Metal, By breaking Boulders (Hand broken).",{"$f":"'DSR-Sheet I  '!O148","v":1047.45},"One Thousand Fourty Seven & Ps. Fourty Five Only ","One Cubic Meter ",0]
[{"$f":"'DSR-Sheet I  '!B149","v":3},{"$f":"'DSR-Sheet I  '!D149","v":0},"Supplying trap/granite/quartzite/gneiss stone metal of required size by bringing the boulders / Rubble at the road side breaking them to required gradation including conveying the boulders /Rubble and stacking the broken metal etc. complete . (Prior approval of sample stack of broken metal by the Ex. Engineer is necessary the date of approval will form part of the measurements) a) 40 mm Metal, By breaking Boulders (Hand broken).",{"$f":"'DSR-Sheet I  '!O149","v":1097.45},"One Thousand Ninety Seven & Ps. Fourty Five Only ","One Cubic Meter ",0]
[{"$f":"'DSR-Sheet I  '!B150","v":"4 - A"},{"$f":"'DSR-Sheet I  '!D150","v":0},"Supplying hard murum/ kankar at the road site, including conveying and stacking complete.",{"$f":"'DSR-Sheet I  '!O150","v":537.71},"Five Hundred Thirty Seven & Ps. Seventy One Only ","One Cubic Meter ",0]
[{"$f":"'DSR-Sheet I  '!B151","v":"4 - B"},{"$f":"'DSR-Sheet I  '!D151","v":0},"Supplying soft murum at the road site, including conveying and stacking complete.",{"$f":"'DSR-Sheet I  '!O151","v":507.71},"Five Hundred Seven & Ps. Seventy One Only ","One Cubic Meter ",0]
[{"$f":"'DSR-Sheet I  '!B152","v":"5 - A"},{"$f":"'DSR-Sheet I  '!D152","v":0},"Spreading hard murum/ soft murrum/ gravel or kankar for side width complete",{"$f":"'DSR-Sheet I  '!O152","v":63},"Sixty Three Only ","One Cubic Meter ",0]
[{"$f":"'DSR-Sheet I  '!B153","v":"5 - B"},{"$f":"'DSR-Sheet I  '!D153","v":0},"Spreading soft murum/ soft murrum/ gravel or kankar for side\nwidth complete",{"$f":"'DSR-Sheet I  '!O153","v":63},"Sixty Three Only ","One Cubic Meter ",0]
[{"$f":"'DSR-Sheet I  '!B154","v":6},{"$f":"'DSR-Sheet I  '!D154","v":0},"Spreading 60 mm metal for road work including sectioOne Numberng etc complete as directed by Engineer in charge .",{"$f":"'DSR-Sheet I  '!O154","v":85},"Eighty Five Only ","One Cubic Meter ",0]
[{"$f":"'DSR-Sheet I  '!B155","v":7},{"$f":"'DSR-Sheet I  '!D155","v":0},"Spreading 40 mm metal for road work including sectioOne Numberng etc complete as directed by Engineer in charge .",{"$f":"'DSR-Sheet I  '!O155","v":85},"Eighty Five Only ","One Cubic Meter ",0]
[{"$f":"'DSR-Sheet I  '!B156","v":"8A"},{"$f":"'DSR-Sheet I  '!D156","v":0},"Compacting the sub grade/gravel/oversize metal (200 mm loose) layers for all width with Power roller having weight 8 to 10 MT. including necessary, labour, materials and artificial watering complete.",{"$f":"'DSR-Sheet I  '!O156","v":27},"Twenty Seven Only ","One Square Meter ",0]
[{"$f":"'DSR-Sheet I  '!B157","v":"8B"},{"$f":"'DSR-Sheet I  '!D157","v":0},"Compacting the sub grade/gravel/oversize metal (200 mm loose) layers for all width with Power roller having weight 8 to 10 MT. including necessary, labour, materials and artificial watering complete.",{"$f":"'DSR-Sheet I  '!O157","v":27},"Twenty Seven Only ","One Square Meter ",0]
[{"$f":"'DSR-Sheet I  '!B158","v":9},{"$f":"'DSR-Sheet I  '!D158","v":0},"Compacting the hard murum side widths including laying in layers on each side with vibratory roller including artificial watering etc.complete.",{"$f":"'DSR-Sheet I  '!O158","v":16},"Sixteen Only ","One Square Meter ",0]
[{"$f":"'DSR-Sheet I  '!B159","v":10},{"$f":"'DSR-Sheet I  '!D159","v":0},"Providing and fixing trap/ granite/ quartzite/ gneiss guard stone/ indicator stones/ boundary stones of standard size and shape including fixing in block of fixing in M-15 R.C.C. 1:4:8 standard size with white washing etc.complete",{"$f":"'DSR-Sheet I  '!O159","v":885},"Eight Hundred Eighty Five Only ","One Number",0]
[{"$f":"'DSR-Sheet I  '!B160","v":"11A"},{"$f":"'DSR-Sheet I  '!D160","v":0},"Excavation for foundation in earth, soil of all types, sand, gravel and soft murum, including removing the excavated material up to a distance of 50 m. beyond the building area and stacking and spreading as directed, dewatering, preparing the bed for the foundation and necessary back filling, ramming, watering including shoring and strutting etc. complete. (Lift upto 1.5 m.) By Mechanical Means",{"$f":"'DSR-Sheet I  '!O160","v":157},"One Hundred Fifty Seven Only ","One Cubic  Meter",0]
[{"$f":"'DSR-Sheet I  '!B161","v":"11 B"},{"$f":"'DSR-Sheet I  '!D161","v":0},"Excavation for foundation in hard murum including removing the excavated material upto distance of 50 metres beyond the building area and stacking and spreading as directed, dewatering, preparing the bed for the foundation and necessary back filling, ramming, watering including shoring and strutting etc. complete. (Lift upto 1.50 m) By Mechanical Means",{"$f":"'DSR-Sheet I  '!O161","v":172},"One Hundred Seventy Two Only ","One Cubic  Meter",0]
[{"$f":"'DSR-Sheet I  '!B162","v":"11C"},{"$f":"'DSR-Sheet I  '!D162","v":0},"Excavation for foundation in hard murum and boulders including removing the excavated material up to a distance 50 metres, beyond the building area and stacking and spreading as directed, dewatering, preparing the bed for the foundation and necessary back filling, ramming, watering including shoring and strutting etc. complete. (Lift upto 1.5m.) By Mechanical Means",{"$f":"'DSR-Sheet I  '!O162","v":191},"One Hundred Ninety One Only ","One Cubic  Meter",0]
[{"$f":"'DSR-Sheet I  '!B164","v":12},{"$f":"'DSR-Sheet I  '!D164","v":0},"Providing and laying in situ / ready mix / ready mix M10 cement concrete of trap/ granite/ quartzite/ gneiss metal in foundation including necessary centering, formwork, bailing out water, compacting and curing etc. complete.(pan mixer) with natural /artifical sand)",{"$f":"'DSR-Sheet I  '!O164","v":5014.88},"Five Thousand Fouteen & Ps. Eighty Eight Only ","One Cubic  Meter",0]
[{"$f":"'DSR-Sheet I  '!B165","v":13},{"$f":"'DSR-Sheet I  '!D165","v":0},"Providing uncoursed rubble masonry of trap / granite / quartzite / gneiss stones in cement mortar 1:6 in foundation and plinth of inner walls / in plinth of external walls including bailing out water manually , striking joints on un exposed faces and watering etc.complete.",{"$f":"'DSR-Sheet I  '!O165","v":4457.62},"Four Thousand Four Hundred Fifty Seven & Ps. Sixty Two Only ","One Cubic  Meter",0]
[{"$f":"'DSR-Sheet I  '!B166","v":14},{"$f":"'DSR-Sheet I  '!D166","v":0},"Providing and fixing in position TMT - FE - 500 bar reinforcement of various diameters for R.C.C. pile caps, footings, foundations, slabs, beams columns, caOne Numberpies, staircase, newels, chajjas, lintels pardis, copings, fins, arches etc. as per detailed designs, drawings and schedules. including cutting, bending, hooking the bars, binding with wires or tack welding and supporting as required complete.",{"$f":"'DSR-Sheet I  '!O166","v":62581},"Sixty Two Thousand Five Hundred Eighty One Only ","One Metric Tonne",0]
[{"$f":"'DSR-Sheet I  '!B167","v":15},{"$f":"'DSR-Sheet I  '!D167","v":0},"Providing and laying Cast in situ/Ready Mix cement concrete M-30 of trap / granite /quartzite/ gneiss metal for R.C.C. beams and lintels as per detailed designs and drawings or as directed including steel centering, formwork, cover blocks, laying/pumping, compaction and roughening the surface if special finish is to be provided and curing etc. complete. (Excluding reinforcement and structural steel). With fine aggregate (Natural Sand / Crushed sand VSI Grade finely washed etc)",{"$f":"'DSR-Sheet I  '!O167","v":9946.57},"Nine Thousand Nine Hundred Fourty Six & Ps. Fifty Seven Only ","One Cubic  Meter",0]
[{"$f":"'DSR-Sheet I  '!B168","v":16},{"$f":"'DSR-Sheet I  '!D168","v":0},"Providing internal cement plaster 20mm thick in two coats in cement mortar 1:4 with cement slurry finish, to concrete, brick surface, in all positions including scaffolding and curing etc.complete.",{"$f":"'DSR-Sheet I  '!O168","v":411.91},"Four Hundred Eleven & Ps. Ninety One Only ","One Square Meter ",0]
[17,{"$f":"'DSR-Sheet I  '!D169","v":0},"Providing pointing with Cement Morter (1: 3) for stone masonary including scaffolding curing etc. complete [Bd. L. 15 / 372]",{"$f":"'DSR-Sheet I  '!O169","v":149},"One Hundred Fourty Nine Only ",{"$f":"F257","v":"One Square Meter "},0]
[{"$f":"'DSR-Sheet I  '!B170","v":18},{"$f":"'DSR-Sheet I  '!D170","v":0},"Providing & laying C. C. pipe of NP2 class 600 mm dia metre in proper line, level & slope including providing & laying in position the coller in C. M. 1 : 2 etc. complete. ",{"$f":"'DSR-Sheet I  '!O170","v":1480},"One Thousand Four Hundred Eighty Only ","One Running Meter",0]
[{"$f":"'DSR-Sheet I  '!B171","v":19},{"$f":"'DSR-Sheet I  '!D171","v":0},"Supplynig & spreading Hard mumrum for cushioning of R C C pipe including watering rammi ng & leveling etc complete.",{"$f":"'DSR-Sheet I  '!O171","v":733.21},"Seven Hundred Thirty Three & Ps. Twenty One Only ","One Cubic  Meter",0]
[{"$f":"'DSR-Sheet I  '!B172","v":20},{"$f":"'DSR-Sheet I  '!D172","v":0},"Providing & laying in situ cement concrete    1 : 2 : 4 of trap metal for coping to column & compound wall moulded chamfered as per  drawing and design as directed including necessary centering, formwork, compaction, finishing the formed surface with C. M. 1 : 3 of sufficient minimum thickness to give smooth finish and even surface or roughening if special finish is to be provided and curing etc. complete. (Excluding reinforcement)",{"$f":"'DSR-Sheet I  '!O172","v":1511.54},"One Thousand Five Hundred Eleven & Ps. Fifty Four Only ","One Cubic  Meter",0]
[{"$f":"'DSR-Sheet I  '!B173","v":21},{"$f":"'DSR-Sheet I  '!D173","v":0},"Providing soling using 80 mm size trap metal in 15 cm. layer including filling voids with Crushed sand/grit, ramming, watering etc. complete.",0,"Only ",null,0]
[{"$f":"'DSR-Sheet I  '!B174","v":"22A"},{"$f":"'DSR-Sheet I  '!D174","v":0},"Providing earth work in embankment with approved materials obtained from departmental land upto lead of 50m. including all lifts, laying in layers of 20cm. to 30cm. thickness breaking clods, dressing to the required lines, curves, grades & section, watering and compaction with vibratory roller to achieve One Numbert less than 97 % of standard proctor density etc. complete. (Material obtained from departmental Land)",{"$f":"'DSR-Sheet I  '!O174","v":155},"One Hundred Fifty Five Only ","One Cubic  Meter",0]
[{"$f":"'DSR-Sheet I  '!B175","v":"22B"},{"$f":"'DSR-Sheet I  '!D175","v":0},"Providing embankment with approved hard murum obtained from other sources including all leads & lifts, laying in layers of 20cm. to 30cm. thickness breaking clods, dressing to the required lines, curves, grades & section, watering and compaction with vibratory roller with V-Sat attachment to achieve One Numbert less than 97 % of standard proctor density etc. complete ( Material obtained from Other sources)",{"$f":"'DSR-Sheet I  '!O175","v":634.71},"Six Hundred Thirty Four & Ps. Seventy One Only ","One Cubic  Meter",0]
[{"$f":"'DSR-Sheet I  '!B176","v":23},{"$f":"'DSR-Sheet I  '!D176","v":0},"Conveying materials obtained from road cutting including all lifts, laying in layers of 20cm to 30cm. breaking clods, dressing to the required lines, curves, grades and section, watering and compacting to One Numbert less than 97% of standard Proctor density for a lead of over 50m. to 300m. inclusive from the site of excavation to the site of deposition as directed.",{"$f":"'DSR-Sheet I  '!O176","v":139},"One Hundred Thirty Nine Only ","One Cubic  Meter",0]
[{"$f":"'DSR-Sheet I  '!B177","v":24},{"$f":"'DSR-Sheet I  '!D177","v":0},"Conveying the materials obtained from excavation including all lifts, laying in layers, breaking clods, dressing to the required lines, curves, grades and section for all leads & lifts from the site of excavation to the site of deposition as directed.",{"$f":"'DSR-Sheet I  '!O177","v":186.55},"One Hundred Eighty Six & Ps. Fifty Five Only ","One Cubic  Meter",{"$f":"ROUND(B276*D276,0)","v":0}]
[25,{"$f":"'DSR-Sheet I  '!D178","v":0},{"$f":"'DSR-Sheet I  '!C178","v":0},{"$f":"'DSR-Sheet I  '!O178","v":138},"One Hundred Thirty Eight Only "," One Square metre ",{"$f":"ROUND(B277*D277,0)","v":0}]
[null,"In words",{"$f":"NumberToWord(G278)","v":"Two Only "},null,null,"Total",{"$f":"SUM(G243:G277)-27","v":-27}]
[]
[]
[null,{"$f":"Recap!#REF!","v":{"$error":"#REF!"}}]
[{"$f":"'DSR-Sheet I  '!B187","v":1},{"$f":"'DSR-Sheet I  '!D187","v":0},"Excavation for foundation in earth, soil of all types, sand, gravel and soft murum, including removing the excavated material up to a distance of 50 m. beyond the building area and stacking and spreading as directed, dewatering, preparing the bed for the foundation and necessary back filling, ramming, watering including shoring and strutting etc. complete. (Lift upto 1.5 m.) By Mechanical Means",{"$f":"'DSR-Sheet I  '!O187","v":157},{"$f":"NumberToWord(D282)","v":"One Hundred Fifty Seven Only "},"One Cubic  Meter",{"$f":"ROUND(B282*D282,0)","v":0}]
[]
[{"$f":"'DSR-Sheet I  '!B189","v":2},{"$f":"'DSR-Sheet I  '!D189","v":0},"Excavation for foundation in hard murum including removing the excavated material upto distance of 50 metres beyond the building area and stacking and spreading as directed, dewatering, preparing the bed for the foundation and necessary back filling, ramming, watering including shoring and strutting etc. complete. (Lift upto 1.50m)   By Mechanical Means",{"$f":"'DSR-Sheet I  '!O189","v":172},"One Hundred Seventy Two Only ","One Cubic  Meter",0]
[]
[{"$f":"'DSR-Sheet I  '!B191","v":3},{"$f":"'DSR-Sheet I  '!D191","v":0},"Excavation for foundation in hard murum and boulders including removing the excavated material up to a distance 50 metres, beyond the building area and stacking and spreading as directed, dewatering,preparing the bed for the foundation and necessary back filling,ramming, watering including shoring and strutting etc. complete. (Lift upto 1.5m.) By Mechanical Means",{"$f":"'DSR-Sheet I  '!O191","v":191},"One Hundred Ninety One Only ","One Cubic  Meter",0]
[]
[{"$f":"'DSR-Sheet I  '!B193","v":4},{"$f":"'DSR-Sheet I  '!D193","v":0},"Excavation for foundation in Soft rock and old cement or lime masonry foundations including removing the excavated material upto a distance of 50 metres beyond the building area and stacking as directed, including dewatering, preparing the bed for the foundation and necessary back filling with available earth /murum, ramming watering including shoring and strutting etc. complete (lift upto 1.5m) By Mechanical Means",{"$f":"'DSR-Sheet I  '!O193","v":329},"Three Hundred Twenty Nine Only ","One Cubic  Meter",0]
[]
[{"$f":"'DSR-Sheet I  '!B195","v":5},{"$f":"'DSR-Sheet I  '!D195","v":0},"Providing soling using 80mm size trap metal in15cm.layer including filling voids with Crushed sand/grit, ramming, watering etc. complete.",{"$f":"'DSR-Sheet I  '!O195","v":1402.45},"One Thousand Four Hundred Two & Ps. Fourty Five Only ","One Cubic  Meter",0]
[]
[{"$f":"'DSR-Sheet I  '!B197","v":6},{"$f":"'DSR-Sheet I  '!D197","v":0},"Providing and filling in the foundation with sand of approved quality including watering, compacting etc.complete.(To be executed with prior approval of Superintending Engineer)",{"$f":"'DSR-Sheet I  '!O197","v":3057.55},"Three Thousand Fifty Seven & Ps. Fifty Five Only ","One Cubic  Meter",0]
[]
[{"$f":"'DSR-Sheet I  '!B199","v":7},{"$f":"'DSR-Sheet I  '!D199","v":0},"Providing and laying Cast in situ / Ready Mix cement concrete in M-10 of trap / granite/quartzite/gneiss metal for foundation and bedding including bailing out water, Steel centering, formwork, laying / pumping, compacting, roughening them if special finish is to be provided, finishing if required and curing complete, With fine aggregate (Natural Sand/Crusheds and VSI Grade finely washed etc)",{"$f":"'DSR-Sheet I  '!O199","v":5341.48},"Five Thousand Three Hundred Fourty One & Ps. Fourty Eight Only ","One Cubic  Meter",0]
[]
[{"$f":"'DSR-Sheet I  '!B201","v":8},{"$f":"'DSR-Sheet I  '!D201","v":0},"Filling in plinth and floors with approved excavated materials  approved by Engineer in charge in layers of 15cmto20cm including watering and compaction etc. complete.",{"$f":"'DSR-Sheet I  '!O201","v":440},"Four Hundred Fourty Only ","One Cubic  Meter",0]
[]
[{"$f":"'DSR-Sheet I  '!B203","v":9},{"$f":"'DSR-Sheet I  '!D203","v":0},"Providing and fixing H.D.P container Syntex  only 3 layer   one piece moulded water tank made out of low density polythyler and built corrugation including of delivery up to destination hoisting and fixing of accessories such as inlet, outlet overflow of all tanks capacity above 1000 to 20,000 litres  ( Syntex only ) \n",{"$f":"'DSR-Sheet I  '!O203","v":11},"Eleven Only ","One Liter",0]
[]
[{"$f":"'DSR-Sheet I  '!B205","v":10},{"$f":"'DSR-Sheet I  '!D205","v":0},"Conveying the materials obtained from excavation (B C Soil) including laying in layers, breaking clods, dressing to the required lines, curves, grades and section for all leads & lifts from the site of excavation to the site of deposition  away from ",{"$f":"'DSR-Sheet I  '!O205","v":186.55},"One Hundred Eighty Six & Ps. Fifty Five Only ","One Cubic  Meter",0]
[]
[{"$f":"'DSR-Sheet I  '!B207","v":11},{"$f":"'DSR-Sheet I  '!D207","v":0},"Conveying the materials obtained from excavation  including laying in layers, breaking clods, dressing to the required lines, curves, grades and section for all leads & lifts from the site of excavation to the site of deposition  aeay from 300 to 500 m",{"$f":"'DSR-Sheet I  '!O207","v":154.79},"One Hundred Fifty Four & Ps. Seventy Nine Only ","One Cubic  Meter",0]
[]
[{"$f":"'DSR-Sheet I  '!B209","v":12},{"$f":"'DSR-Sheet I  '!D209","v":0},"Providing and laying in trenches 25 mm dia. CPVC pipe including necessary excavation, fittings. Refilling trenches etc. complete. Including removing existing pipe line if necessary and conveying and stacking the same in PWD chowky or as directed etc. complete.",{"$f":"'DSR-Sheet I  '!O209","v":326},"Three Hundred Twenty Six Only ","One Running Meter",0]
[]
[{"$f":"'DSR-Sheet I  '!B211","v":13},{"$f":"'DSR-Sheet I  '!D211","v":0},"Providing and laying in trenches 20 mm dai. CPVC pipe including necessary excavation, fittings. Refilling trenches etc. complete. Including removing existing pipe line if necessary and conveying and stacking the same in PWD chowky or as directed etc. complete.",{"$f":"'DSR-Sheet I  '!O211","v":244},"Two Hundred Fourty Four Only ","One Running Meter",0]
[]
[{"$f":"'DSR-Sheet I  '!B213","v":14},{"$f":"'DSR-Sheet I  '!D213","v":0},"Providing and fixing screw down for 15 mm dia. wheeled stop tap of brass including necessary sockets/union nut complete).",{"$f":"'DSR-Sheet I  '!O213","v":516},"Five Hundred Sixteen Only ","One Number",0]
[]
[{"$f":"'DSR-Sheet I  '!B215","v":15},{"$f":"'DSR-Sheet I  '!D215","v":0},"Providing and fixing screw down 15 mm dia. wheeled stop tap of brass including necessary sockets/union nut complete",{"$f":"'DSR-Sheet I  '!O215","v":402},"Four Hundred Two Only ","One Number",0]
[]
[{"$f":"'DSR-Sheet I  '!B217","v":16},{"$f":"'DSR-Sheet I  '!D217","v":0},"Supplying and erecting cetrifugal water pump   3.75 KW / 5.00 HP ,  65 mm suction and 50 mm delivery pipe … ( 12-1-10/208) ele",{"$f":"'DSR-Sheet I  '!O217","v":22164.45},"Twenty Two Thousand One Hundred Sixty Four & Ps. Fourty Five Only ","One Number",0]
[]
[{"$f":"'DSR-Sheet I  '!B219","v":17},{"$f":"'DSR-Sheet I  '!D219","v":0},"Supplying and erecting D.O. L. starter  400 V 3 ph.  ( 12-4-2/218 ) ele",{"$f":"'DSR-Sheet I  '!O219","v":1890},"One Thousand Eight Hundred Ninety Only ","One Number",0]
[]
[{"$f":"'DSR-Sheet I  '!B221","v":18},{"$f":"'DSR-Sheet I  '!D221","v":0},"Supplying and erecting  65 mm dia. Ball type footvalve  ( 16-6-34/248 ) ele",{"$f":"'DSR-Sheet I  '!O221","v":2384.5500000000002},"Two Thousand Three Hundred Eighty Four & Ps. Fifty Five Only ","One Number",0]
[]
[{"$f":"'DSR-Sheet I  '!B223","v":19},{"$f":"'DSR-Sheet I  '!D223","v":0},"Supplying and erecting  & terminating XLPE armoured cable  4 core 6 sqmm  copper conductor  ( 7-2-32/133) ele ",{"$f":"'DSR-Sheet I  '!O223","v":353.85},"Three Hundred Fifty Three & Ps. Eighty Five Only ","One Running Meter",0]
[]
[{"$f":"'DSR-Sheet I  '!B225","v":20},{"$f":"'DSR-Sheet I  '!D225","v":0},"Supplying and erecting  & marking FPMCB  6  Amp to 32 Amp  ( 5-3-16/97) ele ",{"$f":"'DSR-Sheet I  '!O225","v":952.35},"Nine Hundred Fifty Two & Ps. Thirty Five Only ","One Number",0]
[]
[{"$f":"'DSR-Sheet I  '!B227","v":21},{"$f":"'DSR-Sheet I  '!D227","v":0},"Supplying and erecting  CRCA sheet metal  one way enclosure suitable for DPMCB  ( 5-4-23/99) ele",{"$f":"'DSR-Sheet I  '!O227","v":358.05},"Three Hundred Fifty Eight & Ps. Five Only ","One Square Meter",0]
[]
[22,{"$f":"'DSR-Sheet I  '!D229","v":0},"Providing earthing with GI earthplate  size 60x60x0.6 cm ( 9-1-1/161) ele",{"$f":"'DSR-Sheet I  '!O229","v":1029},"One Thousand Twenty Nine Only ","One Number",0]
[]
[23,{"$f":"'DSR-Sheet I  '!D231","v":0},"Supplying and ercting GI sheet 1.6 mm (  16SWG) for fabrication of boxes  ( 6-1-2/114) ele ",{"$f":"'DSR-Sheet I  '!O231","v":2242.8000000000002},"Two Thousand Two Hundred Fourty Two & Ps. Eighty Only ","One Square Meter",0]
[]
[{"$f":"'DSR-Sheet I  '!B233","v":24},{"$f":"'DSR-Sheet I  '!D233","v":0},"Supplying and ercting marine plywood 18/19 mm tk. ( 6-1-14/114) ele",{"$f":"'DSR-Sheet I  '!O233","v":1333.5},"One Thousand Three Hundred Thirty Three & Ps. Fifty Only ","One Square Meter",0]
[]
[{"$f":"'DSR-Sheet I  '!B235","v":25},{"$f":"'DSR-Sheet I  '!D235","v":0},"Supplying and ercting HDP pipe  ISI mark 50 mm dia. ( 16-5-18/247) ele ",{"$f":"'DSR-Sheet I  '!O235","v":133.35},"One Hundred Thirty Three & Ps. Thirty Five Only ","One RunningMeter",0]
[]
[{"$f":"'DSR-Sheet I  '!B237","v":26},{"$f":"'DSR-Sheet I  '!D237","v":0},"Providing and laying in trenches 50 mm dia. CPVC pipe including necessary excavation, fittings. Refilling trenches etc. complete. Including removing existing pipe line if necessary and conveying and stacking the same as directed etc. complete.",{"$f":"'DSR-Sheet I  '!O237","v":641},"Six Hundred Fourty One Only ","One RunningMeter",0]
[null,null,null,null,null,null,{"$f":"SUM(G282:G332)-1","v":-1}]
[null,"In Words:-",{"$f":"NumberToWord(G333)","v":"Only "}]
[]
[null,{"$f":"Recap!#REF!","v":{"$error":"#REF!"}}]
[1,{"$f":"'sheet 1 Bore '!C103","v":100},"Drilling the bore well 150 mm dia. Upto a depth as directed in all types of strata by using bore drilling machine incluiding all necessary  material & equipment etc. complete as directed.",0,{"$f":"NumberToWord(D337)","v":"Only "},"One Running Meter",{"$f":"ROUND(B337*D337,0)","v":0}]
[null,null,null,0]
[2,{"$f":"'sheet 1 Bore '!C105","v":6}," Providing and fixing M. S. casing pipe of 150mm diameter of approved make with help of drilling machine upto desired depth including lowering & grouting etc. complete as directed..",0,"Only ","One Running Meter",0]
[]
[3,{"$f":"'sheet 1 Bore '!C107","v":1},"Supplying and erecting submersible pumpset of 1.125 KW/1.5 HP with 230 V, 50 c/s AC supply suitable for 150 mm dia. borewell suitable for 84 to 40 LPM discharge at 30 to 90 m head & (max. efficiency at 69 m head & 60 lpm) discharge & delivery pipe of Size-50 mm diameter with a necessary H type clamps as per specification no. WP-SMP",0,"Only ","One Number",0]
[]
[4,{"$f":"'sheet 1 Bore '!C109","v":20},"Supplying, erecting & terminating PVC armoured cable 3 core 4 sq mm copper conductor continuous 5.48 sq mm (12 SWG) G.I. earth wire complete erected with glands & lugs, on wall/ trusses/pole or laid in provided trench/ pipe as per specification no. CB-LT/CU ",0,"Only ","One Running Meter",0]
[]
[5,{"$f":"'sheet 1 Bore '!C111","v":115},"Supplying and erecting high density polythene pipe ISI mark 32 mm dia. suitable for pressure of 6 kg/cm2 connected to Jet/Submersible pump with required material complete.",0,"Only ","One Running Meter",0]
[]
["6-A",{"$f":"'sheet 1 Bore '!C113","v":10}," Making trench in hard soil of suitable width and depth as per IS for laying provided L.T cable up to 25 sq mm complete. As per specification No. CW-EXN-CTR",0,"Only ","One Running Meter",0]
[]
["6-B",{"$f":"'sheet 1 Bore '!C115","v":10},"Supplyng and laying 75 mm diameter GI pipe A grade ISI mark for cable laid underground at required depth upto 90 cm including excavation, laying pipe, remaking the surface as it is. ",0,"Only ","One Running Meter",0]
[]
[7,{"$f":"'sheet 1 Bore '!C117","v":10},"Supplying and erecting G.I.pipe 15 mm dia. ‘B’ class at position with accessories. As per specification No. CW-PLB/GP",0,"Only ","One Running Meter",0]
[null,null,null,0]
[8,{"$f":"'sheet 1 Bore '!C119","v":40},"Supplying and erecting ISI mark G.I.pipe 20 mm dia.‘B’ class at position with accessories. As per specification No. CW-PLB/GP",0,"Only ","One Running Meter",0]
[null,null,null,0]
[9,{"$f":"'sheet 1 Bore '!C121","v":2}," Providing & fixing in position 15 mm diameter screw down bib tap/ stop tap of brass heavy type and make including necessary sockets union nuts etc. complete.",0,"Only ","One No",0]
[]
[10,{"$f":"'sheet 1 Bore '!C123","v":1},"Providing & fixing in position 20 mm diameter screw down bib tap/ stop tap of brass heavy type and make including necessary sockets union nuts etc. complete.",0,"Only ","One No",0]
[]
[11,{"$f":"'sheet 1 Bore '!C125","v":100}," Supplying and and fixing PVC wire rope for borewell etc. complete. ",0,"Only ","One Running Meter",0]
[]
[12,{"$f":"'sheet 1 Bore '!C127","v":1},"Supplying & erecting automatic control panel for 1 Ph, 230 volt, A.c. Submersible/centrifugal pump set upto 2 HP consisting of DOL starter Of suitable relay range S.P.P., Combined ammeter/ voltmeter, phase indicating lamp enclosed in CRCA powder coated Vibration proof encloser with IP 54 protection. Control Panel should offer single phasing, phase reversal, phase inbalence etc ( Similar to LT model no.MR G2) .",0,"Only ","One No",0]
[]
[13,{"$f":"'sheet 1 Bore '!C129","v":120},"Supplying and erecting flat flexible 3 core 2.5 sq mm PVC sheathed submersible type copper cable suitably clamped at fixed intervals with column pipe assembly complete.",0,"Only ","One Running Meter",0]
[]
[14,{"$f":"'sheet 1 Bore '!C131","v":1},"Supplying and erecting 40mm dia. Gun metal foot valve at position with necessary materials.",0,"Only ","One Number",0]
[]
[15,{"$f":"'sheet 1 Bore '!C133","v":1},"Supplying, erecting & marking DPMCB 6A to 32A, C- series (for  motor/power)  in  provided  distribution  board   as  per   specification No. SW-SWR/MCB  ",0,"Only ","One Number",0]
[]
[16,{"$f":"'sheet 1 Bore '!C135","v":1},"Supplying & erecting CRCA sheet metal one way enclosures suitable  for  D.P.M.C.B.   /T.P.  M.C.B.   /F.P  M.C.B.  Complete   erected on angle iron frame.  ",0,"Only ","One Number",0]
[]
[null,null,null,null,null,"Total",{"$f":"SUM(G337:G369)+1","v":1}]
[null,"Inwords","One Lakh Fourty Five Thousand Four Hundred Seventy Six Only "]
[null,{"$f":"Recap!#REF!","v":{"$error":"#REF!"}}]
[{"$f":"'DSR-Sheet I  '!B293","v":1},{"$f":"'DSR-Sheet I  '!D293","v":0},"Excavation for foundation insoil depth upto 1.50m  including removing the excavated stuff upto a distance of 50 meters beyond the building area all lifts stacking or spreading as directed, dewatering, shoring, strutting if necessary preparing the bed for foundation including necessary backfilling  etc complete (Bd.A2/ 260)",{"$f":"'DSR-Sheet I  '!O293","v":157},{"$f":"NumberToWord(D374)","v":"One Hundred Fifty Seven Only "},"One Cubic  Meter",{"$f":"ROUND(B374*D374,0)","v":0}]
[]
[{"$f":"'DSR-Sheet I  '!B295","v":"1-A"},{"$f":"'DSR-Sheet I  '!D295","v":0},"Excavation for foundation insoil depth 1.50m to 3.00including removing the excavated stuff upto a distance of 50 meters beyond the building area all lifts stacking or spreading as directed, dewatering, shoring, strutting if necessary preparing the bed for foundation including necessary backfilling  etc complete (Bd.A2/ 260)",{"$f":"'DSR-Sheet I  '!O295","v":172},"One Hundred Seventy Two Only ","One Cubic  Meter",0]
[]
[{"$f":"'DSR-Sheet I  '!B297","v":"1-B"},{"$f":"'DSR-Sheet I  '!D297","v":0},"Excavation for foundation in hard murum depth upto 1.50m  including removing the excavated stuff upto a distance of 50 meters beyond the building area all lifts stacking or spreading as directed, dewatering, shoring, strutting if necessary preparing the bed for foundation including necessary backfilling  etc complete (Bd.A2/ 260)",{"$f":"'DSR-Sheet I  '!O297","v":191},"One Hundred Ninety One Only ","One Cubic  Meter",0]
[]
[{"$f":"'DSR-Sheet I  '!B299","v":"1-C"},{"$f":"'DSR-Sheet I  '!D299","v":0},"Excavation for foundation in hard murum depth  1.50m TO 3.00  including removing the excavated stuff upto a distance of 50 meters beyond the building area all lifts stacking or spreading as directed, dewatering, shoring, strutting if necessary preparing the bed for foundation including necessary backfilling  etc complete (Bd.A2/ 260)",{"$f":"'DSR-Sheet I  '!O299","v":329},"Three Hundred Twenty Nine Only ","One Cubic  Meter",0]
[]
[{"$f":"'DSR-Sheet I  '!B301","v":"1-D"},{"$f":"'DSR-Sheet I  '!D301","v":0},"Excavation for foundation in hard murum  & boulderdepth upto 1.50m  including removing the excavated stuff upto a distance of 50 meters beyond the building area all lifts stacking or spreading as directed, dewatering, shoring, strutting if necessary preparing the bed for foundation including necessary backfilling  etc complete (Bd.A2/ 260)",{"$f":"'DSR-Sheet I  '!O301","v":1055},"One Thousand Fifty Five Only ","One Cubic  Meter",0]
[]
[{"$f":"'DSR-Sheet I  '!B303","v":"1-E"},{"$f":"'DSR-Sheet I  '!D303","v":0},"Excavation for foundation in hard murum  & boulderdepth  1.50m TO 3.00  including removing the excavated stuff upto a distance of 50 meters beyond the building area all lifts stacking or spreading as directed, dewatering, shoring, strutting if necessary preparing the bed for foundation including necessary backfilling  etc complete (Bd.A2/ 260)",{"$f":"'DSR-Sheet I  '!O303","v":236},"Two Hundred Thirty Six Only ","One Cubic  Meter",0]
[]
[{"$f":"'DSR-Sheet I  '!B305","v":2},{"$f":"'DSR-Sheet I  '!D305","v":0},"Providing & laying in situ cement concrete M-15 of  trap metal for foundation & bedding including dewatering if necessary, compacting, curing etc. complete. [Bd. E.1  /287]",{"$f":"'DSR-Sheet I  '!O305","v":5586.66},"Five Thousand Five Hundred Eighty Six & Ps. Sixty Six Only ","One Cubic  Meter",0]
[]
[{"$f":"'DSR-Sheet I  '!B307","v":3},{"$f":"'DSR-Sheet I  '!D307","v":0}," Providing & Laying  dry /trap rubble stone metal soling 15 cm to 20 cm, thick including hand packing and compacting complewte.",{"$f":"'DSR-Sheet I  '!O307","v":1493.55},"One Thousand Four Hundred Ninety Three & Ps. Fifty Five Only ","One Cubic  Meter",0]
[]
[{"$f":"'DSR-Sheet I  '!B309","v":4},{"$f":"'DSR-Sheet I  '!D309","v":0}," Providing & filling  brick  bat in excavated pit as directed by Engineer- in -charge.",{"$f":"'DSR-Sheet I  '!O309","v":500},"Five Hundred Only ","One Cubic  Meter",0]
[]
[{"$f":"'DSR-Sheet I  '!B311","v":5},{"$f":"'DSR-Sheet I  '!D311","v":0}," Providing & filling Sand in excavated pit of approved quality including watering compaction complete.",{"$f":"'DSR-Sheet I  '!O311","v":3057.55},"Three Thousand Fifty Seven & Ps. Fifty Five Only ","One Cubic  Meter",0]
[]
[{"$f":"'DSR-Sheet I  '!B313","v":6},{"$f":"'DSR-Sheet I  '!D313","v":0},"Providing & Laying   in position polythene  sheet over excavated pit as directed by Engineer- in - charge.",{"$f":"'DSR-Sheet I  '!O313","v":20},"Twenty Only ","One Square Meter",0]
[]
[{"$f":"'DSR-Sheet I  '!B315","v":7},{"$f":"'DSR-Sheet I  '!D315","v":0}," Providing & layiung  PVC PIPES 110 MM dia on the top of pit to drain the rain water inside the pit as directed by Engineer- in - charge.",{"$f":"'DSR-Sheet I  '!O315","v":478},"Four Hundred Seventy Eight Only ","One RunningMeter",0]
[]
[{"$f":"'DSR-Sheet I  '!B317","v":8},{"$f":"'DSR-Sheet I  '!D317","v":0}," Conveying the materials obtained from excavation including laying in layers, breaking clods, dressing to the required lines, curves, grades and section for all leads & lifts from the site of excavation to the site of deposition  area away  from complex as directed. ",{"$f":"'DSR-Sheet I  '!O317","v":186.55},"One Hundred Eighty Six & Ps. Fifty Five Only ","One Cubic  Meter",0]
[]
[{"$f":"'DSR-Sheet I  '!B319","v":9},{"$f":"'DSR-Sheet I  '!D319","v":0},"Drilling the bore well 150 mm dia. Upto a depth as directed in all types of strata by using bore drilling machine incluiding all necessary  material & equipment etc. complete as directed.",{"$f":"'DSR-Sheet I  '!O319","v":380},"Three Hundred Eighty Only ","One RunningMeter",0]
[]
[null,null,null,null,null,"Total",{"$f":"SUM(G374:G401)-1","v":-1}]
[null,"In words",{"$f":"NumberToWord(G402)","v":"Only "}]
[]
[null,{"$f":"Recap!#REF!","v":{"$error":"#REF!"}}]
[{"$f":"'sheet 1CW '!A350","v":1},{"$f":"'sheet 1CW '!C350","v":77},"Excavation for foundation in earth soil of all types sand, gravel & soft murum, depth upto 1.50 meters including removing the excavated stuff upto a distance of 50 meters beyond the bldg. area all lifts stacking or spreading as directed, etc. complete",0,{"$f":"NumberToWord(D406)","v":"Only "},"One cubic Meter",{"$f":"ROUND(B406*D406,0)","v":0}]
[]
[{"$f":"'sheet 1CW '!A352","v":2},{"$f":"'sheet 1CW '!C352","v":2},"Excavation for foundation in hard murum including removing the excavated materials upto distance of 50 metres beyond the building area and stacking and spreading as directed, dewatering, preparing the bed for the foundation and necessary back filling, ramming, watering including shoring and strutting etc. complete. (Lift upto 1.50 m)",0,"Only ","One cubic Meter",0]
[]
[{"$f":"'sheet 1CW '!A354","v":3},{"$f":"'sheet 1CW '!C354","v":1},"Providing and laying Cast in situ/Ready Mix cement concrete in M-10 of trap/ granite/ quartzite/ gneiss metal for foundation and bedding including bailing out water, formwork, laying/pumping, compacting, roughening them if special finish is to be provided, finishing if required and curing complete, Drum Type mixer/concrete Batch mix plant (Pan mixer) etc.complete. With natural sand/V.S.I. quality Artificial Sand",0,"Only ","One cubic Meter",0]
[]
[{"$f":"'sheet 1CW '!A356","v":4},{"$f":"'sheet 1CW '!C356","v":1},"Providing & laying in situ cement concrete M20 of trap metal for R.C.C. work in column footing,  including dewatering if necessary, formwork, compaction, finishing curing etc. complete.(Excluding reinforcement) ",0,"Only ","One cubic Meter",0]
[]
[{"$f":"'sheet 1CW '!A358","v":5},{"$f":"'sheet 1CW '!C358","v":2},"Providing and laying Cast in situ/Ready Mix cement concrete M- 20 of trap / granite /quartzite/ gneiss metal for R.C.C. columns as per detailed designs and drawing or as directed including centering, formwork, cover blocks, laying/pumping, compaction finishing the formed surfaces with cement mortar 1:3 of sufficient minimum thickness to give a smooth and even surface or roughening if special finish is to be provided and curing etc.  complete,(Excluding reinforcement and structural steel)",0,"Only ","One cubic Meter",0]
[]
[{"$f":"'sheet 1CW '!A360","v":6},{"$f":"'sheet 1CW '!C360","v":0.2},"Providing and fixing in position TMT - FE - 500 bar reinforcement of various diameters for R.C.C. pile caps, footings, foundations, slabs, beams columns, canopies, staircase, newels, chajjas, lintels pardis, copings, fins, arches etc. as per detailed designs, drawings and schedules. including cutting, bending, hooking the bars, binding with wires or tack welding and supporting as required etc.complete.",0,"Only ","One Metric Tonne",0]
[]
[{"$f":"'sheet 1CW '!A362","v":7},{"$f":"'sheet 1CW '!C362","v":20},"Providing cement plaster 20 mm thick in C.M. 1:4 with even and smooth 1.5mm thick cement finish to concrete /brick surface in all positions including scaffolding curing etc. complete as directed.",0,"Only ","One square Meter",0]
[]
[{"$f":"'sheet 1CW '!A364","v":8},{"$f":"'sheet 1CW '!C364","v":20},"Providing and applying three coats of water proof cement paint of approved manufacture and of approved colour to plastered surfaces including scaffolding if ecessary, cleaning and preparing the surface, watering for two days etc. complete.",0,"Only ","One square Meter",0]
[]
[{"$f":"'sheet 1CW '!A366","v":9},{"$f":"'sheet 1CW '!C366","v":862},"Providing & erecting 1.5 M high wire  with7 rows of barbed wire fencing two diagonals  and two verticle barbed wire at centre of panel , supported on M.S. angle post [50x50x6 mm] 2.50 m c/c and fixing the same in C.C. block 1:4:8 of size 45x45x45 cms fastening the wire and applying two coats of approved paints. (By using New Angle)",0,"Only ","One Running Meter",0]
[]
[{"$f":"'sheet 1CW '!A368","v":10},{"$f":"'sheet 1CW '!C368","v":2},"Filling in plinth & floors with approad excavated material or murum in layers of 15 to 20 cms including watering & compaction etc. complete.",0,"Only ","One cubic Meter",0]
[]
[{"$f":"'sheet 1CW '!A370","v":11},{"$f":"'sheet 1CW '!C370","v":140},"Providing earth work in embankment with approved materials obtained from other sources upto lead of 50m. including all lifts, laying in layers of 20cm. to 30cm. thickness breaking clods, dressing to the required lines, curves, grades & section, watering and compaction with vibratory roller with V-Sat attachment to achieve not less than 97 % of standard proctor density etc. complete ( Material obtained from Other sources)",0,"Only ","One cubic Meter",0]
[]
[{"$f":"'sheet 1CW '!A372","v":12},{"$f":"'sheet 1CW '!C372","v":77},"Conveying the materials obtained from excavation including laying in layers, breaking clods, dressing to the required lines, curves, grades and section for all leads & lifts from the site of excavation to the site of deposition  away from complex.",0,"Only ","One cubic Meter",0]
[null,null,null,0]
[{"$f":"'sheet 1CW '!A374","v":13},{"$f":"'sheet 1CW '!C374","v":20},"Providing & erecting M.S.tubular gate of M.S. tubular pipes and M.S.flats as per drawing & design including hinges, pivot locks and applying one coat of approved anticorrosive paint and two coats of oilpaint etc. complete.",0,"Only ","One square Meter",0]
[null,null,null,0]
[{"$f":"'sheet 1CW '!A376","v":14},{"$f":"'sheet 1CW '!C376","v":20},"Providing and laying cement concrete pipe of IS 458:2003 NP-3 class of 0.90 m diameter in proper line, level and slope etc. complete.",0,"Only ","One Running Meter",0]
[null,null,null,null,null,"Total Rs. ",{"$f":"SUM(G406:G432)","v":0}]
[null,"In words",{"$f":"NumberToWord(G433)","v":"Only "}]
[]
[null,{"$f":"Recap!B18","v":"Sub work III:- Material Lab Testing charges"}]
[{"$f":"'Lab Tests'!A9","v":1},{"$f":"'Lab Tests'!F9","v":4},"Cement- Fineness, Consistency, Setting Time, Compressive strength, Specific gravity.",{"$f":"'Lab Tests'!G9","v":3550},{"$f":"NumberToWord(D437)","v":"Three Thousand Five Hundred Fifty Only "},"One Number",{"$f":"ROUND(B437*D437,0)","v":14200}]
[{"$f":"'Lab Tests'!A11","v":2},null,{"$f":"'Lab Tests'!B11","v":"Concrete  M-25"}]
[null,{"$f":"'Lab Tests'!F11","v":1},{"$f":"'Lab Tests'!E11","v":"i)Mix Design with all tests on basic materials"},{"$f":"'Lab Tests'!G11","v":12950},"Twelve Thousand Nine Hundred Fifty Only ","One Number",12950]
[null,{"$f":"'Lab Tests'!F12","v":28},{"$f":"'Lab Tests'!E12","v":"ii)Concrete cube compressive strength"},{"$f":"'Lab Tests'!G12","v":650},"Six Hundred Fifty Only ","One Number",18200]
[null,{"$f":"'Lab Tests'!F13","v":1},{"$f":"'Lab Tests'!E13","v":"iii) Rebound hammer Test "},{"$f":"'Lab Tests'!G13","v":250},"Two Hundred Fifty Only ","One Number",250]
[3,null,"Concrete  M-20"]
[null,{"$f":"'Lab Tests'!F15","v":0},{"$f":"'Lab Tests'!E15","v":"ii)Concrete cube compressive strength"},{"$f":"'Lab Tests'!G15","v":650},"Six Hundred Fifty Only ","One Number",{"$f":"ROUND(B443*D443,0)","v":0}]
[4,null,{"$f":"'Lab Tests'!B17","v":"Crushed metal for concrete"}]
[null,{"$f":"'Lab Tests'!F17","v":2},{"$f":"'Lab Tests'!E17","v":"i)Water absorption, Specific gravity,Impact value,Crushing value"},{"$f":"'Lab Tests'!G17","v":2300},"Two Thousand Three Hundred Only ","One Number",4600]
[null,{"$f":"'Lab Tests'!F18","v":2},{"$f":"'Lab Tests'!E18","v":"ii)Gradation"},{"$f":"'Lab Tests'!G18","v":600},"Six Hundred Only ","One Number",1200]
[null,{"$f":"'Lab Tests'!F19","v":2},{"$f":"'Lab Tests'!E19","v":"iii) Combined Flakiness & Elongatio of single metal"},{"$f":"'Lab Tests'!G19","v":750},"Seven Hundred Fifty Only ","One Number",1500]
[null,null,{"$f":"'Lab Tests'!B24","v":"Bricks"}]
[6,{"$f":"'Lab Tests'!F24","v":1},{"$f":"'Lab Tests'!E24","v":"Water Absorption (Set of 5 Bricks), Compressive strength (Set of 5 Bricks), Efflorescence (Set of  5 Bricks)"},{"$f":"'Lab Tests'!G24","v":1900},"One Thousand Nine Hundred Only ","One Number",1900]
[7,null,{"$f":"'Lab Tests'!B25","v":"Masonry stones"}]
[null,{"$f":"'Lab Tests'!F25","v":1},{"$f":"'Lab Tests'!E25","v":"Crushing value,/ compressive strength, water absorption, Specific Gravity."},{"$f":"'Lab Tests'!G25","v":1750},"One Thousand Seven Hundred Fifty Only ","One Number",1750]
[8,null,{"$f":"'Lab Tests'!B26","v":"TMT steel bars"}]
[null,{"$f":"'Lab Tests'!F26","v":3},{"$f":"'Lab Tests'!E26","v":"Yield stress, ultimate tensile stress, elongation, weight per running meter."},{"$f":"'Lab Tests'!G26","v":3200},"Three Thousand Two Hundred Only ","One Number",9600]
[9,null,{"$f":"'Lab Tests'!B27","v":"Sand"}]
[null,{"$f":"'Lab Tests'!F27","v":2},{"$f":"'Lab Tests'!E27","v":"Fineness Modulus, silt content."},{"$f":"'Lab Tests'!G27","v":1950},"One Thousand Nine Hundred Fifty Only ","One Number",{"$f":"ROUND(B455*D455,0)","v":3900}]
[10,null,{"$f":"'Lab Tests'!B28","v":"Murum"}]
[null,{"$f":"'Lab Tests'!F29","v":2},{"$f":"'Lab Tests'!E29","v":"ii) Atterberg Limit"},{"$f":"'Lab Tests'!G29","v":1100},"One Thousand One Hundred Only ","One Number",2200]
[null,{"$f":"'Lab Tests'!F31","v":4},{"$f":"'Lab Tests'!E31","v":"iv) Density of compacted layer"},{"$f":"'Lab Tests'!G31","v":1000},"One Thousand Only ","One Number",4000]
[null,{"$f":"'Lab Tests'!F32","v":2},{"$f":"'Lab Tests'!E32","v":"v) Proctor Test"},{"$f":"'Lab Tests'!G32","v":1650},"One Thousand Six Hundred Fifty Only ","One Number",3300]
[null,"In words",{"$f":"NumberToWord(G460)","v":{"$error":"#NAME?"}},null,null,null,{"$f":"SUM(G437:G459)","v":79550}]
[]
[null,{"$f":"Recap!B20","v":"SUBWORK IV :- Royalty Charges"}]
[]
[1,{"$f":"'Royaly '!C95","v":0},"Royalty charges for sand ",141.34,{"$f":"NumberToWord(D464)","v":"One Hundred Fourty One & Ps. Thirty Four Only "},"One Cubic Metres",{"$f":"ROUNDUP(B464*D464,0)","v":0}]
[2,{"$f":"'Royaly '!C97","v":293.30399999999997},"Royalty Charges for hand broken road metal 40 mm metal & 80mm metal etc. complete.",141.34,"One Hundred Fourty One & Ps. Thirty Four Only ","One Cubic Metres",{"$f":"ROUNDUP(B465*D465,0)","v":41456}]
[3,{"$f":"'Royaly '!C99","v":1031.3100000000002},"Royalty Charges for Murum etc. Completed.",141.34,"One Hundred Fourty One & Ps. Thirty Four Only ","One Cubic Metres",{"$f":"ROUNDUP(B466*D466,0)","v":145766}]
[4,{"$f":"'Royaly '!C101","v":257.75199999999995},"Royalty Charges for UCR masonary rubble etc. complete.",141.34,"One Hundred Fourty One & Ps. Thirty Four Only ","One Cubic Metres",36431]
[null,"In words",{"$f":"NumberToWord(G468)","v":{"$error":"#NAME?"}},null,"Total Rs. ",null,{"$f":"SUM(G464:G467)-2","v":223651}]
[null,null,null,null,"Grand Total Rs.",null,{"$f":"G72+G240+G278+G333+G371+G402+G433+G460+G468-1","v":7830909}]
[]
[null,"In words:-",{"$f":"NumberToWord(G469)","v":{"$error":"#NAME?"}}]

{"sheet":"Shedule B Abst","index":7,"n_rows":25,"n_cols":4,"rows_kept":25,"cut":false,"hidden":true,"merged":[[24,1,24,5],[0,0,0,4],[1,0,1,4],[2,0,2,3],[4,0,4,3],[6,0,6,3],[8,0,8,3]]}
["MAHARASHTRA STATE WAREHOUSING CORPORATION"]
["( A Govt. Public Sector Undertaking)"]
["583/B, MARKET YARD, GULTEKADI, PUNE-411037"]
[]
[{"$f":"Recap!B6","v":"NAME OF WORK :-  CONSTRUCTION OF 1/2160 MT CAP PRE- ENGINEERED WH BLDG WITH ANCILLARY WORKS AT: NAGZARI DIST. LATUR"}]
[]
["Total amount of Schedule - 'B' "]
[]
["A B S T R A C T  "]
[]
[]
[null,{"$f":"'Shedule B'!B14:C14","v":"S.W. I - W.H.BUILDING 1/2160M T "},"Rs.",{"$f":"'Shedule B'!G72","v":7527737}]
[null,"S.W. II  -OFFICE BUILDING ","Rs.",{"$f":"'Shedule B'!G240","v":0}]
[null,{"$f":"'Shedule B'!B242:C242","v":{"$error":"#REF!"}},"Rs.",0]
[null,{"$f":"'Shedule B'!B281:C281","v":{"$error":"#REF!"}},"Rs.",0]
[null,{"$f":"'Shedule B'!B336","v":{"$error":"#REF!"}},"Rs.",0]
[null,{"$f":"'Shedule B'!B373:C373","v":{"$error":"#REF!"}},"Rs.",0]
[null,{"$f":"'Shedule B'!B405:C405","v":{"$error":"#REF!"}},"Rs.",0]
[null,{"$f":"'Shedule B'!B436:C436","v":"Sub work III:- Material Lab Testing charges"},"Rs.",{"$f":"'Shedule B'!G460","v":79550}]
[null,{"$f":"'Shedule B'!B462:C462","v":"SUBWORK IV :- Royalty Charges"},"Rs.",{"$f":"'Shedule B'!G468","v":223651}]
[null,"PEB STRUCTURE","Rs.",{"$f":"Recap!#REF!","v":{"$error":"#REF!"}}]
[null,"Total ","Rs.",{"$f":"SUM(D12:D21)","v":{"$error":"#REF!"}}]
[]
[]
["In Words :-",{"$f":"NumberToWord(D22)","v":{"$error":"#NAME?"}}]

{"sheet":"TS (2)","index":8,"n_rows":22,"n_cols":8,"rows_kept":22,"cut":false,"hidden":false,"merged":[[23,6,23,7],[13,1,14,7],[15,1,15,7],[16,1,16,7],[20,5,20,7],[21,5,21,7],[9,0,9,7],[11,0,11,1],[11,2,11,7],[12,1,12,4],[1,0,1,7],[2,2,2,7],[3,2,3,7],[4,0,4,7],[5,0,5,5]]}
[]
["MAHARASHTRA STATE WAREHOUSING CORPORATION"]
[null,null,"583/B, Market Yard, Gultekadi, Pune-37"]
[null,null,"Tel. 020-,24206850/55"]
["Email: - enggbranch.ho@mswc.in, gmengg@mswc.in\nWebsite: mswarehousing.com\n"]
[null,null,null,null,null,null,null,"Dated :-"]
[]
[]
[]
["TECHNICAL SANCTION"]
[]
["NAME OF WORK  ",null," CONSTRUCTION OF 1/2160 MT CAP PRE- ENGINEERED WH BLDG WITH ANCILLARY WORKS AT: NAGZARI DIST. LATUR"]
[null,"This is certified that,"]
[null,"                               Technical sanction has been accorded to the Construction of 1/2160 MT Cap.Pre -Engineered Wh Bldg. With ancillary work for Vikas Agro Producer Co.Ltd. At Nagzari Latur,Dist.Latur and is amounting to Rs. 1,43,09,267/-"]
[]
[null,"(In words Rupees One Crore Fourty Three Lakh Nine Thousand Two Hundread Sixty Seven Only)"]
[null,"                             The Estimate is sanctioned in Hon.Balasaheb Thakare Agri Business And Rural Transforamation (SMART ) Project,Pune ."]
[]
[]
[]
[null,null,null,null,null,"GENERAL MANAGER (ENGG)"]
[null,null,null,null,null,"MSWC PUNE"]

{"sheet":"Recap","index":9,"n_rows":83,"n_cols":9,"rows_kept":83,"cut":false,"hidden":false,"merged":[[0,0,0,7],[1,0,1,7],[3,1,3,6],[5,1,5,7]]}
[{"$f":"'DSR-Sheet I  '!B52","v":"VIKAS AGRO PRODUCER CO.LTD"}]
[{"$f":"'Wh. '!B3","v":"Gat No.79 / Nagzari, Tal- Latur Dist- Latur "}]
[]
[null,"R E C A  P U L A T I O N      S H E E T "]
[]
[null,{"$f":"'Wh. '!B5","v":"NAME OF WORK :-  CONSTRUCTION OF 1/2160 MT CAP PRE- ENGINEERED WH BLDG WITH ANCILLARY WORKS AT: NAGZARI DIST. LATUR"}]
[]
["                               ",null,null,null,null,null,{"$f":"'Wh. '!C6","v":2160}]
[]
[null,{"$f":"'DSR-Sheet I  '!D5","v":"Based on E S S R -2019-20 & MR"}]
[null,null,null,null,null,null,"Rate per MT","Rate per Unit "]
[null,"PARTICULARS","UNIT","Unit",null,"AMOUNT "]
[]
[null,{"$f":"'DSR-Sheet I  '!C56","v":"S.W. I - W.H.BUILDING 1/2160M T "},{"$f":"'Wh. '!K7","v":1144.5616},"sq m","Rs",{"$f":"'DSR-Sheet I  '!P124","v":7549178.0002499986},{"$f":"F14/G8","v":3494.989814930555},{"$f":"F14/C14","v":6595.6939322881344},13280899]
[]
[null,{"$f":"EL!B11","v":"S.W. II - Elecrification"},{"$f":"G8","v":2160},"MT","Rs",{"$f":"EL!K44","v":106524.94999999998}]
[]
[null,{"$f":"'Lab Tests'!A3","v":"Sub work III:- Material Lab Testing charges"},null,null,"Rs",{"$f":"'Lab Tests'!H33","v":79550},null,null,135750]
[]
[null,{"$f":"'Royaly '!B8:M8","v":"SUBWORK IV :- Royalty Charges"},null,null,"Rs",{"$f":"'Royaly '!J105","v":223652},null,null,831680]
[]
[null,"Above Plinth   (PEB  WH. BLDG.)",{"$f":"'Wh. '!K8","v":1111},"sq m","Rs",{"$f":"'DSR-Sheet I  '!P130","v":4116425.74},{"$f":"F22/G8","v":1905.7526574074075},{"$f":"F22/C22","v":3705.1536813681369}]
[]
[null,"Gross Total ( Civil + PEB )",null,null,"Rs",{"$f":"SUM(F14:F23)","v":12075330.690249998},{"$f":"F24/$G$8","v":5590.4308751157396},{"$f":"F24/C14","v":10550.179815791476}]
[]
[]
[null,"Add GST 18% ",null,null,"Rs",{"$f":"F24*0.18","v":2173559.5242449995}]
[]
[null,"Add 0.50% labour Insurance",null,null,"Rs",{"$f":"F24*0.5%","v":60376.653451249993}]
[]
[null,"Grand Total",null,null,"Rs",{"$f":"SUM(F24:F30)","v":14309266.867946249},{"$f":"F31/$G$8","v":6624.6605870121521},{"$f":"F31/C14","v":12501.9630817129}]
[]
[]
[]
[]
[]
[]
[]
[]
[]
[]
[]
[null,"PARTICULARS","UNIT","Unit",null,"AMOUNT "]
[]
[null,"S.W. I - W.H.BUILDING  2/3600M T ",{"$f":"'Wh. '!K59","v":0},"sq m","Rs",13325855.987082141,{"$f":"F45/G39","v":{"$error":"#DIV/0!"}},{"$f":"F45/C$14","v":11642.759976467969}]
[]
[null,"Above Plinth   (PEB  WH. BLDG.)",{"$f":"'Wh. '!K60","v":0.6},"sq m","Rs",9949767.6314000003,{"$f":"F47/$G$8","v":4606.3739034259261},{"$f":"F47/C47","v":16582946.052333334}]
[]
[null,"Total cost of godown ",null,null,null,{"$f":"SUM(F45:F47)","v":23275623.618482143},{"$f":"SUM(G45:G47)","v":{"$error":"#DIV/0!"}},{"$f":"SUM(H45:H47)","v":16594588.812309802}]
[]
[]
[]
[]
[]
[]
[]
[]
[]
[]
[]
[]
[]
[]
[]
[]
[]
[]
[]
[]
[]
[]
[]
[]
[]
[]
[]
[null,"Add GST 12% on civil work  except  PEB",null,null,"Rs",{"$f":"F45*0.12","v":1599102.7184498569}]
[]
[null,"Add GST 18% on  PEB",null,null,"Rs",{"$f":"F47*0.18","v":1790958.173652}]
[]
[null,"Add 0.50% labour Insurance",null,null,"Rs",{"$f":"F49*0.05","v":1163781.1809241071}]
[]
[null,"Grand Total",null,null,"Rs",{"$f":"F81+F79+F77+F49","v":27829465.691508107},{"$f":"F83/G8","v":12884.011894216716}]

{"sheet":"DSR-Sheet I  ","index":10,"n_rows":321,"n_cols":32,"rows_kept":321,"cut":false,"hidden":false,"merged":[[136,7,136,8],[136,9,137,9],[286,7,286,8],[286,9,287,9],[240,12,241,12],[179,7,179,8],[179,9,180,9],[125,2,125,4],[131,12,131,14],[0,1,0,15],[1,1,1,15],[3,5,3,6],[58,7,58,8],[55,9,55,13],[2,2,2,9],[51,1,51,15],[52,1,52,15],[58,9,59,9],[54,2,54,14],[53,2,53,13]]}
[null,{"$f":"'Wh. '!B2","v":"VIKAS AGRO PRODUCER CO.LTD"}]
[null,{"$f":"'Wh. '!B3","v":"Gat No.79 / Nagzari, Tal- Latur Dist- Latur "}]
[null,null,{"$f":"'Wh. '!B5","v":"NAME OF WORK :-  CONSTRUCTION OF 1/2160 MT CAP PRE- ENGINEERED WH BLDG WITH ANCILLARY WORKS AT: NAGZARI DIST. LATUR"},null,null,null,null,null,null,null,null,null,null,null,null,null,null,"1:5:10 PCC","01:02:04","RCC M20","UCR","BBM","HM","Steel Bar","Struct. Steel","Plaster","40/60 MM","HM for Road"]
[]
[null,null,"LEADS & RATES OF MATERIALS","Based on E S S R -2019-20 & MR"]
[]
[null,"S.N.","MATERIAL & LOCATION"," UNIT","LEADS "," CHARGES",null,"LEAD "," Pay load","NET","rate/unit"]
[null,null,null," ","KM","ACTUAL","INITIAL","DIFF","Factor ",null,null,null,null,null,null,null,null,{"$f":"477.85+((532.55-477.85)/5)*2.5","v":505.2}]
[null,1,"SAND    "," CU M",89,{"$f":"M9","v":1036.5509999999999},0,{"$f":"F9-G9","v":1036.5509999999999},1,{"$f":"H9","v":1036.5509999999999},{"$f":"H9/I9","v":1036.5509999999999},null,{"$f":"((1046.46-947.37)/10*9)+947.37","v":1036.5509999999999}]
[null,2,"METAL UPTO 40MM  crushed "," CU M",18,{"$f":"M10","v":347.44600000000003},0,{"$f":"F10-G10","v":347.44600000000003},1,{"$f":"H10","v":347.44600000000003},{"$f":"H10/I10","v":347.44600000000003},null,{"$f":"((369.63-314.17)/5*3)+314.17","v":347.44600000000003}]
[null,3,"METAL ABOVE 40 MM   Road "," CU M",18,{"$f":"M11","v":347.44600000000003},0,347.44600000000003,1,{"$f":"H11","v":347.44600000000003},{"$f":"H11/I11","v":347.44600000000003},null,{"$f":"((369.63-314.17)/5*3)+314.17","v":347.44600000000003}]
[null,4,"RUBBLE"," CU M",18,{"$f":"M12","v":443.54599999999999},0,443.54599999999999,1,{"$f":"H12","v":443.54599999999999},{"$f":"H12/I12","v":443.54599999999999},null,{"$f":"((471.87-401.06)/5*3)+401.06","v":443.54599999999999}]
[null,5,"BRICKS","Cum",18,{"$f":"M13","v":501.26800000000003},0,501.26800000000003,1,{"$f":"H13","v":501.26800000000003},{"$f":"H13/I13","v":501.26800000000003},null,{"$f":"((540.88-441.85)/5*3)+441.85","v":501.26800000000003}]
[null,null,"( 475 bricks per Cum )"]
[null,6,"HARD MURUM/Soft Murumn"," CU M",5,{"$f":"M15","v":210.71},0,210.71,1,{"$f":"H15","v":210.71},{"$f":"H15/I15","v":210.71},null,210.71]
[null,7,"Royalty",1,141.34]
[null,null,"Cement ",null,5,{"$f":"F15","v":210.71},null,{"$f":"F17","v":210.71},{"$f":"7.5*20","v":150},{"$f":"H17/I17","v":1.4047333333333334},{"$f":"J17","v":1.4047333333333334}]
[null,null,"Steel",null,5,{"$f":"F17","v":210.71},null,{"$f":"F18","v":210.71},null,null,{"$f":"F18","v":210.71}]
[]
[null,null,null,null,"QTY","RATE","AMOUNT"]
[null,1,"C.C. M 10 for foundation & beddding","SAND",0.47,{"$f":"K9","v":1036.5509999999999},{"$f":"E21*F21","v":487.17896999999994}]
[null,null,null,"METAL",0.94,{"$f":"H10","v":347.44600000000003},{"$f":"E22*F22","v":326.59924000000001}]
[null,null,null,"Total",null,null,{"$f":"SUM(G21:G22)","v":813.77820999999994},null,"The centre under MIDC area"]
[null,2,"P & C U.C.R masonary","SAND",0.4,{"$f":"F21","v":1036.5509999999999},{"$f":"E24*F24","v":414.62040000000002},null,"Hence percentage required to be added will be percentage",null,null,null,0]
[null,null,null,"RUBBLE",1.1599999999999999,{"$f":"H12","v":443.54599999999999},{"$f":"E25*F25","v":514.51335999999992},null,"BLDG.WORKS ",null,null,null,0]
[null,null,null,"ROYALTY ",0,{"$f":"E16","v":141.34},{"$f":"E26*F26","v":0},null,"Tribal Area ",null,null,null,0]
[null,null,null,"Total",null,null,{"$f":"SUM(G24:G26)","v":929.13375999999994},null,"SERVICE CHARGES. ",null,null,null,0]
[null,3,"P &C B.B. masonary in   plinth & S.S ","SAND",0.32,{"$f":"F24","v":1036.5509999999999},{"$f":"E28*F28","v":331.69631999999996},null,"Total  Tax",null,null,null,{"$f":"SUM(M24:M27)","v":0}]
[null,null,null,"BRICKS",0.47499999999999998,{"$f":"J13","v":501.26800000000003},{"$f":"E29*F29","v":238.10230000000001}]
[null,null,null,"Total",null,null,{"$f":"SUM(G28:G29)","v":569.79862000000003}]
[null,4,"P & L R.C.C. (M-25)   ","SAND",0.38500000000000001,{"$f":"F28","v":1036.5509999999999},{"$f":"E31*F31","v":399.072135}]
[null,null,null,"METAL",0.77,{"$f":"F22","v":347.44600000000003},267.53342000000004]
[null,null,null,"Total",null,null,{"$f":"SUM(G31:G32)","v":666.60555500000009}]
[null,"4-A","P & L R.C.C. M 15","SAND",{"$f":"E31","v":0.38500000000000001},{"$f":"F31","v":1036.5509999999999},399.072135]
[null,null,null,"METAL",{"$f":"E32","v":0.77},{"$f":"F32","v":347.44600000000003},267.53342000000004]
[null,null,null,null,null,null,{"$f":"SUM(G34:G35)","v":666.60555500000009}]
[null,5,"P & A 25mm tk plaster","SAND",3.1E-2,{"$f":"F34","v":1036.5509999999999},{"$f":"E37*F37","v":32.133080999999997}]
[null,null,null,"ROYALTY ",0,0,0]
[null,null,null,"Total",null,null,{"$f":"SUM(G37:G38)","v":32.133080999999997}]
[null,6,"P & A 20 mm tk plaster","SAND",2.5000000000000001E-2,{"$f":"F37","v":1036.5509999999999},25.913775000000001]
[null,null,null,"ROYALTY ",0,0,0]
[null,null,null,"Total",null,null,{"$f":"SUM(G40:G41)","v":25.913775000000001}]
[null,7,"P & F ploished shahabad for sills & dado","SAND",2.4E-2,{"$f":"F40","v":1036.5509999999999},24.877223999999998]
[null,null,null,"ROYALTY ",0,0,0]
[null,null,null,"Total",null,null,{"$f":"SUM(G43:G44)","v":24.877223999999998}]
[null,8,"P & C half brick wall ","sand",3.5999999999999997E-2,{"$f":"F43","v":1036.5509999999999},37.315835999999997]
[null,null,"50 bricks per SQM","bricks",1,{"$f":"50*H13/475","v":52.765052631578953},52.765052631578953]
[null,null,null,"ROYALTY ",0,0,0]
[null,null,null,"Total",null,null,{"$f":"SUM(G46:G48)","v":90.080888631578944}]
[null,9,"P & a flush pointing in c.m.1:3 for stone masonary","sand",3.0000000000000001E-3,{"$f":"F46","v":1036.5509999999999},3.1096529999999998]
[null,null,null,"ROYALTY ",{"$f":"E48","v":0},0,0]
[null,{"$f":"B1","v":"VIKAS AGRO PRODUCER CO.LTD"},null,null,null,null,null,null,null,null,null,null,null,null,null,null,null,null,null,null,null,null,null,null,null,null,null,null,null,null,null,2]
[null,{"$f":"B2","v":"Gat No.79 / Nagzari, Tal- Latur Dist- Latur "}]
[null,null,{"$f":"C3","v":"NAME OF WORK :-  CONSTRUCTION OF 1/2160 MT CAP PRE- ENGINEERED WH BLDG WITH ANCILLARY WORKS AT: NAGZARI DIST. LATUR"}]
[null,null,"RATE ANALYSIS"]
[null,null,"S.W. I - W.H.BUILDING 1/2160M T ",null,null,null,null,null,null,{"$f":"D5","v":"Based on E S S R -2019-20 & MR"}]
[]
[]
[null,"I.N.","DESCRIPTON OF ITEM","QTY.","UNIT","I.N./ P.N"," BASIC","LEAD CHARGES",null,"Deduct SCADA","TOTAL","Add 0   % ","TOTAL OF","ADD    % ","TOTAL OF","AMOUNT",null,null,null,null,null,null,null,null,null,null,null,null,"REMARKS"]
[null,null,null,null,null,null,"RATE","SAND","METAL",null,null,"C Area","RATES","FOR ","RATES"]
[null,null,null,null,null,null,null,"HM","Bricks",0.05,null,"Charges","6 TO 11","CHARGES","6 TO 14"]
[null,null,null,null,null,null,null,null,null,0.05,null,0,null,{"$f":"M28","v":0}]
["Sr No",1,2,3,4,5,6,7,8,9,10,11,12,13,14,15]
[]
[null,"1'","Labour charges for removing grass",{"$f":"'Wh. '!M86","v":0},"sq m","M.R.",2,null,null,null,{"$f":"SUM(G65:J65)","v":2},null,{"$f":"K65+L65","v":2},{"$f":"M65*$N$62","v":0},{"$f":"ROUND(M65+N65,2)","v":2},{"$f":"D65*O65","v":0},null,null,null,null,null,null,null,null,null,null,null,null,{"$f":"P65","v":0}]
[null,"1\"","Cutting down trees  30 cms to 60 cms dia.",{"$f":"'Wh. '!M92","v":0},"Nos. ","2.01/26",411,null,null,null,{"$f":"SUM(G66:J66)","v":411},null,411,0,411,0]
[{"$f":"'Wh. '!A94","v":1},"1-A","Ex for foundation in  soil , soft murum up to 1.5 m etc",{"$f":"'Wh. '!M114","v":265},"cu m ","21.02/197",157,null,null,null,157,null,157,0,157,{"$f":"D67*O67","v":41605}]
[{"$f":"'Wh. '!A116","v":2},"1-A'","Ex for foundation in  soil from  1.50 m  to 3.00 m etc",{"$f":"'Wh. '!M125","v":1},"cu m ","21.04/197",196,null,null,null,196,null,196,0,196,196]
[null," (1-A\") ","Ex for foundation in Soil,  upto 3.00  to 4.5 meters",0,"cu m ","21.04/187",0,null,null,null,0,null,0,0,0,0]
[{"$f":"'Wh. '!A147","v":3},"1-B","Ex for foundation in  H.m.  up to 1.50 m etc",{"$f":"'Wh. '!M165","v":44},"cu m ","21.06/197",172,null,null,null,172,null,172,0,172,7568]
[null,"1-B'","Ex for foundation in  H.m. from  1.50 m to 3.00 mtr.  etc",0,"cu m ","21.08/197",215,null,null,null,215,null,215,0,215,0]
[null,"1-C","Ex for foundation in  H.m. & boulder   1.50 m etc",0,"cu m ","21.10/197",191,null,null,null,191,null,191,0,191,0]
[null,"1-C'","Ex for foundation in  H.m. & boulder   1.50 m   etc",0,"cu m ","21.12/198",236,null,null,null,236,null,236,0,236,0]
[null,"1-D","Ex for foundation in   soft rock up to  1.50 m",0,"cu m ","21.14/198",329,null,null,null,329,null,329,0,329,0]
[null,"1-E ","Ex for foundation in  hard rock up to  1.50 m by chiselling",{"$f":"'Wh. '!M169","v":0},"cu m ","21.17/198",670,null,null,null,670,null,670,0,670,0,null,{"$f":"D75","v":0}]
[{"$f":"'Wh. '!A171","v":4},"1-F ","Ex  in  hard rock up to 1.50  m by proclain machine",{"$f":"'Wh. '!M189","v":32},"cu m ","21.17/197",670,null,null,null,670,null,670,0,670,21440,null,null,null,null,{"$f":"D76","v":32},null,null,null,null,null,null,null,{"$f":"P76","v":21440}]
[null,"1-G ","Ex inside  plinth in  soil , soft murum etc",0,"cu m ","2.11/27",73,null,null,null,73,null,73,0,73,0,null,null,null,null,null,{"$f":"D77","v":0}]
[null,"1 - H ","Ex inside  plinth in  Hard murum etc",0,"cu m ","2.13/27",84,null,null,null,84,null,84,0,84,0,null,null,null,null,null,null,null,{"$f":"D78","v":0}]
[null,"1-I","P/F Dowel bars ",0,"No","51.14/512",403,null,null,null,403,null,403,0,403,0]
[{"$f":"'Wh. '!A190","v":5},2,"P & L P.C.C.M 10 for foundation & bedding",{"$f":"'Wh. '!M210","v":100},"cu m ","24.01/226",4766,{"$f":"G21","v":487.17896999999994},{"$f":"G22","v":326.59924000000001},{"$f":"-G80*$J$62","v":-238.3},5341.4782100000002,null,5341.4782100000002,0,5341.48,534148,null,null,null,{"$f":"D80","v":100}]
[null,3,"P & C U.C.R masonary for foundation & plinth in C.M.1:6 ",{"$f":"'Wh. '!M217","v":0},"cu m ","28.01/257",4043,{"$f":"G24","v":414.62040000000002},{"$f":"G25","v":514.51335999999992},null,4972.1337599999997,null,4972.1337599999997,0,4972.13,0,null,null,null,{"$f":"D81","v":0}]
[{"$f":"'Wh. '!A218","v":6},4,"P &C B.B. masonary for foundation & plinth in C.M.1:6 ",{"$f":"'Wh. '!M229","v":28},"cu m ","27.01/254",5820,{"$f":"G28","v":331.69631999999996},{"$f":"G29","v":238.10230000000001},null,6389.7986199999996,null,6389.7986199999996,0,6389.8,178914.4,null,null,null,{"$f":"D82","v":28}]
[{"$f":"'Wh. '!A242","v":7},5,"P & F TMT  bar   reinforcement",{"$f":"'Wh. '!M246","v":14.72},"M T ","26.33/245",62581,null,null,null,62581,null,62581,0,62581,921192.32000000007,null,null,null,{"$f":"D83","v":14.72}]
[{"$f":"'Wh. '!A248","v":8},6,"P & L R.C.C. M-25 for footing",{"$f":"'Wh. '!M258","v":19},"cu m ","25.13/232",5846,{"$f":"G31","v":399.072135},{"$f":"G32","v":267.53342000000004},{"$f":"-G84*$J$62","v":-292.3},6220.3055549999999,null,6220.3055549999999,0,6220.31,118185.89000000001,null,null,null,{"$f":"D84","v":19}]
[{"$f":"'Wh. '!A260","v":9},7,"P & L R.C.C. M-25 for column",{"$f":"'Wh. '!M283","v":33},"cu m ","25.33/233",11394,{"$f":"H84","v":399.072135},{"$f":"I84","v":267.53342000000004},{"$f":"-G85*$J$62","v":-569.70000000000005},11490.905554999999,null,11490.905554999999,0,11490.91,379200.02999999997,null,null,null,null,null,{"$f":"D85","v":33}]
[{"$f":"'Wh. '!A285","v":10},8,"P & L R.C.C. M-25 for beams & lintels",{"$f":"'Wh. '!M321","v":59},"cu m ","25.52/235",10050,{"$f":"H85","v":399.072135},{"$f":"I84","v":267.53342000000004},{"$f":"-G86*$J$62","v":-502.5},10214.105555,null,10214.105555,0,10214.11,602632.49,null,null,{"$f":"D86","v":59}]
[{"$f":"'Wh. '!A323","v":11},9,"P & L R.C.C. M-25 for slabs",{"$f":"'Wh. '!M327","v":13},"cu m ","25.72/237",12181,{"$f":"H86","v":399.072135},{"$f":"I84","v":267.53342000000004},{"$f":"-G87*$J$62","v":-609.05000000000007},12238.555555000001,null,12238.555555000001,0,12238.56,159101.28,null,null,null,null,null,null,null,null,null,{"$f":"D87","v":13}]
[{"$f":"'Wh. '!A328","v":12},10,"P & L R.C.C. M-25 for wethershed",{"$f":"'Wh. '!M336","v":4},"cu m ","26.07/239",11343,{"$f":"H87","v":399.072135},{"$f":"I84","v":267.53342000000004},{"$f":"-G88*$J$62","v":-567.15},11442.455555,null,11442.455555,0,11442.46,45769.84,null,null,null,null,null,null,null,null,null,{"$f":"D88","v":4}]
[{"$f":"'Wh. '!A338","v":13},11,"P & L  II class B.B masonary in superstructure",{"$f":"'Wh. '!M356","v":144},"cu m ","27.01/254",5820,{"$f":"H82","v":331.69631999999996},{"$f":"I82","v":238.10230000000001},null,6389.7986199999996,null,6389.7986199999996,0,6389.8,920131.20000000007,null,null,null,null,null,null,null,null,null,{"$f":"D89","v":144}]
[null,12,"P & L  C.C M-15 for bed block",{"$f":"'Wh. '!M362","v":0},"cu m ","24.16/229",5179,{"$f":"G34","v":399.072135},{"$f":"G35","v":267.53342000000004},null,5845.6055550000001,null,5845.6055550000001,0,5845.61,0,null,null,null,null,null,null,null,null,null,{"$f":"D90","v":0}]
[{"$f":"'Wh. '!A364","v":14},"13A","P C.P. 20 mm  in C.M 1:4   inside with neeru",{"$f":"'Wh. '!M379","v":902},"sq m","32.06/268",386,{"$f":"G42","v":25.913775000000001},null,null,411.91377499999999,null,411.91377499999999,0,411.91,371542.82]
[{"$f":"'Wh. '!A381","v":15},"13B","P C.P. 20 mm  in C.M 1:4    with cement finish",{"$f":"'Wh. '!M385","v":60},"cu m ","32.07/268+32.21/270",386,{"$f":"H91","v":25.913775000000001},null,null,411.91377499999999,null,411.91377499999999,0,411.91,24714.600000000002]
[{"$f":"'Wh. '!A387","v":16},"13C","P C.P. 20 mm tk in C.M 1:4    OUTSIDE ",{"$f":"'Wh. '!M399","v":1080},"sq m","32.07/268",392,{"$f":"H91","v":25.913775000000001},null,null,417.91377499999999,null,417.91377499999999,0,417.91,451342.80000000005]
[null,"13D","P C.P. 20 mm tk in C.M 1:4 with slurry finish ",{"$f":"'Wh. '!M412","v":0},"sq m","32.07+32.21",{"$f":"G93+57","v":449},{"$f":"G40","v":25.913775000000001},null,null,474.91377499999999,null,474.91377499999999,0,474.91,0]
[null,"13E","P/A gypsum plaster (with Gypsum material of Gypsum India /Mega Sign or equivalent make) with finishing with gypsum material in 10 to 13 millimeter thickness to newly brick surface (Excluding rough cast plaster) in all position including preparing and Finishing the surface scaffolding etc. complete.",{"$f":"'Wh. '!M419","v":0},"sq m","32.31/271",536,{"$f":"G41","v":0},null,null,{"$f":"SUM(G95:J95)","v":536},null,{"$f":"K95+L95","v":536},{"$f":"M95*$N$62","v":0},{"$f":"ROUND(M95+N95,2)","v":536},{"$f":"D95*O95","v":0}]
[{"$f":"'Wh. '!A421","v":17},14,"P/ Applying White wash",{"$f":"'Wh. '!M436","v":902},"sq m","36.03/290+36.01/290",{"$f":"9.3+3.3","v":12.600000000000001},null,null,null,12.600000000000001,null,12.600000000000001,{"$f":"M96*$N$62","v":0},12.6,11365.199999999999]
[{"$f":"'Wh. '!A437","v":18},15,"P & A Apex paint",{"$f":"'Wh. '!M449","v":1080},"sq m","35.25/288",212,null,null,null,212,null,212,0,212,228960]
[{"$f":"'Wh. '!A451","v":19},16,"P & A  oil paint  3 coats for parapet,stack lines & plinth  ",{"$f":"'Wh. '!M464","v":35},"sq m","35.11/287",73,null,null,null,73,null,{"$f":"K98+L98","v":73},0,73,{"$f":"D98*O98","v":2555}]
[{"$f":"'Wh. '!A466","v":20},17,"P/F sills of polished kota stone",{"$f":"'Wh. '!M469","v":20},"sq m","33.19/276",1080,null,null,null,1080,null,1080,0,1080,21600,null,null,null,null,null,null,{"$f":"D99","v":20}]
[{"$f":"'Wh. '!A471","v":21},18,"P/F alluminium shutter  ventilators",{"$f":"'Wh. '!M476","v":51},"sq m","R.A.",{"$f":"RA!F109","v":6038.04},null,null,null,6038.04,null,6038.04,0,6038.04,307940.03999999998]
[null,"19A","P/F Steel Rilling shutters with ",{"$f":"'Wh. '!M480","v":0},"sq m","R.A.",{"$f":"RA!F34","v":4294.1045751633983},null,null,null,4294.1045751633983,null,4294.1045751633983,0,4294.1000000000004,0]
[null,"19B","P/F Steel Grill Rilling shutters",{"$f":"'Wh. '!M485","v":0},"sq m","R.A.",{"$f":"RA!F75","v":3146.6737628384694},null,null,null,3146.6737628384694,null,3146.6737628384694,0,3146.67,0]
[null,"19C","P/F Steel Rilling shutters with mechanical gear",{"$f":"'Wh. '!M490","v":0},"sq m","R.A.",{"$f":"RA!F49","v":4424.5466666666671},null,null,null,{"$f":"SUM(G103:J103)","v":4424.5466666666671},null,{"$f":"K103+L103","v":4424.5466666666671},{"$f":"M103*$N$62","v":0},{"$f":"ROUND(M103+N103,2)","v":4424.55},{"$f":"D103*O103","v":0}]
[{"$f":"'Wh. '!A492","v":22},20,"Filling in plinth with approved excavated stuff",{"$f":"'Wh. '!M495","v":106},"cu m ","21.36/201",96,null,null,null,96,null,96,{"$f":"M104*$N$62","v":0},96,10176,null,null,{"$f":"D104","v":106},null,null,null,null,null,null,null,null,null,null,null,null,4]
[{"$f":"'Wh. '!A497","v":23},"21A","P H.M. Filling in plinth                                                         R.A.",{"$f":"'Wh. '!M511-D104","v":859.42500000000018},"cu m ","RA",{"$f":"RA!F172","v":733.2120000000001},null,null,null,733.2120000000001,null,733.2120000000001,{"$f":"M105*$N$62","v":0},733.21,630139.00425000011]
[{"$f":"'Wh. '!A513","v":24},"21B","Compaction of H.M.filling in plinth",{"$f":"'Wh. '!M519","v":3333},"sq m","2.31/29",16,null,"`",null,16,null,16,{"$f":"M106*$N$62","v":0},16,{"$f":"D106*O106","v":53328}]
[{"$f":"'Wh. '!A521","v":25},"22A","P & L stone metal layer in plinth                                       R.A",{"$f":"'Wh. '!M530","v":222.2},"cu m","RA",{"$f":"RA!G203","v":1455.38},null,"                                                                                                                                                                                                                                                                                                              ",null,1455.38,null,1455.38,{"$f":"M107*$N$62","v":0},1455.38,323385.43599999999]
[{"$f":"'Wh. '!A532","v":26},"22B","Compaction of stone metal layer ",{"$f":"'Wh. '!M538","v":130.5},"sq m ","50.61/447",25,null,null,null,25,null,25,{"$f":"M108*$N$62","v":0},25,3262.5]
[{"$f":"'Wh. '!A540","v":27},"23A","P & L  C.C. M 20 Tremix for flooring",{"$f":"'Wh. '!M546","v":1111},"Sq.m","24.08/227",{"$f":"RA!F250","v":889.4},{"$f":"H87/6.66","v":59.920740990990993},{"$f":"I106","v":"`"},{"$f":"-G109*$J$62","v":-44.47},{"$f":"SUM(G109:J109)","v":904.85074099099097},null,904.85074099099097,{"$f":"M109*$N$62","v":0},{"$f":"ROUND(M109+N109,2)","v":904.85},1005288.35]
[null,"23B","Providing M-15 for coping & flooring",0,"cum","817/226",5179,{"$f":"H109","v":59.920740990990993},null,{"$f":"-G110*$J$62","v":-258.95},4979.9707409909915,null,4979.9707409909915,{"$f":"M110*$N$62","v":0},4979.97,0]
[null,"23C","Providing groove cutting ",{"$f":"'Wh. '!M562","v":0},"R M","R A ",{"$f":"RA!F228","v":0},null,null,null,0,null,0,0,0,0]
[null,24,"P & F M .S.Angle sill of 50x50x6 mm                                       R.A.",0,"R M","RA",0,null,null,null,0,null,0,0,0,0]
[null,25,"P & F M.S.Chanal ISMC  150",0,"MT","23.01/223",73844,null,null,null,73844,null,73844,0,73844,0]
[null,26,"P & L NP2 class pipe of 450 mm dia  ",0,"R M","23/528",946,null,null,null,946,null,946,0,946,0]
[null,"27A","P & supplying Alluminium ladder                                                                        R.A.",0,"R M","M.R.",1000,null,null,null,1000,null,1000,0,1000,0]
[null,"27B","P & F M.S.ladder                                                                           R.A.",0,"R M","RA",0,null,null,null,0,null,0,0,0,0]
[{"$f":"'Wh. '!A563","v":28},28,"P & F lightening conductor           ",{"$f":"'Wh. '!M566","v":15},"R M ","RA",{"$f":"RA!F237","v":2098.1333333333332},null,null,null,2098.1333333333332,null,2098.1333333333332,0,2098.13,31471.95]
[null,29,"P & F marble plate                                                ",{"$f":"'Wh. '!M571","v":0},"sq m","44.11/374",12424,null,null,null,12424,null,12424,0,12424,0]
[null,"30A","Conveying material for lead of 50 to 300 m",{"$f":"'Wh. '!M576","v":0},"cu m","2.25/28",129,null,null,null,129,null,129,0,129,0]
[{"$f":"'Wh. '!A577","v":29},"30B","Conveying material for lead of _3 Km  ",{"$f":"'Wh. '!M582","v":267},"cu m","lead stat.",186.55,null,null,null,186.55,null,186.55,0,186.55,49808.850000000006]
[null,31,"Providing Expansion joint in RCC frame",{"$f":"'Wh. '!M588","v":0},"Sq.m","30.02/261",3979,null,null,null,3979,null,3979,0,3979,0]
[null,32,"Prov. Solling below footing ",{"$f":"'Wh. '!M600","v":0},"Cum","21.41/201",1055,{"$f":"1.32*J12","v":585.48072000000002},null,null,1640.48072,null,1640.48072,0,1640.48,0]
[{"$f":"'Wh. '!A602","v":30},33," Providing pre-constructional Anti-termite treatment",{"$f":"'Wh. '!M605","v":1111},"sq m ","21.24/199",83,null,null,null,83,null,83,0,83,92213]
[null,null,"TOTAL  FOR W.H.BLDG",null,null,null,null,null,null,null,null,null,null,null,"TOTAL  RS",{"$f":"SUM(P67:P123)","v":7549178.0002499986}]
[]
[null,null,"Above Plinth   (  PEB WH. BLDG.)"]
[null,1,"Prov. & erecting  PEB (roofing of clip lock sheet)",{"$f":"'Wh. '!K8","v":1111},"Sqm,","RA",{"$f":"'RA (PEB)'!I56","v":3568.3352787652493},0,null,null,{"$f":"SUM(G127:J127)","v":3568.3352787652493},null,{"$f":"K127+L127","v":3568.3352787652493},null,{"$f":"ROUND(M127+N127,2)","v":3568.34},{"$f":"D127*O127","v":3964425.74}]
[null,2,"Prov.& fixing 24\" S  S  turbo ventilators with polycorbonate sheet ",16,"No. ","42/516",8090,410,1000,null,{"$f":"SUM(G128:J128)","v":9500},null,{"$f":"K128+L128","v":9500},null,{"$f":"ROUND(M128+N128,2)","v":9500},{"$f":"D128*O128","v":152000}]
[]
[null,null,null,null,null,null,null,null,null,null,null,null,null,null,"TOTAL  RS",{"$f":"SUM(P127:P128)","v":4116425.74}]
[]
[null,null,null,null,null,null,null,null,null,null,null,null,"Grand Total ",null,null,{"$f":"P124+P130","v":11665603.740249999}]
[]
[]
[]
[]
[null,"I.N.","DESCRIPTON OF ITEM","QTY.","UNIT","I.N./ P.N"," BASIC","LEAD CHARGES",null,"Deduct SCADA","TOTAL","Add 0   % ","TOTAL OF","ADD    % ","TOTAL OF","AMOUNT",null,null,null,null,null,null,null,null,null,null,null,null,"REMARKS"]
[null,null,null,null,null,null,"RATE","SAND","METAL",null,null,"C Area","RATES","FOR ","RATES"]
[null,null,null,null,null,null,null,"HM","Bricks",0.05,null,"Charges","6 TO 11","CHARGES","6 TO 14"]
[null,null,null,null,null,null,null,null,null,0.05,null,0,null,{"$f":"N62","v":0}]
[null,1,2,3,4,5,6,7,8,9,11,12,13,14,15,16]
[null,null,"S.W.- III INTERNAL    ROAD"]
[null,"1A"," Excavation for side gutters & road formation in earth soil of all type sand gravel including conveying the excavated materials up",0,"Cum","2.11/27",73,null,null,null,{"$f":"SUM(G143:J143)","v":73},null,{"$f":"K143+L143","v":73},{"$f":"M143*$N$62","v":0},{"$f":"ROUND(M143+N143,2)","v":73},{"$f":"D143*O143","v":0},null,null,1084,81169.919999999998]
[null,"1B"," Excavation in  hard murum, dressing section to the required grade camber and side slo",0,"Cum","2.13/27",84,null,null,null,84,null,84,0,84,0,null,null,217,18731.439999999999]
[null,"1C","Excavation in soft rock dressing section to the required grade camber and side slopes and conveying",0,"Cum","2.14/27",120,null,null,null,120,null,120,0,120,0,null,null,5,639.6]
[null,"1D","Excavation  in Hard rock by controlled blasting dressing section to the required grade camber and side slopes",0,"Cum","2.15/27",167,null,null,null,167,null,167,0,167,0,null,null,1,183.04]
[null,"1D","Soiling 80 mm trap metal",0,"Cum","30/16521.4/201",1055,null,{"$f":"K11","v":347.44600000000003},null,1402.4459999999999,null,1402.4459999999999,0,1402.45,0,null,null,1,183.04]
[null,2,"Supplying 60 mm trap stone metal ",0,"cu m ","50.56/446",700,null,{"$f":"J11","v":347.44600000000003},null,1047.4459999999999,null,1047.4459999999999,0,1047.45,0,null,null,5,2526.6999999999998]
[null,3,"Supplying 40 mm trap stone metal ",0,"cu m ","50.57/447",750,null,{"$f":"I148","v":347.44600000000003},null,1097.4459999999999,null,1097.4459999999999,0,1097.45,0,null,null,430,440896.19999999995]
[null,"4 - A","Supplying hard murum ",0,"cu m ","2.29a/29",327,null,{"$f":"J15","v":210.71},null,537.71,null,537.71,0,537.71,0,null,null,287,309196.57999999996]
[null,"4 - B","Supplying soft murum ",0,"cu m ","2.29b/29",297,null,{"$f":"I150","v":210.71},null,507.71000000000004,null,507.71000000000004,0,507.71,0,null,null,156,92150.760000000009]
[null,"5 - A","Spreading  hard murum ",0,"cu m ","2.30/29",63,null,null,null,63,null,63,0,63,0,null,null,79,45762.33]
[null,"5 - B","Spreading  soft murum ",0,"cu m ",{"$f":"F152","v":"2.30/29"},63,null,null,null,63,null,63,0,63,0,null,null,156,9247.68]
[null,6,"Spreading 60 mm trap stone metal ",0,"cu m ","50.58/447",85,null,null,null,85,null,85,0,85,0,null,null,79,4683.12]
[null,7,"Spreading 40 mm trap stone metal ",0,"cu m ",{"$f":"F154","v":"50.58/447"},85,null,null,null,85,null,85,0,85,0,null,null,430,38012]
[null,"8A","Compacting O.S.  metal layer ",0,"sq m ","50.59/447",27,null,null,null,27,null,27,0,27,0,null,null,287,25370.800000000003]
[null,"8B","Compacting  size metal layer ",0,"sq m ",{"$f":"F156","v":"50.59/447"},27,null,null,null,27,null,27,0,27,0,null,null,2169,60905.52]
[null,9,"Compacting H M side width layer ",0,"sq m ","2.31/29",16,null,null,null,16,null,16,0,16,0,null,null,2349,65959.92]
[null,10,"providing & fixing R. C. C. 1:2:4 guard stones as per type design including painting numbering fixing in std. Size C. C. 1:4:8 block complete.",0,"No. ","6.01c/53",885,null,null,null,885,null,885,0,885,0,null,null,105,1747.2]
[null,"11A","Excavation earth soil of all types sand, gravel & soft murum, depth upto 1.50 meters ",0,"Cum",{"$f":"F67","v":"21.02/197"},{"$f":"G67","v":157},null,null,null,157,null,157,0,157,0,null,null,64,49786.879999999997]
[null,"11 B","Excavation hard murum depth upto 1.50m  including removing the excavated stuff upto a distance of 50 meters beyond the building area all lifts stacking or spreading as directed, dewatering, shoring, strutting if ",0,"Cum",{"$f":"F70","v":"21.06/197"},{"$f":"G70","v":172},null,null,null,172,null,172,0,172,0,null,null,12.6,1873.8719999999998]
[null,"11C"," Excavation in H.M. & boulder upto 1.50 meters including removing the excavated stuff upto a distance of 50 meters beyond the building area all lifts stacking or spreading as directed, dewatering, shoring, strutting if necessary preparing the bed for foundation including necessary backfilling etc complete (Bd. A3/259)",0,"Cum",{"$f":"F72","v":"21.10/197"},{"$f":"G72","v":191},null,null,null,191,null,191,0,191,0,null,null,7,1142.96]
[null,"11D"," Excavation in  Hard rock dressing section to the required grade camber and side slopes and conveying the excavated materials upto a lead of 50 M  & spreading for embankment or stacking as directed.",0,"Cum",{"$f":"F75","v":"21.17/198"},{"$f":"G75","v":670},null,null,null,670,null,670,0,670,0,null,null,2,361.92]
[null,12,"P & L M 10 cement concrete (1:3:6) of trap metal  for foundation & bedding including dewatering if necessary, compacting, curing etc. complete [Bd.E.1 / 287]",0,"Cum",{"$f":"F80","v":"24.01/226"},4766,487.17896999999994,null,{"$f":"-G164*$J$62","v":-238.3},5014.8789699999998,null,5014.8789699999998,0,5014.88,0,null,null,2,9189.1200000000008]
[null,13,"Providing U.C.R. masonary of trap stones in C.M. 1:6 in foundation & plinth including dewatering, striking joints on exposed surfaces and pointing with C.M. 1:3 on outside surfaces curing etc. complete.(Bd. H.1/329)",0,"Cum","28.01/257",4043,414.62040000000002,null,null,4457.6203999999998,null,4457.6203999999998,0,4457.62,0,null,null,4,17457.72]
[null,14,"Providing & fixing in position M.S. tor reinforcement of various diameters for R.C.C. foundations footings, columns, beams, lintels, ",0,"MT",{"$f":"F83","v":"26.33/245"},{"$f":"G83","v":62581},null,null,null,62581,null,62581,0,62581,0,null,null,0.6,40024.301999999996]
[null,15,"M-20 of trap metal for R. C. C. work in beams and lintels as per ",0,"Cum",{"$f":"F86","v":"25.52/235"},{"$f":"G86","v":10050},{"$f":"H86","v":399.072135},null,{"$f":"-G167*$J$62","v":-502.5},9946.5721350000003,null,9946.5721350000003,0,9946.57,0,null,null,4,36991.800000000003]
[null,16," cement plaster 20 mm thick in two coats in C. M. 1 : 4 with slurry finish to concrete or brick surface or U. C. R surface in ",0,"Sqm",{"$f":"F91","v":"32.06/268"},{"$f":"G91","v":386},{"$f":"H91","v":25.913775000000001},null,null,411.91377499999999,null,411.91377499999999,0,411.91,0,null,null,15,7129.8]
[null,17,"Providing pointing with Cement Morter (1: 3) for stone masonary including scaffolding curing etc. complete [Bd. L. 15 / 372]",0,"Sqm","32.17/269",149,null,null,null,149,null,149,0,149,0,null,null,0,0]
[null,18,"providing & laying C. C. pipe of NP2 class 600 mm dia metre in proper line, level & slope including provi",0,"Rmt","20/528",1480,null,null,null,1480,null,1480,0,1480,0,null,null,1,1476.8]
[null,19,"Supplynig & spreading Hard mumrum for cushioning of R C C pipe including watering rammi ng & leveling etc complete.",0,"Cum",{"$f":"F105","v":"RA"},{"$f":"G105","v":733.2120000000001},null,null,null,733.2120000000001,null,733.2120000000001,0,733.21,0,null,null,1,792.84]
[null,20,"cement concrete    1 : 2 : 4 of trap metal for coping to column & compound wall moulded chamfered as per  drawing ",0,"Cum",{"$f":"F109","v":"24.08/227"},{"$f":"G109","v":889.4},{"$f":"G34","v":399.072135},{"$f":"G35","v":267.53342000000004},{"$f":"-G172*$J$62","v":-44.47},1511.5355549999999,null,1511.5355549999999,0,1511.54,0,null,null,0,0]
[null,21," Providing soling using 80 mm size trap metal in 15 cm. layer including filling voids with Crushed sand/grit, ramming, watering etc. complete.",0,"Cum","21.40/201",1055,{"$f":"K11","v":347.44600000000003},null,null,1402.4459999999999,null,1402.4459999999999,0,1402.45,0,null,null,656,456412]
[null,"22A","Preaparing embankment with approved materials obtained from the cutting within  a lead of 50 m including laying in layers of 20 to 30 cms",0,"Cum","2.27/28",155,null,null,null,155,null,155,0,155,0,null,null,5,785.19999999999993]
[null,"22B","Providing earthwork for embankment with materials obtained from other sources with all leads & lift including laying in layers of 20 to 30 cms",0,"Cum","2.28/29",424,{"$f":"K15","v":210.71},null,null,634.71,null,634.71,0,634.71,0,null,null,10,1383.1999999999998]
[null,23,"Conveying the materials obtained from 300 m to 500 m excavation including all lifts, laying in layers, breaking clods, dressing to the required lines, curves, ",0,"Cum","2.25/28",139,null,null,null,139,null,139,0,139,0,null,null,1084,204941.04]
[null,24,"Conveying the materials obtained from excavation including all lifts, laying in layers, breaking clods, dressing to the required lines, curves, grades and section for all leads & lifts from the site of excavation to the site of deposition as directed. (Rd. 18 / P. 197)",0,"Cum",{"$f":"F120","v":"lead stat."},{"$f":"G120","v":186.55},null,null,null,186.55,null,186.55,0,186.55,0,null,null,0,0]
[null,25,{"$f":"'WBM Road'!B282:M282","v":0},0,"Sqm","3.38A/38",138,0,null,null,138,null,138,0,138,0,null,null,0,0]
[null,null,null,null,null,null,null,null,null,null,null,null,null,null,null,{"$f":"SUM(P143:P178)-27","v":-27},null,null,null,{"$f":"SUM(T143:T178)","v":2027115.3039999998}]
[null,"I.N.","DESCRIPTON OF ITEM","QTY.","UNIT","I.N./ P.N"," BASIC","LEAD CHARGES",null,"Deduct SCADA","TOTAL","Add 0   % ","TOTAL OF","ADD    % ","TOTAL OF","AMOUNT"]
[null,null,null,null,null,null,"RATE","SAND","METAL",null,null,"C Area","RATES","FOR ","RATES"]
[null,null,null,null,null,null,null,"HM","Bricks",0.05,null,"Charges","6 TO 11","CHARGES","6 TO 14"]
[null,null,null,null,null,null,null,null,null,0.05,null,0,null,{"$f":"N62","v":0}]
[null,1,2,3,4,5,6,7,8,9,11,12,13,14,15,16]
[null,null,{"$f":"Recap!#REF!","v":{"$error":"#REF!"}}]
[]
[null,1,{"$f":"'UG watertank'!B25:M25","v":0},0,"cu m ",21.02,157,null,null,null,{"$f":"SUM(G187:J187)","v":157},null,{"$f":"K187+L187","v":157},{"$f":"M187*$N$62","v":0},{"$f":"ROUND(M187+N187,2)","v":157},{"$f":"D187*O187","v":0}]
[null,null,null,0]
[null,2,{"$f":"'UG watertank'!B29:M29","v":0},0,"cu m ",21.06,172,null,null,null,{"$f":"SUM(G189:J189)","v":172},null,{"$f":"K189+L189","v":172},{"$f":"M189*$N$62","v":0},{"$f":"ROUND(M189+N189,2)","v":172},{"$f":"D189*O189","v":0}]
[null,null,null,0]
[null,3,{"$f":"'UG watertank'!B34:M34","v":0},0,"cu m ",21.1,191,null,null,null,{"$f":"SUM(G191:J191)","v":191},null,{"$f":"K191+L191","v":191},{"$f":"M191*$N$62","v":0},{"$f":"ROUND(M191+N191,2)","v":191},{"$f":"D191*O191","v":0}]
[null,null,null,0]
[null,4,{"$f":"'UG watertank'!B38:M38","v":0},0,"cu m ",21.14,329,null,null,null,{"$f":"SUM(G193:J193)","v":329},null,{"$f":"K193+L193","v":329},{"$f":"M193*$N$62","v":0},{"$f":"ROUND(M193+N193,2)","v":329},{"$f":"D193*O193","v":0}]
[null,null,null,0]
[null,5,{"$f":"'UG watertank'!B53:M53","v":0},0,"cu m",21.4,1055,null,{"$f":"K11","v":347.44600000000003},null,1402.4459999999999,null,{"$f":"K195+L195","v":1402.4459999999999},{"$f":"M195*$N$62","v":0},{"$f":"ROUND(M195+N195,2)","v":1402.45},{"$f":"D195*O195","v":0}]
[null,null,null,0]
[null,6,{"$f":"'UG watertank'!B59:M59","v":0},0,"cu m",21.39,2021,{"$f":"K9","v":1036.5509999999999},null,null,3057.5509999999999,null,{"$f":"K197+L197","v":3057.5509999999999},{"$f":"M197*$N$62","v":0},{"$f":"ROUND(M197+N197,2)","v":3057.55},{"$f":"D197*O197","v":0}]
[null,null,null,0]
[null,7,{"$f":"'UG watertank'!B68:M68","v":0},0,"cu m ",24.01,4766,{"$f":"G21","v":487.17896999999994},{"$f":"G22","v":326.59924000000001},{"$f":"-G199*0.05","v":-238.3},5341.4782100000002,null,{"$f":"K199+L199","v":5341.4782100000002},{"$f":"M199*$N$62","v":0},{"$f":"ROUND(M199+N199,2)","v":5341.48},{"$f":"D199*O199","v":0}]
[null,null,null,0]
[null,8,{"$f":"'UG watertank'!B73:M73","v":0},0,"cum ",21.37,440,null,null,null,{"$f":"SUM(G201:J201)","v":440},null,{"$f":"K201+L201","v":440},{"$f":"M201*$N$62","v":0},{"$f":"ROUND(M201+N201,2)","v":440},{"$f":"D201*O201","v":0}]
[null,null,null,0]
[null,9,{"$f":"'UG watertank'!B80:M80","v":0},0,"Litres",42.54,11,null,null,null,{"$f":"SUM(G203:J203)","v":11},null,{"$f":"K203+L203","v":11},{"$f":"M203*$N$62","v":0},{"$f":"ROUND(M203+N203,2)","v":11},{"$f":"D203*O203","v":0}]
[null,null,null,0]
[null,10,{"$f":"'UG watertank'!B86:M86","v":0},0,"Cum","pn 540",186.55,null,null,null,{"$f":"SUM(G205:J205)","v":186.55},null,{"$f":"K205+L205","v":186.55},{"$f":"M205*$N$62","v":0},{"$f":"ROUND(M205+N205,2)","v":186.55},{"$f":"D205*O205","v":0}]
[null,null,null,0]
[null,11,{"$f":"'UG watertank'!B92:M92","v":0},0,"Cum",{"$f":"F205","v":"pn 540"},154.79,null,null,null,{"$f":"SUM(G207:J207)","v":154.79},null,{"$f":"K207+L207","v":154.79},{"$f":"M207*$N$62","v":0},{"$f":"ROUND(M207+N207,2)","v":154.79},{"$f":"D207*O207","v":0}]
[null,null,null,0]
[null,12,{"$f":"'UG watertank'!B97:M97","v":0},0,"Rmt",42.63,326,null,null,null,{"$f":"SUM(G209:J209)","v":326},null,{"$f":"K209+L209","v":326},{"$f":"M209*$N$62","v":0},{"$f":"ROUND(M209+N209,2)","v":326},{"$f":"D209*O209","v":0}]
[null,null,null,0]
[null,13,{"$f":"'UG watertank'!B101:M101","v":0},0,"Rmt",42.62,244,null,null,null,{"$f":"SUM(G211:J211)","v":244},null,{"$f":"K211+L211","v":244},{"$f":"M211*$N$62","v":0},{"$f":"ROUND(M211+N211,2)","v":244},{"$f":"D211*O211","v":0}]
[null,null,null,0]
[null,14,{"$f":"'UG watertank'!B106:M106","v":0},0,"Nos",41.44,516,null,null,null,{"$f":"SUM(G213:J213)","v":516},null,{"$f":"K213+L213","v":516},{"$f":"M213*$N$62","v":0},{"$f":"ROUND(M213+N213,2)","v":516},{"$f":"D213*O213","v":0}]
[null,null,null,0]
[null,15,{"$f":"'UG watertank'!B112:M112","v":0},0,"Nos",41.43,402,null,null,null,{"$f":"SUM(G215:J215)","v":402},null,{"$f":"K215+L215","v":402},{"$f":"M215*$N$62","v":0},{"$f":"ROUND(M215+N215,2)","v":402},{"$f":"D215*O215","v":0}]
[null,null,null,0]
[null,16," Item No - (16) :- Supplying and erecting cetrifugal water pump   3.75 KW / 5.00 HP ,  65 mm suction and 50 mm delivery pipe … ( 12-1-10/208) ele",0,"Nos","12.01.10",{"$f":"21048+61","v":21109},null,null,null,{"$f":"SUM(G217:J217)","v":21109},null,{"$f":"K217+L217","v":21109},{"$f":"M217*0.05","v":1055.45},{"$f":"ROUND(M217+N217,2)","v":22164.45},{"$f":"D217*O217","v":0}]
[null,null,null,0]
[null,17," Item No - (17) :- Supplying and erecting D.O. L. starter  400 V 3 ph.  ( 12-4-2/218 ) ele",0,"Nos","12.4.2",{"$f":"1790+10","v":1800},null,null,null,{"$f":"SUM(G219:J219)","v":1800},null,{"$f":"K219+L219","v":1800},{"$f":"M219*0.05","v":90},{"$f":"ROUND(M219+N219,2)","v":1890},{"$f":"D219*O219","v":0}]
[null,null,null,0]
[null,18," Item No - (18) :- Supplying and erecting  65 mm dia. Ball type footvalve  ( 16-6-34/248 ) ele",0,"Nos","16.6.34",{"$f":"2266+5","v":2271},null,null,null,{"$f":"SUM(G221:J221)","v":2271},null,{"$f":"K221+L221","v":2271},{"$f":"M221*0.05","v":113.55000000000001},{"$f":"ROUND(M221+N221,2)","v":2384.5500000000002},{"$f":"D221*O221","v":0}]
[null,null,null,0]
[null,19," Item No - (19) :- Supplying and erecting  & terminating XLPE armoured cable  4 core 6 sqmm  copper conductor  ( 7-2-32/133) ele ",0,"Rmt","7.2.32",{"$f":"336+1","v":337},null,null,null,{"$f":"SUM(G223:J223)","v":337},null,{"$f":"K223+L223","v":337},{"$f":"M223*0.05","v":16.850000000000001},{"$f":"ROUND(M223+N223,2)","v":353.85},{"$f":"D223*O223","v":0}]
[null,null,null,0]
[null,20," Item No - ( 20) :- Supplying and erecting  & marking FPMCB  6  Amp to 32 Amp  ( 5-3-16/97) ele ",0,"Nos","5.3.16",{"$f":"905+2","v":907},null,null,null,{"$f":"SUM(G225:J225)","v":907},null,{"$f":"K225+L225","v":907},{"$f":"M225*0.05","v":45.35},{"$f":"ROUND(M225+N225,2)","v":952.35},{"$f":"D225*O225","v":0}]
[null,null,null,0]
[null,21," Item No - ( 21) :- Supplying and erecting  CRCA sheet metal  one way enclosure suitable for DPMCB  ( 5-4-23/99) ele",0,"Sqm","5.4.23",{"$f":"339+2","v":341},null,null,null,{"$f":"SUM(G227:J227)","v":341},null,{"$f":"K227+L227","v":341},{"$f":"M227*0.05","v":17.05},{"$f":"ROUND(M227+N227,2)","v":358.05},{"$f":"D227*O227","v":0}]
[null,null,null,0]
[null,22," Item No - ( 22) :-  Providing earthing with GI earthplate  size 60x60x0.6 cm ( 9-1-1/161) ele",0,"Nos","9.1.1",{"$f":"931+49","v":980},null,null,null,{"$f":"SUM(G229:J229)","v":980},null,{"$f":"K229+L229","v":980},{"$f":"M229*0.05","v":49},{"$f":"ROUND(M229+N229,2)","v":1029},{"$f":"D229*O229","v":0}]
[null,null,null,0]
[null,23," Item No - ( 23) :-  Supplying and ercting GI sheet 1.6 mm (  16SWG) for fabrication of boxes  ( 6-1-2/114) ele ",0,"Sqm","6.1.2",{"$f":"2117+19","v":2136},null,null,null,{"$f":"SUM(G231:J231)","v":2136},null,{"$f":"K231+L231","v":2136},{"$f":"M231*0.05","v":106.80000000000001},{"$f":"ROUND(M231+N231,2)","v":2242.8000000000002},{"$f":"D231*O231","v":0}]
[null,null,null,0]
[null,24," Item No - ( 24) :-  Supplying and ercting marine plywood 18/19 mm tk. ( 6-1-14/114) ele",0,"Sqm","6.1.14",{"$f":"1263+7","v":1270},null,null,null,{"$f":"SUM(G233:J233)","v":1270},null,{"$f":"K233+L233","v":1270},{"$f":"M233*0.05","v":63.5},{"$f":"ROUND(M233+N233,2)","v":1333.5},{"$f":"D233*O233","v":0}]
[null,null,null,0]
[null,25," Item No - ( 25) :-  Supplying and ercting HDP pipe  ISI mark 50 mm dia. ( 16-5-18/247) ele ",0,"Rmt","16.5.18",{"$f":"126+1","v":127},null,null,null,{"$f":"SUM(G235:J235)","v":127},null,{"$f":"K235+L235","v":127},{"$f":"M235*0.05","v":6.3500000000000005},{"$f":"ROUND(M235+N235,2)","v":133.35},{"$f":"D235*O235","v":0}]
[null,null,null,0]
[null,26,"Item No - (26) :-Providing and laying in trenches 50 mm dia. CPVC pipe including necessary excavation, fittings. Refilling trenches etc. complete. Including removing existing pipe line if necessary and conveying and stacking the same as directed etc. complete.",0,"Rmt",42.66,641,null,null,null,{"$f":"SUM(G237:J237)","v":641},null,{"$f":"K237+L237","v":641},{"$f":"M237*$N$62","v":0},{"$f":"ROUND(M237+N237,2)","v":641},{"$f":"D237*O237","v":0}]
[]
[null,null,null,null,null,null,null,null,null,null,null,null,null,null,null,{"$f":"SUM(P187:P238)","v":0}]
[null,null,"SUBWORK V :- Borewell"]
[null,null,null,"QUANTITY","UNIT","I.N./ P.N"," BASIC",null,"TOTAL",null,null,"LESS %","Other than Dist","ADD   % ","TOTAL ","AMOUNT"]
[null,"I.N.","DESCRIPTON OF ITEM",null,null,null,"RATE","R.A.",null,null,null,"VAT",null,"Service Tax","Rate"]
[null,null,null,null,null,null,null,null,null,null,null,0,"5%",0]
[null,null,null,null,null,null,"Rs.   Ps "]
[null,1,2,3,4,5,6,7,8,9,10,11,12,13,14,15]
[null,1,"Drilling the bore well 150 mm dia. Upto a depth as directed in all types of strata by using bore drilling machine incluiding all necessary  material & equipment etc. complete as directed.",0,"Rmt.","GSDA",380,null,{"$f":"SUM(G246:H246)","v":380},null,null,0,0,{"$f":"I246*N243","v":0},{"$f":"SUM(I246:N246)","v":380},{"$f":"O246*D246","v":0}]
[null,null,null,0]
[null,2," Providing and fixing M. S. casing pipe of 150mm diameter of approved make with help of drilling machine upto desired depth including lowering & grouting etc. complete as directed..",0,"Rmt.","GSDA",{"$f":"1615+160","v":1775},null,{"$f":"SUM(G248:H248)","v":1775},null,null,0,0,{"$f":"I248*N243","v":0},{"$f":"SUM(I248:N248)","v":1775},{"$f":"O248*D248","v":0}]
[null,null,"lowering & grouting- 160 rs per meter",0]
[null,3,"Supplying and erecting submersible pumpset of 1.125 KW/1.5 HP with 230 V, 50 c/s AC supply suitable for 150 mm dia. borewell suitable for 84 to 40 LPM discharge at 30 to 90 m head & (max. efficiency at 69 m head & 60 lpm) discharge & delivery pipe of Size-50 mm diameter with a necessary H type clamps as per specification no. WP-SMP",0,"No.","1933-02-12",{"$f":"((3658*5%)+27517)","v":27699.9},null,{"$f":"SUM(G250:H250)","v":27699.9},null,null,0,{"$f":"I250*M243","v":1384.9950000000001},{"$f":"I250*N247","v":0},{"$f":"SUM(I250:N250)","v":29084.895},{"$f":"O250*D250","v":0}]
[null,null,null,0,null,"Elect.DSR"]
[null,4,"Supplying, erecting & terminating PVC armoured cable 3 core 4 sq mm copper conductor continuous 5.48 sq mm (12 SWG) G.I. earth wire complete erected with glands & lugs, on wall/ trusses/pole or laid in provided trench/ pipe as per specification no. CB-LT/CU ",0,"Rmt.","7-2-16/131",{"$f":"((17*5%)+267)","v":267.85000000000002},null,{"$f":"SUM(G252:H252)","v":267.85000000000002},null,null,0,{"$f":"I252*M243","v":13.392500000000002},{"$f":"I252*N249","v":0},{"$f":"SUM(I252:N252)","v":281.24250000000001},{"$f":"O252*D252","v":0}]
[null,null,null,0,null,"Elect.DSR"]
[null,5,"Supplying and erecting high density polythene pipe ISI mark 32 mm dia. suitable for pressure of 6 kg/cm2 connected to Jet/Submersible pump with required material complete.",0,"Rmt.","16-5-17/246",{"$f":"((25*5%)+101)","v":102.25},null,{"$f":"SUM(G254:H254)","v":102.25},null,null,0,{"$f":"I254*M243","v":5.1125000000000007},{"$f":"I254*N251","v":0},{"$f":"SUM(I254:N254)","v":107.3625},{"$f":"O254*D254","v":0}]
[null,null,null,0,null,"Elect.DSR"]
[null,"6-A"," Making trench in hard soil of suitable width and depth as per IS for laying provided L.T cable up to 25 sq mm complete. As per specification No. CW-EXN-CTR",0,"Rmt.","16-1-1/243",{"$f":"((97*5%)+138)","v":142.85},null,{"$f":"SUM(G256:H256)","v":142.85},null,null,0,{"$f":"I256*M243","v":7.1425000000000001},{"$f":"I256*N253","v":0},{"$f":"SUM(I256:N256)","v":149.99250000000001},{"$f":"O256*D256","v":0}]
[null,null,null,0,null,"Elect.DSR"]
[null,"6B","Supplyng and laying 75 mm diameter GI pipe A grade ISI mark for cable laid underground at required depth upto 90 cm including excavation, laying pipe, remaking the surface as it is. ",0,"Rmt.","16-5-8/246",{"$f":"((100*5%)+1031)","v":1036},null,{"$f":"SUM(G258:H258)","v":1036},null,null,0,{"$f":"I258*M243","v":51.800000000000004},{"$f":"I258*N255","v":0},{"$f":"SUM(I258:N258)","v":1087.8},{"$f":"O258*D258","v":0}]
[null,null,null,0,null,"Elect.DSR"]
[null,7,"Supplying and erecting G.I.pipe 15 mm dia. ‘B’ class at position with accessories. As per specification No. CW-PLB/GP",0,"Rmt.","16-5-1/246",{"$f":"((37*5%)+196)","v":197.85},null,{"$f":"SUM(G260:H260)","v":197.85},null,null,0,{"$f":"I260*M243","v":9.8925000000000001},{"$f":"I260*N257","v":0},{"$f":"SUM(I260:N260)","v":207.74250000000001},{"$f":"O260*D260","v":0}]
[null,null,null,0,null,"Elect.DSR"]
[null,8,"Supplying and erecting ISI mark G.I.pipe 20 mm dia.‘B’ class at position with accessories. As per specification No. CW-PLB/GP",0,"Rmt.","16-5-2/246",{"$f":"((37*5%)+235)","v":236.85},null,{"$f":"SUM(G262:H262)","v":236.85},null,null,0,{"$f":"I262*M243","v":11.842500000000001},{"$f":"I262*N259","v":0},{"$f":"SUM(I262:N262)","v":248.6925},{"$f":"O262*D262","v":0}]
[null,null,null,0,null,"Elect.DSR"]
[null,9," Providing & fixing in position 15 mm diameter screw down bib tap/ stop tap of brass heavy type and make including necessary sockets union nuts etc. complete.",0,"No.","41.40/345",548,null,{"$f":"SUM(G264:H264)","v":548},null,null,0,{"$f":"I264*M243","v":27.400000000000002},{"$f":"I264*N261","v":0},{"$f":"SUM(I264:N264)","v":575.4},{"$f":"O264*D264","v":0}]
[null,null,null,0,null,"Civil DSR"]
[null,10,"Providing & fixing in position 20 mm diameter screw down bib tap/ stop tap of brass heavy type and make including necessary sockets union nuts etc. complete.",0,"No.","41.41/346",830,null,{"$f":"SUM(G266:H266)","v":830},null,null,0,{"$f":"I266*M243","v":41.5},{"$f":"I266*N263","v":0},{"$f":"SUM(I266:N266)","v":871.5},{"$f":"O266*D266","v":0}]
[null,null,null,0,null,"Civil DSR"]
[null,11," Supplying and and fixing PVC wire rope for borewell etc. complete. ",0,"Rmt.","MR",15,null,{"$f":"SUM(G268:H268)","v":15},null,null,0,{"$f":"I268*M243","v":0.75},{"$f":"I268*N265","v":0},{"$f":"SUM(I268:N268)","v":15.75},{"$f":"O268*D268","v":0}]
[null,null,null,0]
[null,12,"Supplying & erecting automatic control panel for 1 Ph, 230 volt, A.c. Submersible/centrifugal pump set upto 2 HP consisting of DOL starter Of suitable relay range S.P.P., Combined ammeter/ voltmeter, phase indicating lamp enclosed in CRCA powder coated Vibration proof encloser with IP 54 protection. Control Panel should offer single phasing, phase reversal, phase inbalence etc ( Similar to LT model no.MR G2) .",0,"No.","12-4-20/220",{"$f":"((285*5%)+4819)","v":4833.25},null,{"$f":"SUM(G270:H270)","v":4833.25},null,null,0,{"$f":"I270*M243","v":241.66250000000002},{"$f":"I270*N267","v":0},{"$f":"SUM(I270:N270)","v":5074.9125000000004},{"$f":"O270*D270","v":0}]
[null,null,null,0,null,"Elect.DSR"]
[null,13,"Supplying and erecting flat flexible 3 core 2.5 sq mm PVC sheathed submersible type copper cable suitably clamped at fixed intervals with column pipe assembly complete.",0,"Rmt.","12-4-8/219",{"$f":"((26*5%)+119)","v":120.3},null,{"$f":"SUM(G272:H272)","v":120.3},null,null,0,{"$f":"I272*M243","v":6.0150000000000006},{"$f":"I272*N269","v":0},{"$f":"SUM(I272:N272)","v":126.315},{"$f":"O272*D272","v":0}]
[null,null,null,0,null,"Elect.DSR"]
[null,14,"Supplying and erecting 40mm dia. Gun metal foot valve at position with necessary materials.",0,"No.","16-6-2/247",{"$f":"((75*5%)+755)","v":758.75},null,{"$f":"SUM(G274:H274)","v":758.75},null,null,0,{"$f":"I274*M243","v":37.9375},{"$f":"I274*N271","v":0},{"$f":"SUM(I274:N274)","v":796.6875},{"$f":"O274*D274","v":0}]
[null,null,null,0,null,"Elect.DSR"]
[null,15,"Supplying, erecting & marking DPMCB 6A to 32A, C- series (for  motor/power)  in  provided  distribution  board   as  per   specification No. SW-SWR/MCB  ",0,"No.","5-3-6/96",{"$f":"((35*5%)+461)","v":462.75},null,{"$f":"SUM(G276:H276)","v":462.75},null,null,0,{"$f":"I276*M243","v":23.137500000000003},{"$f":"I276*N273","v":0},{"$f":"SUM(I276:N276)","v":485.88749999999999},{"$f":"O276*D276","v":0}]
[null,null,null,0,null,"Elect.DSR"]
[null,16,"Supplying & erecting CRCA sheet metal one way enclosures suitable  for  D.P.M.C.B.   /T.P.  M.C.B.   /F.P  M.C.B.  Complete   erected on angle iron frame.  ",0,"No.","5-4-23/99",{"$f":"((48*5%)+239)","v":241.4},null,{"$f":"SUM(G278:H278)","v":241.4},null,null,0,{"$f":"I278*M243","v":12.07},{"$f":"I278*N275","v":0},{"$f":"SUM(I278:N278)","v":253.47},{"$f":"O278*D278","v":0}]
[null,null,null,null,null,"Elect.DSR"]
[null,null,null,null,null,null,null,null,null,null,null,null,null,null,"Total",{"$f":"SUM(P246:P279)","v":0}]
[]
[]
[]
[]
[null,null,"SUBWORK VI :- RAIN WATER HARVESTING"]
[]
[null,null,null,"QUANTITY","UNIT","I.N./ P.N"," BASIC","LEAD CHARGES",null,"Deduct SCADA","TOTAL","Add 0   % ","TOTAL OF","ADD    % ","TOTAL OF","AMOUNT"]
[null,"I.N.","DESCRIPTON OF ITEM",null,null,null,"RATE","SAND","METAL",null,null,"C Area","RATES","FOR ","RATES"]
[null,null,null,null,null,null,null,"HM","Bricks",0.05,null,"Charges","6 TO 11","CHARGES","6 TO 14"]
[null,null,null,null,null,null,"Rs.   Ps ",null,null,0.05,null,0,null,{"$f":"N183","v":0}]
[null,1,2,3,4,5,6,7,8,9,10,11,12,13,14,15]
[]
[null,1,"Excavation for foundation in soil depth upto 1.50m  including removing the excavated stuff upto a distance of 50 meters beyond the building area all lifts stacking or spreading as directed, dewatering, shoring, strutting if necessary preparing the bed for foundation including necessary backfilling  etc complete (Bd.A2/ 260)",0,"cu m ",{"$f":"F187","v":21.02},{"$f":"G187","v":157},null,null,null,{"$f":"SUM(G293:J293)","v":157},null,{"$f":"K293+L293","v":157},{"$f":"M293*$N$62","v":0},{"$f":"ROUND(M293+N293,2)","v":157},{"$f":"D293*O293","v":0}]
[null,null,null,0]
[null,"1-A","Excavation for foundation insoil depth 1.50m   TO 3.00including removing the excavated stuff upto a distance of 50 meters beyond the building area all lifts stacking or spreading as directed, dewatering, shoring, strutting if necessary preparing the bed for foundation including necessary backfilling  etc complete (Bd.A2/ 260)",0,"cu m ",{"$f":"F68","v":"21.04/197"},{"$f":"G189","v":172},null,null,null,{"$f":"SUM(G295:J295)","v":172},null,{"$f":"K295+L295","v":172},{"$f":"M295*$N$62","v":0},{"$f":"ROUND(M295+N295,2)","v":172},{"$f":"D295*O295","v":0}]
[null,null,null,0]
[null,"1-B","Ex. for foundation in hard murum depth upto 1.50m  including removing the excavated stuff upto a distance of 50 meters beyond the building area all lifts stacking or spreading as directed, dewatering, shoring, strutting if necessary preparing the bed for foundation including necessary backfilling  etc complete (Bd.A2/ 260)",0,"cu m ",{"$f":"F70","v":"21.06/197"},{"$f":"G191","v":191},null,null,null,{"$f":"SUM(G297:J297)","v":191},null,{"$f":"K297+L297","v":191},{"$f":"M297*$N$62","v":0},{"$f":"ROUND(M297+N297,2)","v":191},{"$f":"D297*O297","v":0}]
[null,null,null,0]
[null,"1-C","Ex.  in hard murum depth  1.50m to 3.0m including removing the excavated stuff upto a distance of 50 meters beyond the building area all lifts stacking or spreading as directed, dewatering, shoring, strutting if necessary preparing the bed for foundation including necessary backfilling  etc complete (Bd.A2/ 260)",0,"cu m ",{"$f":"F71","v":"21.08/197"},{"$f":"G193","v":329},null,null,null,{"$f":"SUM(G299:J299)","v":329},null,{"$f":"K299+L299","v":329},{"$f":"M299*$N$62","v":0},{"$f":"ROUND(M299+N299,2)","v":329},{"$f":"D299*O299","v":0}]
[null,null,null,0]
[null,"1-D","Ex.  in hard murum  & boulders depth  1.50m including removing the excavated stuff upto a distance of 50 meters beyond the building area all lifts stacking or spreading as directed, dewatering, shoring, strutting if necessary preparing the bed for foundation including necessary backfilling  etc complete (Bd.A2/ 260)",0,"cu m ",{"$f":"F72","v":"21.10/197"},{"$f":"G195","v":1055},null,null,null,{"$f":"SUM(G301:J301)","v":1055},null,{"$f":"K301+L301","v":1055},{"$f":"M301*$N$62","v":0},{"$f":"ROUND(M301+N301,2)","v":1055},{"$f":"D301*O301","v":0}]
[null,null,null,0]
[null,"1-E","Ex.  in hard murum  & boulderdepth  1.50m TO 3.00  including removing the excavated stuff upto a distance of 50 meters beyond the building area all lifts stacking or spreading as directed, dewatering, shoring, strutting if necessary preparing the bed for foundation including necessary backfilling  etc complete (Bd.A2/ 260)",0,"cu m ","21.12/198",236,null,null,null,{"$f":"SUM(G303:J303)","v":236},null,{"$f":"K303+L303","v":236},{"$f":"M303*$N$62","v":0},{"$f":"ROUND(M303+N303,2)","v":236},{"$f":"D303*O303","v":0}]
[null,null,null,0]
[null,2,"Providing & laying in situ cement concrete M-15 of  trap metal for foundation & bedding including dewatering if necessary, compacting, curing etc. complete. [Bd. E.1  /287]",0,"cu m ","24.04/226","5179",{"$f":"G34","v":399.072135},{"$f":"G35","v":267.53342000000004},{"$f":"-(G305*0.05)","v":-258.95},{"$f":"G305+H305+I305+J305","v":5586.6555550000003},null,{"$f":"K305+L305","v":5586.6555550000003},{"$f":"M305*$N$62","v":0},{"$f":"ROUND(M305+N305,2)","v":5586.66},{"$f":"D305*O305","v":0}]
[null,null,null,0]
[null,3," Providing & Laying  dry /trap rubble stone metal soling 15 cm to 20 cm, thick including hand packing and compacting complewte.",0,"cu m ","21.38/201",1050,null,{"$f":"K12","v":443.54599999999999},null,{"$f":"SUM(G307:J307)","v":1493.546},null,{"$f":"K307+L307","v":1493.546},{"$f":"M307*$N$62","v":0},{"$f":"ROUND(M307+N307,2)","v":1493.55},{"$f":"D307*O307","v":0}]
[null,null,null,0]
[null,4," Providing & filling  brick  bat in excavated pit as directed by Engineer- in -charge.",0,"cu m ","M.R.",500,null,null,null,{"$f":"SUM(G309:J309)","v":500},null,{"$f":"K309+L309","v":500},{"$f":"M309*$N$62","v":0},{"$f":"ROUND(M309+N309,2)","v":500},{"$f":"D309*O309","v":0}]
[null,null,null,0]
[null,5," Providing & filling Sand in excavated pit of approved quality including watering compaction complete.",0,"cu m ","21.39/201",2021,{"$f":"K9","v":1036.5509999999999},null,null,{"$f":"SUM(G311:J311)","v":3057.5509999999999},null,{"$f":"K311+L311","v":3057.5509999999999},{"$f":"M311*$N$62","v":0},{"$f":"ROUND(M311+N311,2)","v":3057.55},{"$f":"D311*O311","v":0}]
[null,null,null,0]
[null,6,"Providing & Laying   in position polythene  sheet over excavated pit as directed by Engineer- in - charge.",0,"Sq.M","5.19/51",20,null,null,null,{"$f":"SUM(G313:J313)","v":20},null,{"$f":"K313+L313","v":20},{"$f":"M313*$N$62","v":0},{"$f":"ROUND(M313+N313,2)","v":20},{"$f":"D313*O313","v":0}]
[null,null,null,0]
[null,7," Providing & layiung  PVC PIPES 110 MM dia on the top of pit to drain the rain water inside the pit as directed by Engineer- in - charge.",0,"Rmt","42.28/354",478,null,null,null,{"$f":"SUM(G315:J315)","v":478},null,{"$f":"K315+L315","v":478},{"$f":"M315*$N$62","v":0},{"$f":"ROUND(M315+N315,2)","v":478},{"$f":"D315*O315","v":0}]
[null,null,null,0]
[null,8," Conveying the materials obtained from excavation including laying in layers, breaking clods, dressing to the required lines, curves, grades and section for all leads & lifts from the site of excavation to the site of deposition  area away  from complex as directed. ",0,"cu m ",{"$f":"F120","v":"lead stat."},{"$f":"G120","v":186.55},null,null,null,{"$f":"SUM(G317:J317)","v":186.55},null,{"$f":"K317+L317","v":186.55},{"$f":"M317*$N$62","v":0},{"$f":"ROUND(M317+N317,2)","v":186.55},{"$f":"D317*O317","v":0}]
[null,null,null,0]
[null,9,{"$f":"C246","v":"Drilling the bore well 150 mm dia. Upto a depth as directed in all types of strata by using bore drilling machine incluiding all necessary  material & equipment etc. complete as directed."},0,{"$f":"E246","v":"Rmt."},{"$f":"F246","v":"GSDA"},{"$f":"G246","v":380},null,null,null,{"$f":"SUM(G319:J319)","v":380},null,{"$f":"K319+L319","v":380},{"$f":"M319*$N$62","v":0},{"$f":"ROUND(M319+N319,2)","v":380},{"$f":"D319*O319","v":0}]
[]
[null,null,null,null,null,null,null,null,null,null,null,null,null,null,"Total",{"$f":"SUM(P293:P320)","v":0}]

{"sheet":"sheet 1 Bore ","index":11,"n_rows":137,"n_cols":15,"rows_kept":137,"cut":false,"hidden":true,"merged":[[97,11,98,11],[0,0,0,12],[1,0,1,12],[5,0,5,2]]}
["MAHARASHTRA STATE WAREHOUSING CORPORATION"]
["583/B, MARKET YARD , GULTEKADI, PUNE-411037"]
[]
[null,{"$f":"Recap!B6","v":"NAME OF WORK :-  CONSTRUCTION OF 1/2160 MT CAP PRE- ENGINEERED WH BLDG WITH ANCILLARY WORKS AT: NAGZARI DIST. LATUR"}]
[]
["LEADS & RATES OF MATERIALS",null,null,null,null,"BASED ON  State SSR 2019-20"]
[]
["S.N.","MATERIAL & LOCATION"," UNIT","LEADS "," CHARGES",null,null,"LEAD "," PAY ","NET","rate/unit","Name of quarry"]
[null,null," ","KM","ACTUAL","INITIAL",null,"DIFF","LOAD"]
[null,null,null,null,null,"5 KM",null,null,"FACTOR"]
[1,2,3,4,5,6,null,7,8]
[]
[1,"SAND    "," CU M",{"$f":"'DSR-Sheet I  '!E9","v":89},{"$f":"'DSR-Sheet I  '!F9","v":1036.5509999999999},0,null,{"$f":"E13-F13","v":1036.5509999999999},1,{"$f":"H13/I13","v":1036.5509999999999},{"$f":"E13/I13","v":1036.5509999999999}]
[2,"METAL UPTO 40MM"," CU M",{"$f":"'DSR-Sheet I  '!E10","v":18},{"$f":"'DSR-Sheet I  '!F10","v":347.44600000000003},{"$f":"F13","v":0},null,{"$f":"E14-F14","v":347.44600000000003},1,{"$f":"H14/I14","v":347.44600000000003},{"$f":"E14/I14","v":347.44600000000003}]
[3,"METAL ABOVE 40 MM"," CU M",{"$f":"'DSR-Sheet I  '!E11","v":18},{"$f":"'DSR-Sheet I  '!F11","v":347.44600000000003},0,null,{"$f":"E15-F15","v":347.44600000000003},1,{"$f":"H15/I15","v":347.44600000000003},{"$f":"E15/I15","v":347.44600000000003}]
[4,"RUBBLE"," CU M",{"$f":"'DSR-Sheet I  '!E12","v":18},{"$f":"'DSR-Sheet I  '!F12","v":443.54599999999999},0,null,{"$f":"E16-F16","v":443.54599999999999},1,{"$f":"H16/I16","v":443.54599999999999},202.26]
[5,"BRICKS"," CU M",{"$f":"'DSR-Sheet I  '!E13","v":18},{"$f":"'DSR-Sheet I  '!F13","v":501.26800000000003},0,null,{"$f":"E17-F17","v":501.26800000000003},1,{"$f":"H17","v":501.26800000000003},{"$f":"E17/I17","v":501.26800000000003}]
[null,null,null,null,null,null,null," ",null,null," "]
[6,"HARD MURUM"," CU M",{"$f":"'DSR-Sheet I  '!E15","v":5},{"$f":"'DSR-Sheet I  '!F15","v":210.71},0,null,{"$f":"E19-F19","v":210.71},1,{"$f":"H19/I19","v":210.71},{"$f":"E19/I19","v":210.71}]
[7,"SOFT MURUM"," CU M",{"$f":"D19","v":5},{"$f":"E19","v":210.71},{"$f":"F19","v":0},null,{"$f":"E20-F20","v":210.71},1,{"$f":"H20/I20","v":210.71},{"$f":"E20/I20","v":210.71}]
[]
[9,"Royalty charges  considered in DSR rate as per cu.mt.",null,null,141.34]
[]
[null,null,null,"QTY","RATE","AMOUNT"]
[1,"C.C.M-10 for foundation & beddding (Crush Sand)","SAND",0.47,{"$f":"J14","v":347.44600000000003},{"$f":"D25*E25","v":163.29962}]
[null,null,"METAL",0.94,{"$f":"J14","v":347.44600000000003},{"$f":"D26*E26","v":326.59924000000001}]
[null,null,null,null,null,{"$f":"SUM(F25:F26)","v":489.89886000000001}]
["1A","C.C.M-10 for foundation & beddding (Natural Sand)","SAND",0.47,{"$f":"E13","v":1036.5509999999999},{"$f":"D28*E28","v":487.17896999999994}]
[null,null,"METAL",0.94,{"$f":"E14","v":347.44600000000003},{"$f":"D29*E29","v":326.59924000000001}]
[null,null,null,null,null,{"$f":"SUM(F28:F29)","v":813.77820999999994}]
[2,"P & C U.C.R masonary","SAND",0.35,{"$f":"J13","v":1036.5509999999999},{"$f":"D31*E31","v":362.79284999999993}]
[null,null,"RUBBLE",1.1599999999999999,{"$f":"J16","v":443.54599999999999},{"$f":"D32*E32","v":514.51335999999992}]
[null,null,null,null,null,{"$f":"SUM(F31:F32)","v":877.30620999999985}]
[3,"P &C B.B. masonary in   plinth & S.S ","SAND",0.25,{"$f":"J13","v":1036.5509999999999},{"$f":"D34*E34","v":259.13774999999998}]
[null,null,"bricks",1,{"$f":"J17","v":501.26800000000003},{"$f":"D35*E35","v":501.26800000000003}]
[null,null,null,null,null,{"$f":"SUM(F34:F35)","v":760.40575000000001},null,null,"M - 15"]
["4A","P & L R.C.C.M-20 (Crush Sand )","SAND",0.42499999999999999,{"$f":"E25","v":347.44600000000003},{"$f":"D37*E37","v":147.66455000000002},null,0.44,{"$f":"E37","v":347.44600000000003},{"$f":"H37*I37","v":152.87624000000002}]
[null,null,"METAL",0.85,{"$f":"E26","v":347.44600000000003},{"$f":"D38*E38","v":295.32910000000004},null,0.88,{"$f":"E38","v":347.44600000000003},{"$f":"H38*I38","v":305.75248000000005}]
[null,null,null,null,null,{"$f":"SUM(F37:F38)","v":442.99365000000006},null,null,null,{"$f":"SUM(J37:J38)","v":458.62872000000004}]
[4,"P & L R.C.C.M-20  (Natural Sand)","SAND",0.42499999999999999,{"$f":"E28","v":1036.5509999999999},{"$f":"D40*E40","v":440.53417499999995}]
[null,null,"METAL",0.85,{"$f":"E29","v":347.44600000000003},{"$f":"D41*E41","v":295.32910000000004}]
[null,null,null,null,null,{"$f":"SUM(F40:F41)","v":735.86327499999993}]
[5,"P & A 20 mm tk plaster","SAND",2.5000000000000001E-2,{"$f":"J13","v":1036.5509999999999},{"$f":"D43*E43","v":25.913775000000001}]
[]
[6,"P & A 25 mm tk plaster","SAND",3.1E-2,{"$f":"J13","v":1036.5509999999999},{"$f":"D45*E45","v":32.133080999999997}]
[]
["6A","P & A 12 mm tk plaster","SAND",1.4999999999999999E-2,{"$f":"J13","v":1036.5509999999999},{"$f":"D47*E47","v":15.548264999999999}]
[]
[7,"P & F ploished shahabad for sills & dado","SAND",2.1999999999999999E-2,{"$f":"J13","v":1036.5509999999999},{"$f":"D49*E49","v":22.804121999999996}]
[]
[8,"P & C half brick wall ","sand",3.4000000000000002E-2,{"$f":"J13","v":1036.5509999999999},{"$f":"D51*E51","v":35.242733999999999}]
[null,null,"bricks",{"$f":"57/475","v":0.12},{"$f":"J17","v":501.26800000000003},{"$f":"D52*E52","v":60.152160000000002}]
[null,null,null,null,null,{"$f":"SUM(F51:F52)","v":95.394893999999994}]
[9,"P & a flush pointing in c.m.1:3 for stone masonary","sand",2.5000000000000001E-2,{"$f":"J13","v":1036.5509999999999},{"$f":"D54*E54","v":25.913775000000001}]
[]
[11,"Providing 50 mm thick semi grout bituminous road surface including supplying all materials preparing the existing road surface, laying the required thickness of metal layer ,heating & sprayiung bitumen spreading chips laying the seal coat & compacting complate ( Sp. Rd 60 P.No. 232 )","Metal ",{"$f":"8.7/100","v":8.6999999999999994E-2},{"$f":"E14","v":347.44600000000003},{"$f":"D56*E56","v":30.227802000000001}]
[null,null,"Bitumen",{"$f":"400/100","v":4},{"$f":"(4.8/1000)*405","v":1.9439999999999997},{"$f":"D57*E57","v":7.7759999999999989}]
[null,null,null,null,null,{"$f":"F56+F57","v":38.003802}]
[12,"Providing 50 mm thick compacted BBM on existing B.T.surface   (60/70 ) V G -30 GRADE  ","Metal ",{"$f":"8.7/100","v":8.6999999999999994E-2},{"$f":"E56","v":347.44600000000003},{"$f":"D59*E59","v":30.227802000000001}]
[null,null,"Bitumen",{"$f":"225/100","v":2.25},{"$f":"(2.25/1000)*405","v":0.91124999999999989},{"$f":"D60*E60","v":2.0503124999999995},null,0.5,1.75,2.25]
[null,null,null,null,null,{"$f":"F59+F60","v":32.278114500000001}]
[13,"Providing Hot Mix Hot Blaid 20 mm tk. Premix bituminous carpet with liquid seal coat ( Sp. Rd 60 P.No. 232 )","Metal ",{"$f":"2.88/100","v":2.8799999999999999E-2},{"$f":"E14","v":347.44600000000003},{"$f":"D62*E62","v":10.006444800000001}]
[null,null,"Bitumen",1.46,{"$f":"(3.75/1000)*405","v":1.51875},{"$f":"D63*E63","v":2.2173750000000001}]
[null,null,null,null,null,{"$f":"F62+F63","v":12.223819800000001}]
[null,"The centre falls under   sugarcane area  ","Building "]
[null,"Hence percentage required to be added will be  percentage",0]
[null,"Kranti Sugar cane"]
[null,"TOTAL ",{"$f":"SUM(C66:C67)","v":0}]
[]
[]
[]
[]
[]
[]
[]
[]
[]
[]
[]
[]
[]
[]
[]
[]
[]
[]
[]
[]
[]
[]
[]
[]
[]
[]
[]
[null,{"$f":"'Bore Mtrs.'!B444","v":"SUBWORK V :- Borewell"}]
[]
[null,null,"QUANTITY","UNIT","I.N./ P.N"," BASIC",null,"TOTAL",null,null,"LESS %","Other than Dist","ADD   % ","TOTAL ","AMOUNT"]
["I.N.","DESCRIPTON OF ITEM",null,null,null,"RATE","R.A.",null,null,null,"VAT",null,"Service Tax","Rate"]
[null,null,null,null,null,null,null,null,null,null,0,"5%",0]
[null,null,null,null,null,"Rs.   Ps "]
[1,2,3,4,5,6,7,8,9,10,11,12,13,14,15]
[{"$f":"'Bore Mtrs.'!A446","v":1},{"$f":"'Bore Mtrs.'!B446","v":"Drilling the bore well 150 mm dia. Upto a depth as directed in all types of strata by using bore drilling machine incluiding all necessary  material & equipment etc. complete as directed."},{"$f":"'Bore Mtrs.'!M450","v":100},{"$f":"'Bore Mtrs.'!N446","v":"Rmt."},"GSDA",380,null,{"$f":"SUM(F103:G103)","v":380},null,null,0,0,{"$f":"H103*M100","v":0},{"$f":"SUM(H103:M103)","v":380},{"$f":"N103*C103","v":38000}]
[]
[{"$f":"'Bore Mtrs.'!A452","v":2},{"$f":"'Bore Mtrs.'!B452","v":" Providing and fixing M. S. casing pipe of 150mm diameter of approved make with help of drilling machine upto desired depth including lowering & grouting etc. complete as directed.."},{"$f":"'Bore Mtrs.'!M456","v":6},{"$f":"'Bore Mtrs.'!N452","v":"Rmt."},"GSDA",{"$f":"1615+160","v":1775},null,{"$f":"SUM(F105:G105)","v":1775},null,null,0,0,{"$f":"H105*M100","v":0},{"$f":"SUM(H105:M105)","v":1775},{"$f":"N105*C105","v":10650}]
[null,"lowering & grouting- 160 rs per meter"]
[{"$f":"'Bore Mtrs.'!A458","v":3},{"$f":"'Bore Mtrs.'!B458","v":"Supplying and erecting submersible pumpset of 1.125 KW/1.5 HP with 230 V, 50 c/s AC supply suitable for 150 mm dia. borewell suitable for 84 to 40 LPM discharge at 30 to 90 m head & (max. efficiency at 69 m head & 60 lpm) discharge & delivery pipe of Size-50 mm diameter with a necessary H type clamps as per specification no. WP-SMP"},{"$f":"'Bore Mtrs.'!M462","v":1},{"$f":"'Bore Mtrs.'!N458","v":"No."},"1933-02-12",{"$f":"((3658*5%)+27517)","v":27699.9},null,{"$f":"SUM(F107:G107)","v":27699.9},null,null,0,{"$f":"H107*L100","v":1384.9950000000001},{"$f":"H107*M104","v":0},{"$f":"SUM(H107:M107)","v":29084.895},{"$f":"N107*C107","v":29084.895}]
[null,null,null,null,"Elect.DSR"]
[{"$f":"'Bore Mtrs.'!A464","v":4},{"$f":"'Bore Mtrs.'!B464","v":"Supplying, erecting & terminating PVC armoured cable 3 core 4 sq mm copper conductor continuous 5.48 sq mm (12 SWG) G.I. earth wire complete erected with glands & lugs, on wall/ trusses/pole or laid in provided trench/ pipe as per specification no. CB-LT/CU "},{"$f":"'Bore Mtrs.'!M467","v":20},{"$f":"'Bore Mtrs.'!N464","v":"Rmt."},"7-2-16/131",{"$f":"((17*5%)+267)","v":267.85000000000002},null,{"$f":"SUM(F109:G109)","v":267.85000000000002},null,null,0,{"$f":"H109*L100","v":13.392500000000002},{"$f":"H109*M106","v":0},{"$f":"SUM(H109:M109)","v":281.24250000000001},{"$f":"N109*C109","v":5624.85}]
[null,null,null,null,"Elect.DSR"]
[{"$f":"'Bore Mtrs.'!A469","v":5},{"$f":"'Bore Mtrs.'!B469","v":"Supplying and erecting high density polythene pipe ISI mark 32 mm dia. suitable for pressure of 6 kg/cm2 connected to Jet/Submersible pump with required material complete."},{"$f":"'Bore Mtrs.'!M472","v":115},{"$f":"'Bore Mtrs.'!N469","v":"Rmt."},"16-5-17/246",{"$f":"((25*5%)+101)","v":102.25},null,{"$f":"SUM(F111:G111)","v":102.25},null,null,0,{"$f":"H111*L100","v":5.1125000000000007},{"$f":"H111*M108","v":0},{"$f":"SUM(H111:M111)","v":107.3625},{"$f":"N111*C111","v":12346.6875}]
[null,null,null,null,"Elect.DSR"]
[{"$f":"'Bore Mtrs.'!A473","v":"6-A"},{"$f":"'Bore Mtrs.'!B473","v":" Making trench in hard soil of suitable width and depth as per IS for laying provided L.T cable up to 25 sq mm complete. As per specification No. CW-EXN-CTR"},{"$f":"'Bore Mtrs.'!M476","v":10},{"$f":"'Bore Mtrs.'!N473","v":"Rmt."},"16-1-1/243",{"$f":"((97*5%)+138)","v":142.85},null,{"$f":"SUM(F113:G113)","v":142.85},null,null,0,{"$f":"H113*L100","v":7.1425000000000001},{"$f":"H113*M110","v":0},{"$f":"SUM(H113:M113)","v":149.99250000000001},{"$f":"N113*C113","v":1499.9250000000002}]
[null,null,null,null,"Elect.DSR"]
[{"$f":"'Bore Mtrs.'!A478","v":"6B"},{"$f":"'Bore Mtrs.'!B478","v":"Supplyng and laying 75 mm diameter GI pipe A grade ISI mark for cable laid underground at required depth upto 90 cm including excavation, laying pipe, remaking the surface as it is. "},{"$f":"'Bore Mtrs.'!M482","v":10},{"$f":"'Bore Mtrs.'!N478","v":"Rmt."},"16-5-8/246",{"$f":"((100*5%)+1031)","v":1036},null,{"$f":"SUM(F115:G115)","v":1036},null,null,0,{"$f":"H115*L100","v":51.800000000000004},{"$f":"H115*M112","v":0},{"$f":"SUM(H115:M115)","v":1087.8},{"$f":"N115*C115","v":10878}]
[null,null,null,null,"Elect.DSR"]
[{"$f":"'Bore Mtrs.'!A484","v":7},{"$f":"'Bore Mtrs.'!B484","v":"Supplying and erecting G.I.pipe 15 mm dia. ‘B’ class at position with accessories. As per specification No. CW-PLB/GP"},{"$f":"'Bore Mtrs.'!M488","v":10},{"$f":"'Bore Mtrs.'!N484","v":"Rmt."},"16-5-1/246",{"$f":"((37*5%)+196)","v":197.85},null,{"$f":"SUM(F117:G117)","v":197.85},null,null,0,{"$f":"H117*L100","v":9.8925000000000001},{"$f":"H117*M114","v":0},{"$f":"SUM(H117:M117)","v":207.74250000000001},{"$f":"N117*C117","v":2077.4250000000002}]
[null,null,null,null,"Elect.DSR"]
[{"$f":"'Bore Mtrs.'!A490","v":8},{"$f":"'Bore Mtrs.'!B490","v":"Supplying and erecting ISI mark G.I.pipe 20 mm dia.‘B’ class at position with accessories. As per specification No. CW-PLB/GP"},{"$f":"'Bore Mtrs.'!M494","v":40},{"$f":"'Bore Mtrs.'!N490","v":"Rmt."},"16-5-2/246",{"$f":"((37*5%)+235)","v":236.85},null,{"$f":"SUM(F119:G119)","v":236.85},null,null,0,{"$f":"H119*L100","v":11.842500000000001},{"$f":"H119*M116","v":0},{"$f":"SUM(H119:M119)","v":248.6925},{"$f":"N119*C119","v":9947.7000000000007}]
[null,null,null,null,"Elect.DSR"]
[{"$f":"'Bore Mtrs.'!A496","v":9},{"$f":"'Bore Mtrs.'!B496","v":" Providing & fixing in position 15 mm diameter screw down bib tap/ stop tap of brass heavy type and make including necessary sockets union nuts etc. complete."},{"$f":"'Bore Mtrs.'!M498","v":2},{"$f":"'Bore Mtrs.'!N496","v":"No."},"41.40/345",548,null,{"$f":"SUM(F121:G121)","v":548},null,null,0,{"$f":"H121*L100","v":27.400000000000002},{"$f":"H121*M118","v":0},{"$f":"SUM(H121:M121)","v":575.4},{"$f":"N121*C121","v":1150.8}]
[null,null,null,null,"Civil DSR"]
[{"$f":"'Bore Mtrs.'!A500","v":10},{"$f":"'Bore Mtrs.'!B500","v":"Providing & fixing in position 20 mm diameter screw down bib tap/ stop tap of brass heavy type and make including necessary sockets union nuts etc. complete."},{"$f":"'Bore Mtrs.'!M502","v":1},{"$f":"'Bore Mtrs.'!N500","v":"No."},"41.41/346",830,null,{"$f":"SUM(F123:G123)","v":830},null,null,0,{"$f":"H123*L100","v":41.5},{"$f":"H123*M120","v":0},{"$f":"SUM(H123:M123)","v":871.5},{"$f":"N123*C123","v":871.5}]
[null,null,null,null,"Civil DSR"]
[{"$f":"'Bore Mtrs.'!A504","v":11},{"$f":"'Bore Mtrs.'!B504","v":" Supplying and and fixing PVC wire rope for borewell etc. complete. "},{"$f":"'Bore Mtrs.'!M507","v":100},{"$f":"'Bore Mtrs.'!N504","v":"Rmt."},"MR",15,null,{"$f":"SUM(F125:G125)","v":15},null,null,0,{"$f":"H125*L100","v":0.75},{"$f":"H125*M122","v":0},{"$f":"SUM(H125:M125)","v":15.75},{"$f":"N125*C125","v":1575}]
[]
[{"$f":"'Bore Mtrs.'!A509","v":12},{"$f":"'Bore Mtrs.'!B509","v":"Supplying & erecting automatic control panel for 1 Ph, 230 volt, A.c. Submersible/centrifugal pump set upto 2 HP consisting of DOL starter Of suitable relay range S.P.P., Combined ammeter/ voltmeter, phase indicating lamp enclosed in CRCA powder coated Vibration proof encloser with IP 54 protection. Control Panel should offer single phasing, phase reversal, phase inbalence etc ( Similar to LT model no.MR G2) ."},{"$f":"'Bore Mtrs.'!M511","v":1},{"$f":"'Bore Mtrs.'!N509","v":"No."},"12-4-20/220",{"$f":"((285*5%)+4819)","v":4833.25},null,{"$f":"SUM(F127:G127)","v":4833.25},null,null,0,{"$f":"H127*L100","v":241.66250000000002},{"$f":"H127*M124","v":0},{"$f":"SUM(H127:M127)","v":5074.9125000000004},{"$f":"N127*C127","v":5074.9125000000004}]
[null,null,null,null,"Elect.DSR"]
[{"$f":"'Bore Mtrs.'!A513","v":13},{"$f":"'Bore Mtrs.'!B513","v":"Supplying and erecting flat flexible 3 core 2.5 sq mm PVC sheathed submersible type copper cable suitably clamped at fixed intervals with column pipe assembly complete."},{"$f":"'Bore Mtrs.'!M516","v":120},{"$f":"'Bore Mtrs.'!N513","v":"Rmt."},"12-4-8/219",{"$f":"((26*5%)+119)","v":120.3},null,{"$f":"SUM(F129:G129)","v":120.3},null,null,0,{"$f":"H129*L100","v":6.0150000000000006},{"$f":"H129*M126","v":0},{"$f":"SUM(H129:M129)","v":126.315},{"$f":"N129*C129","v":15157.8}]
[null,null,null,null,"Elect.DSR"]
[{"$f":"'Bore Mtrs.'!A518","v":14},{"$f":"'Bore Mtrs.'!B518","v":"Supplying and erecting 40mm dia. Gun metal foot valve at position with necessary materials."},{"$f":"'Bore Mtrs.'!M521","v":1},{"$f":"'Bore Mtrs.'!N518","v":"No."},"16-6-2/247",{"$f":"((75*5%)+755)","v":758.75},null,{"$f":"SUM(F131:G131)","v":758.75},null,null,0,{"$f":"H131*L100","v":37.9375},{"$f":"H131*M128","v":0},{"$f":"SUM(H131:M131)","v":796.6875},{"$f":"N131*C131","v":796.6875}]
[null,null,null,null,"Elect.DSR"]
[{"$f":"'Bore Mtrs.'!A523","v":15},{"$f":"'Bore Mtrs.'!B523","v":"Supplying, erecting & marking DPMCB 6A to 32A, C- series (for  motor/power)  in  provided  distribution  board   as  per   specification No. SW-SWR/MCB  "},{"$f":"'Bore Mtrs.'!M526","v":1},{"$f":"'Bore Mtrs.'!N523","v":"No."},"5-3-6/96",{"$f":"((35*5%)+461)","v":462.75},null,{"$f":"SUM(F133:G133)","v":462.75},null,null,0,{"$f":"H133*L100","v":23.137500000000003},{"$f":"H133*M130","v":0},{"$f":"SUM(H133:M133)","v":485.88749999999999},{"$f":"N133*C133","v":485.88749999999999}]
[null,null,null,null,"Elect.DSR"]
[{"$f":"'Bore Mtrs.'!A528","v":16},{"$f":"'Bore Mtrs.'!B528","v":"Supplying & erecting CRCA sheet metal one way enclosures suitable  for  D.P.M.C.B.   /T.P.  M.C.B.   /F.P  M.C.B.  Complete   erected on angle iron frame.  "},{"$f":"'Bore Mtrs.'!M531","v":1},{"$f":"'Bore Mtrs.'!N528","v":"No."},"5-4-23/99",{"$f":"((48*5%)+239)","v":241.4},null,{"$f":"SUM(F135:G135)","v":241.4},null,null,0,{"$f":"H135*L100","v":12.07},{"$f":"H135*M132","v":0},{"$f":"SUM(H135:M135)","v":253.47},{"$f":"N135*C135","v":253.47}]
[null,null,null,null,"Elect.DSR"]
[null,null,null,null,null,null,null,null,null,null,null,null,null,"Total",{"$f":"SUM(O103:O136)","v":145475.54000000004}]

{"sheet":"sheet 1CW ","index":12,"n_rows":382,"n_cols":15,"rows_kept":382,"cut":false,"hidden":true,"merged":[[381,4,381,6],[78,0,78,14],[80,0,80,14],[82,9,82,12],[85,6,86,6],[85,7,85,9],[86,12,87,12],[77,0,77,14],[0,0,0,12],[1,0,1,12],[3,0,3,12],[5,0,5,2],[32,7,32,9]]}
["MAHARASHTRA STATE WAREHOUSING CORPORATION"]
["583/B, MARKET YARD , GULTEKADI, PUNE-411037"]
[]
["STATEMENT SHOWING Fencing Compound  Wh.complex Karanja shaha Dist. Washim."]
[]
["LEADS & RATES OF MATERIALS",null,null,null,null,"BASED ON  State SSR 2019-20"]
[]
["S.N.","MATERIAL & LOCATION"," UNIT","LEADS "," CHARGES",null,null,"LEAD "," PAY ","NET","rate/unit","Name of quarry"]
[null,null," ","KM","ACTUAL","INITIAL",null,"DIFF","LOAD"]
[null,null,null,null,null,"5 KM",null,null,"FACTOR"]
[1,2,3,4,5,6,null,7,8]
[]
[1,"SAND    "," CU M",{"$f":"'DSR-Sheet I  '!E9","v":89},{"$f":"'DSR-Sheet I  '!F9","v":1036.5509999999999},0,null,{"$f":"E13-F13","v":1036.5509999999999},1,{"$f":"H13/I13","v":1036.5509999999999},{"$f":"E13/I13","v":1036.5509999999999},"Purna River Daryapur"]
[2,"METAL UPTO 40MM"," CU M",{"$f":"'DSR-Sheet I  '!E10","v":18},{"$f":"'DSR-Sheet I  '!F10","v":347.44600000000003},{"$f":"F13","v":0},null,{"$f":"E14-F14","v":347.44600000000003},1,{"$f":"H14/I14","v":347.44600000000003},{"$f":"E14/I14","v":347.44600000000003},"Jamb"]
[3,"METAL ABOVE 40 MM"," CU M",{"$f":"'DSR-Sheet I  '!E11","v":18},{"$f":"'DSR-Sheet I  '!F11","v":347.44600000000003},0,null,347.44600000000003,1,{"$f":"H15/I15","v":347.44600000000003},{"$f":"E15/I15","v":347.44600000000003},"Jamb"]
[4,"RUBBLE"," CU M",{"$f":"'DSR-Sheet I  '!E12","v":18},{"$f":"'DSR-Sheet I  '!F12","v":443.54599999999999},0,null,443.54599999999999,1,{"$f":"H16/I16","v":443.54599999999999},{"$f":"E16/I16","v":443.54599999999999},"Jamb"]
[5,"BRICKS",1000,{"$f":"'DSR-Sheet I  '!E13","v":18},{"$f":"'DSR-Sheet I  '!F13","v":501.26800000000003},0,null,501.26800000000003,1,{"$f":"H17/1000","v":0.50126800000000005},{"$f":"H17*475/C17","v":238.10230000000001},"Karanja Lad Local"]
[]
[6,"HARD MURUM"," CU M",{"$f":"'DSR-Sheet I  '!E15","v":5},{"$f":"'DSR-Sheet I  '!F15","v":210.71},0,null,{"$f":"E19-F19","v":210.71},1,{"$f":"H19/I19","v":210.71},{"$f":"E19/I19","v":210.71},"Jamb"]
[null,null,null,null,null,null,null,null,null,null," "]
[7,"SOFT MURUM"," CU M",{"$f":"D19","v":5},{"$f":"E19","v":210.71},{"$f":"F19","v":0},null,{"$f":"H19","v":210.71},1,{"$f":"H21/I21","v":210.71},{"$f":"E21/I21","v":210.71},"Jamb"]
[]
[]
[8,"Royalty charges  considered in DSR rate .",null,null,"141.34"]
[null,null,null,"QTY","RATE","AMOUNT"]
[1,"C.C.M-10 for foundation & beddding","SAND",0.47,{"$f":"J13","v":1036.5509999999999},{"$f":"D26*E26","v":487.17896999999994}]
[null,null,"METAL",0.94,{"$f":"J14","v":347.44600000000003},{"$f":"D27*E27","v":326.59924000000001}]
[null,null,null,null,null,{"$f":"SUM(F26:F27)","v":813.77820999999994}]
[2,"P & C U.C.R masonary","SAND",0.4,{"$f":"J13","v":1036.5509999999999},414.62040000000002]
[null,null,"RUBBLE",1.25,{"$f":"J16","v":443.54599999999999},554.4325]
[null,null,null,null,null,{"$f":"SUM(F29:F30)","v":969.05290000000002}]
[3,"P &C B.B. masonary in   plinth & S.S ","SAND",0.3,{"$f":"J13","v":1036.5509999999999},310.96529999999996]
[null,null,"BRICKS",475,{"$f":"J17","v":0.50126800000000005},{"$f":"D33*E33","v":238.10230000000001},null,"PCC   M 15"]
[null,null,null,null,null,{"$f":"SUM(F32:F33)","v":549.06759999999997}]
[4,"P & L R.C.C.M-20","SAND",0.42499999999999999,{"$f":"J13","v":1036.5509999999999},440.53417499999995,null,0.44,{"$f":"E35","v":1036.5509999999999},{"$f":"H35*I35","v":456.08243999999996}]
[null,null,"METAL",0.85,{"$f":"J14","v":347.44600000000003},295.32910000000004,null,0.88,{"$f":"E36","v":347.44600000000003},{"$f":"H36*I36","v":305.75248000000005}]
[null,null,null,null,null,{"$f":"SUM(F35:F36)","v":735.86327499999993},null,null,null,{"$f":"SUM(J35:J36)","v":761.83492000000001}]
[5,"P & A 20 mm tk plaster","SAND",2.4E-2,{"$f":"J13","v":1036.5509999999999},24.877223999999998]
[]
[6,"P & A 25 mm tk plaster","SAND",0.03,{"$f":"J13","v":1036.5509999999999},31.096529999999998]
[]
[7,"P & F ploished shahabad for sills & dado","SAND",2.4E-2,{"$f":"J13","v":1036.5509999999999},24.877223999999998]
[]
[8,"P & C half brick wall ","sand",3.5999999999999997E-2,{"$f":"J13","v":1036.5509999999999},{"$f":"D44*E44","v":37.315835999999997}]
[null,null,"bricks",0.12,{"$f":"J17","v":0.50126800000000005},{"$f":"D45*E45","v":6.0152160000000003E-2}]
[null,null,null,null,null,{"$f":"SUM(F44:F45)","v":37.375988159999999}]
[]
[9,"P & a flush pointing in c.m.1:3 for stone masonary","sand",2.5000000000000001E-2,{"$f":"J13","v":1036.5509999999999},{"$f":"D48*E48","v":25.913775000000001}]
[]
[11,"Providing 50 mm thick semi grout bituminous road surface including supplying all materials preparing the existing road surface, laying the required thickness of metal layer ,heating & sprayiung bitumen spreading chips laying the seal coat & compacting complate ( Sp. Rd 60 P.No. 232 )","Metal ",{"$f":"8.7/100","v":8.6999999999999994E-2},{"$f":"E14","v":347.44600000000003},{"$f":"D50*E50","v":30.227802000000001}]
[null,null,"Bitumen",{"$f":"400/100","v":4},{"$f":"(4.8/1000)*405","v":1.9439999999999997},{"$f":"D51*E51","v":7.7759999999999989}]
[null,null,null,null,null,{"$f":"F50+F51","v":38.003802}]
[12,"Providing 50 mm thick compacted BBM on existing B.T.surface   (60/70 ) V G -30 GRADE  ","Metal ",{"$f":"8.7/100","v":8.6999999999999994E-2},{"$f":"E50","v":347.44600000000003},30.227802000000001]
[null,null,"Bitumen",{"$f":"225/100","v":2.25},{"$f":"(2.25/1000)*405","v":0.91124999999999989},2.0503124999999995,null,0.5,1.75,2.25]
[null,null,null,null,null,{"$f":"F53+F54","v":32.278114500000001}]
[13,"Providing Hot Mix Hot Blaid 20 mm tk. Premix bituminous carpet with liquid seal coat ( Sp. Rd 60 P.No. 232 )","Metal ",{"$f":"2.88/100","v":2.8799999999999999E-2},{"$f":"E14","v":347.44600000000003},10.006444800000001]
[null,null,"Bitumen",{"$f":"375/100","v":3.75},{"$f":"(3.75/1000)*405","v":1.51875},5.6953125]
[null,null,null,null,null,{"$f":"F56+F57","v":15.701757300000001}]
[null,"The centre falls under   sugarcane area  / corporation  ","Building "]
[null,"Hence percentage required to be added will be  percentage",0.04]
[]
[null,"TOTAL ",{"$f":"SUM(C60:C61)","v":0.04}]
[]
[]
[]
[]
[]
[]
[]
[]
[]
[]
[]
[]
[]
[]
[]
["MAHARASHTRA STATE WAREHOUSING CORPORATION"]
["583/B, MARKET YARD , GULTEKADI, PUNE-411037"]
[]
[{"$f":"A4","v":"STATEMENT SHOWING Fencing Compound  Wh.complex Karanja shaha Dist. Washim."}]
[]
[null,null,null,null,null,null,null,null,null,{"$f":"F6","v":"BASED ON  State SSR 2019-20"}]
[null,{"$f":"'DSR-Sheet I  '!C3:J3","v":{"$error":"#VALUE!"}}]
[]
["I.N.","DESCRIPTON OF ITEM","QUANTITY","UNIT","I.N./ P.N"," BASIC","Ded for SCADA","LEAD CHARGES",null,null,"LIFTS & ","TOTAL","ADD    % ","TOTAL OF","AMOUNT"]
[null,null,null,null,null,"RATE",null,"SAND","METAL",null,"R.A.",null,"for corporation area","RATES"]
[null,null,null,null,null,null,-117,null,null,null,null,null,null,"6 TO 11"]
[null,null,null,null,null,null,null,null,null,null,null,null,0]
[1,2,3,4,5,6,null,7,8,9,10,11,12,13,14]
[]
[null,{"$f":"'Mtrs CW'!B11","v":"Sub Work I :- M&R to warehouse complex"}]
[]
[1,{"$f":"'Mtrs CW'!B13","v":"Clearing grass and removal of rubbish up to a distance of 50 metres outside the periphery of the area etc. complete as directed by Engineer In Charge."},{"$f":"'Mtrs CW'!M23","v":0},"Sqm",{"$f":"'Mtrs CW'!O13","v":"2.07/24"},{"$f":"'Mtrs CW'!P13","v":2.7},null,null,null,null,null,{"$f":"K94+J94+I94+H94+G94+F94","v":2.7},{"$f":"L94*$M$89","v":0},{"$f":"M94+L94","v":2.7},{"$f":" ROUNDUP(C94*N94,0)","v":0}]
[]
[2,{"$f":"'Mtrs CW'!B25","v":"Dressing of side shoulder / Scrapping the road side shoulder by Mechanical means ( By JCB /DOUZER) including excavation of raised side shoulders  pto 15cm depth including remooving /cutting bushes,grass and dressing shoulder to desired camber and disposing of excavated stuff up to road boundary etc complete. as directed by Engineer In Charge."},{"$f":"'Mtrs CW'!M31","v":0},"Sqm",{"$f":"'Mtrs CW'!O25","v":"8.23/93"},{"$f":"'Mtrs CW'!P25","v":4},null,null,null,null,null,{"$f":"K96+J96+I96+H96+G96+F96","v":4},{"$f":"L96*$M$89","v":0},{"$f":"M96+L96","v":4},{"$f":" ROUNDUP(C96*N96,0)","v":0}]
[]
[3,{"$f":"'Mtrs CW'!B33","v":"Excavation for roadway in earth, soil of all sorts, sand, gravel or soft murum including dressing section to the required grade, camber and side slopes and conveying the excavated materials with all lifts upto a lead of 50m. and spreading for embankment or stacking as directed. etc complete. "},{"$f":"'Mtrs CW'!M37","v":0},"Cum",{"$f":"'Mtrs CW'!O33","v":"2.11/24"},{"$f":"'Mtrs CW'!P33","v":68},null,null,null,null,null,{"$f":"K98+J98+I98+H98+G98+F98","v":68},{"$f":"L98*$M$89","v":0},{"$f":"M98+L98","v":68},{"$f":" ROUNDUP(C98*N98,0)","v":0}]
[]
[4,{"$f":"'Mtrs CW'!B39","v":"Conveying the materials obtained from excavation including laying in layers, breaking clods, dressing to the required lines, curves, grades and section for all leads & lifts from the site of excavation to the site of deposition  outside the complex as directed engineer in charge."},{"$f":"'Mtrs CW'!M43","v":0},"Cum",{"$f":"'Mtrs CW'!O39","v":"lead statement"},{"$f":"'Mtrs CW'!P39","v":105.25},null,null,null,null,null,{"$f":"K100+J100+I100+H100+G100+F100","v":105.25},0,{"$f":"M100+L100","v":105.25},{"$f":" ROUNDUP(C100*N100,0)","v":0}]
[]
[null,null,null,null,null,null,null,null,null,null,null,null,null,"Total",{"$f":"SUM(O94:O100)","v":0}]
[null,{"$f":"'Mtrs CW'!B55","v":"Sub Work II :- Repairs to Appron and gutter "}]
[]
[1,{"$f":"'Mtrs CW'!B58","v":"Labour charges for removing soil in gutter making surface clean for plastering and conveying material away etc complete"},{"$f":"'Mtrs CW'!M64","v":0},"Rmt",{"$f":"'Mtrs CW'!O58","v":"RA"},{"$f":"'Mtrs CW'!P58","v":{"$error":"#REF!"}},null,null,null,null,null,{"$f":"K105+J105+I105+H105+G105+F105","v":{"$error":"#REF!"}},{"$f":"L105*$M$89","v":{"$error":"#REF!"}},{"$f":"M105+L105","v":{"$error":"#REF!"}},{"$f":" ROUNDUP(C105*N105,0)","v":{"$error":"#REF!"}}]
[]
[2,{"$f":"'Mtrs CW'!B67","v":"Dismentling brick masonry in lime or cement Mortor and stacking the materials as directed with all leads, lifts etc. complete  As directed by Engineer - in - Charge"},{"$f":"'Mtrs CW'!M73","v":0},"Cum",{"$f":"'Mtrs CW'!O67","v":"46.09/315"},{"$f":"'Mtrs CW'!P67","v":181},null,null,null,null,null,181,0,181,{"$f":" ROUNDUP(C107*N107,0)","v":0}]
[]
[3,{"$f":"'Mtrs CW'!B75","v":"Dismentling Uncoursed Rubble Masonry  in lime or Cement Mortor including  stacking the materials as directed with all leads, lifts etc. complete   As directed by Engineer - in - Charge "},{"$f":"'Mtrs CW'!M82","v":0},"Cum",{"$f":"'Mtrs CW'!O75","v":"46.11/315"},{"$f":"'Mtrs CW'!P75","v":205},null,null,null,null,null,205,0,205,{"$f":" ROUNDUP(C109*N109,0)","v":0}]
[]
[4,{"$f":"'Mtrs CW'!B84","v":"Removing the lime or lean cement concrete including stacking the spoils as directed with all leads, lifts etc. complete. As directed by Engineer - in - Charge"},{"$f":"'Mtrs CW'!M89","v":0},"Cum",{"$f":"'Mtrs CW'!O84","v":"46.12/315"},{"$f":"'Mtrs CW'!P84","v":302},null,null,null,null,null,302,0,302,{"$f":" ROUNDUP(C111*N111,0)","v":0}]
[]
[5,{"$f":"'Mtrs CW'!B91","v":"Excavation for foundation in earth, soil of all types, sand, gravel and soft murum, including removing the excavated material upto a distance of 50 meters beyond the building area & stacking and spreading as directed, dewatering, preparing the bed for the foundation and necessary back filling, ramming, watering including shoring and strutting etc. complete. (Lift upto 1.5 m.)"},{"$f":"'Mtrs CW'!M100","v":0},"Cum",{"$f":"'Mtrs CW'!O91","v":"21.02/150"},{"$f":"'Mtrs CW'!P91","v":125},null,null,null,null,null,125,0,125,{"$f":" ROUNDUP(C113*N113,0)","v":0}]
[]
[6,{"$f":"'Mtrs CW'!B102","v":"Excavation for foundation in hard murum including removing the excavated materials upto distance of 50 metres beyond the building area and stacking and spreading as directed, dewatering, preparing the bed for the foundation and necessary back filling, ramming, watering including shoring and strutting etc. complete. (Lift upto 1.50 m)"},{"$f":"'Mtrs CW'!M112","v":0},"Cum",{"$f":"'Mtrs CW'!O102","v":"21.06/150"},{"$f":"'Mtrs CW'!P102","v":132},null,null,null,null,null,132,0,132,{"$f":" ROUNDUP(C115*N115,0)","v":0}]
[]
[7,{"$f":"'Mtrs CW'!B114","v":"Excavation for foundation in Hard murum and boulders including removing the excavated materials upto a distance of 50 metres, beyond the building area and stacking and spreading as directed dewatering preparing the bed for the foundation and necessary back filling, ramming, watering including shoring and strutting etc. complete.  (Lift upto 1.5 m )"},{"$f":"'Mtrs CW'!M122","v":0},"Cum",{"$f":"'Mtrs CW'!O114","v":"21.10/150"},{"$f":"'Mtrs CW'!P114","v":156},null,null,null,null,null,156,0,156,{"$f":" ROUNDUP(C117*N117,0)","v":0}]
[]
[8,{"$f":"'Mtrs CW'!B124","v":"Providing dry/ trap/ granite/ quartzite/ gneiss rubble stone soling 15 cm to 20 cm thick including hand packing and compacting etc. complete."},{"$f":"'Mtrs CW'!M130","v":0},"Cum",{"$f":"'Mtrs CW'!O124","v":"21.38/154"},{"$f":"'Mtrs CW'!P124","v":516},null,null,{"$f":"K15*1.32","v":458.62872000000004},null,null,974.62872000000004,0,974.62872000000004,{"$f":" ROUNDUP(C119*N119,0)","v":0}]
[]
[9,{"$f":"'Mtrs CW'!B132","v":"Providing and laying Cast in situ/Ready Mix cement concrete in M-10 of trap/ granite/ quartzite/ gneiss metal for foundation and bedding including bailing out water, formwork, laying/pumping, compacting, roughening them if special finish is to be provided, finishing if required and curing complete, etc. complete. With natural sand/V.S.I. quality Artificial Sand"},{"$f":"'Mtrs CW'!M143","v":0},"Cum",{"$f":"'Mtrs CW'!O132","v":"24.01/177"},{"$f":"'Mtrs CW'!P132","v":3181},-117,null,{"$f":"F28","v":813.77820999999994},null,null,3877.7782099999999,0,3877.7782099999999,{"$f":" ROUNDUP(C121*N121,0)","v":0}]
[]
[10,{"$f":"'Mtrs CW'!B145","v":"Providing second class Burnt Brick masonry with conventional/ I.S. type bricks in cement mortar 1:6 in foundations and plinth of inner walls/ in plinth external walls including bailing out water manually , striking joints on unexposed faces, raking out joints on exposed faces and watering etc. complete."},{"$f":"'Mtrs CW'!M154","v":0},"Cum",{"$f":"'Mtrs CW'!O145","v":"27.01/212"},{"$f":"'Mtrs CW'!P145","v":4653},null,null,{"$f":"F34","v":549.06759999999997},null,null,5202.0676000000003,0,5202.0676000000003,{"$f":" ROUNDUP(C123*N123,0)","v":0}]
[]
[11,{"$f":"'Mtrs CW'!B156","v":"Providing uncoursed rubble masonry of trap / granite / quartzite / gneiss stones in cement mortar 1:6 in foundation and plinth of inner walls / in plinth of external walls including bailing out water manually , striking joints on un exposed faces and\nwatering etc.complete."},{"$f":"'Mtrs CW'!M165","v":0},"Cum",{"$f":"'Mtrs CW'!O156","v":"28.01/214"},{"$f":"'Mtrs CW'!P156","v":2783},null,null,{"$f":"F31","v":969.05290000000002},null,null,3752.0529000000001,0,3752.0529000000001,{"$f":" ROUNDUP(C125*N125,0)","v":0}]
[]
[12,{"$f":"'Mtrs CW'!B168","v":"Filling in plinth and floors with contractors material/brought from outside and approved by Engineer incharge in layers of 15 cm to 20 cm including watering and compaction etc. complete."},{"$f":"'Mtrs CW'!M184","v":0},"Cum",{"$f":"'Mtrs CW'!O168","v":"21.37/154"},{"$f":"'Mtrs CW'!P168","v":255},null,null,{"$f":"K19","v":210.71},null,null,465.71000000000004,0,465.71000000000004,{"$f":" ROUNDUP(C127*N127,0)","v":0}]
[]
[13,{"$f":"'Mtrs CW'!B186","v":"Providing & laying stone metal layer of 20 cm thickness with 60 mm over size metal 65% and 40 mm size metal 35% with sand or stone chips spreading & leveling handpacking complete."},{"$f":"'Mtrs CW'!M193","v":0},"Cum",{"$f":"'Mtrs CW'!O186","v":"RA"},{"$f":"'Mtrs CW'!P186","v":{"$error":"#REF!"}},null,null,{"$f":"K15*1.32","v":458.62872000000004},null,null,{"$error":"#REF!"},{"$error":"#REF!"},{"$error":"#REF!"},{"$f":" ROUNDUP(C129*N129,0)","v":{"$error":"#REF!"}}]
[]
[14,{"$f":"'Mtrs CW'!B196","v":"Providing and laying Cast in situ/Ready Mix cement concrete in M15 of trap/ granite/quartzite/gneiss metal for steps including teel centering, plywood/steel  ormwork, laying/pumping, compacting, roughening them if special finish is to be provided, finishing uneven and honeycombed surface and curing etc. complete. The Cement Mortar 1:3 plaster is considered for rendering uneven and honeycombed surface, only. Newly laid concrete shall be covered by gunny bag, plastic, tarpaulin etc.(Wooden centering will not be allowed.), With natural sand/V.S.I. quality Artificial Sand"},{"$f":"'Mtrs CW'!M210","v":0},"Cum",{"$f":"'Mtrs CW'!O196","v":"24.04/177"},{"$f":"'Mtrs CW'!P196","v":4205},{"$f":"G121","v":-117},null,{"$f":"F37","v":735.86327499999993},null,null,4823.8632749999997,0,4823.8632749999997,{"$f":" ROUNDUP(C131*N131,0)","v":0}]
[]
[15,{"$f":"'Mtrs CW'!B213","v":"Providing internal cement plaster 20 mili meters thick in two coats in cement mortar 1:4 with neeru finish, to concrete, brick surface, in all positions including scaffolding and curing etc.complete."},{"$f":"'Mtrs CW'!M223","v":0},"Sqm",{"$f":"'Mtrs CW'!O213","v":"32.07+32.21"},387,null,null,{"$f":"F38","v":24.877223999999998},null,null,411.87722400000001,0,411.87722400000001,{"$f":" ROUNDUP(C133*N133,0)","v":0}]
[null,"328+59 = 387"]
[16,{"$f":"'Mtrs CW'!B225","v":"Conveying the materials obtained from excavation including laying in layers, breaking clods, dressing to the required lines, curves, grades and section for all leads & lifts from the site of excavation to the site of deposition  outside the complex as directed engineer in charge."},{"$f":"'Mtrs CW'!M229","v":0},"Cum",{"$f":"'Mtrs CW'!O225","v":"lead statement"},{"$f":"'Mtrs CW'!P225","v":105.25},null,null,null,null,null,105.25,0,105.25,{"$f":" ROUNDUP(C135*N135,0)","v":0}]
[]
[17,{"$f":"[2]Wh.Rep.!B208","v":"Removing and providing cement plaster 20 mili meters thick in two coats in cement mortar 1:4 with neeru finish, to concrete, brick surface, in all positions including scaffolding and curing etc.complete."},{"$f":"'Mtrs CW'!M237","v":0},"sqm",{"$f":"[2]Wh.Rep.!O208","v":"32.07+32.21+46.22"},{"$f":"[2]Wh.Rep.!P211","v":402},null,null,null,null,null,{"$f":"K137+J137+I137+H137+G137+F137","v":402},{"$f":"L137*$M$89","v":0},{"$f":"M137+L137","v":402},{"$f":" ROUNDUP(C137*N137,0)","v":0}]
[null,"328 + 15 + 59  = 402  "]
[null,null,null,null,null,null,null,null,null,null,null,null,null,"Total",{"$f":"SUM(O105:O137)","v":{"$error":"#REF!"}}]
[null,{"$f":"'Mtrs CW'!B243","v":"Sub Work III :- Repairs to warehouse flooring"}]
[]
[1,{"$f":"'Mtrs CW'!B245","v":"Removing cement tiles, or marble or polished shahabad floor or dado without bed concrete including stacking the materials as directed with all leads, lifts etc. complete"},{"$f":"'Mtrs CW'!M258","v":0},"Sqm",{"$f":"'Mtrs CW'!O245","v":"46.19/319"},{"$f":"'Mtrs CW'!P245","v":24},null,null,null,null,null,{"$f":"SUM(F142:K142)","v":24},{"$f":"L142*$M$89","v":0},{"$f":"M142+L142","v":24},{"$f":" ROUNDUP(C142*N142,0)","v":0}]
[]
[2,{"$f":"'Mtrs CW'!B260","v":"Removing shahabad or Tabdur stones from floor without bed concrete including stacking the materials as directed with all leads, lifts etc. complete"},{"$f":"'Mtrs CW'!M266","v":0},"Sqn",{"$f":"'Mtrs CW'!O260","v":"46.20/319"},{"$f":"'Mtrs CW'!P260","v":25},null,null,null,null,null,{"$f":"SUM(F144:K144)","v":25},0,25,{"$f":" ROUNDUP(C144*N144,0)","v":0}]
[]
[3,{"$f":"'Mtrs CW'!B268","v":"Removing old damaged asphalt flooring without bed concrete including  stacking the materials as directed with all leads, lifts etc. complete"},{"$f":"'Mtrs CW'!M274","v":0},"Sqm",{"$f":"'Mtrs CW'!O268","v":"RA"},{"$f":"'Mtrs CW'!P268","v":{"$error":"#REF!"}},null,null,null,null,null,{"$f":"SUM(F146:K146)","v":{"$error":"#REF!"}},{"$error":"#REF!"},{"$error":"#REF!"},{"$f":" ROUNDUP(C146*N146,0)","v":{"$error":"#REF!"}}]
[]
[4,{"$f":"'Mtrs CW'!B276","v":"Providing & leveling and compacting the loose / Dislocated surfafe including dewatering if necessary, compacting, curing etc. complete. "},{"$f":"'Mtrs CW'!M287","v":0},"Sqm",{"$f":"'Mtrs CW'!O276","v":"RA"},{"$f":"'Mtrs CW'!P276","v":{"$error":"#REF!"}},null,null,null,null,null,{"$f":"SUM(F148:K148)","v":{"$error":"#REF!"}},{"$error":"#REF!"},{"$error":"#REF!"},{"$f":" ROUNDUP(C148*N148,0)","v":{"$error":"#REF!"}}]
[]
[5,{"$f":"'Mtrs CW'!B289","v":"Providing and laying Cast in situ/Ready Mix cement concrete in M-10 of trap/ granite/ quartzite/ gneiss metal for foundation and bedding including bailing out water, formwork, laying/pumping, compacting, roughening them if special finish is to be provided, finishing if required and curing complete, etc. complete. With natural sand/V.S.I. quality Artificial Sand"},{"$f":"'Mtrs CW'!M302","v":0},"cum'",{"$f":"'Mtrs CW'!O289","v":"24.01/177"},{"$f":"'Mtrs CW'!P289","v":3181},-117,null,{"$f":"F28","v":813.77820999999994},null,null,{"$f":"SUM(F150:K150)","v":3877.7782099999999},0,3877.7782099999999,{"$f":" ROUNDUP(C150*N150,0)","v":0}]
[]
[6,{"$f":"'Mtrs CW'!B304","v":"Providing and laying Cast in situ/Ready Mix cement concrete in M15 of trap/ granite/ quartzite/gneiss metal for steps including teel centering, plywood/steel  ormwork, laying/pumping, compacting, roughening them if special finish is to be provided, finishing uneven and honeycombed surface and curing etc. complete. The Cement Mortar 1:3 plaster is considered for rendering uneven and honeycombed surface, only. Newly laid concrete shall be covered by gunny bag, plastic, tarpaulin etc.(Wooden centering will not be allowed.), With natural sand/V.S.I. quality Artificial Sand"},{"$f":"'Mtrs CW'!M316","v":0},"cum",{"$f":"'Mtrs CW'!O304","v":"24.04/177"},{"$f":"'Mtrs CW'!P304","v":4205},-117,null,{"$f":"J37","v":761.83492000000001},null,null,{"$f":"SUM(F152:K152)","v":4849.8349200000002},0,4849.8349200000002,{"$f":" ROUNDUP(C152*N152,0)","v":0}]
[]
[7,{"$f":"'Mtrs CW'!B318","v":"Providing treatment of TREMIX vaccum dewatering over prelaid cement concrete M-15surface including fixing of M.S.Channel formwork as per required size and placing of dowel rod, vibrating the concrete by needle vibrator and leveling by tremix double beam surface vibrator, dewatering through suction matt of tremix system, power floating by skim floater and power trowelling to obtain required level surface and finish including procuring three phase temporary electric supply / Generator set if required at site for operating above machinery etc. complete as directed (clause 38 will not be applicable.)"},{"$f":"'Mtrs CW'!M324","v":0},"sqm",{"$f":"'Mtrs CW'!O318","v":"RA"},{"$f":"#REF!","v":{"$error":"#REF!"}},null,null,null,null,null,{"$f":"SUM(F154:K154)","v":{"$error":"#REF!"}},{"$error":"#REF!"},{"$error":"#REF!"},{"$f":" ROUNDUP(C154*N154,0)","v":{"$error":"#REF!"}}]
[]
[8,{"$f":"'Mtrs CW'!B326","v":"Providing & fixing M.S. angle 50 x 50 x 6 mili meters with holdfasts at doorsills including fixing in bed concrete and then applying three coats of oilpaint etc. complete "},{"$f":"'Mtrs CW'!M331","v":0},"rmt",{"$f":"'Mtrs CW'!O326","v":"RA"},{"$f":"#REF!","v":{"$error":"#REF!"}},null,null,null,null,null,{"$f":"SUM(F156:K156)","v":{"$error":"#REF!"}},{"$error":"#REF!"},{"$error":"#REF!"},{"$f":" ROUNDUP(C156*N156,0)","v":{"$error":"#REF!"}}]
[]
[9,{"$f":"'Mtrs CW'!B333","v":"Providing groove cutting  25 mili meters x 6 mili meters in cement concrete flooring & filling the gap of exapnsion joints with bituman of 30/40 grade including cleaning the grove and preparing the same or filing  etc. complete as directed."},{"$f":"'Mtrs CW'!M343","v":0},"rmt",{"$f":"'Mtrs CW'!O333","v":"RA"},{"$f":"#REF!","v":{"$error":"#REF!"}},null,null,null,null,null,{"$f":"SUM(F158:K158)","v":{"$error":"#REF!"}},{"$error":"#REF!"},{"$error":"#REF!"},{"$f":" ROUNDUP(C158*N158,0)","v":{"$error":"#REF!"}}]
[]
[10,{"$f":"'Mtrs CW'!B345","v":"Providing and applying three coats (exterior quality) of flat oil paint of approved colour and shade to the plastered surface in buildings and workshops including scaffolding if necessary, cleaning the surface and preparing surface etc. complete. (including primer coat)"},{"$f":"'Mtrs CW'!M357","v":0},"sqm",{"$f":"'Mtrs CW'!O345","v":"35.11+35.21 / 244"},86,null,null,null,null,null,{"$f":"SUM(F160:K160)","v":86},0,86,{"$f":" ROUNDUP(C160*N160,0)","v":0}]
[null,"64+ 22 = 86"]
[11,{"$f":"'Mtrs CW'!B359","v":"Conveying the materials obtained from excavation including laying in layers, breaking clods, dressing to the required lines, curves, grades and section for all leads & lifts from the site of excavation to the site of deposition  outside the complex as directed engineer in charge."},{"$f":"'Mtrs CW'!M363","v":0},"cum",{"$f":"'Mtrs CW'!O359","v":"lead statement"},{"$f":"'Mtrs CW'!P359","v":105.25},null,null,null,null,null,{"$f":"SUM(F162:K162)","v":105.25},0,105.25,{"$f":" ROUNDUP(C162*N162,0)","v":0}]
[]
[null,null,null,null,null,null,null,null,null,null,null,null,null,"Total",{"$f":"SUM(O142:O162)","v":{"$error":"#REF!"}}]
[null,{"$f":"'Mtrs CW'!B365","v":"Sub Work IV :- Colouring to warehouse building "}]
[]
[1,{"$f":"'Mtrs CW'!B368","v":"Scrapping and providing & applying whitewash three coats on plastered or masonary surface and A.C. sheets including scaffolding & preparing the surface by brushing & brooming down complete. "},{"$f":"'Mtrs CW'!M387","v":0},"sqm",{"$f":"'Mtrs CW'!O368","v":"36.03/226 + 36.04"},{"$f":"'Mtrs CW'!P368","v":9},null,null,null,null,null,{"$f":"SUM(F167:K167)","v":9},{"$f":"L167*$M$89","v":0},{"$f":"M167+L167","v":9},{"$f":" ROUNDUP(C167*N167,0)","v":0}]
[]
[2,{"$f":"'Mtrs CW'!B390","v":"Scrapping and providing and applying three coats of water proof cement paint of approved manufacture and of approved colour to old plastered surfaces including scaffolding if ecessary, cleaning and preparing the surface, watering for two days etc. complete."},{"$f":"'Mtrs CW'!M397","v":0},"sqm",{"$f":"'Mtrs CW'!O390","v":"35.16/244"},{"$f":"'Mtrs CW'!P392","v":58},null,null,null,null,null,{"$f":"SUM(F169:K169)","v":58},0,58,{"$f":" ROUNDUP(C169*N169,0)","v":0}]
[null,"56 + 2 = 58"]
[3,{"$f":"'Mtrs CW'!B399","v":"Providing & applying  two coats of polymer based  exteranal paint  of standard manufacturer like Apex from Asian paints, Excel from Nerolac paints,  exterior paint  of approved manufacturer and  approved colour  to the plastered or masonary surface including primer coat scafolding & preparing the surface etc. complete as directed. ( Sample and brand is to be got approved) "},{"$f":"'Mtrs CW'!M437","v":0},"sqm",{"$f":"'Mtrs CW'!O399","v":"35.25/245"},{"$f":"'Mtrs CW'!P438","v":208},null,null,null,null,null,{"$f":"SUM(F171:K171)","v":208},0,208,{"$f":" ROUNDUP(C171*N171,0)","v":0}]
[]
[4,{"$f":"'Mtrs CW'!B441","v":"Scrapping and providing & applying oilpainting in three coats of approved colour & shade to flooring for marking stacklines including preparing the surfaces & primer coat etc. complete. ( Sample and brand is to be got approved)  "},{"$f":"'Mtrs CW'!M453","v":0},"sqm",{"$f":"'Mtrs CW'!O441","v":"35.11/241"},{"$f":"'Mtrs CW'!P443","v":89},null,null,null,null,null,{"$f":"SUM(F173:K173)","v":89},{"$f":"L173*$M$89","v":0},89,{"$f":" ROUNDUP(C173*N173,0)","v":0}]
[null,"64 + 25 = 85"]
[5,{"$f":"'Mtrs CW'!B455","v":"Scrapping and providing and applying three coats of synthetic enamel paint of aproved colour to new /old structural steel work and wood work in buildings, including scaffolding if necessary, cleaning and preparing the surface (excluding primer coat) etc. complete."},{"$f":"'Mtrs CW'!M464","v":0},"sqm",{"$f":"'Mtrs CW'!O455","v":"35.18/245"},{"$f":"'Mtrs CW'!P458","v":102},null,null,null,null,null,{"$f":"SUM(F175:K175)","v":102},0,102,{"$f":" ROUNDUP(C175*N175,0)","v":0}]
[null,"12 + 62 + 28 = 102"]
[]
[null,null,null,null,null,null,null,null,null,null,null,null,null,"Total",{"$f":"SUM(O167:O175)","v":0}]
[null,{"$f":"'Mtrs CW'!B466","v":"Sub Work V :- Repairs to Rolling Shutters"}]
[]
[1,{"$f":"'Mtrs CW'!B468","v":"Dismantling brick masonry in lime or cement mortar and stacking the materials as directed with all leads, lifts etc."},{"$f":"'Mtrs CW'!M474","v":0},"cum",{"$f":"'Mtrs CW'!O468","v":"46.09/318"},{"$f":"'Mtrs CW'!P468","v":181},null,null,null,null,null,{"$f":"SUM(F181:K181)","v":181},{"$f":"L181*$M$89","v":0},{"$f":"M181+L181","v":181},{"$f":" ROUNDUP(C181*N181,0)","v":0}]
[]
[2,{"$f":"'Mtrs CW'!B476","v":"Providing second class Burnt Brick masonry with conventional/ I.S. type bricks in cement mortar 1:6 in superstructure including striking joints, raking out joints, watering and scaffolding etc. Complete"},{"$f":"'Mtrs CW'!M480","v":0},"cum",{"$f":"'Mtrs CW'!O476","v":"27.05/215"},{"$f":"'Mtrs CW'!P476","v":4804},null,null,{"$f":"F34","v":549.06759999999997},null,null,{"$f":"SUM(F183:K183)","v":5353.0676000000003},0,5353.0676000000003,{"$f":" ROUNDUP(C183*N183,0)","v":0}]
[]
[3,{"$f":"'Mtrs CW'!B482","v":"Providing and laying Cast in situ/Ready Mix cement concrete M-20 of trap /  ranite /quartzite/ gneiss metal for R.C.C. columns as per detailed designs and drawing or as directed including centering, formwork, cover blocks, laying/pumping, compaction finishing the formed surfaces with cement mortar 1:3 of sufficient minimum thickness to give a smooth and even surface or roughening if special finish is to be provided and curing etc.  complete,(Excluding reinforcement and structural steel)"},{"$f":"'Mtrs CW'!M487","v":0},"cum",{"$f":"'Mtrs CW'!O482","v":"25.31/188"},{"$f":"'Mtrs CW'!P482","v":7514},-117,null,{"$f":"F37","v":735.86327499999993},null,null,{"$f":"SUM(F185:K185)","v":8132.8632749999997},0,8132.8632749999997,{"$f":" ROUNDUP(C185*N185,0)","v":0}]
[]
[4,{"$f":"'Mtrs CW'!B489","v":"Providing and laying Cast in situ/Ready Mix cement concrete M-20 of trap / granite /quartzite/ gneiss metal for R.C.C. beams and lintels as per detailed designs and drawings or as directed including centering, formwork, cover blocks, laying/pumping, compactionand roughening the surface if special finish is to be provided and curing etc. complete. (Excluding reinforcement and structural steel)."},{"$f":"'Mtrs CW'!M494","v":0},"cum",{"$f":"'Mtrs CW'!O489","v":"25.50/191"},{"$f":"'Mtrs CW'!P489","v":6741},{"$f":"G185","v":-117},null,{"$f":"I185","v":735.86327499999993},null,null,{"$f":"SUM(F187:K187)","v":7359.8632749999997},0,7359.8632749999997,{"$f":" ROUNDUP(C187*N187,0)","v":0}]
[]
[5,{"$f":"'Mtrs CW'!B496","v":"Providing and fixing in position TMT - FE - 500 bar reinforcement of various diameters for R.C.C. pile caps, footings, foundations, slabs, beams columns, canopies, staircase, newels, chajjas, lintels pardis, copings, fins, arches etc. as per detailed  esigns,drawings and schedules. including cutting, bending, hooking the bars, binding with wires or tack welding and supporting as required complete."},{"$f":"'Mtrs CW'!M501","v":0},"MT",{"$f":"'Mtrs CW'!O496","v":"26.33/202"},{"$f":"'Mtrs CW'!P496","v":46309},null,null,null,null,null,{"$f":"SUM(F189:K189)","v":46309},0,46309,{"$f":" ROUNDUP(C189*N189,0)","v":0}]
[]
[6,{"$f":"'Mtrs CW'!B503","v":"Providing internal cement plaster 20mm thick in two coats in cement mortar 1:4 without neeru finish, to concrete, brick surface, in all positions including scaffolding and curing etc.complete."},{"$f":"'Mtrs CW'!M507","v":0},"sqm",{"$f":"'Mtrs CW'!O503","v":"32.07/227"},{"$f":"'Mtrs CW'!P503","v":328},null,null,{"$f":"F38","v":24.877223999999998},null,null,{"$f":"SUM(F191:K191)","v":352.87722400000001},0,352.87722400000001,{"$f":" ROUNDUP(C191*N191,0)","v":0}]
[]
[7,{"$f":"'Mtrs CW'!B509","v":"Removing the shutter from its positions and refixing them with new hold fast 0.60M side guide and bottom rail lath springs,oiling greasing, its tensioning etc complete as directed by Engineer In charge"},{"$f":"'Mtrs CW'!M513","v":0},"nos",{"$f":"'Mtrs CW'!O509","v":"RA"},{"$f":"'Mtrs CW'!P509","v":1870},null,null,null,null,null,{"$f":"SUM(F193:K193)","v":1870},0,1870,{"$f":" ROUNDUP(C193*N193,0)","v":0}]
[]
[8,{"$f":"'Mtrs CW'!B515","v":"Supply and fixing following material for fixing of Rolling Shutters etc. Complete as directed by Engineer in charge."}]
[]
[null,{"$f":"'Mtrs CW'!B517","v":"A -  side guide"},{"$f":"'Mtrs CW'!M518","v":0},"rmt",{"$f":"'Mtrs CW'!O517","v":"MR"},{"$f":"'Mtrs CW'!P517","v":200},null,null,null,null,null,{"$f":"SUM(F197:K197)","v":200},{"$f":"L197*$M$89","v":0},{"$f":"M197+L197","v":200},{"$f":" ROUNDUP(C197*N197,0)","v":0}]
[]
[null,{"$f":"'Mtrs CW'!B520","v":"B - Bottom Rail"},{"$f":"'Mtrs CW'!M521","v":0},"rmt",{"$f":"'Mtrs CW'!O520","v":"MR"},{"$f":"'Mtrs CW'!P520","v":800},null,null,null,null,null,{"$f":"SUM(F199:K199)","v":800},0,800,{"$f":" ROUNDUP(C199*N199,0)","v":0}]
[]
[null,{"$f":"'Mtrs CW'!B523","v":"C - Lath Patti"},{"$f":"'Mtrs CW'!M524","v":0},"rmt",{"$f":"'Mtrs CW'!O523","v":"MR"},{"$f":"'Mtrs CW'!P523","v":65},null,null,null,null,null,{"$f":"SUM(F201:K201)","v":65},0,65,{"$f":" ROUNDUP(C201*N201,0)","v":0}]
[]
[null,{"$f":"'Mtrs CW'!B526","v":"D - Spring"},{"$f":"'Mtrs CW'!M527","v":0},"rmt",{"$f":"'Mtrs CW'!O526","v":"MR"},{"$f":"'Mtrs CW'!P526","v":400},null,null,null,null,null,{"$f":"SUM(F203:K203)","v":400},0,400,{"$f":" ROUNDUP(C203*N203,0)","v":0}]
[]
[9,{"$f":"'Mtrs CW'!B529","v":"Providing and applying three coats of flat oil paint of approved colour to the old structural steel work and iron work previously painted in building including scaffolding, if necessary, cleaning and preparing the surface (excluding primer coat) etc. complete."},{"$f":"'Mtrs CW'!M532","v":0},"sqm",{"$f":"'Mtrs CW'!O529","v":"35.09/244"},{"$f":"'Mtrs CW'!P532","v":73},null,null,null,null,null,{"$f":"SUM(F205:K205)","v":73},0,73,{"$f":" ROUNDUP(C205*N205,0)","v":0}]
[null,"50 + 11+ 12 = 73"]
[10,{"$f":"'Mtrs CW'!B534","v":"Providing and applying three coats of water proof cement paint of approved manufacture and of approved colour to old plastered surfaces including scaffolding if necessary, cleaning and preparing the surface, watering for two days etc. complete."},{"$f":"'Mtrs CW'!M539","v":0},"sqm",{"$f":"'Mtrs CW'!O534","v":"35.16/244 "},58,null,null,null,null,null,{"$f":"SUM(F207:K207)","v":58},0,58,{"$f":" ROUNDUP(C207*N207,0)","v":0}]
[null,"56 + 2 = 58"]
[11,{"$f":"'Mtrs CW'!B541","v":"Providing partition arrangements for shutter opening portion along with security arrangements upto completion of work etc. complete"},{"$f":"'Mtrs CW'!M545","v":0},"sqm",{"$f":"'Mtrs CW'!O541","v":"RA"},{"$f":"'Mtrs CW'!P541","v":165.27777777777777},null,null,null,null,null,{"$f":"SUM(F209:K209)","v":165.27777777777777},0,165.27777777777777,{"$f":" ROUNDUP(C209*N209,0)","v":0}]
[]
[12,{"$f":"'Mtrs CW'!B548","v":"Removing the existing damaged Rolling shutters from its original locations etc. complete as directed by engineer In charge."},{"$f":"'Mtrs CW'!M552","v":0},"sqm",{"$f":"'Mtrs CW'!O548","v":"RA"},{"$f":"'Mtrs CW'!P548","v":330},null,null,null,null,null,{"$f":"SUM(F211:K211)","v":330},0,330,{"$f":" ROUNDUP(C211*N211,0)","v":0}]
[]
[13,{"$f":"'Mtrs CW'!B554","v":"Providing & fixing steel rolling shutter fabricated from 20 gauge steel laths with side guides, bottom rails, brackets of 10 G.M.S. sheet door suspension shaft of 50 mm dia, rolling springs of 45 cm length, locking arrangements with not less than 6mm thick strip and central lock as per specifications, housing box prepared out of 20 G sheets at the top, handles prepared out of 6mm thick flats 4 nos, holdfast patti 6 nos,for each side guide with 12 concrete nails / fasterner, including applying three coats of oilpaint of approved colour & shade etc. complete "},{"$f":"'Mtrs CW'!M558","v":0},"sqm",{"$f":"'Mtrs CW'!O554","v":"RA"},{"$f":"'Mtrs CW'!P554","v":3063.44},null,null,null,null,null,{"$f":"SUM(F213:K213)","v":3063.44},0,3063.44,{"$f":" ROUNDUP(C213*N213,0)","v":0}]
[]
[14,{"$f":"'Mtrs CW'!B560","v":"Crediting the amount against old damaged existing damaged rolling shutter as directed by engineer in charge."},{"$f":"'Mtrs CW'!M564","v":0},"kg",{"$f":"'Mtrs CW'!O560","v":"RA"},{"$f":"'Mtrs CW'!P560","v":-15},null,null,null,null,null,{"$f":"SUM(F215:K215)","v":-15},0,-15,{"$f":" ROUNDUP(C215*N215,0)","v":0}]
[]
[15,{"$f":"'Mtrs CW'!B566","v":"Conveying the materials obtained from excavation including laying in layers, breaking clods, dressing to the required lines, curves, grades and section for all leads & lifts from the site of excavation to the site of deposition  outside the complex as by directed engineer in charge."},{"$f":"'Mtrs CW'!M570","v":0},"cum",{"$f":"'Mtrs CW'!O566","v":"lead statement"},{"$f":"'Mtrs CW'!P566","v":105.25},null,null,null,null,null,{"$f":"SUM(F217:K217)","v":105.25},0,105.25,{"$f":" ROUNDUP(C217*N217,0)","v":0}]
[]
[null,null,null,null,null,null,null,null,null,null,null,null,null,"Total",{"$f":"SUM(O181:O217)","v":0}]
[null,{"$f":"'Mtrs CW'!B573","v":"Sub Work VI :- Repairs to Warehouse Platforms"}]
[]
[1,{"$f":"'Mtrs CW'!B575","v":"Dismantling brick masonry in lime or cement mortar and stacking the materils as directed with all leads, lifts etc. complete"},{"$f":"'Mtrs CW'!M583","v":0},"cum",{"$f":"'Mtrs CW'!O575","v":"46.09/318"},{"$f":"'Mtrs CW'!P575","v":181},null,null,null,null,null,{"$f":"SUM(F222:K222)","v":181},{"$f":"L222*$M$89","v":0},{"$f":"M222+L222","v":181},{"$f":" ROUNDUP(C222*N222,0)","v":0}]
[]
[2,{"$f":"'Mtrs CW'!B585","v":"Dismantling  stone masonry in  lime or cement mortar including stacking  the  materials  as  directed  with  all  leads,  lifts  etc. complete."},{"$f":"'Mtrs CW'!M593","v":0},"cum",{"$f":"'Mtrs CW'!O585","v":"46.11/315"},{"$f":"'Mtrs CW'!P585","v":205},null,null,null,null,null,{"$f":"SUM(F224:K224)","v":205},0,205,{"$f":" ROUNDUP(C224*N224,0)","v":0}]
[]
[3,{"$f":"'Mtrs CW'!B595","v":"Removing rich mix cement concrete  and sorting out the materials such  as  steel  etc.  as  directed  and  stacking  them  within  the specified lead as directed etc. complete."},{"$f":"'Mtrs CW'!M605","v":0},"cum",{"$f":"'Mtrs CW'!O595","v":"46.13/318"},{"$f":"'Mtrs CW'!P595","v":502},null,null,null,null,null,{"$f":"SUM(F226:K226)","v":502},0,502,{"$f":" ROUNDUP(C226*N226,0)","v":0}]
[]
[4,{"$f":"'Mtrs CW'!B607","v":"Removing  & refixing, fabricating structural steel work in rolled sections like joists, channels, angles, tees etc. as per detailed design and drawings or as directed including cutting, fabricating, hoisting, erecting, fixing in position making riveted / bolted /welded connections without connecting plates, braces etc. and including one coat of anticorrosive paint and over it two coats of oil painting of approved quality and shade etc. complete."},{"$f":"'Mtrs CW'!M612","v":0},"kg",{"$f":"'Mtrs CW'!O607","v":"23.01/174"},{"$f":"'Mtrs CW'!P607","v":50.77},null,null,null,null,null,{"$f":"SUM(F228:K228)","v":50.77},0,50.77,{"$f":" ROUNDUP(C228*N228,0)","v":0}]
[]
[5,{"$f":"'Mtrs CW'!B614","v":"Providing second class Burnt Brick masonry with conventional/ I.S. type bricks in cement mortar 1:6 in superstructure including striking joints, raking out joints, watering and scaffolding etc. Complete"},{"$f":"'Mtrs CW'!M621","v":0},"cum",{"$f":"'Mtrs CW'!O614","v":"27.05/215"},{"$f":"'Mtrs CW'!P614","v":4804},null,null,{"$f":"F34","v":549.06759999999997},null,null,{"$f":"SUM(F230:K230)","v":5353.0676000000003},0,5353.0676000000003,{"$f":" ROUNDUP(C230*N230,0)","v":0}]
[]
[6,{"$f":"'Mtrs CW'!B623","v":"Providing and laying in situ/Ready Mix cement concrete M-20 of trap / granite /quartzite/ gneiss metal for R.C.C. work in foundations like raft, strip foundations, grillage and footings of R.C.C. columns and steel stanchions etc. including bailing out water, formwork, laying/pumping cover blocks, compaction and curing roughening the surface if special finish is to be provided (Excluding reinforcement and structural steel) etc. complete, etc. complete. With natural sand/V.S.I. quality Artificial Sand"},{"$f":"'Mtrs CW'!M627","v":0},"cum",{"$f":"'Mtrs CW'!O623","v":"25.11/185"},{"$f":"'Mtrs CW'!P623","v":4907},-117,null,{"$f":"F37","v":735.86327499999993},null,null,{"$f":"SUM(F232:K232)","v":5525.8632749999997},0,5525.8632749999997,{"$f":" ROUNDUP(C232*N232,0)","v":0}]
[]
[7,{"$f":"'Mtrs CW'!B631","v":"Providing and laying Cast in situ/Ready Mix cement concrete M-20 of trap / granite /quartzite/ gneiss metal for R.C.C. columns as per detailed designs and drawing or as directed includingcentering, formwork, cover blocks, laying / pumping, compaction finishing the formed surfaces with cement mortar1:3 of sufficient minimum thickness to give a smooth and evensurface or roughening if special finish is to be provided andcuring etc.complete,(Excluding reinforcement and structuralsteel).With natural sand/V.S.I.quality Artificial Sand"},{"$f":"'Mtrs CW'!M636","v":0},"cum",{"$f":"'Mtrs CW'!O631","v":"25.31/188"},{"$f":"'Mtrs CW'!P631","v":7514},-117,null,{"$f":"I232","v":735.86327499999993},null,null,{"$f":"SUM(F234:K234)","v":8132.8632749999997},0,8132.8632749999997,{"$f":" ROUNDUP(C234*N234,0)","v":0}]
[]
[8,{"$f":"'Mtrs CW'!B638","v":"Providing and laying Cast in situ/Ready Mix cement concrete M-20 of trap / granite /quartzite/ gneiss metal for R.C.C. beams and lintels as per detailed designs and drawings or as directed including centering, formwork, cover blocks, laying/pumping, compaction and roughening the surface if special finish is to be provided and curing etc. complete. (Excluding reinforcement and structural steel).  etc. complete. With natural sand/ V.S.I. quality Artificial Sand"},{"$f":"'Mtrs CW'!M651","v":0},"cum",{"$f":"'Mtrs CW'!O638","v":"25.50/191"},{"$f":"'Mtrs CW'!P638","v":6741},-117,null,{"$f":"I234","v":735.86327499999993},null,null,{"$f":"SUM(F236:K236)","v":7359.8632749999997},0,7359.8632749999997,{"$f":" ROUNDUP(C236*N236,0)","v":0}]
[]
[9,{"$f":"'Mtrs CW'!B653","v":"Providing and laying Cast in situ/Ready Mix cement concrete M-20 of trap/ granite / quartzite/ gneiss metal for R.C.C. slabs and landings as per detailed designs and drawings including centering, formwork, cover blocks, laying/pumping, compactionfinishing the formed surfaces with cement mortar 1:3 of sufficient minimum thickness to give a smooth and even surface or roughening if special finish is to be provided and curing etc. complete,(Excluding reinforcement and structural steel). complete. With natural sand/V.S.I. quality Artificial Sand"},{"$f":"'Mtrs CW'!M657","v":0},"cum",{"$f":"'Mtrs CW'!O653","v":"25.70/193"},{"$f":"'Mtrs CW'!P653","v":8516},{"$f":"G232","v":-117},null,{"$f":"I236","v":735.86327499999993},null,null,{"$f":"SUM(F238:K238)","v":9134.8632749999997},0,9134.8632749999997,{"$f":" ROUNDUP(C238*N238,0)","v":0}]
[]
[10,{"$f":"'Mtrs CW'!B659","v":"Providing internal cement plaster 20mm thick in two coats in cement mortar 1:4 without neeru finish, to concrete, brick surface, in all positions including scaffolding and curing\netc.complete."},{"$f":"'Mtrs CW'!M664","v":0},"sqm",{"$f":"'Mtrs CW'!O659","v":"32.07/227"},{"$f":"'Mtrs CW'!P659","v":328},null,null,{"$f":"I191","v":24.877223999999998},null,null,{"$f":"SUM(F240:K240)","v":352.87722400000001},0,352.87722400000001,{"$f":" ROUNDUP(C240*N240,0)","v":0}]
[]
[11,{"$f":"'Mtrs CW'!B667","v":"Providing and fabricating structural steel work in rolled sections like joists, channels, angles, tees etc. as per detailed design and drawings or as directed including cutting, fabricating, hoisting, erecting, fixing in position making riveted / bolted /welded connections without connecting plates, braces etc. and including one coat of anticorrosive paint and over it two coats of oil painting of approved quality and shade etc. complete."},{"$f":"'Mtrs CW'!M675","v":0},"kg",{"$f":"'Mtrs CW'!O667","v":"23.01/177"},{"$f":"'Mtrs CW'!P667","v":50.77},null,null,null,null,null,{"$f":"SUM(F242:K242)","v":50.77},0,50.77,{"$f":" ROUNDUP(C242*N242,0)","v":0}]
[]
[12,{"$f":"'Mtrs CW'!B677","v":"Conveying the materials obtained from excavation including laying in layers, breaking clods, dressing to the required lines, curves, grades and section for all leads & lifts from the site of excavation to the site of deposition  outside the complex as by directed engineer in charge."},{"$f":"'Mtrs CW'!M681","v":0},"cum",{"$f":"'Mtrs CW'!O677","v":"lead statement"},{"$f":"'Mtrs CW'!P677","v":105.25},null,null,null,null,null,{"$f":"SUM(F244:K244)","v":105.25},0,105.25,{"$f":" ROUNDUP(C244*N244,0)","v":0}]
[]
[null,null,null,null,null,null,null,null,null,null,null,null,null,"Total",{"$f":"SUM(O222:O244)","v":0}]
[]
[null,{"$f":"'Mtrs CW'!B684","v":"Sub Work VII :- Repairs to Office building "}]
[]
[1,{"$f":"'Mtrs CW'!B686","v":"Scrapping & providing & applying white wash in three coats on plastered surfaces including scaffolding & preparing the surface by brushing & brooming down  complete including scrapping old white wash & preparing surface to receive new white wash etc complete."},{"$f":"'Mtrs CW'!M689","v":0},"sqm",{"$f":"'Mtrs CW'!O686","v":"36.03/246+ 36.04"},{"$f":"'Mtrs CW'!P686","v":9},null,null,null,null,null,{"$f":"SUM(F250:K250)","v":9},{"$f":"L250*$M$89","v":0},{"$f":"SUM(L250:M250)","v":9},{"$f":" ROUNDUP(C250*N250,0)","v":0}]
[null,"8 + 1 =  9"]
[2,{"$f":"'Mtrs CW'!B691","v":"Providing & applying Washable Oil Bound Distemper of approved colour & shade  three coats  including scaffolding & preparing the surface by scrapping the old paint etc complete "},{"$f":"'Mtrs CW'!M722","v":0},"sqm",{"$f":"'Mtrs CW'!O691","v":"46.22/316 + 36.11/247"},{"$f":"'Mtrs CW'!P693","v":47},null,null,null,null,null,{"$f":"SUM(F252:K252)","v":47},0,{"$f":"SUM(L252:M252)","v":47},{"$f":" ROUNDUP(C252*N252,0)","v":0}]
[null,"15 + 32 = 47"]
[3,{"$f":"'Mtrs CW'!B724","v":"Scrapping the old paint and providing and applying two coats of exterior acraylic emulsion paint confirming to corresponding I.S. of approved manufacture and of approved colour to the plastered surfaces including cleaning ,preparing the plaster surface, applying primer coat ,scaffolding if necessary , and watering the surface for two days etc complete."},{"$f":"'Mtrs CW'!M738","v":0},"sqm",{"$f":"'Mtrs CW'!O724","v":"35.25/304"},{"$f":"'Mtrs CW'!P726","v":208},null,null,null,null,null,{"$f":"SUM(F254:K254)","v":208},0,{"$f":"SUM(L254:M254)","v":208},{"$f":" ROUNDUP(C254*N254,0)","v":0}]
[]
[4,{"$f":"'Mtrs CW'!B740","v":"Scrapping the old paint and providing and applying two coats of synthetic enamel paint of approved colour to new /old structural steel work and wood work in buildings, including scaffolding if necessary, cleaning and preparing the surface (excluding primer coat) etc. complete."},{"$f":"'Mtrs CW'!M748","v":0},"sqm",{"$f":"'Mtrs CW'!O740","v":"35.07/243"},{"$f":"'Mtrs CW'!P743","v":83},null,null,null,null,null,{"$f":"SUM(F256:K256)","v":83},0,{"$f":"SUM(L256:M256)","v":83},{"$f":" ROUNDUP(C256*N256,0)","v":0}]
[null," 62 + 21 = 83"]
[5,{"$f":"'Mtrs CW'!B750","v":"Removing existing plaster and providing and laying vitrified mirror / glossy finish tiles having size 590 mm to 605 mm x 590 mm to 605 mm of 8 to 10 mm thickness and confirming to IS. 15622-2006 ( group Bla) of approved make, shade and pattern for flooring in required position laid on a bed of 1:4 cement mortar including neat cement float, filling joints, curing and clearing etc. complete.b) Skirting"},{"$f":"'Mtrs CW'!M762","v":0},"sqm",{"$f":"'Mtrs CW'!O750","v":"33.41/236"},{"$f":"'Mtrs CW'!P752","v":943},null,null,{"$f":"F42","v":24.877223999999998},null,null,{"$f":"SUM(F258:K258)","v":967.87722399999996},0,{"$f":"SUM(L258:M258)","v":967.87722399999996},{"$f":" ROUNDUP(C258*N258,0)","v":0}]
[null,"928 + 15 = 943"]
[6,{"$f":"'Mtrs CW'!B764","v":"Removing existing  shahabad flooring & stacking the material properly and providing and laying vitrified mirror / glossy finish tiles decorative type having size 590 mm to 605 mm x 590 mm to 605 mm of 8 to 10 mm thickness and confirming to IS. 15622- 2006 ( group Bla) of approved make, shade and pattern for flooring in required position laid on a bed of 1:4 cement mortar including neat cement float, filling joints, curing and clearing\netc. complete. a) Flooring"},{"$f":"'Mtrs CW'!M774","v":0},"sqm",{"$f":"'Mtrs CW'!O764","v":"33.40/196"},{"$f":"'Mtrs CW'!P766","v":863},null,null,{"$f":"I258","v":24.877223999999998},null,null,{"$f":"SUM(F260:K260)","v":887.87722399999996},0,{"$f":"SUM(L260:M260)","v":887.87722399999996},{"$f":" ROUNDUP(C260*N260,0)","v":0}]
[null,"839 + 24  = 863 "]
[7,{"$f":"'Mtrs CW'!B776","v":"Removing existing plaster and providing and laying ceramic tiles of RAK/Kajaria / Nitco /Asian or equivalentmake having size 30 cm. x 30 cm. for dado and skirting in required position with readymade adhesive mortar ofapproved quality on plaster of 1:2 cement mortar including joint filling with white/colour cement slurry cleaning curing complete."},{"$f":"'Mtrs CW'!M785","v":0},"sqm",{"$f":"'Mtrs CW'!O776","v":"33.25/234"},{"$f":"'Mtrs CW'!P778","v":942},null,null,{"$f":"I260","v":24.877223999999998},null,null,{"$f":"SUM(F262:K262)","v":966.87722399999996},0,{"$f":"SUM(L262:M262)","v":966.87722399999996},{"$f":" ROUNDUP(C262*N262,0)","v":0}]
[null,"927 + 15 = 942"]
[8,{"$f":"'Mtrs CW'!B787","v":"Removing existing tiles and Providing and laying ceramic tiles of RAK/ Kajaria/ Nitco/ Asian or equivalent make having size 30 cm x 30 cmconfirming I.S.15622/2006 (group D IIA) and 7 to 8 mm thick for flooring inrequired position laid on a bed of 1:4cement mortar including cement float, filling joint with white/colour cement slurry cleaning curing complete."},{"$f":"'Mtrs CW'!M792","v":0},"sqm",{"$f":"'Mtrs CW'!O787","v":"33.24/234 + 46.19/319"},{"$f":"'Mtrs CW'!P789","v":944},null,null,{"$f":"I262","v":24.877223999999998},null,null,{"$f":"SUM(F264:K264)","v":968.87722399999996},0,{"$f":"SUM(L264:M264)","v":968.87722399999996},{"$f":" ROUNDUP(C264*N264,0)","v":0}]
[null,"920 + 24 = 944"]
[9,{"$f":"'Mtrs CW'!B794","v":"Removing the existing brickwork and plaster below window sill & Providing sills of polished Marble stone 25mm to 30mm thick, on a bed of 1:4cement mortar including cement float, fillingjoints with slurry, curing polishing andcleaning complete."},{"$f":"'Mtrs CW'!M797","v":0},"sqm",{"$f":"'Mtrs CW'!O794","v":"33.21/234 + 46.09/318"},{"$f":"'Mtrs CW'!P796","v":1291.0999999999999},null,null,{"$f":"I264","v":24.877223999999998},null,null,{"$f":"SUM(F266:K266)","v":1315.977224},0,{"$f":"SUM(L266:M266)","v":1315.977224},{"$f":" ROUNDUP(C266*N266,0)","v":0}]
[null,"1273 + 1303.87 = 2576.87"]
[10,{"$f":"'Mtrs CW'!B799","v":"Providing necessary repairs to the doors and windows with required spares and finishing, etc, to have smooth operation etc. complete as directed."},{"$f":"'Mtrs CW'!M802","v":0},"sqm",{"$f":"'Mtrs CW'!O799","v":"MR"},{"$f":"'Mtrs CW'!P799","v":200},null,null,null,null,null,{"$f":"SUM(F268:K268)","v":200},0,{"$f":"SUM(L268:M268)","v":200},{"$f":" ROUNDUP(C268*N268,0)","v":0}]
[]
[11,{"$f":"'Mtrs CW'!B804","v":"Providing repairs to doors by removing the damaged old wooden shutter and Providing and fixing solid core flush door shutter commercial in single leaf 32mmthick without ventilator commercial type ofexterior grade as per detailed drawings with wrought iron hold fast, stainless steel fixtures and fastenings and handles on both sides and finishing with oil painting 3coats complete."},{"$f":"'Mtrs CW'!M807","v":0},"sqm",{"$f":"'Mtrs CW'!O804","v":"39.04/263 + 46.15/318"},{"$f":"'Mtrs CW'!P806","v":5492},null,null,null,null,null,{"$f":"SUM(F270:K270)","v":5492},0,{"$f":"SUM(L270:M270)","v":5492},{"$f":" ROUNDUP(C270*N270,0)","v":0}]
[null," 5468 + 24 = 5492"]
[12,{"$f":"'Mtrs CW'!B809","v":"Providing and fixing frame with / without ventilator of size as specified with Ghana teak wood for doors and windowsincluding chamfering, rounding,rebating, iron holdfast of size 300mm x40mm x 5mm with oil painting,including removing the damaged portion of frame etc.complete. As directed by Engineer incharge."},{"$f":"'Mtrs CW'!M812","v":0},"cum",{"$f":"'Mtrs CW'!O809","v":"39.01/262"},{"$f":"'Mtrs CW'!P809","v":126465},null,null,null,null,null,{"$f":"SUM(F272:K272)","v":126465},0,{"$f":"SUM(L272:M272)","v":126465},{"$f":" ROUNDUP(C272*N272,0)","v":0}]
[]
[13,{"$f":"'Mtrs CW'!B814","v":"Providing and fixing in position. (as perI.S.1868 / 1982) Aluminium slidingwindow of two tracks with rectangularpipe having overall dimension 63.50 x38.10 x 1.02mm at weight 0.547 kg/Rmt.and window frame bottom track section61.85 x 31.75 x 1.20mm at weight 0.695kg/Rmt. Top and side track section 61.85 x31.75 x 1.30 mm at weight 0.659 kg/Rmt.The shutter should be of bearing bottom 40x 18 x 1.25 mm at weight 0.417 kg/Rmt.Inter locking section 40 x 18 x 1.10mm atweight 0.469 kg/Rmt. And handle section40 x 18 x 1.25mm at weight 0.417 kg/Rmt.and top section 40 x 18 x 1.25mm atweight 0.417 kg/Rmt. As per detaileddrawings and as directed by Engineer incharge with all necessary Aluminiumsections fixtures and fastenings such asroller bearing in nylon casting and selflocking catch fitted in vertical section ofshutter including 5 mm thick plain glasswith all required screws and nuts etc,complete. with colour Anodising withoutboxSpec : As directed by Engineer In Charge"},{"$f":"'Mtrs CW'!M817","v":0},"sqm",{"$f":"'Mtrs CW'!O814","v":"39.37/270"},{"$f":"'Mtrs CW'!P814","v":4613},null,null,null,null,null,{"$f":"SUM(F274:K274)","v":4613},0,{"$f":"SUM(L274:M274)","v":4613},{"$f":" ROUNDUP(C274*N274,0)","v":0}]
[]
[14,{"$f":"'Mtrs CW'!B819","v":"Removing doors and windows with frames with the help of gas cutting and stacking the materials asdirected with all leads, lifts, complete.Spec : As directed by Engineer In Charge"},{"$f":"'Mtrs CW'!M822","v":0},"nos",{"$f":"'Mtrs CW'!O819","v":"46.15/318"},{"$f":"'Mtrs CW'!P819","v":84},null,null,null,null,null,{"$f":"SUM(F276:K276)","v":84},0,{"$f":"SUM(L276:M276)","v":84},{"$f":" ROUNDUP(C276*N276,0)","v":0}]
[]
[15,{"$f":"'Mtrs CW'!B824","v":"Providing and laying damp proof course 50 mm thick in M20 cement concrete layer and bitumen / using cement with waterproofing compound curing, formwork etc. complete."},{"$f":"'Mtrs CW'!M827","v":0},"sqm",{"$f":"'Mtrs CW'!O824","v":"31.04/223"},{"$f":"'Mtrs CW'!P824","v":711},null,null,{"$f":"J37/20","v":38.091746000000001},null,null,{"$f":"SUM(F278:K278)","v":749.09174600000006},0,{"$f":"SUM(L278:M278)","v":749.09174600000006},{"$f":" ROUNDUP(C278*N278,0)","v":0}]
[]
[16,{"$f":"'Mtrs CW'!B829","v":"Removing the damaged W.C. pan and providing & fixing Indian type white glazed Orissa type earthenware 600 x 400 mm water closet pan including S trap white earthenware foot rest cast iron soil & vent pipe upto the outside face of the wall 1:2:4 brickbat lime concrete bedding 10 Litre fibre highlevel tank flushing cistern with fittings, inlet pipe with stop tap, bracket for fixing the cistern 32 mm dia PVC pipe with fittings & clamps 20 mm dia G. I. Over flow pipe with mosquitoproof capping G. I. Chain  pull, painting of cistren & exposed pipes & fittings & making good walls & floor with enameled tank & PVC pipe as directed. etc. complete"},{"$f":"'Mtrs CW'!M832","v":0},"nos",{"$f":"'Mtrs CW'!O829","v":"42.33/300"},{"$f":"'Mtrs CW'!P829","v":3881},null,null,null,null,null,{"$f":"SUM(F280:K280)","v":3881},0,{"$f":"SUM(L280:M280)","v":3881},{"$f":" ROUNDUP(C280*N280,0)","v":0}]
[]
[17,{"$f":"'Mtrs CW'!B835","v":"Removing damaged wash hand basin and providing & fixing white glazed wash hand basin of 45 x 30 cms size including cold water pillar tap brackets, rubber plug & brass chain, stop tap & necessary pipe connections including PVC vest pipe & trap upto outside face of the wall. "},{"$f":"'Mtrs CW'!M838","v":0},"nos",{"$f":"'Mtrs CW'!O835","v":"41.64/293"},{"$f":"'Mtrs CW'!P835","v":3191},null,null,null,null,null,{"$f":"SUM(F282:K282)","v":3191},0,{"$f":"SUM(L282:M282)","v":3191},{"$f":" ROUNDUP(C282*N282,0)","v":0}]
[]
[18,{"$f":"'Mtrs CW'!B840","v":"Providing and constructing Brick Masonry Inspection Chamber 60cm x 45cm x 90cm including M-10 cement concrete foundation M-20 cement concrete channels half round G.S.W. pipes, Brick Masonry, plastering from inside and airtight C. I. cover of 75 kg with lid and frame fixed in cement concrete etc. complete as directed by Engineer in charge."},{"$f":"'Mtrs CW'!M843","v":0},"nos",{"$f":"'Mtrs CW'!O840","v":"42.10/297"},{"$f":"'Mtrs CW'!P840","v":7005},null,null,null,null,null,{"$f":"SUM(F284:K284)","v":7005},0,{"$f":"SUM(L284:M284)","v":7005},{"$f":" ROUNDUP(C284*N284,0)","v":0}]
[]
[19,{"$f":"'Mtrs CW'!B847","v":"Providing and fixing hume pipe septic tank 900mm diameter with vent pipe and capincluding necessary (including excavationand laying) etc. Complete"},{"$f":"'Mtrs CW'!M850","v":0},"nos",{"$f":"'Mtrs CW'!O847","v":"42.18/298"},{"$f":"'Mtrs CW'!P847","v":10880},null,null,null,null,null,{"$f":"SUM(F286:K286)","v":10880},0,{"$f":"SUM(L286:M286)","v":10880},{"$f":" ROUNDUP(C286*N286,0)","v":0}]
[]
[20,{"$f":"'Mtrs CW'!B855","v":"Providing soak pit of size 120cm x 120cmx 120cm including excavating and fillingwith brick-bats. etc. Complete"},{"$f":"'Mtrs CW'!M858","v":0},"nos",{"$f":"'Mtrs CW'!O855","v":"42.19/298"},{"$f":"'Mtrs CW'!P855","v":1537},null,null,null,null,null,{"$f":"SUM(F288:K288)","v":1537},0,{"$f":"SUM(L288:M288)","v":1537},{"$f":" ROUNDUP(C288*N288,0)","v":0}]
[]
[21,{"$f":"'Mtrs CW'!B861","v":"Providing & laying 110 MM dia U.P.V.C. SOIL / VENT / WASTE SWR pipesalt glazed stoneware pipe including fittings such as bends, tees, single junction, double junction laying, jointing ( including excavation & refilling the trenches) etc. complete "},{"$f":"'Mtrs CW'!M864","v":0},"rmt",{"$f":"'Mtrs CW'!O861","v":"42.03/296"},{"$f":"'Mtrs CW'!P861","v":196},null,null,null,null,null,{"$f":"SUM(F290:K290)","v":196},0,{"$f":"SUM(L290:M290)","v":196},{"$f":" ROUNDUP(C290*N290,0)","v":0}]
[]
[22,{"$f":"'Mtrs CW'!B866","v":"Providing and fixing H.D.P container Syntex or alike one piece moulded water tank made out of high density polythyler and built corrugated inclusive of delivery up to destination hoisting and fixing of accessories such as inlet,outlet overflow pipe inclusive of all tanks capacity between 200 to 1000 liters etc. complete"},{"$f":"'Mtrs CW'!M869","v":0},"lit",{"$f":"'Mtrs CW'!O866","v":"42.53/303"},{"$f":"'Mtrs CW'!P866","v":9},null,null,null,null,null,{"$f":"SUM(F292:K292)","v":9},0,{"$f":"SUM(L292:M292)","v":9},{"$f":" ROUNDUP(C292*N292,0)","v":0}]
[]
[23,{"$f":"'Mtrs CW'!B871","v":"Providing & fixing 10cms Rigid  C.I. Nahani trap including C.I Grating bend & piece of C.I. Pipe upto the outside face of the wall complete"},{"$f":"'Mtrs CW'!M875","v":0},"nos",{"$f":"'Mtrs CW'!O871","v":"42.03/296"},{"$f":"'Mtrs CW'!P871","v":196},null,null,null,null,null,{"$f":"SUM(F294:K294)","v":196},0,{"$f":"SUM(L294:M294)","v":196},{"$f":" ROUNDUP(C294*N294,0)","v":0}]
[]
[24,{"$f":"'Mtrs CW'!B877","v":"Providing & fixing 15 x 10cms salt glazed stoneware gully trap in C. C. 1:4:8 outside the building including cast iron grating in the sink, connecting glazed stoneware pipe, brick masonary chamber and cast iron lead & cast iron grating for gully trap. "},{"$f":"'Mtrs CW'!M881","v":0},"nos",{"$f":"'Mtrs CW'!O877","v":"42.02/296"},{"$f":"'Mtrs CW'!P877","v":802},null,null,null,null,null,{"$f":"SUM(F296:K296)","v":802},0,{"$f":"SUM(L296:M296)","v":802},{"$f":" ROUNDUP(C296*N296,0)","v":0}]
[]
[25,{"$f":"'Mtrs CW'!B883","v":"Providing and fixing in position on wall or in trenches medium type 15 mm diameter GI pipe of approved make and manufacturer inculding all necessary accessories removing existing pipe if requiredetc. Complete as directed by Engineer in charge."},{"$f":"'Mtrs CW'!M887","v":0},"rmt",{"$f":"'Mtrs CW'!O883","v":"41.10/287"},{"$f":"'Mtrs CW'!P883","v":257},null,null,null,null,null,{"$f":"SUM(F298:K298)","v":257},0,{"$f":"SUM(L298:M298)","v":257},{"$f":" ROUNDUP(C298*N298,0)","v":0}]
[]
[26,{"$f":"'Mtrs CW'!B889","v":"Providing and fixing in position on wall or in trenches medium type 20 mm diameter GI pipe of approved make and manufacturer inculding all necessary accessories removing existing pipe if requiredetc. Complete as directed by Engineer in charge."},{"$f":"'Mtrs CW'!M892","v":0},"rmt",{"$f":"'Mtrs CW'!O889","v":"41.11/287"},{"$f":"'Mtrs CW'!P889","v":310},null,null,null,null,null,{"$f":"SUM(F300:K300)","v":310},0,{"$f":"SUM(L300:M300)","v":310},{"$f":" ROUNDUP(C300*N300,0)","v":0}]
[]
[27,{"$f":"'Mtrs CW'!B894","v":"Providing and fixing 15 mm dia. screw down bib/ stop tap of brass including necessary socket union nut complete."},{"$f":"'Mtrs CW'!M898","v":0},"nos",{"$f":"'Mtrs CW'!O894","v":"41.40/291"},{"$f":"'Mtrs CW'!P894","v":366},null,null,null,null,null,{"$f":"SUM(F302:K302)","v":366},0,{"$f":"SUM(L302:M302)","v":366},{"$f":" ROUNDUP(C302*N302,0)","v":0}]
[]
[28,{"$f":"'Mtrs CW'!B900","v":"Providing and fixing screw down for 20 mm dia. wheeled stoptap of brass including necessary sockets/union nut complete."},{"$f":"'Mtrs CW'!M903","v":0},"sqm",{"$f":"'Mtrs CW'!O900","v":"41.44/291"},{"$f":"'Mtrs CW'!P900","v":529},null,null,null,null,null,{"$f":"SUM(F304:K304)","v":529},0,{"$f":"SUM(L304:M304)","v":529},{"$f":" ROUNDUP(C304*N304,0)","v":0}]
[]
[29,{"$f":"'Mtrs CW'!B905","v":"Conveying the materials obtained from excavation including laying in layers, breaking clods, dressing to the required lines, curves, grades and section for all leads & lifts from the site of excavation to the site of deposition  outside the complex as by directed engineer in charge."},{"$f":"'Mtrs CW'!M909","v":0},"cum",{"$f":"'Mtrs CW'!O905","v":"lead statement"},{"$f":"'Mtrs CW'!P905","v":105.25},null,null,null,null,null,{"$f":"SUM(F306:K306)","v":105.25},0,{"$f":"SUM(L306:M306)","v":105.25},{"$f":" ROUNDUP(C306*N306,0)","v":0}]
[]
[null,null,null,null,null,null,null,null,null,null,null,null,null,"Total",{"$f":"SUM(O250:O306)","v":0}]
[null,{"$f":"'Mtrs CW'!B914","v":"Sub Work VIII :-Part A:- Repairs to Road & CD works"}]
[]
[1,{"$f":"'Mtrs CW'!B932","v":"Picking the road surface including sectioning complete. (WBM suface)"},{"$f":"'Mtrs CW'!K935","v":0},"sqm",{"$f":"'Mtrs CW'!O932","v":"2.32/27"},{"$f":"'Mtrs CW'!P932","v":18},null,null,null,null,null,{"$f":"SUM(F311:K311)","v":18},{"$f":"L311*$M$89","v":0},{"$f":"SUM(L311:M311)","v":18},{"$f":" ROUNDUP(C311*N311,0)","v":0}]
[]
[2,{"$f":"'Mtrs CW'!B938","v":"Providing dry/ trap/ granite/ quartzite/ gneiss rubble stone soling 15 cm to 20 cm thick including hand packing and compacting etc. complete."},{"$f":"'Mtrs CW'!K942","v":0},"cum",{"$f":"'Mtrs CW'!O938","v":"21.38/157"},{"$f":"'Mtrs CW'!P938","v":516},null,null,{"$f":"K15*1.32","v":458.62872000000004},null,null,{"$f":"SUM(F313:K313)","v":974.62872000000004},0,{"$f":"SUM(L313:M313)","v":974.62872000000004},{"$f":" ROUNDUP(C313*N313,0)","v":0}]
[]
[3,{"$f":"'Mtrs CW'!B944","v":"Providing, laying, spreading and compacting stone aggregates of specific sizes to water bound macadam specification including spreading in uniform thickness, hand packing to proper grade and camber, applying and brooming requisite type of screening/ binding Materials to fill up the interstices of coarse aggregate, watering and compacting ?with Intelligent Compactor with compaction analyzer and V-Sat attachment.to the required density. Grading I (Using Screening Type B (11.2 mm) Aggregate)"},{"$f":"'Mtrs CW'!M948","v":0},"cum",{"$f":"'Mtrs CW'!O944","v":"3.19/30"},{"$f":"'Mtrs CW'!P944","v":1132},null,null,{"$f":"I313","v":458.62872000000004},null,null,{"$f":"SUM(F315:K315)","v":1590.6287200000002},0,{"$f":"SUM(L315:M315)","v":1590.6287200000002},{"$f":" ROUNDUP(C315*N315,0)","v":0}]
[]
[4,{"$f":"'Mtrs CW'!B950","v":"Supplying hard murum at the road side including conveying & stacking etc. complete."},{"$f":"'Mtrs CW'!M957","v":0},"cum",{"$f":"'Mtrs CW'!O950","v":"2.29/26"},{"$f":"'Mtrs CW'!P950","v":248},null,null,{"$f":"K19","v":210.71},null,null,{"$f":"SUM(F317:K317)","v":458.71000000000004},0,{"$f":"SUM(L317:M317)","v":458.71000000000004},{"$f":" ROUNDUP(C317*N317,0)","v":0}]
[]
[5,{"$f":"'Mtrs CW'!B960","v":"Spreading hard murum for side width etc. complete"},{"$f":"'Mtrs CW'!M967","v":0},"cum",{"$f":"'Mtrs CW'!O960","v":"2.30/26"},{"$f":"'Mtrs CW'!P960","v":49},null,null,null,null,null,{"$f":"SUM(F319:K319)","v":49},0,{"$f":"SUM(L319:M319)","v":49},{"$f":" ROUNDUP(C319*N319,0)","v":0}]
[]
[6,{"$f":"'Mtrs CW'!B969","v":"Compacting the hard murum side widths including laying in layers on each side with power roller including artificial watering etc. complete."},{"$f":"'Mtrs CW'!M976","v":0},"sqm",{"$f":"'Mtrs CW'!O969","v":"2.31/27"},{"$f":"'Mtrs CW'!P969","v":10},null,null,null,null,null,{"$f":"SUM(F321:K321)","v":10},0,{"$f":"SUM(L321:M321)","v":10},{"$f":" ROUNDUP(C321*N321,0)","v":0}]
[]
[7,{"$f":"'Mtrs CW'!B978","v":"Removing and refixing old available guard stone in warehoue complex"},{"$f":"'Mtrs CW'!M982","v":0},"nos",{"$f":"'Mtrs CW'!O978","v":"RA"},{"$f":"#REF!","v":{"$error":"#REF!"}},null,null,null,null,null,{"$f":"SUM(F323:K323)","v":{"$error":"#REF!"}},{"$error":"#REF!"},{"$f":"SUM(L323:M323)","v":{"$error":"#REF!"}},{"$f":" ROUNDUP(C323*N323,0)","v":{"$error":"#REF!"}}]
[]
[8,{"$f":"'Mtrs CW'!B985","v":"Providing and fixing M-15 R.C.C. guard stone/ indicator stones/ boundary stones of standard size and shape including fixing in C.C. 1:4:8 and white washing etc. complete."},{"$f":"'Mtrs CW'!M989","v":0},"nos",{"$f":"'Mtrs CW'!O985","v":"6.03/49"},{"$f":"'Mtrs CW'!P985","v":635},null,null,null,null,null,{"$f":"SUM(F325:K325)","v":635},0,{"$f":"SUM(L325:M325)","v":635},{"$f":" ROUNDUP(C325*N325,0)","v":0}]
[]
[null,{"$f":"'Mtrs CW'!B991","v":"Part B: Repairs to Cross drainage works"}]
[]
[9,{"$f":"'Mtrs CW'!B993","v":"Excavation for foundation in earth soil of all types sand, gravel & soft murum, depth upto 1.50 meters including removing the excavated stuff upto a distance of 50 meters beyond the bldg. area all lifts stacking or spreading as directed, dewatering, shoring, strutting if necessary preparing the bed for foundation including necessary backfilling "},{"$f":"'Mtrs CW'!M996","v":0},"cum",{"$f":"'Mtrs CW'!O993","v":"21.02/153"},{"$f":"'Mtrs CW'!P993","v":125},null,null,null,null,null,{"$f":"SUM(F329:K329)","v":125},{"$f":"L329*$M$89","v":0},{"$f":"SUM(L329:M329)","v":125},{"$f":" ROUNDUP(C329*N329,0)","v":0}]
[]
[10,{"$f":"'Mtrs CW'!B998","v":"Excavation for foundation in hard murum depth upto 1.50m  including removing the excavated stuff upto a distance of 50 meters beyond the building area all lifts stacking or spreading as directed, dewatering, shoring, strutting if necessary preparing the bed for foundation including necessary backfilling  etc complete"},{"$f":"'Mtrs CW'!M1001","v":0},"cum",{"$f":"'Mtrs CW'!O998","v":"21.06/153"},{"$f":"'Mtrs CW'!P998","v":132},null,null,null,null,null,{"$f":"SUM(F331:K331)","v":132},0,{"$f":"SUM(L331:M331)","v":132},{"$f":" ROUNDUP(C331*N331,0)","v":0}]
[]
[11,{"$f":"'Mtrs CW'!B1002","v":"Excavation for foundation in H.M. & boulder upto 1.50 meters including removing the excavated stuff upto a distance of 50 meters beyond the building area all lifts stacking or spreading as directed, dewatering, shoring, strutting if necessary preparing the bed for foundation including necessary backfilling etc complete "},{"$f":"'Mtrs CW'!M1005","v":0},"cum",{"$f":"'Mtrs CW'!O1002","v":"21.10/153"},{"$f":"'Mtrs CW'!P1002","v":156},null,null,null,null,null,{"$f":"SUM(F333:K333)","v":156},0,{"$f":"SUM(L333:M333)","v":156},{"$f":" ROUNDUP(C333*N333,0)","v":0}]
[]
[12,{"$f":"'Mtrs CW'!B1006","v":"Providing and laying Cast in situ/Ready Mix cement concrete in M-10 of trap/ granite/ quartzite/ gneiss metal for foundation and bedding including bailing out water, formwork, laying/pumping, compacting, roughening them if special finish is to be provided, finishing if required and curing complete, etc. complete. With natural sand/V.S.I. quality Artificial Sand"},{"$f":"'Mtrs CW'!M1009","v":0},"cum",{"$f":"'Mtrs CW'!O1006","v":"24.01/180"},{"$f":"'Mtrs CW'!P1006","v":3181},-117,null,{"$f":"F28","v":813.77820999999994},null,null,{"$f":"SUM(F335:K335)","v":3877.7782099999999},0,{"$f":"SUM(L335:M335)","v":3877.7782099999999},{"$f":" ROUNDUP(C335*N335,0)","v":0}]
[]
[13,{"$f":"'Mtrs CW'!B1012","v":"Providing and fixing in position TMT - FE - 500 bar reinforcement of various diameters for R.C.C. pile caps, footings, foundations, slabs, beams columns, canopies, staircase, newels, chajjas, lintels pardis, copings, fins, arches etc. as per detailed  esigns,drawings and schedules. including cutting, bending, hooking the bars, binding with wires or tack welding and supporting as required complete."},{"$f":"'Mtrs CW'!M1018","v":0},"MT",{"$f":"'Mtrs CW'!O1012","v":"26.33/202"},{"$f":"'Mtrs CW'!P1012","v":46309},null,null,null,null,null,{"$f":"SUM(F337:K337)","v":46309},0,{"$f":"SUM(L337:M337)","v":46309},{"$f":" ROUNDUP(C337*N337,0)","v":0}]
[]
[14,{"$f":"'Mtrs CW'!B1020","v":"Providing and laying Cast in situ/Ready Mix cement concrete in M-20 of trap/ granite/ quartzite/ gneiss metal for R.C.C. pardi of required thickness including centering, formwork, cover  locks, laying/pumping, compacting , curing , finishing and rougheningthem if special finish is to be provided and curing complete.(Excluding reinforcement and structural steel).With natural sand/V.S.I. quality Artificial Sand"},{"$f":"'Mtrs CW'!M1024","v":0},"cum",{"$f":"'Mtrs CW'!O1020","v":"26.17/197"},{"$f":"'Mtrs CW'!P1020","v":9539},{"$f":"G335","v":-117},null,{"$f":"I236","v":735.86327499999993},null,null,{"$f":"SUM(F339:K339)","v":10157.863275},0,{"$f":"SUM(L339:M339)","v":10157.863275},{"$f":" ROUNDUP(C339*N339,0)","v":0}]
[]
[15,{"$f":"'Mtrs CW'!B1027","v":"Providing and laying in situ/Ready Mix cement concrete M-20 of trap / granite /quartzite/ gneiss metal for R.C.C. work in foundations like raft, strip foundations, grillage and footings of R.C.C. columns and steel stanchions etc. including bailing out water, formwork, laying/pumping cover blocks, compaction and curing roughening the surface if special finish is to be provided (Excluding reinforcement and structural steel) etc.complete, with natural sand/VSI and artificial sand"},{"$f":"'Mtrs CW'!M1031","v":0},"cum",{"$f":"'Mtrs CW'!O1027","v":"25.11/185"},{"$f":"'Mtrs CW'!P1027","v":4907},-117,null,{"$f":"I339","v":735.86327499999993},null,null,{"$f":"SUM(F341:K341)","v":5525.8632749999997},0,{"$f":"SUM(L341:M341)","v":5525.8632749999997},{"$f":" ROUNDUP(C341*N341,0)","v":0}]
[]
[16,{"$f":"'Mtrs CW'!B1033","v":"Providing cement plaster 20 mm thick in two coats in C. M. 1 : 4 with slurry finish to concrete or brick surface or U. C. R surface in all positions including scaffolding & curing smooth cement slurry  finish of 1.5 mm thickness  etc. complete as directed.  "},{"$f":"'Mtrs CW'!M1038","v":0},"sqm",{"$f":"'Mtrs CW'!O1033","v":"32.07/227+32.21/228"},{"$f":"'Mtrs CW'!P1035","v":387},null,null,{"$f":"F38","v":24.877223999999998},null,null,{"$f":"SUM(F343:K343)","v":411.87722400000001},0,{"$f":"SUM(L343:M343)","v":411.87722400000001},{"$f":" ROUNDUP(C343*N343,0)","v":0}]
[null,"328 + 59 = 387"]
[17,{"$f":"'Mtrs CW'!B1040","v":"Conveying the materials obtained from excavation including laying in layers, breaking clods, dressing to the required lines, curves, grades and section for all leads & lifts from the site of excavation to the site of deposition  outside the complex as by directed engineer in charge."},{"$f":"'Mtrs CW'!M1044","v":0},"cum",{"$f":"'Mtrs CW'!O1040","v":"lead statement"},{"$f":"'Mtrs CW'!P1040","v":105.25},null,null,null,null,null,{"$f":"SUM(F345:K345)","v":105.25},0,{"$f":"SUM(L345:M345)","v":105.25},{"$f":" ROUNDUP(C345*N345,0)","v":0}]
[]
[null,null,null,null,null,null,null,null,null,null,null,null,null,"Total",{"$f":"SUM(O310:O345)","v":{"$error":"#REF!"}}]
[null,{"$f":"'Mtrs CW'!B1046","v":"Sub Work I :- Compound wall"}]
[]
[1,{"$f":"'Mtrs CW'!B1057","v":"Excavation for foundation in earth soil of all types sand, gravel & soft murum, depth upto 1.50 meters including removing the excavated stuff upto a distance of 50 meters beyond the bldg. area all lifts stacking or spreading as directed, etc. complete"},{"$f":"'Mtrs CW'!M1061","v":77},"cum",{"$f":"'Mtrs CW'!O1057","v":"21.02/197"},{"$f":"'Mtrs CW'!P1057","v":157},null,null,null,null,null,{"$f":"SUM(F350:K350)","v":157},{"$f":"L350*$M$89","v":0},{"$f":"SUM(L350:M350)","v":157},{"$f":" ROUND(C350*N350,0)","v":12089}]
[]
[2,{"$f":"'Mtrs CW'!B1064","v":"Excavation for foundation in hard murum including removing the excavated materials upto distance of 50 metres beyond the building area and stacking and spreading as directed, dewatering, preparing the bed for the foundation and necessary back filling, ramming, watering including shoring and strutting etc. complete. (Lift upto 1.50 m)"},{"$f":"'Mtrs CW'!M1067","v":2},"cum",{"$f":"'Mtrs CW'!O1064","v":"21.06/197"},{"$f":"'Mtrs CW'!P1064","v":172},null,null,null,null,null,{"$f":"SUM(F352:K352)","v":172},0,{"$f":"SUM(L352:M352)","v":172},{"$f":" ROUND(C352*N352,0)","v":344}]
[]
[3,{"$f":"'Mtrs CW'!B1069","v":"Providing and laying Cast in situ/Ready Mix cement concrete in M-10 of trap/ granite/ quartzite/ gneiss metal for foundation and bedding including bailing out water, formwork, laying/pumping, compacting, roughening them if special finish is to be provided, finishing if required and curing complete, Drum Type mixer/concrete Batch mix plant (Pan mixer) etc.complete. With natural sand/V.S.I. quality Artificial Sand"},{"$f":"'Mtrs CW'!M1072","v":1},"cum",{"$f":"'Mtrs CW'!O1069","v":"24.01/226"},{"$f":"'Mtrs CW'!P1069","v":4766},-117,null,{"$f":"F28","v":813.77820999999994},null,null,{"$f":"SUM(F354:K354)","v":5462.7782100000004},0,{"$f":"SUM(L354:M354)","v":5462.7782100000004},{"$f":" ROUND(C354*N354,0)","v":5463}]
[]
[4,{"$f":"'Mtrs CW'!B1074","v":"Providing & laying in situ cement concrete M20 of trap metal for R.C.C. work in column footing,  including dewatering if necessary, formwork, compaction, finishing curing etc. complete.(Excluding reinforcement) "},{"$f":"'Mtrs CW'!M1077","v":1},"cum",{"$f":"'Mtrs CW'!O1074","v":"25.11/230"},{"$f":"'Mtrs CW'!P1074","v":5704},-117,null,{"$f":"I341","v":735.86327499999993},null,null,{"$f":"SUM(F356:K356)","v":6322.8632749999997},0,{"$f":"SUM(L356:M356)","v":6322.8632749999997},{"$f":" ROUND(C356*N356,0)","v":6323}]
[]
[5,{"$f":"'Mtrs CW'!B1079","v":"Providing and laying Cast in situ/Ready Mix cement concrete M- 20 of trap / granite /quartzite/ gneiss metal for R.C.C. columns as per detailed designs and drawing or as directed including centering, formwork, cover blocks, laying/pumping, compaction finishing the formed surfaces with cement mortar 1:3 of sufficient minimum thickness to give a smooth and even surface or roughening if special finish is to be provided and curing etc.  complete,(Excluding reinforcement and structural steel)"},{"$f":"'Mtrs CW'!M1082","v":2},"cum",{"$f":"'Mtrs CW'!O1079","v":"25.31/232"},{"$f":"'Mtrs CW'!P1079","v":11252},-117,null,{"$f":"I356","v":735.86327499999993},null,null,{"$f":"SUM(F358:K358)","v":11870.863275},0,{"$f":"SUM(L358:M358)","v":11870.863275},{"$f":" ROUND(C358*N358,0)","v":23742}]
[]
[6,{"$f":"'Mtrs CW'!B1084","v":"Providing and fixing in position TMT - FE - 500 bar reinforcement of various diameters for R.C.C. pile caps, footings, foundations, slabs, beams columns, canopies, staircase, newels, chajjas, lintels pardis, copings, fins, arches etc. as per detailed designs, drawings and schedules. including cutting, bending, hooking the bars, binding with wires or tack welding and supporting as required etc.complete."},{"$f":"'Mtrs CW'!M1097","v":0.2},"MT",{"$f":"'Mtrs CW'!O1084","v":"26.33/245"},{"$f":"'Mtrs CW'!P1084","v":62581},null,null,null,null,null,{"$f":"SUM(F360:K360)","v":62581},0,{"$f":"SUM(L360:M360)","v":62581},{"$f":" ROUND(C360*N360,0)","v":12516}]
[]
[7,{"$f":"'Mtrs CW'!B1100","v":"Providing cement plaster 20 mm thick in C.M. 1:4 with even and smooth 1.5mm thick cement finish to concrete /brick surface in all positions including scaffolding curing etc. complete as directed."},{"$f":"'Mtrs CW'!M1104","v":20},"sqm",{"$f":"'Mtrs CW'!O1100","v":"32.07/268+32.21/269"},{"$f":"'Mtrs CW'!P1102","v":449},null,null,{"$f":"I343","v":24.877223999999998},null,null,{"$f":"SUM(F362:K362)","v":473.87722400000001},0,{"$f":"SUM(L362:M362)","v":473.87722400000001},{"$f":" ROUND(C362*N362,0)","v":9478}]
[null,"328+ 59 = 387"]
[8,{"$f":"'Mtrs CW'!B1106","v":"Providing and applying three coats of water proof cement paint of approved manufacture and of approved colour to plastered surfaces including scaffolding if ecessary, cleaning and preparing the surface, watering for two days etc. complete."},{"$f":"'Mtrs CW'!M1109","v":20},"sqm",{"$f":"'Mtrs CW'!O1106","v":"35.16/287"},{"$f":"'Mtrs CW'!P1106","v":80},null,null,null,null,null,{"$f":"SUM(F364:K364)","v":80},0,{"$f":"SUM(L364:M364)","v":80},{"$f":" ROUND(C364*N364,0)","v":1600}]
[null,null,null,null,null,null,"add for extra verticle bw"]
[9,{"$f":"'Mtrs CW'!B1111","v":"Providing & erecting 1.5 M high wire  with7 rows of barbed wire fencing two diagonals  and two verticle barbed wire at centre of panel , supported on M.S. angle post [50x50x6 mm] 2.50 m c/c and fixing the same in C.C. block 1:4:8 of size 45x45x45 cms fastening the wire and applying two coats of approved paints. (By using New Angle)"},{"$f":"'Mtrs CW'!M1117","v":862},"rmt","44.09/374",716,15.1,null,null,null,null,{"$f":"SUM(F366:K366)","v":731.1},0,{"$f":"SUM(L366:M366)","v":731.1},{"$f":" ROUND(C366*N366,0)","v":630208}]
[null,"(2*1.5*.17*74.00)/2.5 =15.10)"]
[10,{"$f":"'Mtrs CW'!B1120","v":"Filling in plinth & floors with approad excavated material or murum in layers of 15 to 20 cms including watering & compaction etc. complete."},{"$f":"'Mtrs CW'!M1124","v":2},"cum",{"$f":"'Mtrs CW'!O1120","v":"21.36/201"},{"$f":"'Mtrs CW'!P1120","v":96},null,null,null,null,null,{"$f":"SUM(F368:K368)","v":96},{"$f":"L368*$M$89","v":0},{"$f":"SUM(L368:M368)","v":96},{"$f":" ROUND(C368*N368,0)","v":192}]
[]
[11,{"$f":"'Mtrs CW'!B1126","v":"Providing earth work in embankment with approved materials obtained from other sources upto lead of 50m. including all lifts, laying in layers of 20cm. to 30cm. thickness breaking clods, dressing to the required lines, curves, grades & section, watering and compaction with vibratory roller with V-Sat attachment to achieve not less than 97 % of standard proctor density etc. complete ( Material obtained from Other sources)"},{"$f":"'Mtrs CW'!M1129","v":140},"cum",{"$f":"'Mtrs CW'!O1126","v":"2.28/29"},{"$f":"'Mtrs CW'!P1126","v":424},null,null,null,null,null,{"$f":"SUM(F370:K370)","v":424},{"$f":"L370*$M$89","v":0},{"$f":"SUM(L370:M370)","v":424},{"$f":" ROUND(C370*N370,0)","v":59360}]
[]
[12,{"$f":"'Mtrs CW'!B1133","v":"Conveying the materials obtained from excavation including laying in layers, breaking clods, dressing to the required lines, curves, grades and section for all leads & lifts from the site of excavation to the site of deposition  away from"},{"$f":"'Mtrs CW'!M1136","v":77},"cum",{"$f":"'Mtrs CW'!O1133","v":"lead statment "},{"$f":"'Mtrs CW'!P1133","v":105.25},null,null,null,null,null,{"$f":"SUM(F372:K372)","v":105.25},0,{"$f":"SUM(L372:M372)","v":105.25},{"$f":" ROUND(C372*N372,0)","v":8104}]
[]
[13,{"$f":"'Mtrs CW'!B1139","v":"Providing & erecting M.S.tubular gate of M.S. tubular pipes and M.S.flats as per drawing & design including hinges, pivot locks and applying one coat of approved anticorrosive paint and two coats of oilpaint etc. complete."},{"$f":"'Mtrs CW'!M1142","v":20},"sqm",{"$f":"'Mtrs CW'!O1139","v":"RA"},2231.0700000000002,null,null,null,null,null,{"$f":"SUM(F374:K374)","v":2231.0700000000002},0,{"$f":"SUM(L374:M374)","v":2231.0700000000002},{"$f":" ROUND(C374*N374,0)","v":44621}]
[]
[14,{"$f":"'Mtrs CW'!B1145","v":"Providing and laying cement concrete pipe of IS 458:2003 NP-3 class of 0.90 m diameter in proper line, level and slope etc. complete."},{"$f":"'Mtrs CW'!M1147","v":20},"rmt","4/528",5415,null,null,null,null,null,{"$f":"SUM(F376:K376)","v":5415},{"$f":"L376*$M$89","v":0},{"$f":"SUM(L376:M376)","v":5415},{"$f":" ROUND(C376*N376,0)","v":108300}]
[]
[]
[null,null,null,null,null,null,null,null,null,null,null,null,null,"Total",{"$f":"SUM(O350:O378)","v":922340}]
[]
[null,"     Junior Engineer",null,null,"      Deputy Manager (Engg.)."]
[null,"MSWC AMRAVATI",null,null,"MSWC AMRAVATI"]

{"sheet":"Sheet  -Office","index":13,"n_rows":238,"n_cols":16,"rows_kept":238,"cut":false,"hidden":true,"merged":[[242,1,242,2],[242,12,242,13],[0,0,0,15],[1,0,1,16],[3,4,3,5],[8,11,8,12],[66,6,66,7],[66,9,67,9],[67,8,68,8]]}
["MAHARASHTRA STATE WAREHOUSING CORPORATION"]
["583/B, MARKET YARD , GULTEKADI, PUNE-411037"]
[null,{"$f":"Recap!B6","v":"NAME OF WORK :-  CONSTRUCTION OF 1/2160 MT CAP PRE- ENGINEERED WH BLDG WITH ANCILLARY WORKS AT: NAGZARI DIST. LATUR"}]
[]
[null,"LEADS & RATES OF MATERIALS","Based on S S R 2019-2020 "]
[]
["S.N.","MATERIAL & LOCATION"," UNIT","LEADS "," CHARGES",null,"LEAD "," Pay load","NET","rate/unit"]
[null,null," ","KM","ACTUAL","INITIAL","DIFF","Factor "]
[1,"SAND    "," CU M",{"$f":"'DSR-Sheet I  '!E9","v":89},{"$f":"'DSR-Sheet I  '!F9","v":1036.5509999999999},0,{"$f":"E9-F9","v":1036.5509999999999},1,{"$f":"G9","v":1036.5509999999999},{"$f":"G9/H9","v":1036.5509999999999}]
[2,"METAL UPTO 40MM  crushed "," CU M",{"$f":"'DSR-Sheet I  '!E10","v":18},{"$f":"'DSR-Sheet I  '!F10","v":347.44600000000003},0,{"$f":"E10-F10","v":347.44600000000003},1,{"$f":"G10","v":347.44600000000003},{"$f":"G10/H10","v":347.44600000000003},null,null,{"$f":"7069.23/5.75","v":1229.431304347826},{"$f":"(39.56*2)/5.75","v":13.760000000000002},{"$f":"M10+N10","v":1243.191304347826}]
[3,"METAL ABOVE 40 MM   Road "," CU M",{"$f":"'DSR-Sheet I  '!E11","v":18},{"$f":"'DSR-Sheet I  '!F11","v":347.44600000000003},0,{"$f":"E11-F11","v":347.44600000000003},1,{"$f":"G11","v":347.44600000000003},347.44600000000003]
[4,"RUBBLE"," CU M",{"$f":"'DSR-Sheet I  '!E12","v":18},{"$f":"'DSR-Sheet I  '!F12","v":443.54599999999999},0,{"$f":"E12-F12","v":443.54599999999999},1,{"$f":"G12","v":443.54599999999999},443.54599999999999]
[5,"BRICKS","Cum",{"$f":"'DSR-Sheet I  '!E13","v":18},{"$f":"'DSR-Sheet I  '!F13","v":501.26800000000003},0,{"$f":"E13-F13","v":501.26800000000003},1,{"$f":"G13","v":501.26800000000003},501.26800000000003]
[null,"Half bricks",null,null,null,null,null,{"$f":"120/475","v":0.25263157894736843},{"$f":"I13","v":501.26800000000003},{"$f":"H14*I14","v":126.63612631578948}]
[6,"HARD MURUM/Soft Murumn"," CU M",{"$f":"'DSR-Sheet I  '!E15","v":5},{"$f":"'DSR-Sheet I  '!F15","v":210.71},0,210.71,1,{"$f":"G15","v":210.71},210.71]
[7,"Royalty",1,141.34,{"$f":"'DSR-Sheet I  '!F16","v":0}]
[8,"Cement","MT",10,{"$f":"'DSR-Sheet I  '!F17","v":210.71},0,{"$f":"E17-F17","v":210.71},1,{"$f":"G17","v":210.71},{"$f":"I17","v":210.71}]
[9,"Steel","MT ",10,{"$f":"'DSR-Sheet I  '!F18","v":210.71},0,210.71,1,{"$f":"G18","v":210.71},{"$f":"G18/H18","v":210.71}]
[]
[]
[null,null,null,"QTY","RATE","AMOUNT"]
[1,"C.C. 1:5:10 for foundation & beddding","SAND",0.47,{"$f":"J9","v":1036.5509999999999},{"$f":"D22*E22","v":487.17896999999994}]
[null,null,"METAL",0.94,{"$f":"J10","v":347.44600000000003},{"$f":"D23*E23","v":326.59924000000001}]
[null,null,"CEMENT",2.52,0,{"$f":"D24*E24","v":0}]
[null,null,"ROYALTY ",{"$f":"D22","v":0.47},0,0]
[null,null,null,null,null,null,null,"The centre under MIDC area"]
[2,"P & C U.C.R masonary","SAND",0.4,{"$f":"E22","v":1036.5509999999999},{"$f":"D27*E27","v":414.62040000000002},null,"Hence percentage required to be added will be percentage",null,null,null,0]
[null,null,"RUBBLE",1.25,{"$f":"J12","v":443.54599999999999},{"$f":"D28*E28","v":554.4325}]
[null,null,"CEMENT",1.78,0,{"$f":"D29*E29","v":0}]
[null,null,"ROYALTY ",{"$f":"D27+D28","v":1.65},0,{"$f":"D30*E30","v":0},null,"The centre under MIDC area"]
[null,null,null,null,null,null,null,"Hence percentage required to be added will be percentage",null,null,null,0]
[3,"P &C B.B. masonary in   plinth & S.S ","SAND",0.3,{"$f":"E27","v":1036.5509999999999},{"$f":"D32*E32","v":310.96529999999996},null,"BLDG.WORKS ",null,null,null,0]
[null,null,"BRICKS",0.47499999999999998,{"$f":"J13","v":501.26800000000003},238.10230000000001,null,"Tribal Area ",null,null,null,0]
[null,null,"CEMENT",1.44,{"$f":"E29","v":0},0,null,"Municipal Council Areas",null,null,null,0]
[null,null,"ROYALTY ",0.3,0,0,null,"SERVICE CHARGES. ",null,null,null,0]
[4,"P & L R.C.C. (M-20)   1:1.5:3 ","SAND",0.42499999999999999,{"$f":"E32","v":1036.5509999999999},440.53417499999995,null,"Total  Tax",null,null,null,{"$f":"SUM(L31:L35)","v":0}]
[null,null,"METAL",0.85,{"$f":"E23","v":347.44600000000003},295.32910000000004]
[null,null,"CEMENT",6.9,0,0]
[null,null,"ROYALTY ",{"$f":"D36","v":0.42499999999999999},0,0]
["4-A","P & L R.C.C. 1:2:4 ","SAND",0.44,{"$f":"E36","v":1036.5509999999999},456.08243999999996]
[null,null,"METAL",0.88,{"$f":"E37","v":347.44600000000003},305.75248000000005]
[null,null,"CEMENT",5.9,{"$f":"E38","v":0},0]
[null,null,"ROYALTY ",{"$f":"D40","v":0.44},0,0]
[]
[5,"P & A 12mm tk plaster","SAND",1.7000000000000001E-2,{"$f":"E40","v":1036.5509999999999},{"$f":"D45*E45","v":17.621366999999999}]
[null,null,"CEMENT",0.11,{"$f":"E42","v":0},0]
[null,null,"ROYALTY ",1.7000000000000001E-2,0,0]
[6,"P & A sand faced 25mm tk plaster","SAND",3.3000000000000002E-2,{"$f":"E45","v":1036.5509999999999},34.206182999999996]
[null,null,"CEMENT",0.22,{"$f":"E42","v":0},0]
[null,null,"ROYALTY ",2.4E-2,0,0]
[7,"P & F ploished shahabad for sills & dado","SAND",2.4E-2,{"$f":"E48","v":1036.5509999999999},24.877223999999998]
[null,null,"CEMENT",0.14000000000000001,{"$f":"E49","v":0},0]
[null,null,"ROYALTY ",2.4E-2,0,0]
[8,"P & C half brick wall ","sand",3.5999999999999997E-2,{"$f":"E51","v":1036.5509999999999},37.315835999999997]
[null,"120 bricks per cum","bricks",1,{"$f":"J14","v":126.63612631578948},126.63612631578948]
[null,null,"ROYALTY ",3.5999999999999997E-2,0,0]
[9,"P & a flush pointing in c.m.1:3 for stone masonary","sand",3.0000000000000001E-3,{"$f":"E54","v":1036.5509999999999},3.1096529999999998]
[null,null,"ROYALTY ",{"$f":"D56","v":3.5999999999999997E-2},0,0]
[]
[]
[]
[]
[]
[]
[null,"SUBWORK  I - OFFICE BUILDING  ( 14.55 x 6.70 M)"]
[]
["I.N.","DESCRIPTON OF ITEM","QTY.","UNIT","I.N./ P.N"," BASIC","LEAD CHARGES",null,"Royalty","Deduct SCADA","TOTAL","Add 0   % ","TOTAL OF","ADD    % ","TOTAL OF","AMOUNT"]
[null,null,null,null,null,"RATE","SAND","METAL","Cement ",null,null,"C Area","RATES","FOR ","RATES"]
[null,null,null,null,null,null,"HM","Bricks",null,0.05,null,"Charges","6 TO 11","CHARGES","13 TO 14"]
[null,null,null,null,null,null,null,null,null,0.05,null,{"$f":"L33","v":0},null,{"$f":"L36","v":0}]
[1,2,3,4,"5",6,7,8,9,10,11,12,13,14,15,16]
[]
[1,"Ex for foundation in  soil , soft murum  up to 1.50 etc",0,"cu m ","21.02/197",157,null,null,null,null,{"$f":"SUM(F73:J73)","v":157},null,{"$f":"K73+L73","v":157},{"$f":"M73*$N$70","v":0},{"$f":"ROUND(M73+N73,2)","v":157},{"$f":"ROUND(C73*O73,0)","v":0}]
[]
[2,"Ex for foundation in  soil , soft murum  from 1.50 to 3.00 m  etc",0,"cu m ","21.04/197",196,null,null,null,null,{"$f":"SUM(F75:J75)","v":196},null,{"$f":"K75+L75","v":196},{"$f":"M75*$N$70","v":0},{"$f":"ROUND(M75+N75,2)","v":196},0]
[null,null,0]
[3,"Ex for foundation in   hard murum up to 1.5 m etc",0,"cu m ","21.06/197",172,null,null,null,null,172,null,172,{"$f":"M77*$N$70","v":0},{"$f":"ROUND(M77+N77,2)","v":172},0]
[null,null,0]
[4,"Ex for foundation in  H.M. & boulder up to 1.5 m etc",0,"cu m ","21.10/197",191,null,null,null,null,191,null,191,{"$f":"M79*$N$70","v":0},191,0]
[null,null,0]
[5,"Ex for foundation in soft rock up to 1.5 m",0,"cu m ","21.14/198",329,null,null,null,null,329,null,329,{"$f":"M81*$N$70","v":0},329,0]
[null,null,0]
[6,"Ex for foundation in hard rock up to all lifts by chiselling",0,"cu m ","21.20/198",1027,null,null,null,null,1027,null,1027,{"$f":"M83*$N$70","v":0},1027,0]
[null,null,0]
[7,"Ex for foundationdion in H.R by Hydralic machine up to  1.5  m",0,"cu m ","MR",893,null,null,null,null,893,null,893,{"$f":"M85*$N$70","v":0},893,0]
[null,null,0]
[8,"Ex inside  plinth in  soil , soft murum etc",0,"cu m ","2.11/27",73,null,null,null,null,73,null,73,{"$f":"M87*$N$70","v":0},73,0]
[null,null,0]
[9,"P & L P.C.C. M10 for foundation & bedding",0,"cu m ","24.01/226",4766,{"$f":"F22","v":487.17896999999994},{"$f":"F23","v":326.59924000000001},{"$f":"F25+F24","v":0},null,5579.7782100000004,{"$f":"K89*$L$70","v":0},{"$f":"K89+L89","v":5579.7782100000004},{"$f":"M89*$N$70","v":0},5579.78,0]
[null,null,0]
[10,"P & C U.C.R masonary for foundation & plinth in C.M.1:6 ",0,"cu m ","28.01/257",4043,{"$f":"F27+F29","v":414.62040000000002},{"$f":"F28","v":554.4325},{"$f":"F30","v":0},null,5012.0528999999997,{"$f":"K91*$L$70","v":0},5012.0528999999997,{"$f":"M91*$N$70","v":0},5012.05,0]
[null,null,0]
[11,"P&C B.B.masonary for foundation & plinth in C.M.1:6 ",0,"cu m ","27.01/254",5820,{"$f":"F32","v":310.96529999999996},{"$f":"F33","v":238.10230000000001},{"$f":"F35+F34","v":0},null,6369.0676000000003,{"$f":"K93*$L$70","v":0},6369.0676000000003,{"$f":"M93*$N$70","v":0},6369.07,0]
[null,null,0]
[12,"P &C B.B. masonary in super structure in C.M.1:6 ",0,"cu m ","27.05/254",6004,{"$f":"G93","v":310.96529999999996},{"$f":"H93","v":238.10230000000001},{"$f":"I93+F34","v":0},null,6553.0676000000003,{"$f":"K95*$L$70","v":0},6553.0676000000003,{"$f":"M95*$N$70","v":0},5175.22,0]
[null,null,0]
[13,"P & R.C.C. M - 20 for footing",0,"cu m ","25.11/230",5704,{"$f":"F36","v":440.53417499999995},{"$f":"F37","v":295.32910000000004},{"$f":"F39+F38","v":0},{"$f":"-F97*$J$70","v":-285.2},{"$f":"SUM(F97:J97)","v":6154.6632749999999},{"$f":"K97*$L$70","v":0},6154.6632749999999,{"$f":"M97*$N$70","v":0},6154.66,0]
[null,null,0]
[14,"P & R.C.C. M - 20 for column.",0,"cu m ","25.31/232",11252,{"$f":"G97","v":440.53417499999995},{"$f":"H97","v":295.32910000000004},0,{"$f":"-F99*$J$70","v":-562.6},11425.263275000001,{"$f":"K99*$L$70","v":0},11425.263275000001,{"$f":"M99*$N$70","v":0},11425.26,0]
[null,null,0]
[15,"P & L R.C.C. M-20  for beams & lintels",0,"cu m ","25.50/234",9908,{"$f":"G99","v":440.53417499999995},{"$f":"H99","v":295.32910000000004},0,{"$f":"-F101*$J$70","v":-495.40000000000003},10148.463275000002,{"$f":"K101*$L$70","v":0},10148.463275000002,{"$f":"M101*$N$70","v":0},10148.459999999999,0]
[null,null,0]
[16,"P & L R.C.C.  M-20 for weathersheds & canopies",0,"cu m ","26.05/239",11199,{"$f":"G101","v":440.53417499999995},{"$f":"H101","v":295.32910000000004},0,{"$f":"-F103*$J$70","v":-559.95000000000005},11374.913275000001,{"$f":"K103*$L$70","v":0},11374.913275000001,{"$f":"M103*$N$70","v":0},11374.91,0]
[null,null,0]
[17,"P & L R.C.C. M-20 for slabs",0,"cu m ","25.70/236",12037,{"$f":"G103","v":440.53417499999995},{"$f":"H103","v":295.32910000000004},0,{"$f":"-F105*$J$70","v":-601.85},12171.013275000001,{"$f":"K105*$L$70","v":0},12171.013275000001,{"$f":"M105*$N$70","v":0},12171.01,0]
[null,null,0]
[18,"P & F TMT  reinforcement",0,"M T ","26.33/245",62581,null,null,null,null,62581,{"$f":"K107*$L$70","v":0},62581,{"$f":"M107*$N$70","v":0},62581,0]
[null,null,0]
[19,"P&C BBM half brick wall in super structure in C.M.1:4",0,"sq m ","27.06/254",815,{"$f":"F54","v":37.315835999999997},0,{"$f":"F56","v":0},null,852.31583599999999,{"$f":"K109*$L$70","v":0},852.31583599999999,{"$f":"M109*$N$70","v":0},852.32,0]
[null,null,0]
[20,"P C.P.  12 mm tk in C.M 1:4  with neeru finish ",0,"sq m","32.04/268",{"$f":"234+51","v":285},{"$f":"F45","v":17.621366999999999},null,{"$f":"F47+F46","v":0},null,302.62136700000002,{"$f":"K111*$L$70","v":0},302.62136700000002,{"$f":"M111*$N$70","v":0},302.62,0]
[null,null,0,null,"32.15/269",51]
[21,"P sand faced. 25 mm tk in C.M 1:4 without neeru  finish",0,"sq m","32.11/269",679,39.39,null,null,null,718.39,{"$f":"K113*$L$70","v":0},718.39,{"$f":"M113*$N$70","v":0},718.39,0]
[null,null,0]
[22,"Providing rough cast cement plster externally in two coats",0,"sq m","32.12/269",531,{"$f":"G113","v":39.39},null,{"$f":"I113","v":0},null,570.39,{"$f":"K115*$L$70","v":0},570.39,{"$f":"M115*$N$70","v":0},570.39,0]
[null,null,0]
[23,"P C.P. 20 mm tk in C.M 1:4 with slurry finish",0,"sq m","32.07/268",{"$f":"392+57","v":449},39.39,null,null,null,488.39,{"$f":"K117*$L$70","v":0},488.39,{"$f":"M117*$N$70","v":0},488.39,0]
[null,null,0,null,"32.21/269",57]
[24,"P & A  cement paint 3 coats",0,"sq m","35.15/287",86,null,null,null,null,86,null,86,{"$f":"M119*$N$70","v":0},86,0]
[null,null,0]
[25,"P & A  oilbond distemper  3 coats  ",0,"sqm","36.11/291",{"$f":"39.5+30","v":69.5},null,null,null,null,69.5,null,69.5,{"$f":"M121*$N$70","v":0},69.5,0]
[null,null,0,null,"35.21/288",30]
[26," Providing & applying whitewash three  coats",0,"sq m","36.03/290",{"$f":"9.3+3.3","v":12.600000000000001},null,null,null,null,12.600000000000001,null,12.600000000000001,{"$f":"M123*$N$70","v":0},12.6,0]
[null,null,0,null,"36.02/290","(9.30-6.00)"]
[27,"P & F solid core flush door 35 mm tk with ventilator      R.A",0,"sq m ","39.09/314",{"$f":"2494+3510.95","v":6004.95},null,null,null,null,6004.95,null,6004.95,{"$f":"M125*$N$70","v":0},6004.95,0]
[null,"2494+(0.04416*164576/2.07)",0,null,"39.01/313",3510.95]
[28,"P & F C.C.T. wood single leaf fully pannelled doors      R.A.",0,"sq m ","39.05/313",{"$f":"4823+3039.17","v":7862.17},null,null,null,null,7862.17,null,7862.17,0,7862.17,0]
[null,"without ventilator (4823+(0.03324*164576/1.80)",0,null,"39.01/313",3039.17]
[29,"P & F C.C.T. wood double leaf fully pannelled doors      R.A.",0,"sq m ","39.07/314",{"$f":"5935+3510.95","v":9445.9500000000007},null,null,null,null,{"$f":"SUM(F129:J129)","v":9445.9500000000007},null,{"$f":"K129+L129","v":9445.9500000000007},0,9445.9500000000007,0]
[null,"with ventilator (5935+(0.04416*164576/2.07)",0,null,"39.01/313",3510.95]
[30,"P&F solid core flush door 35 mm tk without ventilator      R.A",0,"sq m ","274/73",{"$f":"2494+4311.89","v":6805.89},null,null,null,null,6805.89,null,6805.89,0,{"$f":"ROUND(M131+N131,2)","v":6805.89},0]
[null,"2494+(0.03144*164576/1.20)",0,null,"39.01/313",4311.8900000000003]
[31,"P & F C.T.W. cupbord",0,"sq m","RA",{"$f":"'[3]R.A. Office'!H23","v":11792},null,null,null,null,11792,null,11792,0,11792,0]
[null,null,0]
[32,"P & F M. S. grill work 20KG/SQ MTR",0,"sq m","40.01/338",1528,null,null,null,null,1528,null,1528,0,1528,0]
[null,null,0]
[33,"P H.M. Filling in plinth ",0,"cu m ","RA",{"$f":"'[3]RA (3)'!F170","v":875.44799999999998},null,null,null,null,875.44799999999998,{"$f":"K137*$L$70","v":0},875.44799999999998,0,875.45,{"$f":"ROUND(C137*O137,0)","v":0}]
[null,null,0]
[34,"Providing & fixing in position for flooring, of vetrified tiles of approved quality & make 600 x 600 mm size & tk. for flooring  width on 1 : 4 cement plaster including cement float filling cement joints with neat cement slurry, curing, rubbing polishing & cleaning complete.2006(groupBla)ofapprovedmake,shadeandpatternforflooringinrequiredpositionlaidonabedof1:4cementmortarincludingneatcementfloat,fillingjoints,curingand clearing etc. complete.",0,"sq m","33.40/279",1027,{"$f":"F51","v":24.877223999999998},null,{"$f":"F53","v":0},null,1051.8772240000001,null,1051.8772240000001,0,1051.8800000000001,0]
[null,null,0]
[35,"P&Fskirting/dado of vetrified tiles ",0,"sq m","33.41/279",1087,{"$f":"G139","v":24.877223999999998},null,{"$f":"I139","v":0},null,1111.8772240000001,null,1111.8772240000001,0,1111.8800000000001,0]
[null,null,0]
[36,"P & F sills  of 25 to 30 mm tk polished Kota stone",0,"sq m","33.19/276",1080,{"$f":"G141","v":24.877223999999998},null,{"$f":"I141","v":0},null,1104.8772240000001,null,1104.8772240000001,0,1104.8800000000001,0]
[null,null,0]
[37,"P & L ceramic tiles for flooring ",0,"sq m","33.24/276",1050,{"$f":"G143","v":24.877223999999998},null,{"$f":"I143","v":0},null,1074.8772240000001,null,1074.8772240000001,0,1074.8800000000001,0]
[null,null,0]
[38,"P & L  ceramic tiles fordado/ skirting",0,"sq m","33.25/277",1108,{"$f":"G145","v":24.877223999999998},null,{"$f":"I145","v":0},null,1132.8772240000001,null,1132.8772240000001,0,1132.8800000000001,0]
[null,null,0]
[39,"P & F W.C. pan. Orissa type 580 X 400",0,"No","42.33/355",6011,null,null,null,null,6011,null,6011,0,6011,0]
[null,null,0]
[40,"P & F W.C. pan. Europian type 580 X 400",0,"No","42.34/355",9287,null,null,null,null,{"$f":"SUM(F151:J151)","v":9287},null,{"$f":"K151+L151","v":9287},{"$f":"M151*$N$70","v":0},{"$f":"ROUND(M151+N151,2)","v":9287},0]
[null,null,0]
[41,"P & F Wash hand basin.",0,"No","41.69/349",4711,null,null,null,null,4711,null,4711,0,4711,0]
[null,null,0]
[42,"P & F 10 cms C.I. Nahani trap",0,"No","41.79/350",684,null,null,null,null,684,null,684,{"$f":"M155*$N$70","v":0},684,0]
[null,null,0]
[43,"P & F 15 x 10  cms stoneware Gully  trap",0,"No","42.02/351",1169,null,null,null,null,1169,null,1169,0,1169,0]
[null,null,0]
[44,"P & C brick masonary Inspection chamber 60x 45 cms ",0,"Nos","42.12/352",6975,null,null,null,null,6975,null,6975,0,6975,0]
[null,null,0]
[45,"P  Soak pit of 1.20 x 1.20 x 1.20 cms ",0,"No","42.19/353",2363,null,null,null,null,2363,null,2363,0,2363,0]
[null,null,0]
[46,"P & F   SEPTIC TANK 900 mm dia",0,"No","42.18/353",14018,null,null,null,null,14018,null,14018,0,14018,0]
[null,null,0]
[47,"P&L U.P.V.C. SOIL/VENT/WASTE SWR PIPE",0,"R M","42.52/358",652,null,null,null,null,652,null,652,0,652,0]
[null,"110mm",0]
[48,"Providing & fixing stainess steel sink ",0,"No","42.78/361",14490,null,null,null,null,14490,null,14490,0,14490,0]
[null,null,0]
[49,"P & L 15 mm dia  Medium duty  G.I.pipe  in trench ",0,"R M ","41.10/341",357,null,null,null,null,357,null,357,0,357,0]
[null,null,0]
[50,"P & L 20 mm dia Mediumduty  G.I.pipe  in trench",0,"R M ","41.19/342",425,null,null,null,null,425,null,425,0,425,0]
[null,null,0]
[51,"P & L 15 mm dia Medium duty  G.I.pipe  on wall",0,"R M ","41.10/341",357,null,null,null,null,357,null,357,0,357,0]
[null,null,0]
[52,"P & L 25 mm dia  Medium duty  G.I.pipe  in tranch",0,"R M ","41.20/342",458,null,null,null,null,458,null,458,0,458,0]
[null,null,0]
[53,"P & L  on walls, ceiling, flooring, 25mm dia ",0,"R M ","41.12/342",503,null,null,null,null,503,null,503,0,503,0]
[null,null,0]
[54,"P & L  on walls, ceiling, flooring, 20mm dia ",0,"R M ","41.11/342",430,null,null,null,null,430,null,430,0,430,0]
[null,null,0]
[55,"P & F 45 x 55 cms high class mirror ",0,"No","42.20/353",703,null,null,null,null,703,null,703,0,703,0]
[null,null,0]
[56,"P & F iron oxide bracket ",0,"No","M  R ",200,null,null,null,null,200,null,200,0,200,0]
[null,null,0]
[57,"Plast container one piece moulded storage tank ",0,"Lit","42.54/358",11,null,null,null,null,11,null,11,0,11,0]
[null,null,0]
[58,"P & F 15 mm dia bib/stop  tap ",0,"No","41.40/345",548,null,null,null,null,548,null,548,0,548,0]
[null,null,0]
[59,"P & F flag post ",0,"L S ","R.A.",{"$f":"'[3]R.A. Office'!H69","v":6424},null,null,null,null,{"$f":"SUM(F189:J189)","v":6424},null,{"$f":"K189+L189","v":6424},{"$f":"M189*$N$70","v":0},6424,0]
[null,null,0]
[60,"P & C water platform ",0,"L S ","R.A.",{"$f":"'[3]R.A. Office'!H115","v":6822},null,null,null,null,6822,null,6822,{"$f":"M191*$N$70","v":0},6822,0]
[null,null,0]
[61,"P/L water proof treatment of B.B.Coba",0," sq m ","31.04/263",937,null,null,null,null,937,null,937,0,937,0]
[null,null,0]
[62,"P & F 15 mm dia wheeled stop tap ",0,"Nos","41.43/346",402,null,null,null,null,402,null,402,0,{"$f":"ROUND(M195+N195,2)","v":402},0]
[null,null,0]
[63,"P & F 25 mm dia wheeled stop tap ",0,"No","41.45/346",707,null,null,null,null,707,null,707,0,707,0]
[null,null,0]
[64,"P & F 20 mm dia wheeled stop tap ",0,"No","41.44/346",516,null,null,null,null,516,null,516,0,516,0]
[null,null,0]
[65,"P/f alluminium two track sliding window ",0," sq m ","39.40/322",4924,null,null,null,null,4924,null,4924,0,4924,{"$f":"ROUND(C201*O201,0)","v":0}]
[null,null,0]
[66,"P/f  polished black kadappa stone slab ",0," sq m ","33.33/278",997,null,null,null,null,997,null,997,0,997,0]
[null,null,0]
[67,"P/f 20 mm dia.alluminuim powder coated palemat rod",0,"Rmt.","M.R.",150,null,null,null,null,150,null,150,0,150,0]
[null,null,0]
[68,"P/F white glazed earthenware semi stall type Urinals",0,"No","41.60/347",3947,null,null,null,null,3947,null,3947,0,3947,0]
[null,null,0]
[69,"Conveying the materials 500m lead",0,"cu m","1/540",154.79,null,null,null,null,154.79,null,154.79,0,154.79,0]
[null,null,0]
[70,"Filling in plinth with approved excavated stuff ",0,"Cu.M.","2.27/28",155,null,null,null,null,155,null,155,0,155,0]
[null,null,0]
[71,"P / L stone metal layer",0,"Cu.M.","RA",{"$f":"'[3]RA (3)'!G202","v":1440.25},null,null,null,null,1440.25,null,1440.25,0,1440.25,0]
[null,null,0]
[72,"P  & C P.C.C.1:2:4 for flooring / Apron",0,"cum","24.08/227",5179,{"$f":"F40","v":456.08243999999996},{"$f":"F41","v":305.75248000000005},{"$f":"F43","v":0},{"$f":"-F215*$J$70","v":-258.95},5681.8849200000004,{"$f":"K215*$L$70","v":0},5681.8849200000004,0,5681.88,0]
[null,null,0]
[73,"P & L  Polished shahabad stone Trade/Rise",0,"sqm","33.17/275",927,{"$f":"G147","v":24.877223999999998},null,{"$f":"I147","v":0},null,951.87722399999996,null,951.87722399999996,0,951.88,0]
[null,null,0]
[74,"P/F chromium plated towel rod 16 mm dia.",0,"Nos.","42.31/355",242,null,null,null,null,242,null,242,0,242,0]
[null,null,0]
[75,"P/f  U.P.V.C Soil / vent / waste pipe 75 mm dia.",0,"Rmt.","42.51/358",480,null,null,null,null,480,null,480,0,480,0]
[null,null,0]
[76,"P/ laying & fixing  C.P.V.C pipe 15 mm dia.",0,"Rmt.","42.61/359",219,null,null,null,null,219,null,219,0,219,0]
[null,null,0]
[77,"P/fixing  a set of 5 fire buckets ",0,"No.","MR",1000,null,null,null,null,1000,null,1000,0,1000,0]
[null,null,0]
[78,"P & F cycle stand ",0,"No.","R.A.",{"$f":"'[3]R.A. Office'!I152","v":3913},null,null,null,null,3913,null,3913,{"$f":"M227*$N$70","v":0},3913,0]
[null,null,0]
[79,"P & F collapsible gate",0,"Sq.M.","39.26/319",{"$f":"2939","v":2939},null,null,null,null,{"$f":"SUM(F229:J229)","v":2939},null,{"$f":"K229+L229","v":2939},{"$f":"M229*$N$70","v":0},{"$f":"ROUND(M229+N229,2)","v":2939},0]
[null,null,0]
[80,"Free standing table 1500x600x750mm",0,"No.","51.26/421",16893,null,null,null,null,{"$f":"SUM(F231:J231)","v":16893},null,{"$f":"K231+L231","v":16893},{"$f":"M231*$N$70","v":0},{"$f":"ROUND(M231+N231,2)","v":16893},{"$f":"ROUND(C231*O231,0)","v":0}]
[null,null,0]
[81,"Mid back chair",0,"No.","51.43/466",6520,null,null,null,null,{"$f":"SUM(F233:J233)","v":6520},null,{"$f":"K233+L233","v":6520},{"$f":"M233*$N$70","v":0},{"$f":"ROUND(M233+N233,2)","v":6520},{"$f":"ROUND(C233*O233,0)","v":0}]
[null,null,0]
[82,"Full Height Steel Storage @ 750Lx450Dx2100HTProvidingandfixingOpenableSteelStorageof750x450x2100Ht,with4adjustableshelves,Completebody&shuttermadein0.8mmthick&Topin2mmthickCRCA,4Shuttertobemountedwiththehelpofcuphinges,and4adjustablelevelers,enitrestorageinpowdercoated finish with 60 to 80 microns as as per drawing.",0,"No.","51.37/465",18925,null,null,null,null,{"$f":"SUM(F235:J235)","v":18925},null,{"$f":"K235+L235","v":18925},{"$f":"M235*$N$70","v":0},{"$f":"ROUND(M235+N235,2)","v":18925},{"$f":"ROUND(C235*O235,0)","v":0}]
[]
[]
[null,"TOTAL FOR OFFICE BLDG",null,null,null,null,null,null,null,null,null,null,null,null,null,{"$f":"SUM(P73:P235)","v":0}]

{"sheet":"Wh. ","index":14,"n_rows":605,"n_cols":30,"rows_kept":605,"cut":false,"hidden":false,"merged":[[170,1,170,12],[242,6,242,7],[244,6,244,7],[243,6,243,7],[241,1,241,12],[189,1,189,12],[211,1,211,12],[486,1,486,12],[261,1,261,3],[217,1,217,12],[259,1,259,12],[247,1,247,12],[284,1,284,12],[322,1,322,12],[327,1,327,12],[337,1,337,12],[363,1,363,12],[380,1,380,12],[470,1,470,12],[413,1,413,12],[357,1,357,12],[476,1,476,12],[480,1,480,12],[1,1,1,13],[2,1,2,13],[11,2,11,8],[70,1,70,13],[165,1,165,12],[82,1,82,12],[79,2,79,5],[125,1,125,12],[146,1,146,12],[4,1,4,12],[69,1,69,13],[76,1,76,13],[87,1,87,12],[93,1,93,12],[73,1,73,12],[115,1,115,12],[491,1,491,12],[589,1,589,12],[386,1,386,12],[450,1,450,12],[400,1,400,12],[436,1,436,12],[496,1,496,12],[512,1,512,12],[520,1,520,12],[531,1,531,12],[576,1,576,12],[547,1,547,12],[583,1,583,12],[567,1,567,12],[420,1,420,12],[465,1,465,12],[601,1,601,12],[572,1,572,12],[562,1,562,12],[539,1,539,12],[557,1,557,12]]}
[1,"B","C","D","E","F","G","H","I","J","K","L","M","N"]
[2,"VIKAS AGRO PRODUCER CO.LTD"]
[3,"Gat No.79 / Nagzari, Tal- Latur Dist- Latur ",null,null,null,null,null,null,null,null,null,null,null,null," Nagzari"]
[4]
[5,"NAME OF WORK :-  CONSTRUCTION OF 1/2160 MT CAP PRE- ENGINEERED WH BLDG WITH ANCILLARY WORKS AT: NAGZARI DIST. LATUR"]
[6,"CAPACITY ",2160,"MT"]
[7,"SIZE                                            OUTER",null,null,1,"X",50.96,"X",22.46,null,{"$f":"E7*G7*I7","v":1144.5616}]
[8,"INNER",null,null,1,"X",{"$f":"G7-0.46","v":50.5},"X",{"$f":"I7-0.46","v":22},null,{"$f":"G8*I8*E8","v":1111}]
[9]
[10,"LONG WALLS",2]
[11,"SHORT WALLS",2]
[12,null,null,null,null,null,null,null,null,null,"Av."]
[13,"FOUNDATION DEPTHS",null,null,null,null,null,null,null,null,"Depth"]
[14,"EARTH SOIL 0 TO  1.50 ",null,null,null,null,null,null,null,null,1.5]
[15,"EARTH SOIL 1.50  to 3.00 ",null,null,null,null,null,null,null,null,0.3]
[16,"EARTH SOIL 3.00  to 4.50",null,null,null,null,null,null,null,null,0]
[17,"H.M.",null,null,null,null,null,null,null,null,0]
[18,"H.M.& BOULDER ",null,null,null,null,null,null,null,null,0]
[19,"SOFT ROCK ",null,null,null,null,null,null,null,null,0]
[20,"HARD ROCK ",null,null,null,null,null,null,null,null,0.2]
[21,null,null,null,null,null,null,null,"TOTAL",null,{"$f":"SUM(K14:K20)","v":2}]
[22,"CUTTING IN PLINTH (Provision)",null,null,null,null,null,null,null,null,0]
[23]
[24,"asper vision at site"]
[25,"Ex. Column Footings"]
[26,"Column C1 end wall",2,"X",7,"X",1.25,"X",1.5]
[27,"Column No. C1 w",0,"X",0,"X",0,"X",{"$f":"G27","v":0}]
[28,"Column No.C2 end wall",2,"X",2,"X",1.35,"X",1]
[29,"Column No.C2  MIDDLE",0,{"$f":"D28","v":"X"},0,"X",0,"X",{"$f":"G29","v":0}]
[30,"Column No. C3 ",2,"X",2,"X",1.35,"X",1.5]
[31,"Column   Platform",2,"X",6,"X",1.5,"X",1.25]
[32,"Ex. Plinth Beam PANEL"]
[33,"      C1-C3 end wall",2,"X",2,"X",{"$f":"O33","v":5.3380000000000001},"X",0.23,"X",null,null,{"$f":"E33*G33","v":10.676},null,{"$f":"5.79-0.175-0.277","v":5.3380000000000001}]
[34,"      C1-C1  middle wall",2,"X",6,"X",{"$f":"O34","v":6.08},"X",{"$f":"I33","v":0.23},"X",null,null,{"$f":"E34*G34","v":36.480000000000004},null,{"$f":"6.43-0.175-0.175","v":6.08}]
[35,"      C3-C2 gable sides wall",2,"X",2,"X",{"$f":"O35","v":6.754999999999999},"X",{"$f":"I34","v":0.23},"X",null,null,{"$f":"E35*G35","v":13.509999999999998},null,{"$f":"7.22-0.315-0.15","v":6.754999999999999}]
[36,"      C3-C2 ",1,"X",2,"X",{"$f":"O36","v":6.92},"X",{"$f":"I35","v":0.23},"X",null,null,{"$f":"M35+M37+M38","v":13.509999999999998},null,{"$f":"7.22-0.3","v":6.92}]
[37,"      Platform Beam",2,"X",3,"X",5.3380000000000001,"X",0.23,"X",null,null,null,null,0]
[38,"      Platform Beam",2,"X",6,"X",1.5,"X",0.23,"X",null,null,null,null,0]
[39,"APRON  long",0,"X",2,"X",{"$f":"G7","v":50.96},"X",0.6,"X"]
[40,"APRON short ",0,"X",2,"X",{"$f":"I7","v":22.46},"X",0.6,"X"]
[41,"Column Nos. & Size"]
[42,"Column C1",{"$f":"C26","v":2},"X",{"$f":"E26","v":7},"X",0.35,"X",0.63,"X"]
[43,{"$f":"B28","v":"Column No.C2 end wall"},{"$f":"C28","v":2},{"$f":"D28","v":"X"},2,"X",0.3,"X",0.6,"X"]
[44,"Column No.C 3 ",2,"X",{"$f":"E30","v":2},"X",0.55500000000000005,"X",0.63,"x"]
[45,null,0,"X",0,"X",0,"X",0,"x"]
[46,"Column for Brick wall C1",0,"X",0,"X",0,"X",0]
[47,"Column for Brick wall C3",0,"X",0,"X",0,"X",0,"X"]
[48,"Column for Brick wall C2",0,"X",0,"X",0,"X",0,"X"]
[49,"Munim col",0,"X",0,"X",0,"X",0,"X"]
[50,"PCC, Tarfelt, BBM, BEAMS"]
[51," PANELS"]
[52,{"$f":"B33","v":"      C1-C3 end wall"},{"$f":"C42","v":2},"X",{"$f":"E43","v":2},"X",{"$f":"O52","v":5.3380000000000001},"X",0.23,null,null,null,{"$f":"E52*G52","v":10.676},null,{"$f":"5.79-0.175-0.277","v":5.3380000000000001}]
[53,"      C1-C1  middle wall",{"$f":"C43","v":2},"X",{"$f":"E42-1","v":6},"X",{"$f":"O53","v":6.08},"X",0.23,null,null,null,{"$f":"E53*G53","v":36.480000000000004},null,{"$f":"6.43-0.175-0.175","v":6.08}]
[54,"      C3-C2 gable sides wall",2,"X",{"$f":"E44","v":2},"X",6.754999999999999,"X",0.23,null,null,null,{"$f":"E54*G54","v":13.509999999999998},null,{"$f":"7.22-0.315-0.15","v":6.754999999999999}]
[55,{"$f":"B38","v":"      Platform Beam"},2,"X",3,"X",6.92,"X",0.23,null,null,null,{"$f":"M54+M56+M57","v":13.509999999999998},null,{"$f":"7.22-0.3","v":6.92}]
[56,{"$f":"B36","v":"      C3-C2 "},0,"X",0,"X",0,"X",0,null,null,null,0,null,0]
[57,"      Platform Beam",2,"X",3,"X",0,"X",0,null,null,null,0,null,0]
[58,"Rolling shutters",0,"X",0,"X",0,null,null,"X",0]
[59,"Rolling shutters [Mechanical gear]",0,"X",0,"X",0,null,null,"X",0,null,0]
[60,"V1",2,"X",13,"X",1.2,null,null,"X",0.6,null,{"$f":"G56","v":0}]
[61,"V2",2,"X",16,"X",1.2,null,null,"X",0.6,null,0]
[62,"V1 in gable ",0,"X",6,"X",1.2,null,null,"X",0.6,null,0]
[63,"V2 in gable ",2,"X",6,"X",1.2,null,null,"X",0.6]
[64,"TK. OF C.C. FLOORING ",null,null,null,null,0.15,null,"B",null,"H"]
[65,"Gutter   long",0,"X",2,"X",{"$f":"G7+1.45+1.45","v":53.860000000000007},"X",0.45,"X",0.3]
[66," short ",0,"X",2,"X",{"$f":"I7+1+1","v":24.46},"X",{"$f":"I65","v":0.45},"X",{"$f":"K65","v":0.3}]
[67," APRON BBM long",0,"X",2,"X",{"$f":"G7+0.6+0.6","v":52.160000000000004},"X",0.23,"X",{"$f":"K66","v":0.3}]
[68," short ",0,"X",2,"X",{"$f":"I7+0.37+0.37","v":23.200000000000003},"X",0.23,"X",{"$f":"K67","v":0.3}]
[]
[null,{"$f":"'DSR-Sheet I  '!B1:P1","v":"VIKAS AGRO PRODUCER CO.LTD"}]
[null,{"$f":"B3","v":"Gat No.79 / Nagzari, Tal- Latur Dist- Latur "}]
[]
[]
[null,{"$f":"B5","v":"NAME OF WORK :-  CONSTRUCTION OF 1/2160 MT CAP PRE- ENGINEERED WH BLDG WITH ANCILLARY WORKS AT: NAGZARI DIST. LATUR"}]
[]
[]
[null,"MEASUREMENT SHEET "]
[]
[]
["Sr No ","Item Nos & Description of Items ","NO.S",null,null,null,"LENGTH",null,"BREDTH",null,"DEPTH /",null,"TOTAL","Unit"]
[null,null,1,"X",2,null,null,null,null,null,"HIGHT",null,"QUANTITY"," "]
[]
[null,"Item No ( 1' ): - Labour Charges for removing grass, thorney shurbs, subabhul & alike grass in plot making the ground clean by showel & phawaras etc. complete.",null,null,null,null,null,null,null,null,null,null,null,"Sqm"]
[null,null,0,"X",1,"X",{"$f":"G7+18","v":68.960000000000008},{"$f":"H7","v":"X"},{"$f":"I7+ 12","v":34.46},null,null,"=",{"$f":"C84*E84*G84*I84","v":0}]
[null,null,null,null,null,null,null,null,null,null,"TOTAL","=",{"$f":"ROUND(M84,1)","v":0}]
[null,null,null,null,null,null,null,null,null,null,"SAY","=",{"$f":"ROUNDUP(M85,0)","v":0}]
[]
[null,"Item No (1''): - Cutting down trees including trunks and stacking the materials neatly with lead of 50 m  with girths above 30 cm to 60 cm as directed",null,null,null,null,null,null,null,null,null,null,null,"No"]
[]
[null,null,0,"X",2,"X",null,null,null,null,null,"=",{"$f":"C90*E90","v":0}]
[null,null,null,null,null,null,null,null,null,null,"TOTAL","=",{"$f":"ROUND(M90,1)","v":0}]
[null,null,null,null,null,null,null,null,null,null,"SAY","=",{"$f":"M91","v":0}]
[]
[1,"Item No (1-A) :- Excavation for foundation in earth soil of all types sand, gravel & soft murum, depth upto 1.50 meters including removing the excavated stuff upto a distance of 50 meters beyond the bldg. area all lifts stacking or spreading as directed,",null,null,null,null,null,null,null,null,null,null,null,"cum"]
[]
[null,"Column footing "]
[null,{"$f":"B26","v":"Column C1 end wall"},{"$f":"C26","v":2},"X",7,"X",{"$f":"G26+0.8","v":2.0499999999999998},"X",{"$f":"I26+0.8","v":2.2999999999999998},"X",{"$f":"K14","v":1.5},"=",{"$f":"C97*E97*G97*I97*K97","v":99.014999999999986}]
[null,{"$f":"B27","v":"Column No. C1 w"},0,"X",0,"X",0,"X",0,"X",{"$f":"K14","v":1.5},"=",0]
[null,{"$f":"B28","v":"Column No.C2 end wall"},2,"X",2,"X",{"$f":"G28+0.8","v":2.1500000000000004},"X",{"$f":"I28+0.8","v":1.8},"X",{"$f":"K14","v":1.5},"=",23.220000000000002]
[null,{"$f":"B29","v":"Column No.C2  MIDDLE"},0,"X",0,"X",0,"X",0,"X",{"$f":"K14","v":1.5},"=",0]
[null,{"$f":"B30","v":"Column No. C3 "},2,"X",2,"X",{"$f":"G30+0.8","v":2.1500000000000004},"X",{"$f":"I30+0.8","v":2.2999999999999998},"X",{"$f":"K14","v":1.5},"=",29.67]
[null,{"$f":"B31","v":"Column   Platform"},6,"X",2,"X",2.2999999999999998,"X",2.0499999999999998,"X",{"$f":"K14","v":1.5},"=",84.86999999999999]
[null,"For PANEL "]
[null,{"$f":"B33","v":"      C1-C3 end wall"},{"$f":"C33","v":2},"X",2,"X",5.3380000000000001,"X",{"$f":"I33+0.2","v":0.43000000000000005},"X",0.3,"=",{"$f":"C104*E104*G104*I104*K104","v":2.7544080000000002}]
[null,{"$f":"B34","v":"      C1-C1  middle wall"},2,"X",6,"X",6.08,"X",{"$f":"I104","v":0.43000000000000005},"X",{"$f":"K104","v":0.3},null,9.4118400000000015]
[null,{"$f":"B35","v":"      C3-C2 gable sides wall"},2,"X",2,"X",6.754999999999999,"X",{"$f":"I105","v":0.43000000000000005},"X",{"$f":"K104","v":0.3},"=",3.4855799999999997]
[null,{"$f":"B36","v":"      C3-C2 "},1,"X",2,"X",6.92,"X",{"$f":"I106","v":0.43000000000000005},"X",{"$f":"K105","v":0.3},"=",1.7853600000000003]
[null,{"$f":"B37","v":"      Platform Beam"},2,"X",3,"X",5.3380000000000001,"X",0.23,"X",0,"=",0]
[null,{"$f":"B38","v":"      Platform Beam"},2,"X",6,"X",1.5,"X",0.23,"X",0,"=",0]
[null,{"$f":"B65","v":"Gutter   long"},0,{"$f":"D39","v":"X"},0,"X",0,"X",0,"X",0,"=",{"$f":"C110*E110*G110*I110*K110","v":0}]
[null,{"$f":"B66","v":" short "},0,{"$f":"D40","v":"X"},0,"X",0,"X",0,"X",0,"=",0]
[null,"For ramp provision",null,null,null,null,null,null,null,null,null,null,10]
[null,null,null,null,null,null,null,null,null,null,"Total",null,{"$f":"SUM(M97:M112)","v":264.21218799999997}]
[null,null,null,null,null,null,null,null,null,null,"say ",null,{"$f":"ROUNDUP(M113,0)","v":265}]
[]
[2,"Item No (1-A') :- Excavation for foundation in Soil, depth upto 1.5 to 3.00 meters  including removing the excavated stuff upto a distance of 50 meters beyond the bldg. area all lifts stacking or spreading as directed, dewatering, shoring, strutting if nec",null,null,null,null,null,null,null,null,null,null,null,"cum"]
[null,"Column footing "]
[null,{"$f":"B26","v":"Column C1 end wall"},{"$f":"C26","v":2},"X",7,"X",{"$f":"G26","v":1.25},"X",1.5,{"$f":"J97","v":"X"},{"$f":"K15","v":0.3},"=",{"$f":"C118*E118*G118*I118*K118","v":7.875}]
[null,{"$f":"B27","v":"Column No. C1 w"},0,"X",0,"X",0,"X",0,"X",{"$f":"K118","v":0.3},"=",0]
[null,{"$f":"B28","v":"Column No.C2 end wall"},2,"X",2,"X",1.35,"X",1,"X",{"$f":"K118","v":0.3},"=",1.62]
[null,{"$f":"B29","v":"Column No.C2  MIDDLE"},0,"X",0,"X",0,"X",0,"X",{"$f":"K118","v":0.3},"=",0]
[null,{"$f":"B30","v":"Column No. C3 "},2,"X",2,"X",1.35,"X",1.5,null,{"$f":"K119","v":0.3},"=",2.4300000000000002]
[null,{"$f":"B31","v":"Column   Platform"},2,"X",6,"X",2.2999999999999998,"X",2.0499999999999998,null,{"$f":"K120","v":0.3},"=",16.973999999999997]
[null,null,null,null,null,null,null,null,null,null,"Total","=",1]
[null,null,null,null,null,null,null,null,null,null,"say ","=",{"$f":"ROUNDUP(M124,0)","v":1}]
[null,"Item No (1-A''') :- Excavation for foundation in Soil, depth above 3.00 meters  including removing the excavated stuff upto a distance of 50 meters beyond the bldg. area all lifts stacking or spreading as directed, dewatering, shoring, strutting if nec"]
[null,"Column footing "]
[null,{"$f":"B26","v":"Column C1 end wall"},{"$f":"C26","v":2},"X",7,"X",1.25,"X",1.5,"X",0,"=",0]
[null,{"$f":"B27","v":"Column No. C1 w"},0,"X",0,"X",0,"X",0,"X",0,"=",0]
[null,{"$f":"B28","v":"Column No.C2 end wall"},2,"X",2,"X",1.35,"X",1,"X",0,"=",0]
[null,{"$f":"B29","v":"Column No.C2  MIDDLE"},0,"X",0,"X",0,"X",0,"X",0,"=",0]
[null,{"$f":"B30","v":"Column No. C3 "},2,"X",2,"X",1.35,"X",1.5,"X",0,"=",0]
[null,{"$f":"B31","v":"Column   Platform"},2,"X",6,"X",1.5,"X",1.25,"X",0,"=",0]
[null,"For Ground Beam PANEL"]
[null,{"$f":"B33","v":"      C1-C3 end wall"},{"$f":"C33","v":2},"X",2,"X",5.3380000000000001,"X",0.23,"X",0,"=",0]
[null,{"$f":"B34","v":"      C1-C1  middle wall"},2,"X",6,"X",6.08,"X",0.23,"X",0,null,0]
[null,{"$f":"B35","v":"      C3-C2 gable sides wall"},2,"X",2,"X",6.754999999999999,"X",0.23,"X",0,"=",0]
[null,{"$f":"B36","v":"      C3-C2 "},1,"X",2,"X",6.92,"X",0.23,"X",0,"=",0]
[null,{"$f":"B37","v":"      Platform Beam"},2,"X",3,"X",5.3380000000000001,"X",0.23,"X",0,"=",0]
[null,{"$f":"B38","v":"      Platform Beam"},2,"X",6,"X",1.5,"X",0.23,"X",0,"=",0]
[null,{"$f":"B39","v":"APRON  long"},0,"X",2,"X",50.96,"X",0.6,"X",0,"=",0]
[null,{"$f":"B40","v":"APRON short "},0,"X",2,"X",22.46,"X",0.6,"X",0,"=",0]
[null,null,null,null,null,null,null,null,null,null,"Total","=",0]
[null,null,null,null,null,null,null,null,null,null,"say ","=",0]
[]
[]
[3,"Item No (1-B) :- Excavation for foundation in hard murum, depth upto  1.50  meters  including removing the excavated stuff upto a distance of 50 meters beyond the bldg. area all lifts stacking or spreading as directed, dewatering, shoring, strutting if nec",null,null,null,null,null,null,null,null,null,null,null,"cum"]
[null,"Column footing "]
[null,{"$f":"B26","v":"Column C1 end wall"},{"$f":"C26","v":2},"X",7,"X",{"$f":"G26+0.8","v":2.0499999999999998},"X",{"$f":"I26+0.8","v":2.2999999999999998},"X",{"$f":"K15","v":0.3},"=",{"$f":"C149*E149*G149*I149*K149","v":19.802999999999997}]
[null,{"$f":"B27","v":"Column No. C1 w"},0,"X",0,"X",0,"X",0,"X",0,"=",0]
[null,{"$f":"B28","v":"Column No.C2 end wall"},2,"X",2,"X",{"$f":"G28+0.8","v":2.1500000000000004},"X",{"$f":"I28+0.8","v":1.8},"X",{"$f":"K149","v":0.3},"=",4.6440000000000001]
[null,{"$f":"B29","v":"Column No.C2  MIDDLE"},0,"X",0,"X",0,"X",0,"X",{"$f":"K150","v":0},"=",0]
[null,{"$f":"B30","v":"Column No. C3 "},2,"X",2,"X",0.8,"X",{"$f":"I30+0.8","v":2.2999999999999998},null,{"$f":"K15","v":0.3},"=",2.2079999999999997]
[null,{"$f":"B31","v":"Column   Platform"},2,"X",6,"X",2.2999999999999998,"X",2.0499999999999998,null,0.3,"=",{"$f":"C154*E154*G154*I154*K154","v":16.973999999999997}]
[null,"For  PANEL"]
[null,{"$f":"B33","v":"      C1-C3 end wall"},{"$f":"C52","v":2},{"$f":"D33","v":"X"},2,"X",5.3380000000000001,"X",0.23,"X",0,"=",{"$f":"C156*E156*G156*I156*K156","v":0}]
[null,{"$f":"B34","v":"      C1-C1  middle wall"},2,"X",6,"X",6.08,"X",0.23,"X",0,null,0]
[null,{"$f":"B35","v":"      C3-C2 gable sides wall"},2,"X",2,"X",6.754999999999999,"X",0.23,"X",{"$f":"K156","v":0},"=",0]
[null,{"$f":"B36","v":"      C3-C2 "},1,"X",2,"X",6.92,"X",0.23,"X",{"$f":"K156","v":0},"=",0]
[null,{"$f":"B37","v":"      Platform Beam"},2,"X",3,"X",5.3380000000000001,"X",0.23,"X",{"$f":"K156","v":0},"=",0]
[null,{"$f":"B38","v":"      Platform Beam"},2,"X",6,"X",1.5,"X",0.23,"X",{"$f":"K156","v":0},"=",0]
[null,{"$f":"B39","v":"APRON  long"},0,"X",2,"X",50.96,"X",0.6,"X",{"$f":"K156","v":0},"=",0]
[null,{"$f":"B40","v":"APRON short "},0,"X",2,"X",22.46,"X",0.6,"X",{"$f":"K156","v":0},"=",0]
[null,null,null,null,null,null,null,null,null,null,"Total","=",{"$f":"SUM(M149:M163)","v":43.628999999999991}]
[null,null,null,null,null,null,null,null,null,null,"say ","=",{"$f":"ROUNDUP(M164,0)","v":44}]
[null,"Item No (‘1-E) :- Excavation for foundation in hard rock a depth fup to 1.50  meters by chiselling  wedging , line drilling  etc. including trimming removing the excavated stuff upto a distance of 50 meters beyond the building area all lifts stacking or sp",null,null,null,null,null,null,null,null,null,null,null,"cum"]
[null,null,1,"X",1,"X",0,"X",0,"X",0,"=",{"$f":"C167*E167*G167*I167*K167","v":0}]
[null,null,null,null,null,null,null,null,null,null,"Total","=",{"$f":"ROUND(M167,1)","v":0}]
[null,null,null,null,null,null,null,null,null,null,"Say","=",0]
[]
[4,"Item No (1-F): - Excavation for foundation in hard rock  upto required depth  by Pocklain machine  with  needle breaker including removing the excavated stuff upto a distance of 50 meters beyond the building area all lifts stacking or spreading as directed.",null,null,null,null,null,null,null,null,null,null,null,"cum"]
[null,"Column footing "]
[null,"Column C1",{"$f":"C26","v":2},"X",7,"X",{"$f":"G26+0.8","v":2.0499999999999998},"X",{"$f":"I26+0.8","v":2.2999999999999998},"X",{"$f":"K20","v":0.2},"=",{"$f":"C173*E173*G173*I173*K173","v":13.201999999999998}]
[null,"Column No. C3",{"$f":"C27","v":0},"X",0,"X",0,"X",0,"X",0,"=",0]
[null,"Column No.C2 END",{"$f":"C28","v":2},"X",2,"X",{"$f":"G28+0.8","v":2.1500000000000004},"X",{"$f":"I28+0.8","v":1.8},"X",{"$f":"K173","v":0.2},"=",3.0960000000000005]
[null,"Column No.C2  MIDDLE",{"$f":"C29","v":0},"X",0,"X",0,"X",0,"X",0,"=",0]
[null,"Column No. C3 EXP",{"$f":"C30","v":2},"X",2,"X",{"$f":"G30+0.8","v":2.1500000000000004},"X",{"$f":"I30+0.8","v":2.2999999999999998},"X",{"$f":"K173","v":0.2},"=",3.9560000000000004]
[null,"Column No.Platform",{"$f":"C31","v":2},"X",6,"X",2.2999999999999998,"X",2.0499999999999998,"X",0.2,"=",11.315999999999999]
[null,"For Ground Beam PANEL"]
[null,"      C1-C1 middle",{"$f":"C52","v":2},{"$f":"D33","v":"X"},2,"X",5.3380000000000001,"X",0.23,"X",0,"=",{"$f":"C180*E180*G180*I180*K180","v":0}]
[null,"      C3-C1 middle end",{"$f":"C34","v":2},"X",6,"X",6.08,"X",0.23,"X",0,"=",0]
[null,"      C2-C3 END WALL",{"$f":"C35","v":2},"X",2,"X",6.754999999999999,"X",0.23,"X",0,"=",0]
[null,"      C3-C2 ",{"$f":"C36","v":1},"X",2,"X",6.92,"X",0.23,"X",0,"=",0]
[null,"      C2-C2 E",{"$f":"C37","v":2},"X",3,"X",5.3380000000000001,"X",0.23,"X",0,"=",0]
[null,"      C2-C2 M",{"$f":"C38","v":2},"X",6,"X",1.5,"X",0.23,"X",0,"=",0]
[null,"APRON  long",0,{"$f":"D39","v":"X"},0,"X",0,"X",0,"X",0,"=",0]
[null,"APRON short ",0,{"$f":"D40","v":"X"},0,"X",0,"X",0,"X",0,"=",0]
[null,null,null,null,null,null,null,null,null,null,"TOTAL","=",{"$f":"SUM(M173:M187)","v":31.569999999999997}]
[null,null,null,null,null,null,null,null,null,null,"SAY","=",{"$f":"ROUNDUP(M188,0)","v":32}]
[5,"Item No (2) :- Providing & laying in situ cement concrete trap metal M 10 for foundation & bedding including dewatering if necessary, compacting, curing etc. complete.Withfineaggregate (Natural Sand / Crushed sand VSI Grade finely washed etc [Bd. E.1  /287]",null,null,null,null,null,null,null,null,null,null,null,"cum"]
[null,"Bed concrete in WH.",1,"X",{"$f":"E8","v":1},"X",{"$f":"G8","v":50.5},{"$f":"H8","v":"X"},{"$f":"I8","v":22},"X",7.4999999999999997E-2,"=",{"$f":"C191*E191*G191*I191*K191","v":83.325000000000003}]
[null,"Column footing "]
[null,{"$f":"B97","v":"Column C1 end wall"},{"$f":"C97","v":2},"X",7,"X",{"$f":"G97-0.6","v":1.4499999999999997},"X",{"$f":"I97-0.6","v":1.6999999999999997},"X",0.1,"=",{"$f":"C193*E193*G193*I193*K193","v":3.4509999999999992}]
[null,{"$f":"B98","v":"Column No. C1 w"},0,"X",0,"X",0,"X",0,"X",{"$f":"K193","v":0.1},"=",0]
[null,"Column No.C2 end wall",2,"X",2,"X",{"$f":"G99-0.6","v":1.5500000000000003},"X",{"$f":"I99-0.6","v":1.2000000000000002},"X",{"$f":"K194","v":0.1},"=",0.74400000000000022]
[null,"Column No.C2  MIDDLE",0,"X",0,"X",0,"X",0,"X",{"$f":"K195","v":0.1},"=",0]
[null,"Column No. C3 ",2,"X",2,"X",{"$f":"G101-0.6","v":1.5500000000000003},"X",{"$f":"I101-0.6","v":1.6999999999999997},"X",{"$f":"K196","v":0.1},"=",1.054]
[null,"Column   Platform",6,"X",2,"X",1.7,"X",1.45,"X",{"$f":"K197","v":0.1},"=",2.9580000000000002]
[null,"For  PANEL"]
[null,{"$f":"B104","v":"      C1-C3 end wall"},{"$f":"C104","v":2},"X",2,"X",5.3380000000000001,"X",0.43,"X",0.1,"=",{"$f":"C200*E200*G200*I200*K200","v":0.91813600000000006}]
[null,{"$f":"B105","v":"      C1-C1  middle wall"},2,"X",6,"X",6.08,"X",0.43,"X",0.1,"=",3.1372800000000005]
[null,{"$f":"B106","v":"      C3-C2 gable sides wall"},2,"X",2,"X",6.754999999999999,"X",0.43,"X",0.1,"=",1.1618599999999999]
[null,{"$f":"B107","v":"      C3-C2 "},1,"X",2,"X",6.92,"X",0.43,"X",0.1,"=",0.59511999999999998]
[null,{"$f":"B108","v":"      Platform Beam"},2,"X",3,"X",5.3380000000000001,"X",{"$f":"I37","v":0.23},"X",0,"=",0]
[null,{"$f":"B109","v":"      Platform Beam"},2,"X",6,"X",1.5,"X",0.23,"X",0,"=",0]
[null,{"$f":"B110","v":"Gutter   long"},0,"X",0,"X",0,"X",0,"X",0,"=",0]
[null,{"$f":"B111","v":" short "},0,"X",0,"X",0,"X",0,"X",0,"=",0]
[null,"For ramp provision",null,null,null,null,null,null,null,null,null,null,2]
[null,null,null,null,null,null,null,null,null,null,"Total","=",{"$f":"SUM(M191:M208)","v":99.344396000000003}]
[null,null,null,null,null,null,null,null,null,null,"say ","=",{"$f":"ROUNDUP(M209,0)","v":100}]
[]
[null,"Item No. (3) :- Providing U. C. R. masonary or trap stones in C. M. 1 : 6 in foundation  & plinth including dewatering, striking joints on exposed surfaces and pointing  with C. M. 1 ; 3 on outside surfaces curing etc complete.Withfineaggregate (Natural Sand / Crushed sand VSI Grade finely washed etc               ( Bd. H. 1/32",null,null,null,null,null,null,null,null,null,null,null,"cum"]
[null,"Gutter  long",0,{"$f":"D65","v":"X"},0,"X",0,"X",0.45,0,0,"=",{"$f":"C213*E213*G213*I213*K213","v":0}]
[null,"Gutter  short ",0,{"$f":"D66","v":"X"},0,"X",0,"X",0,"X",0,"=",{"$f":"C214*E214*G214*I214*K214","v":0}]
[null,"For ramp provision",null,null,null,null,null,null,null,null,null,null,0]
[null,null,null,null,null,null,null,null,null,null,"Total","=",{"$f":"SUM(M213:M215)","v":0}]
[null,null,null,null,null,null,null,null,null,null,"say ","=",{"$f":"ROUNDUP(M216,0)","v":0}]
[6,"Item No.(4) :- Providing II class B.B. masonary with conventional / I. S. type bricks in cement morter ( 1 : 6)  in foundation and plinth including dewatering; striking joints on exposed faces and curing etc. complete.Withfineaggregate (Natural Sand / Crushed sand VSI Grade finely washed etc ( Bd. G. 1/313 )",null,null,null,null,null,null,null,null,null,null,null,"cum"]
[null,"For  PANEL"]
[null,{"$f":"B52","v":"      C1-C3 end wall"},{"$f":"C52","v":2},"X",2,"X",5.3380000000000001,"X",{"$f":"I52","v":0.23},"X",1,"=",{"$f":"C220*E220*G220*I220*K220","v":4.9109600000000002}]
[null,{"$f":"B53","v":"      C1-C1  middle wall"},2,"X",6,"X",6.08,"X",0.23,"X",{"$f":"K220","v":1},"=",16.780800000000003]
[null,{"$f":"B54","v":"      C3-C2 gable sides wall"},2,"X",2,"X",6.754999999999999,"X",0.23,"X",{"$f":"K221","v":1},"=",6.214599999999999]
[null,{"$f":"B55","v":"      Platform Beam"},2,"X",3,"X",6.92,"X",0.23,"X",0,"=",0]
[null,{"$f":"B56","v":"      C3-C2 "},0,"X",0,"X",0,"X",0,"X",0,"=",0]
[null,{"$f":"B57","v":"      Platform Beam"},2,"X",3,"X",0,"X",0,"X",{"$f":"K224","v":0},"=",0]
[null,"APRON  long",0,{"$f":"D67","v":"X"},0,"X",0,"X",0,"X",0,"=",0]
[null,"APRON short ",0,{"$f":"D68","v":"X"},0,{"$f":"F68","v":"X"},0,{"$f":"H68","v":"X"},0,"X",0,"=",0]
[null,null,null,null,null,null,null,null,null,null,"Total","=",{"$f":"SUM(M220:M227)","v":27.906359999999999}]
[null,null,null,null,null,null,null,null,null,null,"say ","=",{"$f":"ROUNDUP(M228,0)","v":28}]
[]
[]
[]
[]
[]
[]
[]
[]
[]
[]
[]
[]
[7,"Item No (5-) :- Providing & fixing in position   TMT-FE-500  reinforcement of various diameters for R.C.C. foundations footings, columns, beams, lintels, weathersheds, canopy drops etc as per detailed design, drawing & schedule including cu",null,null,null,null,null,null,null,null,null,null,null,"MT",null,null,null,"MT"]
[null,null,{"$f":"M283+M321+M327+M336+M258","v":128},null,null,null,{"$f":"C243*(100+100+125+125+125)/5","v":14720},null,null,null,null,null,{"$f":"G243/1000","v":14.72}]
[null,"Flooring",null,null,null,null,null,null,null,null,null,null,0]
[null,null,null,null,null,null,null,null,null,null,"Total",null,{"$f":"SUM(M243:M244)","v":14.72}]
[null,null,null,null,null,null,null,null,null,null,"say ",null,{"$f":"M245","v":14.72}]
[]
[8,"Item No. (6) :- Providing & laying in situ cement concrete M 25 of trap metal for R.C.C. work in footings of columns including dewatering if necessary, formwork, compaction, finishing curing etc. complete.(Excluding reinforcement) Withfineaggregate (Natural Sand / Crushed sand VSI Grade finely washed etc [Bd.F.2/297]",null,null,null,null,null,null,null,null,null,null,null,"cum"]
[null,"Column footing "]
[null,{"$f":"B26","v":"Column C1 end wall"},{"$f":"C26","v":2},"X",7,"X",{"$f":"G26","v":1.25},"X",{"$f":"I26","v":1.5},"X",0.3,"=",{"$f":"C250*E250*G250*I250*K250","v":7.875}]
[null,{"$f":"B27","v":"Column No. C1 w"},0,"X",0,"X",0,{"$f":"H27","v":"X"},0,"X",0,"=",{"$f":"C251*E251*G251*I251*K251","v":0}]
[null,{"$f":"B28","v":"Column No.C2 end wall"},2,"X",2,"X",{"$f":"G28","v":1.35},{"$f":"H28","v":"X"},{"$f":"I28","v":1},"X",0.3,"=",{"$f":"C252*E252*G252*I252*K252","v":1.62}]
[null,"Column No.C2  MIDDLE",0,"X",0,"X",0,"X",0,"X",0,"=",{"$f":"C253*E253*G253*I253*K253","v":0}]
[null,{"$f":"B30","v":"Column No. C3 "},{"$f":"C30","v":2},"X",2,"X",{"$f":"G30","v":1.35},{"$f":"H30","v":"X"},{"$f":"I30","v":1.5},"X",0.3,"=",{"$f":"C254*E254*G254*I254*K254","v":2.4300000000000002}]
[null,{"$f":"B31","v":"Column   Platform"},2,"X",6,"X",1.5,"X",1.25,"X",0.3,"=",{"$f":"C255*E255*G255*I255*K255","v":6.75}]
[]
[null,null,null,null,null,null,null,null,null,null,"Total",null,{"$f":"SUM(M250:M256)","v":18.675000000000001}]
[null,null,null,null,null,null,null,null,null,null,"say ",null,{"$f":"ROUNDUP(M257,0)","v":19}]
[]
[9,"Item No. (7) :- Providing & laying in situ cement concrete M 25 of trap metal for R.C.C. work in columns as per detailed drawing and design as directed including dewatering if necessary centering, formwark, compaction, finishing the formed surface with etc. With fineaggregate (Natural Sand / Crushed sand VSI Grade finely washed etc",null,null,null,null,null,null,null,null,null,null,null,"cum","Qty. upto 3.00 mtr.","Qty.  Above  3.00 mtr."]
[null,"Column up to plinth "]
[null,null,null,null,null,null,null,null,null,null,"Av."]
[null,{"$f":"B42","v":"Column C1"},{"$f":"C42","v":2},"X",7,"X",0.35,"X",0.63,"X",{"$f":"K21-0.1-0.3+1.2","v":2.8},"=",{"$f":"C263*E263*G263*I263*K263","v":8.6435999999999993},null,{"$f":"M263","v":8.6435999999999993},null,null,null,null,null,null,null,null,null,null,0.72,"X",2.5,"=",10.08]
[null,{"$f":"B43","v":"Column No.C2 end wall"},2,"X",2,"X",0.3,"X",0.6,"X",{"$f":"K263","v":2.8},"=",{"$f":"C264*E264*G264*I264*K264","v":2.016},null,{"$f":"M264","v":2.016},null,null,null,null,null,null,null,null,null,null,0.62,"X",2.5,"=",2.48]
[null,{"$f":"B44","v":"Column No.C 3 "},2,"X",2,"X",0.55500000000000005,"X",0.63,"X",{"$f":"K264","v":2.8},"=",{"$f":"C265*E265*G265*I265*K265","v":3.91608},null,{"$f":"M265","v":3.91608},null,null,null,null,null,null,null,null,null,null,0.62,"X",2.5,"=",6.7]
[null,"Platform Col.",6,{"$f":"D45","v":"X"},2,"X",0.63,"X",0.35,"X",2.8,"=",{"$f":"C266*E266*G266*I266*K266","v":7.4087999999999994},null,{"$f":"M266","v":7.4087999999999994},null,null,null,null,null,null,null,null,null,null,0.3,"X",2.5,"=",5.13]
[null,{"$f":"B46","v":"Column for Brick wall C1"},{"$f":"C46","v":0},"X",0,"X",0,"X",0,"X",{"$f":"K266","v":2.8},"=",0]
[null,{"$f":"B47","v":"Column for Brick wall C3"},{"$f":"C47","v":0},"X",0,"X",0,"X",0,"X",2.8,"=",{"$f":"C268*E268*G268*I268*K268","v":0}]
[null,{"$f":"B48","v":"Column for Brick wall C2"},0,"X",0,"X",0,"X",0,"X",2.8,"=",0]
[null,"Columns above plinth "]
[null,{"$f":"B263","v":"Column C1"},2,{"$f":"D47","v":"X"},{"$f":"E263","v":7},{"$f":"F47","v":"X"},0.23,{"$f":"H47","v":"X"},0.35,"X",6.1,"=",{"$f":"C271*E271*G271*I271*K271","v":6.8746999999999998},null,{"$f":"M271","v":6.8746999999999998}]
[null,"Column No.C2 end wall",{"$f":"C264","v":2},{"$f":"D48","v":"X"},{"$f":"E264","v":2},{"$f":"F48","v":"X"},0.23,{"$f":"H48","v":"X"},0.3,"X",{"$f":"K271+1.5","v":7.6},"=",2.0975999999999999,null,{"$f":"M272","v":2.0975999999999999}]
[null,"Column No.C 3 ",{"$f":"C265","v":2},"x",{"$f":"E265","v":2},"X",0.23,"X",0.3,"X",{"$f":"K271","v":6.1},"=",1.6836,null,{"$f":"M273","v":1.6836}]
[null,"C3 offset",{"$f":"C266","v":6},{"$f":"D273","v":"x"},{"$f":"E27","v":0},"X",0.23,"X",0.4,"X",{"$f":"K275","v":0},"=",0]
[null,"Column near R.S.",0,{"$f":"D47","v":"X"},0,"X",0,"X",0,"X",0,"=",0,null,{"$f":"M275","v":0}]
[null,{"$f":"B269","v":"Column for Brick wall C2"},0,{"$f":"D48","v":"X"},0,"X",0.23,"X",0,"X",0,"=",0]
[null,"Additional beam for platform"]
[null,"Column C1",0,"X",0,"X",0,"X",0,"X",0,"=",{"$f":"C278*E278*G278*I278*K278","v":0},null,{"$f":"M278","v":0}]
[null,"Platform ",0,"X",0,"X",0,"X",0,"X",0,"=",{"$f":"C279*E279*G279*I279*K279","v":0},null,{"$f":"M279","v":0}]
[null,"Column No. C3 ",0,"X",0,"X",0,"X",0,"X",0,"=",{"$f":"C280*E280*G280*I280*K280","v":0},null,{"$f":"M280","v":0}]
[null,"Cp coln near platform",0,"X",0,"X",0,"X",0,"X",0,"=",{"$f":"C281*E281*G281*I281*K281","v":0}]
[null,null,null,null,null,null,null,null,null,null,"Total",null,{"$f":"SUM(M263:M281)","v":32.64038},null,{"$f":"SUM(O263:O266)","v":21.984479999999998},{"$f":"SUM(P263:P266)","v":0}]
[null,null,null,null,null,null,null,null,null,null,"say ",null,{"$f":"ROUNDUP(M282,0)","v":33}]
[]
[10,"Item No. (8) :- Providing & laying in situ cement concrete M-25 of trap metal for R.C.C. work in beams and lintels as per detailed drawing and design as directed including dewatering if necessary centering, With fineaggregate (Natural Sand / Crushed sand VSI Grade finely washed etc formwark, compaction, finishing the formed su",null,null,null,null,null,null,null,null,null,null,null,"cum","Qty. upto 3.00 mtr.","Qty.  Above  3.00 mtr."]
[null,"Plinth  Beam "]
[null,{"$f":"B52","v":"      C1-C3 end wall"},0,"X",0,"X",0,"X",0,"X",0,"=",{"$f":"C287*E287*G287*I287*K287","v":0},null,{"$f":"M287","v":0}]
[null,{"$f":"B53","v":"      C1-C1  middle wall"},0,"X",0,"X",0,"X",0,"X",0,"=",0,null,{"$f":"M288","v":0}]
[null,{"$f":"B54","v":"      C3-C2 gable sides wall"},0,"X",0,"X",0,"X",0,"X",0,"=",0,null,0]
[null,{"$f":"B55","v":"      Platform Beam"},0,"X",0,"X",0,"X",0,"X",0,"=",0,null,0]
[null,{"$f":"B56","v":"      C3-C2 "},0,"X",0,"X",0,"X",0,"X",0,"=",0]
[null,{"$f":"B57","v":"      Platform Beam"},0,"X",0,"X",0,"X",0,"X",0,"=",0,null,{"$f":"M292","v":0}]
[null,"Ground Beam"]
[null,{"$f":"B287","v":"      C1-C3 end wall"},{"$f":"C220","v":2},{"$f":"D287","v":"X"},{"$f":"E220","v":2},"X",{"$f":"G220","v":5.3380000000000001},"X",{"$f":"I220","v":0.23},{"$f":"J287","v":"X"},0.6,"=",{"$f":"C294*E294*G294*I294*K294","v":2.9465759999999999},null,{"$f":"M294","v":2.9465759999999999}]
[null,{"$f":"B288","v":"      C1-C1  middle wall"},{"$f":"C221","v":2},"X",{"$f":"E221","v":6},"X",{"$f":"G221","v":6.08},"X",{"$f":"I294","v":0.23},{"$f":"J288","v":"X"},{"$f":"K294","v":0.6},"=",{"$f":"C295*E295*G295*I295*K295","v":10.068480000000001}]
[null,{"$f":"B289","v":"      C3-C2 gable sides wall"},{"$f":"C222","v":2},"X",{"$f":"E222","v":2},"X",{"$f":"G222","v":6.754999999999999},"X",{"$f":"I295","v":0.23},{"$f":"J289","v":"X"},{"$f":"K295","v":0.6},"=",{"$f":"C296*E296*G296*I296*K296","v":3.7287599999999994},null,{"$f":"M296","v":3.7287599999999994},{"$f":"E296*G296","v":13.509999999999998}]
[null,{"$f":"B290","v":"      Platform Beam"},{"$f":"C223","v":2},"X",{"$f":"E223","v":3},"X",{"$f":"G223","v":6.92},"X",{"$f":"I296","v":0.23},{"$f":"J290","v":"X"},{"$f":"K296","v":0.6},"=",{"$f":"C297*E297*G297*I297*K297","v":5.7297599999999997},null,{"$f":"M297","v":5.7297599999999997},{"$f":"P296+G297","v":20.43}]
[null,{"$f":"B291","v":"      C3-C2 "},0,"X",0,"X",0,"X",0,"X",0,"=",{"$f":"C298*E298*G298*I298*K298","v":0}]
[null,{"$f":"B292","v":"      Platform Beam"},6,"X",2,"X",5.45,"X",0.23,"X",0.6,"=",9.0251999999999999]
[null,"Inside & Outside",6,"X",2,"X",1.5,"X",0.23,"X",0.6,"=",2.4840000000000004]
[null,"Platform beam "]
[null,"Column C1 to C1 Out from column",0,"X",9,"X",0.23,"X",0.9,"X",0.6,"=",{"$f":"C302*E302*G302*I302*K302","v":0},null,0]
[null,"Column C1 to C2",0,"X",3,"X",{"$f":"0.23","v":0.23},"X",5.43,"X",0.6,"=",{"$f":"C303*E303*G303*I303*K303","v":0},null,0]
[null,"PB3",0,"X",0,"X",0,"X",0,"X",0,"=",{"$f":"C304*E304*G304*I304*K304","v":0},null,0]
[null,"OFFSET ",2,"X",3,"X",5.45,"X",0.20499999999999999,"X",0.15,"=",1.005525,null,1.005525]
[null,"OFFSET ",2,"X",2,"X",1.595,"X",0.20499999999999999,"X",0.15,"=",0.19618499999999997,null,0.19618499999999997]
[null,"OFFSET L= 5.00+4.59/2",0,"X",0,"X",0,"X",0,"X",0,"=",0,null,0]
[null,"L= 1.80+1.595/2",0,"X",0,"X",0,"X",0,"X",0,"=",0,null,0]
[null,"Beam on BBM wall at 1.8M & 5.2 M"]
[null,{"$f":"B287","v":"      C1-C3 end wall"},{"$f":"C294+2","v":4},"X",{"$f":"E294","v":2},"X",{"$f":"G294","v":5.3380000000000001},"X",0.23,"X",0.3,"=",{"$f":"K310*I310*G310*E310*C310","v":2.9465760000000003},null,21.756600000000002]
[null,{"$f":"B288","v":"      C1-C1  middle wall"},{"$f":"C295+2","v":4},"X",{"$f":"E295","v":6},"X",{"$f":"G295","v":6.08},"X",{"$f":"I310","v":0.23},"X",{"$f":"K310","v":0.3},"=",{"$f":"K311*I311*G311*E311*C311","v":10.068480000000001}]
[null,{"$f":"B297","v":"      Platform Beam"},0,{"$f":"D297","v":"X"},{"$f":"E296","v":2},"X",{"$f":"G297","v":6.92},"X",{"$f":"I311","v":0.23},"X",{"$f":"K311","v":0.3},"=",{"$f":"K312*I312*G312*E312*C312","v":0},null,5.4111000000000002]
[null,{"$f":"B298","v":"      C3-C2 "},{"$f":"C297+3","v":5},{"$f":"D298","v":"X"},{"$f":"E297","v":3},"X",{"$f":"G296","v":6.754999999999999},"X",{"$f":"I312","v":0.23},"X",{"$f":"K312","v":0.3},"=",{"$f":"K313*I313*G313*E313*C313","v":6.9914249999999996},null,3.2385000000000002]
[null,"Lintel for windows"]
[null,"V1 For length",2,"X",13,"X",1.5,"X",0.23,"X",0.15,"=",{"$f":"C315*E315*G315*I315*K315","v":1.3455000000000001},null,21.756600000000002]
[null,"V2 For length",{"$f":"C315","v":2},"X",16,"X",{"$f":"G315","v":1.5},"X",{"$f":"I315","v":0.23},"X",{"$f":"K315","v":0.15},"=",1.6560000000000001]
[null,"V1 for short",0,"X",6,"X",{"$f":"G316","v":1.5},"X",{"$f":"I316","v":0.23},"X",{"$f":"K316","v":0.15},"=",{"$f":"C317*E317*G317*I317*K317","v":0},null,21.756600000000002]
[null,"V2 fro short",2,"X",{"$f":"E317","v":6},"X",{"$f":"G317","v":1.5},"X",{"$f":"I317","v":0.23},"X",{"$f":"K317","v":0.15},"=",0.62100000000000011]
[]
[null,null,null,null,null,null,null,null,null,null,"Total",null,{"$f":"SUM(M294:M318)","v":58.813467000000003}]
[null,null,null,null,null,null,null,null,null,null,"say ",null,{"$f":"ROUNDUP(M320,0)","v":59},null,{"$f":"SUM(O287:O320)","v":87.526206000000016},{"$f":"SUM(P287:P320)","v":33.94}]
[]
[11,"Item No. (9) :- Providing & laying in situ cement concrete M 25 of trap metal for R.C.C. work Plarform Slab as per detailed drawing and design as directed including dewatering if necessary centering, formwark, compaction, finishing the formed surface etc. Withfineaggregate (Natural Sand / Crushed sand VSI Grade finely washed etc",null,null,null,null,null,null,null,null,null,null,null,"Cum"]
[null,"Plarform slab",2,{"$f":"D58","v":"X"},3,"X",1.8,"X",{"$f":"I303+0.3","v":5.7299999999999995},"X",0.2,"=",{"$f":"C324*E324*G324*I324*K324","v":12.376800000000001}]
[null,null,0,"X",0,"X",0,"X",0,"X",0,"=",{"$f":"C325*E325*G325*I325*K325","v":0}]
[null,null,null,null,null,null,null,null,null,null,"Total",null,{"$f":"SUM(M324:M325)","v":12.376800000000001}]
[null,null,null,null,null,null,null,null,null,null,"say ",null,{"$f":"ROUNDUP(M326,0)","v":13}]
[12,"Item No. (10) :- Providing & laying in situ cement concrete M 25 of trap metal for R.C.C. work wethershed  as per detailed drawing and design as directed including dewatering if necessary centering, formwark, compaction, finishing the formed surface wit"]
[]
[null,"Wether shed"]
[null,{"$f":"B310","v":"      C1-C3 end wall"},0,{"$f":"D310","v":"X"},2,"X",1.5,"X",0.15,"X",0.45,"=",{"$f":"C331*E331*G331*I331*K331","v":0}]
[null,{"$f":"B311","v":"      C1-C1  middle wall"},4,"X",6,"X",1.5,"X",0.15,"X",0.45,null,{"$f":"C332*E332*G332*I332*K332","v":2.4299999999999997}]
[null,{"$f":"B312","v":"      Platform Beam"},0,"X",2,"X",1.5,"X",0.15,"X",0.45,null,0]
[null,{"$f":"B313","v":"      C3-C2 "},5,"X",3,"X",1.5,"X",0.15,"X",0.45,null,1.51875]
[null,null,null,null,null,null,null,null,null,null,"Total",null,{"$f":"SUM(M331:M334)","v":3.9487499999999995}]
[null,null,null,null,null,null,null,null,null,null,"say ",null,{"$f":"ROUNDUP(M335,0)","v":4}]
[]
[13,"Item No.(11) :- Providing II class B.B. masonary with conventional / I. S. type bricks in cement morter ( 1 : 6)  in supestructure  including striking joints, watering, scaffolding, curing etc. complete. ( Bd. G. 5/315 )",null,null,null,null,null,null,null,null,null,null,null,"Cum"]
[]
[null,{"$f":"B220","v":"      C1-C3 end wall"},2,"X",2,"X",5.3380000000000001,"X",0.23,"X",{"$f":"6.7-0.6","v":6.1000000000000005},"=",{"$f":"K340*I340*G340*E340*C340","v":29.956856000000005},null,21.756600000000002]
[null,{"$f":"B221","v":"      C1-C1  middle wall"},2,"X",6,"X",6.08,"X",0.23,"X",{"$f":"K340","v":6.1000000000000005},"=",{"$f":"K341*I341*G341*E341*C341","v":102.36288000000002}]
[null,{"$f":"B222","v":"      C3-C2 gable sides wall"},2,"X",2,"X",6.754999999999999,"X",0.23,"X",{"$f":"K340","v":6.1000000000000005},"=",{"$f":"K342*I342*G342*E342*C342","v":37.909060000000004},null,5.4111000000000002]
[null,{"$f":"B223","v":"      Platform Beam"},0,"X",3,"X",6.92,"X",{"$f":"I340","v":0.23},"X",{"$f":"K340","v":6.1000000000000005},"=",{"$f":"K343*I343*G343*E343*C343","v":0},null,3.2385000000000002]
[null,{"$f":"B224","v":"      C3-C2 "},{"$f":"C224","v":0},"X",0,"X",0,"X",0,{"$f":"J224","v":"X"},0,null,{"$f":"K344*I344*G344*E344*C344","v":0}]
[null,{"$f":"B225","v":"      Platform Beam"},2,"X",3,"X",0,"X",0,{"$f":"J225","v":"X"},0,null,0]
[null,null,null,null,null,null,null,null,null,null,"Total","=",{"$f":"SUM(M340:M345)","v":170.22879600000005}]
[null,"Deductions for"]
[null,"Column near R.S. ",0,{"$f":"D47","v":"X"},0,{"$f":"F28","v":"X"},0,{"$f":"H28","v":"X"},0,"X",0,"=",{"$f":"C348*E348*G348*I348*K348","v":0},null,{"$f":"M348","v":0}]
[null,"Column near R.S.  Ramp",0,{"$f":"D48","v":"X"},0,{"$f":"F29","v":"X"},0,{"$f":"H29","v":"X"},0,"X",0,"=",{"$f":"C349*E349*G349*I349*K349","v":0},null,{"$f":"M349","v":0}]
[null,"Rolling shutters",-2,"X",3,"X",3,"X",0.23,"X",3.65,"=",{"$f":"C350*E350*G350*I350*K350","v":-15.111000000000002}]
[null,"V1 & V2 ventilators",-1,"X",70,"X",1.2,"X",0.23,"X",0.6,"=",{"$f":"K351*I351*G351*E351*C351","v":-11.592000000000001},null,3.2385000000000002]
[null,"Bed blocks below V1",0,"X",0,"X",0,"X",0,"X",0,"=",{"$f":"K352*I352*G352*E352*C352","v":0},null,3.2385000000000002]
[null,"Lintels over  V1 & V",0,"X",{"$f":"E352/2","v":0},"X",0,"X",0,"X",0,"=",{"$f":"K353*I353*G353*E353*C353","v":0},null,3.2385000000000002]
[null,null,null,null,null,null,null,null,null,null,"Total","=",{"$f":"SUM(M348:M353)","v":-26.703000000000003}]
[null,null,null,null,null,null,null,null,null,null,"Net Qty.","=",{"$f":"M346+M354","v":143.52579600000004}]
[null,null,null,null,null,null,null,null,null,null,"Say",null,{"$f":"ROUNDUP(M355,0)","v":144}]
[]
[null,"Item No. (12) :- Providing & laying in situ cement concrete M 20 of trap metal for bed blocks as per detailed drawing and design as directed including dewatering if necessary centering, formwark, compaction, finishing the formed surface witt C.M. 1:3 of sufficient minimum thickness etc.complete."]
[]
[null,"Below V1 vents",0,"X",0,"X",0,"X",0,"X",0,"=",{"$f":"C360*E360*G360*I360*K360","v":0}]
[null,null,null,null,null,null,null,null,null,null,"Total",null,{"$f":"SUM(M359:M360)","v":0}]
[null,null,null,null,null,null,null,null,null,null,"say ",null,{"$f":"ROUNDUP(M361,0)","v":0}]
[]
[14,"Item No (13-A);- Providing cement plaster 20 mm thick in C.M.  1:4 inside  to the W.H. bldg.  with smooth neeru finish to concrete or brick surface in all positions including scaffolding curing etc. complete as directed (Bd.L2&4/31)",null,null,null,null,null,null,null,null,null,null,null,"sqm","Qty. upto 3.00 mtr.","Qty.  Above  3.00 mtr."]
[null,"Intside "]
[null," Long wall ",1,"X",2,"X",{"$f":"G7","v":50.96},"X",6.7,null,null,"=",{"$f":"C366*E366*G366*I366","v":682.86400000000003},null,{"$f":"(M366*3.8)/I366","v":387.29600000000005},{"$f":"M366-O366","v":295.56799999999998}]
[null," short wall ",1,"X",2,"X",{"$f":"I7","v":22.46},"X",6.7,null,null,"=",300.964,null,{"$f":"(M367*3.8)/I367","v":170.696},{"$f":"M367-O367","v":130.268}]
[null," Long wall Top",1,"X",2,"X",{"$f":"G366","v":50.96},"X",0.23,null,null,"=",23.441600000000001,null,{"$f":"(M368*3.8)/I368","v":387.29599999999999},{"$f":"M368-O368","v":-363.8544}]
[null," short wall Top",1,"X",2,"X",{"$f":"G367","v":22.46},"X",0.23,null,null,"=",10.331600000000002,null,{"$f":"(M369*3.8)/I369","v":170.696},{"$f":"M369-O369","v":-160.36439999999999}]
[null,"R.S. jambs & soffits",0,"X",{"$f":"E46","v":0},"X",0,"X",0,null,null,"=",0]
[]
[null,null,null,null,null,null,null,null,null,null,"Total ",null,{"$f":"SUM(M366:M371)","v":1017.6011999999999},null,{"$f":"SUM(O366:O367)","v":557.99200000000008},{"$f":"SUM(P366:P367)","v":425.83600000000001}]
[null,"Deductions for"]
[null,"Rolling shutters",-2,"X",2,"X",3,"X",1,"X",3.65,"=",{"$f":"K374*I374*G374*E374*C374","v":-43.8}]
[null,null,-1,"X",2,"X",2.8,"X",1,"X",3.65,"=",{"$f":"K375*I375*G375*E375*C375","v":-20.439999999999998},null,5.4111000000000002]
[null,"V1 & V2 ventilators",-1,{"$f":"D360","v":"X"},72,"X",1.2,"X",1,"X",0.6,"=",{"$f":"K376*I376*G376*E376*C376","v":-51.839999999999996},null,3.2385000000000002]
[null,null,null,null,null,null,null,null,null,null,"Total ","=",{"$f":"SUM(M374:M376)","v":-116.07999999999998}]
[null,null,null,null,null,null,null,null,null,null,"Net",null,{"$f":"M372+M377","v":901.52119999999991},null,{"$f":"O372-#REF!","v":{"$error":"#REF!"}},{"$f":"P372-#REF!","v":{"$error":"#REF!"}}]
[null,null,null,null,null,null,null,null,null,null,"Say",null,{"$f":"ROUNDUP(M378,0)","v":902}]
[]
[15,"Item No (13-B);- Providing cement plaster 20 mm thick in C.M.  1:4  with neat cement smooth  finish to concrete or brick surface in all positions including scaffolding curing etc. complete as directed (Bd.L2&4/31",null,null,null,null,null,null,null,null,null,null,null,"sqm","Qty. upto 3.00 mtr.","Qty.  Above  3.00 mtr."]
[null,"Weathersheds over V! & v"]
[null,"Top & Bottom",1,"X",{"$f":"E376","v":72},"X",{"$f":"1.2+1.2+0.6+0.6","v":3.6},"X",0.23,null,null,"=",{"$f":"C383*E383*G383*I383","v":59.616},null,{"$f":"(M383*3.8)/I383","v":984.95999999999992},{"$f":"M383-O383","v":-925.34399999999994}]
[null,null,null,null,null,null,null,null,null,null,"Total ",null,{"$f":"SUM(M383:M383)","v":59.616},null,{"$f":"SUM(O383:O383)","v":984.95999999999992},{"$f":"SUM(P383:P383)","v":-925.34399999999994}]
[null,null,null,null,null,null,null,null,null,null,"Say",null,{"$f":"ROUNDUP(M384,0)","v":60}]
[]
[16,"Item No (13-C);- Providing cement plaster 20 mm thick in C.M.  1:4 outside  to the W.H. bldg.  With smooth  finish to concrete or brick surface in all positions including scaffolding curing etc. complete as directed (Bd.L2&4/31",null,null,null,null,null,null,null,null,null,null,null,"sqm","Qty. upto 3.00 mtr.","Qty.  Above  3.00 mtr."]
[null,"Outside "]
[null," Long wall ",1,{"$f":"D39","v":"X"},{"$f":"E39","v":2},"X",{"$f":"G7","v":50.96},"X",{"$f":"I366+1.5","v":8.1999999999999993},null,null,"=",{"$f":"C389*E389*G389*I389","v":835.74399999999991},null,{"$f":"(M389*3.8)/I389","v":387.29599999999999},{"$f":"M389-O389","v":448.44799999999992}]
[null," short wall ",1,"X",2,"X",{"$f":"I7","v":22.46},"X",{"$f":"I389","v":8.1999999999999993},null,null,"=",{"$f":"C390*E390*G390*I390","v":368.34399999999999},null,{"$f":"(M390*3.8)/I390","v":170.696},{"$f":"M390-O390","v":197.648}]
[null,"R.S. jambs & soffits",0,"X",0,"X",0,"X",0,null,null,"=",{"$f":"C391*E391*G391*I391","v":0}]
[null,"Deductions for"]
[null,"Rolling shutters",-2,"X",2,"X",3,"X",1,"X",3.65,"=",{"$f":"K393*I393*G393*E393*C393","v":-43.8}]
[null,null,-1,"X",2,"X",2.8,"X",1,"X",3.65,"=",{"$f":"K394*I394*G394*E394*C394","v":-20.439999999999998}]
[null,"V1 ventilators",-1,"X",84,"X",1.2,"X",1,"X",0.6,"=",{"$f":"K395*I395*G395*E395*C395","v":-60.48}]
[null,null,null,null,null,null,null,null,null,null,null,"=",{"$f":"SUM(M393:M395)","v":-124.72}]
[null,null,null,null,null,null,null,null,null,null,"Total ",null,{"$f":"SUM(M389:M391)+M396","v":1079.3679999999999},null,{"$f":"SUM(O389:O390)","v":557.99199999999996},{"$f":"SUM(P389:P390)","v":646.09599999999989}]
[null,null,null,null,null,null,null,null,null,null,"Net",null,{"$f":"M397","v":1079.3679999999999},null,{"$f":"O397-#REF!","v":{"$error":"#REF!"}},{"$f":"P397-#REF!","v":{"$error":"#REF!"}}]
[null,null,null,null,null,null,null,null,null,null,"Say",null,{"$f":"ROUNDUP(M398,0)","v":1080}]
[]
[null,"Item No (13-D) :- Providing cement plaster 20 mm thick in C.M. 1:4 with 1.5mm thick cement finish to concrete /brick surface in all positions including scaffolding curing etc. complete as directed.(Bd.L.4/368)",null,null,null,null,null,null,null,null,null,null,null,"sqm"]
[]
[null,"Platforms  Taper side ",0,"X",0,"X",0,"X",0,null,null,"=",{"$f":"C403*E403*G403*I403","v":0}]
[null,"Bottom ",0,"X",0,"X",0,"X",0,null,null,"=",0]
[null,"Apron   L/W",0,"X",0,"X",0,"X",0,null,null,"=",0]
[null,"S/W",0,"X",0,"X",0,"X",0,null,null,"=",0]
[null,"Gutter  L/W",0,"X",0,"X",0,"X",0,null,null,"=",0]
[null,"S/W",0,"X",0,"X",0,"X",0,null,null,"=",0]
[null,"Central gutter",0,"X",0,"X",0,"X",0,null,null,"=",0]
[]
[null,null,null,null,null,null,null,null,null,null,"Total ",null,{"$f":"SUM(M403:M409)","v":0}]
[null,null,null,null,null,null,null,null,null,null,"Say",null,{"$f":"ROUNDUP(M411,0)","v":0}]
[]
[null,"Item No (13-E) :- Providing and applying gypsum plaster (with Gypsum material of Gypsum India /Mega Sign or equivalent make) with finishing with gypsum material in 10 to 13 millimeter thickness to newly brick surface (Excluding rough cast plaster) in all position including preparing and Finishing the surface scaffolding etc. complete.",null,null,null,null,null,null,null,null,null,null,null,"sqm"]
[]
[null,"Provision",null,null,null,null,null,null,null,null,null,"=",0]
[]
[null,null,null,null,null,null,null,null,null,null,"Total ",null,{"$f":"SUM(M416:M416)","v":0}]
[null,null,null,null,null,null,null,null,null,null,"Say",null,{"$f":"ROUNDUP(M418,0)","v":0}]
[]
[17,"Item No (14);- Providing and applying white wash on plastered or masonry surfaces and A.C. sheets including scaffolding and preparing the surface by brushing and brooming down etc. complete.(Bd.P.1/411)",null,null,null,null,null,null,null,null,null,null,null,"sqm","Qty. upto 3.00 mtr.","Qty.  Above  3.00 mtr."]
[null,"Intside "]
[null," Long wall ",1,"X",2,"X",{"$f":"G366","v":50.96},"X",6.7,null,null,"=",{"$f":"C423*E423*G423*I423","v":682.86400000000003},null,{"$f":"(M423*3.8)/I423","v":387.29600000000005},{"$f":"M423-O423","v":295.56799999999998}]
[null," short wall ",1,"X",2,"X",{"$f":"G367","v":22.46},"X",6.7,null,null,"=",300.964,null,{"$f":"(M424*3.8)/I424","v":170.696},{"$f":"M424-O424","v":130.268}]
[null," Long wall Top",1,"X",2,"X",{"$f":"G423","v":50.96},"X",0.23,null,null,"=",23.441600000000001,null,{"$f":"(M425*3.8)/I425","v":387.29599999999999},{"$f":"M425-O425","v":-363.8544}]
[null," short wall Top",1,"X",2,"X",{"$f":"G424","v":22.46},"X",0.23,null,null,"=",10.331600000000002,null,{"$f":"(M426*3.8)/I426","v":170.696},{"$f":"M426-O426","v":-160.36439999999999}]
[null,"R.S. jambs & soffits",0,"X",0,"X",0,"X",0,null,null,"=",{"$f":"C427*E427*G427*I427","v":0}]
[null,null,0,"X",0,"X",0,"X",0,null,null,"=",{"$f":"C428*E428*G428*I428","v":0}]
[null,null,null,null,null,null,null,null,null,null,"Total ",null,{"$f":"SUM(M423:M428)","v":1017.6011999999999},null,{"$f":"SUM(O423:O424)","v":557.99200000000008},{"$f":"SUM(P423:P424)","v":425.83600000000001}]
[null,"Deductions for"]
[null,"Rolling shutters",-2,"X",2,"X",3,"X",1,"X",3.65,"=",{"$f":"K431*I431*G431*E431*C431","v":-43.8}]
[null,null,-1,"X",2,"X",2.8,"X",1,"X",3.65,"=",{"$f":"K432*I432*G432*E432*C432","v":-20.439999999999998},null,5.4111000000000002]
[null,"V1 ventilators",-1,{"$f":"D417","v":0},72,"X",1.2,"X",1,"X",0.6,"=",{"$f":"K433*I433*G433*E433*C433","v":-51.839999999999996},null,3.2385000000000002]
[null,null,null,null,null,null,null,null,null,null,"Total ","=",{"$f":"SUM(M431:M433)","v":-116.07999999999998}]
[null,null,null,null,null,null,null,null,null,null,"Net",null,{"$f":"M429+M434","v":901.52119999999991},null,{"$f":"O429-#REF!","v":{"$error":"#REF!"}},{"$f":"P429-#REF!","v":{"$error":"#REF!"}}]
[null,null,null,null,null,null,null,null,null,null,"Say",null,{"$f":"ROUNDUP(M435,0)","v":902}]
[18,"Item No (15): -Providing and applying two coats of exterior Apex paint confirming to corresponding I.S. of approved manufacture and of approved colour to the plastered surfaces including cleaning\n,preparing the plaster surface, applying primer coat ,scaffolding if necessary , and watering the surface for two days etc complete.",null,null,null,null,null,null,null,null,null,null,null,"sqm"]
[null,"Outside "]
[null," Long wall ",{"$f":"C389","v":1},"X",{"$f":"E39","v":2},"X",{"$f":"G7","v":50.96},"X",{"$f":"I389","v":8.1999999999999993},null,null,"=",{"$f":"C439*E439*G439*I439","v":835.74399999999991},null,{"$f":"(M439*3.8)/I439","v":387.29599999999999},{"$f":"M439-O439","v":448.44799999999992}]
[null," short wall ",{"$f":"C390","v":1},"X",{"$f":"E40","v":2},"X",{"$f":"G390","v":22.46},"X",{"$f":"I439","v":8.1999999999999993},null,null,"=",{"$f":"C440*E440*G440*I440","v":368.34399999999999},null,{"$f":"(M440*3.8)/I440","v":170.696},{"$f":"M440-O440","v":197.648}]
[null,"R.S. jambs & soffits",0,"X",{"$f":"E391","v":0},"X",0,"X",0,null,null,"=",{"$f":"C441*E441*G441*I441","v":0}]
[null,"Deductions for"]
[null,"Rolling shutters",{"$f":"C431","v":-2},"X",2,"X",3,"X",1,"X",3.65,"=",{"$f":"K443*I443*G443*E443*C443","v":-43.8}]
[null,null,-1,"X",2,"X",2.8,"X",1,"X",3.65,"=",{"$f":"K444*I444*G444*E444*C444","v":-20.439999999999998}]
[null,"V1 ventilators",{"$f":"C433","v":-1},{"$f":"D429","v":0},84,"X",1.2,"X",1,"X",0.6,"=",{"$f":"K445*I445*G445*E445*C445","v":-60.48}]
[null,null,null,null,null,null,null,null,null,null,null,"=",{"$f":"SUM(M443:M445)","v":-124.72}]
[null,null,null,null,null,null,null,null,null,null,"Total ","=",{"$f":"SUM(M439:M442)+M446","v":1079.3679999999999},null,{"$f":"SUM(O439:O440)","v":557.99199999999996},{"$f":"SUM(P439:P440)","v":646.09599999999989}]
[null,null,null,null,null,null,null,null,null,null,"Net",null,{"$f":"M447","v":1079.3679999999999},null,{"$f":"O447-#REF!","v":{"$error":"#REF!"}},{"$f":"P447-#REF!","v":{"$error":"#REF!"}}]
[null,null,null,null,null,null,null,null,null,null,"Say",null,{"$f":"ROUNDUP(M448,0)","v":1080}]
[]
[19,"Item No (16): - Providing & applying oilpainting in three coats of approved colour & shade to flooring for marking stacklines including preparing the surfaces & primer coat etc. complete. (Bd.0 7/406)",null,null,null,null,null,null,null,null,null,null,null,"sqm"]
[null,"Plinth "]
[null,"Long wall ",0,"X",2,"X",{"$f":"G439","v":50.96},"X",0.9,null,null,"=",{"$f":"C453*E453*G453*I453","v":0}]
[null,"Short wall ",0,"X",2,"X",{"$f":"G440","v":22.46},"X",{"$f":"I453","v":0.9},null,null,"=",{"$f":"C454*E454*G454*I454","v":0}]
[null,"Platforms  Taper side ",{"$f":"C58","v":0},"X",0,"X",{"$f":"G403","v":0},"X",0,null,null,"=",{"$f":"C455*E455*G455*I455","v":0}]
[null,"Bottom ",{"$f":"C455","v":0},"X",0,"X",{"$f":"G455","v":0},"X",0,null,null,"=",{"$f":"C456*E456*G456*I456","v":0}]
[null,"Column offset C3",0,"X",0,"X",0,"X",0,null,null,"=",{"$f":"C457*E457*G457*I457","v":0}]
[null,"stack lines "]
[null,"Long ",5,"X",6,"X",6,"X",0.1,null,null,"=",{"$f":"C459*E459*G459*I459","v":18}]
[null,"Short ",3,"X",6,"X",9,"X",0.1,null,null,"=",{"$f":"C460*E460*G460*I460","v":16.2}]
[]
[]
[null,null,null,null,null,null,null,null,null,null,"Total ",null,{"$f":"SUM(M453:M462)","v":34.200000000000003}]
[null,null,null,null,null,null,null,null,null,null,"Say",null,{"$f":"ROUNDUP(M463,0)","v":35}]
[]
[20,"Item No(17) :- Providing & fixing in position sills of polished kota stone slabs 25mm to 30mm tk and required width on 1:4 cement plaster including cement float filling cement joints with neat cement slurry, curing, rubbing polishing  & cleaning comp",null,null,null,null,null,null,null,null,null,null,null,"sqm"]
[null,"Inside Below V1 & V2",1,"X",72,"X",1.2,null,0.23,null,null,"=",{"$f":"C467*E467*G467*I467","v":19.872}]
[null,null,null,null,null,null,null,null,null,null,"Total",null,{"$f":"SUM(M467)","v":19.872}]
[null,null,null,null,null,null,null,null,null,null,"Say",null,{"$f":"ROUNDUP(M468,0)","v":20}]
[]
[21,"Item No (18) :- Providing and fixing in position aluminium openable ventilators as per detailed drawing and as directed by Engineer in charge with all necessary alluminium sections with powder coating including necessary fixtures and fastening with 5 mm thick float glass etc. complete. ( Note While arriving at the rate of item of item weight at 6.90 kg/Sqm is considered for only alummium ventilators ) and with G.I. wiremesh of 18 Gauge, 6 mm square mesh fixed to outside the frame of ventilator and grill of 12 mm sq. bars in vertical directions at 10 cms c/c fixed to outside surface of the frame and approved quality and type fixtures, fittings including red oxide & oilpainting three coats.As per detailed drawing and as directed.",null,null,null,null,null,null,null,null,null,null,null,"sqm"]
[null,"V1",2,{"$f":"D60","v":"X"},13,{"$f":"F60","v":"X"},1.2,"X",null,{"$f":"J60","v":"X"},0.6,"=",{"$f":"C472*E472*G472*K472","v":18.72}]
[null,"V2",{"$f":"C61","v":2},{"$f":"D61","v":"X"},16,"X",1.2,"X",null,"X",0.6,"=",{"$f":"C473*E473*G473*K473","v":23.04}]
[null,null,2,{"$f":"D62","v":"X"},6,"X",1.2,"X",null,"X",0.6,"=",{"$f":"C474*E474*G474*K474","v":8.6399999999999988}]
[null,null,null,null,null,null,null,null,null,null,"Total ",null,{"$f":"SUM(M472:M474)","v":50.4}]
[null,null,null,null,null,null,null,null,null,null,"Say",null,{"$f":"ROUNDUP(M475,0)","v":51}]
[null,"Item No(19-A) :-Providing & fixing steel rolling shutter with pull & push type arrangement fabricated from 20 gauge steel laths with side guides, bottom rails, brackets of 10 G.M.S. sheet door suspension shaft, rolling springs, locking arrangements with not less than 6mm thick strip and c",null,null,null,null,null,null,null,null,null,null,null,"sqm"]
[null,null,{"$f":"C58","v":0},{"$f":"D58","v":"X"},{"$f":"E58","v":0},null,2.1,"x",2.5499999999999998,null,null,null,{"$f":"C478*E478*G478*I478","v":0}]
[null,null,null,null,null,null,null,null,null,null,"Total ",null,{"$f":"SUM(M478:M478)","v":0}]
[null,null,null,null,null,null,null,null,null,null,"Say",null,{"$f":"ROUNDUP(M479,0)","v":0}]
[null,"Item No(19 B) :-Providing & fixing steel  grill rolling shutter with fabricated from 20 gauge steel laths with side guides, bottom rails, brackets of 10 G.M.S. sheet door suspension shaft, rolling springs, locking arrangements with not less than 6mm thick strip and c",null,null,null,null,null,null,null,null,null,null,null,"sqm"]
[null,"Grill Rolling shutter",{"$f":"C478","v":0},"x",{"$f":"E478","v":0},null,2.1,"x",2.5499999999999998,null,null,null,{"$f":"C482*E482*G482*I482","v":0}]
[null,"Only provision"]
[null,null,null,null,null,null,null,null,null,null,"Total ",null,{"$f":"SUM(M482:M483)","v":0}]
[null,null,null,null,null,null,null,null,null,null,"Say",null,{"$f":"ROUNDUP(M484,0)","v":0}]
[]
[null,"Item No(19-C) :-Providing & fixing steel rolling shutter with mechanical gear  arrangement fabricated from 20 gauge steel laths with side guides, bottom rails, brackets of 10 G.M.S. sheet door suspension shaft, rolling springs, locking arrangements with not less than 6mm thick strip and c",null,null,null,null,null,null,null,null,null,null,null,"sqm"]
[null,null,{"$f":"C59","v":0},{"$f":"D59","v":"X"},{"$f":"E59","v":0},{"$f":"F59","v":"X"},{"$f":"G59","v":0},"x",null,{"$f":"J59","v":"X"},{"$f":"K59","v":0},null,{"$f":"C488*E488*G488*K488","v":0}]
[null,null,null,null,null,null,null,null,null,null,"Total ",null,{"$f":"SUM(M488:M488)","v":0}]
[null,null,null,null,null,null,null,null,null,null,"Say",null,{"$f":"ROUNDUP(M489,0)","v":0}]
[]
[22,"Item No (20) :- Filling in plinth with approved excavated stuff obtained from departmental land including watering, compacting etc. complete as directed.(Bd. A.10/262)",null,null,null,null,null,null,null,null,null,null,null,"cum"]
[]
[null,"Qty received from excavation",0.4,null,null,null,null,null,null,null,"Total ",null,{"$f":"M114*40/100","v":106}]
[null,null,null,null,null,null,null,null,null,null,"Say",null,{"$f":"M494","v":106}]
[]
[23,"Item No (21-A): - Providing Hard Murum cohesive non-swelling materials in plinth in layers of 20 cms etc. complete as directed. [ Only compacted thickness is payable ][Rd.23/202 & Rd.28/205].",null,null,null,null,null,null,null,null,null,null,null,"cum"]
[null,"Main bldg.",1,"X",{"$f":"E8","v":1},{"$f":"F8","v":"X"},{"$f":"G8","v":50.5},"X",{"$f":"I8","v":22},"X",{"$f":"1.2-0.15-0.075-0.2","v":0.77500000000000013},"=",{"$f":"C498*E498*G498*I498*K498","v":861.0250000000002}]
[null,"Apron "]
[null,"Long",{"$f":"C39","v":0},"X",2,"X",{"$f":"G7+0.37+0.37","v":51.699999999999996},"X",0.35,"X",0.2,"=",{"$f":"C500*E500*G500*I500*K500","v":0}]
[null,"Short",{"$f":"C40","v":0},"X",2,"X",{"$f":"I7+0.37+0.37","v":23.200000000000003},"X",0.35,"X",0.2,"=",{"$f":"C501*E501*G501*I501*K501","v":0}]
[null," For apron& gutter"]
[null,"Long",0,"X",0,"X",0,"X",0,"X",0,"=",{"$f":"C503*E503*G503*I503*K503","v":0}]
[null,"Short",0,"X",0,"X",0,"X",0,"X",0,"=",{"$f":"C504*E504*G504*I504*K504","v":0}]
[null,"Deduction for "]
[null,"O.S.metal in plinth "]
[null,"Long",2,{"$f":"D526","v":"X"},2,"X",50.5,"X",0.6,"X",0.6,"=",{"$f":"C507*E507*G507*I507*K507","v":72.719999999999985}]
[null,null,2,"X",2,"X",22,0,0.6,0,0.6,"=",31.679999999999996]
[]
[null,null,null,null,null,null,null,null,null,null,"Total ",null,{"$f":"SUM(M498:M508)","v":965.42500000000018}]
[null,null,null,null,null,null,null,null,null,null,"Say",null,{"$f":"M510+0","v":965.42500000000018}]
[]
[24,"Item No (21-B): - Compacting the Hard Murum, cohesive non swelling materials in plinth upto 200 mm loose with power roller 8 to 10 tonee capacity including artificial watering etc. complete as directed.[Rd.38/210]",null,null,null,null,null,null,null,null,null,null,null,"sqm"]
[null,"Main bldg.",1,"X",3,"X",{"$f":"G507","v":50.5},"X",{"$f":"I498","v":22},null,null,"=",{"$f":"C514*E514*G514*I514","v":3333}]
[null,"Deduction for O.S.metal in plinth "]
[null,"Long",0,"X",3,"X",{"$f":"G514","v":50.5},"X",0.6,null,null,"=",{"$f":"-C516*E516*G516*I516","v":0}]
[null,null,0,"X",3,"X",{"$f":"G508","v":22},"X",0.6,null,null,"=",{"$f":"-C517*E517*G517*I517","v":0}]
[null,null,null,null,null,null,null,null,null,null,"Total ",null,{"$f":"SUM(M514:M517)","v":3333}]
[null,null,null,null,null,null,null,null,null,null,"Say",null,{"$f":"ROUNDUP(M518,0)","v":3333}]
[]
[25,"Item No (22A): - Providing & laying stone metal layer of 20 cm thickness with 60 mm over size metal 65% and 40 mm size metal 35% with sand or stone chips spreading & leveling handpacking complete.[Rd.22/201,Rd.20/200 &Rd.20/205 ]",null,null,null,null,null,null,null,null,null,null,null,"cum"]
[null,"Main bldg.",1,"X",{"$f":"E8","v":1},{"$f":"F8","v":"X"},{"$f":"G8","v":50.5},"X",{"$f":"I8","v":22},"X",0.2,"=",{"$f":"C522*E522*G522*I522*K522","v":222.20000000000002}]
[null,"Appron Long",{"$f":"C39","v":0},"X",2,"X",{"$f":"G500","v":51.699999999999996},"X",0.35,"X",0.1,"=",{"$f":"C523*E523*G523*I523*K523","v":0}]
[null,"Appron Short",{"$f":"C40","v":0},"X",2,"X",{"$f":"G501","v":23.200000000000003},"X",0.35,"X",0.1,"=",{"$f":"C524*E524*G524*I524*K524","v":0}]
[null,"O.S.metal in plinth along peripfery."]
[null,"Long",0,"X",2,"X",{"$f":"G522","v":50.5},{"$f":"H522","v":"X"},0.6,"X",0.6,"=",{"$f":"C526*E526*G526*I526*K526","v":0}]
[null,null,0,"X",2,"X",{"$f":"I522","v":22},null,0.6,null,0.6,"=",{"$f":"C527*E527*G527*I527*K527","v":0}]
[null,"For ramp provision",null,null,null,null,null,null,null,null,null,null,0]
[null,null,null,null,null,null,null,null,null,null,"Total ",null,{"$f":"SUM(M522:M528)","v":222.20000000000002}]
[null,null,null,null,null,null,null,null,null,null,"Say",null,{"$f":"ROUND(M529,1)","v":222.2}]
[]
[26,"Item No (22B) :- Compacting oversize & size metal layers combindaly with power roler not less than 8 tonnes including artificial watering & leveling etc. complete as directed (Rd.35/209)",null,null,null,null,null,null,null,null,null,null,null,"sqm"]
[null,"Main bldg.",0,"X",0,{"$f":"F522","v":"X"},0,"X",0,null,null,"=",0]
[null,"O.S.metal in plinth along peripfery."]
[null,"Long",1,"X",3,"X",{"$f":"G526","v":50.5},"X",0.6,null,null,"=",{"$f":"C535*E535*G535*I535","v":90.899999999999991}]
[null,null,1,"X",3,"X",{"$f":"G527","v":22},"X",0.6,null,null,"=",{"$f":"C536*E536*G536*I536","v":39.6}]
[null,null,null,null,null,null,null,null,null,null,"Total ",null,{"$f":"SUM(M533:M536)","v":130.5}]
[null,null,null,null,null,null,null,null,null,null,"Say",null,{"$f":"ROUND(M537,1)","v":130.5}]
[]
[27,"Item No (23-A): -Providing and laying in situ  Tremix Cement Concrete  M -20, with Natural Sand,  with Tremix tratment for 150 mm thickness for flooring with groove cuting of 4 mm wide and 20 mm deep at every 4.00 m c/c both sides with necessary refilling with bitumen,etc. complete as directed by Engineer Incharge.Withfineaggregate (Natural Sand / Crushed sand VSI Grade finely washed etc",null,null,null,null,null,null,null,null,null,null,null,"Sqm"]
[null,"Main bldg.",1,"X",{"$f":"E8","v":1},{"$f":"F8","v":"X"},{"$f":"G8","v":50.5},"X",{"$f":"I8","v":22},"X",0.15,"=",{"$f":"I541*G541*E541*C541","v":1111}]
[]
[null,"Apron Long",0,"X",0,"X",0,"X",0,"X",0,"=",{"$f":"C543*E543*G543*I543*K543","v":0}]
[null,"Short",0,"X",0,"X",0,"X",0,"X",0,"=",{"$f":"C544*E544*G544*I544*K544","v":0}]
[null,null,null,null,null,null,null,null,null,null,"Total ",null,{"$f":"SUM(M541:M544)","v":1111}]
[null,null,null,null,null,null,null,null,null,null,"Say",null,{"$f":"ROUND(M545,1)","v":1111}]
[]
[null,"Item No (23-B) :-- Providing & laying in situ cement concrete trap metal M 25 for foundation & bedding including dewatering if necessary, compacting, curing etc. complete.Withfineaggregate (Natural Sand / Crushed sand VSI Grade finely washed etc [Bd. E.1  /287]",null,null,null,null,null,null,null,null,null,null,null,{"$f":"N521","v":"cum"}]
[null,"Apron Long",0,{"$f":"D39","v":"X"},{"$f":"E39","v":2},"X",{"$f":"G39","v":50.96},"X",0.3,"X",0.1,"=",{"$f":"C549*E549*G549*I549*K549","v":0}]
[null,"Short",0,{"$f":"D40","v":"X"},{"$f":"E40","v":2},"X",{"$f":"G40","v":22.46},"X",0.3,"X",{"$f":"K549","v":0.1},"=",{"$f":"C550*E550*G550*I550*K550","v":0}]
[null,"Coping over gutter "]
[null,"Long",{"$f":"C549","v":0},{"$f":"D549","v":"X"},2,"X",50.96,"X",0.3,"X",{"$f":"K549","v":0.1},"=",{"$f":"C552*E552*G552*I552*K552","v":0}]
[null,"Short",{"$f":"C552","v":0},{"$f":"D552","v":"X"},2,"X",{"$f":"G550","v":22.46},"X",0.3,"X",{"$f":"K550","v":0.1},"=",{"$f":"C553*E553*G553*I553*K553","v":0}]
[null,"For Ramp provision",null,null,null,null,null,null,null,null,null,null,0]
[null,null,null,null,null,null,null,null,null,null,"Total ",null,{"$f":"SUM(M549:M554)","v":0}]
[null,null,null,null,null,null,null,null,null,null,"Say",null,{"$f":"ROUNDUP(M555,0)","v":0},{"$f":"N548","v":"cum"}]
[]
[null,"Item No (23-C): - Providing groove cutting  50 mm x 6 mm in cement concrete flooring  etc. complete as directed.",null,null,null,null,null,null,null,null,null,null,null,"RMT"]
[null,"Main Bldg. ",1,"X",6,"X",0,null,null,null,null,"=",{"$f":"C559*E559*G559","v":0}]
[null,null,1,"X",16,"X",0,null,null,null,null,"=",{"$f":"C560*E560*G560","v":0}]
[null,null,null,null,null,null,null,null,null,null,"Total ",null,{"$f":"SUM(M559:M560)","v":0}]
[null,null,null,null,null,null,null,null,null,null,"Say",null,0]
[28,"Item No (28): - Providing & fixing lightening conductor system comprising of erecting Air termination consisting of tubular copper rod of 25 mm dia 1.2 mm thick with multiple points head 1.2 mt long [heavy duty] welded or clamped to G.I. pipe pole “ B” gr",null,null,null,null,null,null,null,null,null,null,null,"RMT"]
[null,null,1,"X",0,"X",15,null,null,null,null,"=",{"$f":"G564","v":15}]
[null,null,null,null,null,null,null,null,null,null,"Total ",null,{"$f":"M564","v":15}]
[null,null,null,null,null,null,null,null,null,null,"Say",null,{"$f":"ROUNDUP(M565,0)","v":15}]
[]
[null,"Item No (29): - Providing & fixing in position marble plate  of size & description as per detailed drawings including engraving the letters, moulded marble 1:2 cement morter border etc. complete as directed. (BR.56/150)",null,null,null,null,null,null,null,null,null,null,null,"sqm"]
[null,null,0,"X",0,"X",0,"X",0,null,null,"=",{"$f":"C569*E569*G569*I569","v":0}]
[null,null,null,null,null,null,null,null,null,null,"Total ",null,{"$f":"M569","v":0}]
[null,null,null,null,null,null,null,null,null,null,"Say",null,{"$f":"M570","v":0}]
[]
[null,"Item No (30A): - Conveying the materials obtained from excavation including all lifts, laying in layers, breaking clods, dressing to the required lines, curves, grades and section for a lead over 50m to 300m from the site of excavation to the site of dep",null,null,null,null,null,null,null,null,null,null,null,"cum"]
[]
[null,"Token provision",null,null,null,null,null,null,null,null,"Total ",null,0]
[null,null,null,null,null,null,null,null,null,null,"Say",null,0]
[29,"Item No (30-B): - Conveying the materials obtained from excavation including laying in layers, breaking clods, dressing to the required lines, curves, grades and section for all leads & lifts from the site of excavation to the site of deposition  away from building as directed engineer in charge.",null,null,null,null,null,null,null,null,null,null,null,"cum"]
[null,"I-1-A",null,null,null,null,null,null,null,null,null,null,{"$f":"M114+M125","v":266}]
[null,"I-1A'",null,null,null,null,null,null,null,null,null,null,{"$f":"M125","v":1}]
[null,"I-1A''",null,null,null,null,null,null,null,null,null,null,0]
[null,null,null,null,null,null,null,null,null,null,"Total",null,{"$f":"SUM(M578:M580)","v":267}]
[null,null,null,null,null,null,null,null,null,null,"Say",null,{"$f":"ROUNDUP(M581,0)","v":267}]
[]
[null,"Item No (31): -Providing expansion joints in R.C.C. framed structure (exterior Columns) with plain premoulded filler 25 mm thick and 3 mm thick alluminium plate, hold fast, fixing T.W. battens on internal face, finishing etc. complete as directed.",null,null,null,null,null,null,null,null,null,null,null,"sqm"]
[]
[null,null,0,"X",2,"X",{"$f":"K263+K271","v":8.8999999999999986},"X",{"$f":"I263","v":0.63},null,null,"=",{"$f":"C586*E586*G586*I586","v":0}]
[null,null,null,null,null,null,null,null,null,null,"Total ",null,{"$f":"SUM(M586)","v":0}]
[null,null,null,null,null,null,null,null,null,null,"Say",null,0]
[]
[null,"Item No (32): -  Providing Soling using 80 mm size granite / quartzite / gneiss / trap metal in 15 cm. layer including hand packing filling voids with sand / grit, remming watering, etc. complete.       ",null,null,null,null,null,null,null,null,null,null,null,"Cum"]
[]
[null,"Column footing "]
[null,"Column C1",{"$f":"C26","v":2},"X",7,"X",1.25,"X",1.5,"X",0,"=",{"$f":"C593*E593*G593*I593*K593","v":0}]
[null,"Column No. C3",{"$f":"C27","v":0},{"$f":"D27","v":"X"},0,"X",0,"X",0,"X",0,"=",0]
[null,"Column No.C2 END",{"$f":"C28","v":2},{"$f":"D28","v":"X"},2,"X",1.35,"X",1,"X",0,"=",0]
[null,"Column No.Platform",{"$f":"C31","v":2},"X",6,"X",1.3,"X",1.3,"X",0,"=",0]
[null,"APRON  long",0,"X",2,"X",58.85,"X",1.28,"X",0,"=",0]
[null,"APRON short ",0,"X",2,"X",22.740000000000002,"X",1.28,"X",0,"=",0]
[null,null,null,null,null,null,null,null,null,null,"Total",null,{"$f":"SUM(M593:M598)","v":0}]
[null,null,null,null,null,null,null,null,null,null,"say ",null,0]
[]
[30,"Item No (33) :- Providing pre-constructional Anti-termite treatment as per I.S. 6313 (Part-II) - 1973 by treating the  top surface of plinth filling at the rate of  5 litres of emulsion concentrates of 0.5 percent of Hephoclore per square meter of surface "]
[null,"At trimix level",{"$f":"C541","v":1},"X",{"$f":"E541","v":1},"X",{"$f":"G541","v":50.5},"X",{"$f":"I541","v":22},null,null,"=",{"$f":"C603*E603*G603*I603","v":1111}]
[null,null,null,null,null,null,null,null,null,null,"Total",null,{"$f":"SUM(M603)","v":1111}]
[null,null,null,null,null,null,null,null,null,null,"Say ","=",{"$f":"ROUNDUP(M604,0)","v":1111}]

{"sheet":"EL","index":15,"n_rows":44,"n_cols":11,"rows_kept":44,"cut":false,"hidden":false,"merged":[[1,0,1,11],[2,0,2,11],[4,0,4,10],[6,1,6,10]]}
[]
[{"$f":"'Wh. '!B2","v":"VIKAS AGRO PRODUCER CO.LTD"}]
[{"$f":"'Wh. '!B3","v":"Gat No.79 / Nagzari, Tal- Latur Dist- Latur "}]
[]
[{"$f":"'WBM Road'!B4","v":"NAME OF WORK :-  CONSTRUCTION OF 1/2160 MT CAP PRE- ENGINEERED WH BLDG WITH ANCILLARY WORKS AT: NAGZARI DIST. LATUR"}]
[]
[null,"Elect.D.S.R.2019-20 & M.R."]
[]
["I.N.","DESCRIPTON OF ITEM","QUANTITY","UNIT","I.N./ P.N"," BASIC",null,"TOTAL","ADD 5  % ","TOTAL ","AMOUNT"]
[null,null,null,null,null,"RATE","R.A.",null,"Other Than Dist.","Rate"]
[null,"S.W. II - Elecrification"]
[null,null,null,null,null,"Rs.   Ps "]
[1,2,3,4,5,6,7,8,9,10,11]
[1,"Supplying & errectting PVC armoured cable 3 core 6 sq mm in trench/wall",40,"R M ","7-2-16/131",{"$f":"267+1","v":268},null,{"$f":"SUM(F14:G14)","v":268},{"$f":"H14*5%","v":13.4},{"$f":"H14+I14","v":281.39999999999998},{"$f":"C14*J14","v":11256}]
[2,"Supplying & errectting PVC armoured cable 3 core 10 sq mm",20,"R M ","7-2-17/131",{"$f":"404+1","v":405},null,405,20.25,425.25,8505]
["3-A","Making the trench in soil ",15,"R M ","16-1-1/243",{"$f":"138+5","v":143},null,143,7.15,150.15,2252.25]
["3-B","Making the trench in murum & hard rock ",5,"R M ","16-1-2/243",{"$f":"170+6","v":176},null,176,8.8000000000000007,184.8,924]
["4-A","Supplying & laying 75 mm dia G.I.pipe Bgrade ",10,"R M ","16-5-8/246",{"$f":"1031+5","v":1036},null,1036,51.800000000000004,1087.8,10878]
["4-B","Supplying & laying 25 mm dia G.I.pipe A grade ",14,"R M ","7-6-1/139",{"$f":"184+1","v":185},null,185,9.25,194.25,2719.5]
[5,"S & E heavy duty flange cable glands  2 to 4 core 2.50 sq mm / 2 to 4 core 4 sq mm",14,"NO","7-7-1/141",{"$f":"51+1","v":52},null,52,2.6,54.6,764.4]
[6,"P point wiring for street light 3 core 1.5 sq mm ",5,"NO","R A ",null,{"$f":"'RA Elect'!B25","v":1083.9000000000001},1083.9000000000001,0,1083.9000000000001,5419.5]
[7,"S & E waterproof powder coated distribution board 4 way 2 x 6 Amp S P M C B ",4,"NO","R A ",null,{"$f":"'RA Elect'!B37","v":1219},1219,{"$f":"H22*5%","v":60.95},1279.95,5119.8]
[8,"S & E mains with PVC unarmoured cable 3 core 2.5 sq mm",90,"R M ","R A ",null,{"$f":"'RA Elect'!B49","v":109.4},109.4,0,109.4,9846]
[9,"S, E & marking M C B of double pole 16 Amp.  ",3,"NO","5-3-7/96",{"$f":"434+2","v":436},null,436,{"$f":"H24*5%","v":21.8},457.8,1373.4]
[10,"Supplying shockproof type hand lamp ",1,"NO","RA",null,{"$f":"'RA Elect'!B59","v":1440},{"$f":"SUM(G25:G25)","v":1440},72,1512,1512]
[11,"Supplying and erecting LED Street light fitting suitable for 20 to 25W,including street light bracket",3,"NO","R A ",null,{"$f":"'RA Elect'!B66","v":2438},{"$f":"SUM(G26:G26)","v":2438},121.9,2559.9,7679.7000000000007]
[12,"S & E G.I. earth plate 60 x 60 x 0.6 cms",1,"NO","9-1-3/161",{"$f":"5110+49","v":5159},null,{"$f":"SUM(F27:G27)","v":5159},257.95,5416.95,5416.95]
[13,"S & E sheet metal one way enclosures for MCB",1,"NO","5-4-23/99",{"$f":"339+2","v":341},null,341,17.05,358.05,358.05]
[14,"Point wiring for light bell with 2-1.5 sq mm PVC insulated wire",7,"NO","1-9-5/17",390,0,390,19.5,409.5,2866.5]
[15,"Point wiring for independent plug with 2-1.5 sq mm PVC insulated wire",7,"NO","1-9-7/17",440,0,440,22,462,3234]
[16,"Point wiring with 2-1.5 sq mm PVC insulated wire",7,"NO","1-9-5/17",390,null,390,19.5,409.5,2866.5]
[17,"S & F CFL lamps 11 W",4,"NO","2-10-11/42",{"$f":"218+1","v":219},null,219,10.950000000000001,229.95,919.8]
[18,"S & E marine plywood 19 mm tk",1,"Sq m ","6-1-14/114",1263,null,1263,63.150000000000006,1326.15,1326.15]
[19,"P & F M S boxes of 16 swg ",2,"Sq m ","6-1-2/114",2117,null,2117,105.85000000000001,2222.85,4445.7]
[20,"Supplying & erecting ready to use Retrofit T8 LED 18 / 20 tube\nlight with polycarbonate body, heat sink, integrated HF electronic\ndriver complete & compatible to T8 / T12 LED luminaire by\ndisconnecting starter & ballast if necessary.",2,"NO","2014-02-10",594,null,594,29.700000000000003,623.70000000000005,1247.4000000000001]
[21,"S & E ceiling fan 48 \" with step dimmer",2,"NO","2-12-21/44",1937,null,1937,96.850000000000009,2033.85,4067.7]
[22,"S & E 4 pole insulator only switch version of MCB of 40 Amp",2,"NO","5-3-24/97",591,null,591,29.55,620.54999999999995,1241.0999999999999]
[23,"S & E 40 mm dia G.I.pipe 2.5 m lenghth for earthplate",1,"NO","9-1-4/161",1249,null,1249,62.45,1311.45,1311.45]
[24,"P & F cover made of wiremesh jalli",1,"NO","2-4-10/34",{"$f":"417+2","v":419},null,419,20.950000000000003,439.95,439.95]
[25,"S & E ding dong type call bell ",1,"NO","2-4-13/35",123,null,{"$f":"SUM(F40:G40)","v":123},6.15,129.15,129.15]
[26,"S & E 4 \" x 4\" epoxy coated  3way junction box",5,"NO","M.R.",{"$f":"60","v":60},null,60,0,60,300]
[27,"S & E STEEL TUBULAR SWAGED POLE 139.7X114.3X88.9mm dia.",1,"NO","8.1.1",{"$f":"8078+27","v":8105},null,{"$f":"SUM(F42:G42)","v":8105},0,{"$f":"H42+I42","v":8105},{"$f":"C42*J42","v":8105}]
[]
[null,null,null,null,null,null,null,null,null,"Total Rs.",{"$f":"SUM(K14:K42)","v":106524.94999999998}]

{"sheet":"Lab Tests","index":16,"n_rows":33,"n_cols":14,"rows_kept":33,"cut":false,"hidden":false,"merged":[[13,8,13,10],[14,8,14,10],[11,8,11,10],[10,8,10,10],[4,0,4,8],[0,0,0,8],[1,0,1,8],[2,0,2,4],[7,8,7,10],[8,8,8,10],[16,8,16,10],[17,8,17,10],[19,8,19,10],[30,8,30,10],[31,8,31,10],[25,8,25,10],[18,8,18,10],[20,8,20,10],[21,8,21,10],[22,8,22,10],[24,8,24,10],[32,8,32,10],[26,8,26,10],[27,8,27,10],[28,8,28,10],[29,8,29,10]]}
[{"$f":"'DSR-Sheet I  '!B52","v":"VIKAS AGRO PRODUCER CO.LTD"}]
[{"$f":"'Wh. '!B3","v":"Gat No.79 / Nagzari, Tal- Latur Dist- Latur "}]
["Sub work III:- Material Lab Testing charges"]
[]
[{"$f":"Recap!B6","v":"NAME OF WORK :-  CONSTRUCTION OF 1/2160 MT CAP PRE- ENGINEERED WH BLDG WITH ANCILLARY WORKS AT: NAGZARI DIST. LATUR"}]
["statement showing the details of requirement of Lab. Tests to be carried out:-"]
[]
["Sr. No.","Particulars","Quantity ","Unit","Tests to be carried out","Nos. of tests","Rate per test","Amount","Remarks"]
[1,"Cement",{"$f":"'Royaly '!E84","v":9910.66},"MT","Fineness, Consistency, Setting Time, Compressive strength, Specific gravity.",4,3550,{"$f":"F9*G9","v":14200},"one tesr per 1000 Bag",null,null,null,null,{"$f":"C9/150","v":66.071066666666667}]
[]
[2,"Concrete  M-25",{"$f":"'Royaly '!C16+'Royaly '!C17+'Royaly '!C18+'Royaly '!C19+'Royaly '!C20+'Royaly '!C70+'Royaly '!C29","v":1239},"cum","i)Mix Design with all tests on basic materials",1,12950,{"$f":"F11*G11","v":12950},"One set for mix design",null,null,null,null,{"$f":"C11/50","v":24.78}]
[null,null,null,null,"ii)Concrete cube compressive strength",{"$f":"4+ROUNDUP((C11-50)/50,0)","v":28},650,18200,"Up to 50 Cum 4 & thereafter for each 50 Cum one additional set"]
[null,null,null,null,"iii) Rebound hammer Test ",1,250,250]
[3,"Concrete  M-20",{"$f":"'Royaly '!C39+'Royaly '!C41+'Royaly '!C43+'Royaly '!C45+'Royaly '!C47","v":0},"cum","i)Mix Design with all tests on basic materials",0,12950,{"$f":"F14*G14","v":0},"One set for mix design",null,null,null,null,{"$f":"C14/50","v":0}]
[null,null,null,null,"ii)Concrete cube compressive strength",0,650,0,"Up to 50 Cum 4 & thereafter for each 50 Cum one additional set"]
[null,null,null,null,"iii) Rebound hammer Test ",0,250,0]
[4,"Crushed metal for concrete",{"$f":"(C11)*0.85","v":1053.1499999999999},"cum","i)Water absorption, Specific gravity,Impact value,Crushing value",2,2300,4600,"one test per 200 cum"]
[null,null,null,null,"ii)Gradation",2,600,1200,"one test per 200 cum"]
[null,null,null,null,"iii) Combined Flakiness & Elongatio of single metal",2,750,1500,"one test per 200 cum"]
[5,"Metal for Road",{"$f":"'DSR-Sheet I  '!D107","v":222.2},"cum","i)Water absorption, Specific gravity,Impact value,Crushing value",0,2300,0,"one test per 200 cum"]
[null,null,null,null,"ii)Gradation",0,600,0,"one test per 200 cum"]
[null,null,null,null,"iii) Combined Flakiness & Elongatio of single metal",0,750,0,"one test per 200 cum"]
[null,null,null,null,"iv) Atterberg limit of screening material",0,1400,0,"one test per 400 cum"]
[6,"Bricks",{"$f":"'Royaly '!C15+'Royaly '!C21","v":172},"cum","Water Absorption (Set of 5 Bricks), Compressive strength (Set of 5 Bricks), Efflorescence (Set of  5 Bricks)",1,1900,1900,"one test per 50000 Nos. of bricks"]
[7,"Masonry stones",{"$f":"'Royaly '!C14+'Royaly '!C69","v":0},"cum","Crushing value,/ compressive strength, water absorption, Specific Gravity.",1,1750,1750,"one test per source"]
[8,"TMT steel bars",{"$f":"'DSR-Sheet I  '!D83","v":14.72},"M.T.","Yield stress, ultimate tensile stress, elongation, weight per running meter.",3,{"$f":"400*8","v":3200},9600,"1 test per  5.00 M.T. and one for each dia. Of use bar"]
[9,"Sand",{"$f":"'Royaly '!G84","v":686.14499999999998},"cum","Fineness Modulus, silt content.",2,{"$f":"1200+750","v":1950},3900,"1 test per source"]
[10,"Murum",{"$f":"'Royaly '!K84","v":1031.3100000000002},"cum","i) Gradation",0,600,0,"1 test per 400 Cum."]
[null,null,null,null,"ii) Atterberg Limit",2,1100,2200,"1 test per 400 Cum."]
[null,null,null,null,"iii) Moisture content prior to compaction",0,800,0,"1 test per 400 Cum."]
[null,null,null,null,"iv) Density of compacted layer",4,1000,4000,"1 test per 1000 Sq.m"]
[null,null,null,null,"v) Proctor Test",2,1650,3300,"1 test per 3000 Cum."]
[null,null,null,null,null,"TOTAL",null,{"$f":"SUM(H9:H32)","v":79550}]

{"sheet":"Royaly ","index":17,"n_rows":105,"n_cols":13,"rows_kept":105,"cut":false,"hidden":false,"merged":[[1,0,1,12],[2,0,2,12],[5,0,5,12],[7,1,7,12],[63,1,63,2],[9,0,10,0],[9,1,10,1],[9,2,10,2],[9,3,9,12],[10,3,10,4],[10,5,10,6],[10,7,10,8],[10,9,10,10],[10,11,10,12],[87,0,87,12],[88,0,88,12],[91,1,91,12],[101,5,101,8],[89,0,89,12]]}
[]
[{"$f":"'Lab Tests'!A1:I1","v":"VIKAS AGRO PRODUCER CO.LTD"}]
[{"$f":"'Lab Tests'!A2:I2","v":"Gat No.79 / Nagzari, Tal- Latur Dist- Latur "}]
[]
[]
[{"$f":"TS!C10","v":"NAME OF WORK :-  CONSTRUCTION OF 1/2160 MT CAP PRE- ENGINEERED WH BLDG WITH ANCILLARY WORKS AT: NAGZARI DIST. LATUR"}]
[]
[null,"SUBWORK IV :- Royalty Charges"]
[]
["Item.. No.","Item No & Description of item ","Executed Quantity"," Quantity of Material for Royalty   Cu. M"]
[null,null,null,"Cement in bags",null,"SAND",null,"METAL",null,"MURUM ",null,"RUBBLE"]
[null,"Sub Work I:- Warehouse Complex"]
[{"$f":"'DSR-Sheet I  '!B80","v":2},{"$f":"'DSR-Sheet I  '!C80","v":"P & L P.C.C.M 10 for foundation & bedding"},{"$f":"'DSR-Sheet I  '!D80","v":100},4.4000000000000004,{"$f":"C13*D13","v":440.00000000000006},0.47,{"$f":"F13*C13","v":47}]
[{"$f":"'DSR-Sheet I  '!B81","v":3},{"$f":"'DSR-Sheet I  '!C81","v":"P & C U.C.R masonary for foundation & plinth in C.M.1:6 "},{"$f":"'DSR-Sheet I  '!D81","v":0},1.7,{"$f":"C14*D14","v":0},0.35,{"$f":"F14*C14","v":0},null,null,null,null,1.1599999999999999,{"$f":"L14*C14","v":0}]
[{"$f":"'DSR-Sheet I  '!B82","v":4},{"$f":"'DSR-Sheet I  '!C82","v":"P &C B.B. masonary for foundation & plinth in C.M.1:6 "},{"$f":"'DSR-Sheet I  '!D82","v":28},1.58,44.24,0.32,8.9600000000000009]
[{"$f":"'DSR-Sheet I  '!B84","v":6},{"$f":"'DSR-Sheet I  '!C84","v":"P & L R.C.C. M-25 for footing"},{"$f":"'DSR-Sheet I  '!D84","v":19},8,152,0.42499999999999999,8.0749999999999993]
[{"$f":"'DSR-Sheet I  '!B85","v":7},{"$f":"'DSR-Sheet I  '!C85","v":"P & L R.C.C. M-25 for column"},{"$f":"'DSR-Sheet I  '!D85","v":33},8,264,{"$f":"F16","v":0.42499999999999999},14.025]
[{"$f":"'DSR-Sheet I  '!B86","v":8},{"$f":"'DSR-Sheet I  '!C86","v":"P & L R.C.C. M-25 for beams & lintels"},{"$f":"'DSR-Sheet I  '!D86","v":59},8,472,{"$f":"F16","v":0.42499999999999999},25.074999999999999]
[{"$f":"'DSR-Sheet I  '!B87","v":9},{"$f":"'DSR-Sheet I  '!C87","v":"P & L R.C.C. M-25 for slabs"},{"$f":"'DSR-Sheet I  '!D87","v":13},8,104,{"$f":"F16","v":0.42499999999999999},5.5249999999999995]
[{"$f":"'DSR-Sheet I  '!B88","v":10},{"$f":"'DSR-Sheet I  '!C88","v":"P & L R.C.C. M-25 for wethershed"},{"$f":"'DSR-Sheet I  '!D88","v":4},8,32,{"$f":"F16","v":0.42499999999999999},1.7]
[{"$f":"'DSR-Sheet I  '!B89","v":11},{"$f":"'DSR-Sheet I  '!C89","v":"P & L  II class B.B masonary in superstructure"},{"$f":"'DSR-Sheet I  '!D89","v":144},1.58,227.52,0.32,46.08]
[{"$f":"'DSR-Sheet I  '!B90","v":12},{"$f":"'DSR-Sheet I  '!C90","v":"P & L  C.C M-15 for bed block"},{"$f":"'DSR-Sheet I  '!D90","v":0},6,0,0.44,0]
[{"$f":"'DSR-Sheet I  '!B91","v":"13A"},{"$f":"'DSR-Sheet I  '!C91","v":"P C.P. 20 mm  in C.M 1:4   inside with neeru"},{"$f":"'DSR-Sheet I  '!D91","v":902},0.17,153.34,2.5000000000000001E-2,22.55]
[{"$f":"'DSR-Sheet I  '!B92","v":"13B"},{"$f":"'DSR-Sheet I  '!C92","v":"P C.P. 20 mm  in C.M 1:4    with cement finish"},{"$f":"'DSR-Sheet I  '!D92","v":60},0.17,10.200000000000001,2.5000000000000001E-2,1.5]
[{"$f":"'DSR-Sheet I  '!B93","v":"13C"},{"$f":"'DSR-Sheet I  '!C93","v":"P C.P. 20 mm tk in C.M 1:4    OUTSIDE "},{"$f":"'DSR-Sheet I  '!D93","v":1080},0.217,234.35999999999999,3.1E-2,33.479999999999997]
[{"$f":"'DSR-Sheet I  '!B94","v":"13D"},{"$f":"'DSR-Sheet I  '!C94","v":"P C.P. 20 mm tk in C.M 1:4 with slurry finish "},{"$f":"'DSR-Sheet I  '!D94","v":0},0.17,0,2.5000000000000001E-2,0]
[{"$f":"'DSR-Sheet I  '!B105","v":"21A"},{"$f":"'DSR-Sheet I  '!C105","v":"P H.M. Filling in plinth                                                         R.A."},{"$f":"'DSR-Sheet I  '!D105","v":859.42500000000018},null,0,null,0,null,null,1.2,{"$f":"J27*C27","v":1031.3100000000002}]
[{"$f":"'DSR-Sheet I  '!B107","v":"22A"},{"$f":"'DSR-Sheet I  '!C107","v":"P & L stone metal layer in plinth                                       R.A"},{"$f":"'DSR-Sheet I  '!D107","v":222.2},null,0,null,0,1.32,{"$f":"H28*C28","v":293.30399999999997},0,{"$f":"J28*C28","v":0},1.1599999999999999,{"$f":"L28*C28","v":257.75199999999995}]
[{"$f":"'DSR-Sheet I  '!B109","v":"23A"},{"$f":"'DSR-Sheet I  '!C109","v":"P & L  C.C. M 20 Tremix for flooring"},{"$f":"'DSR-Sheet I  '!D109","v":1111},7,7777,0.42499999999999999,472.17500000000001]
[null,{"$f":"'Sheet  -Office'!B65","v":"SUBWORK  I - OFFICE BUILDING  ( 14.55 x 6.70 M)"}]
[{"$f":"'Sheet  -Office'!A89","v":9},{"$f":"'Sheet  -Office'!B89","v":"P & L P.C.C. M10 for foundation & bedding"},{"$f":"'Sheet  -Office'!C89","v":0},4.4000000000000004,{"$f":"C31*D31","v":0},0.47,{"$f":"F31*C31","v":0},{"$f":"0.7+0.24","v":0.94},{"$f":"H31*C31","v":0}]
[]
[{"$f":"'Sheet  -Office'!A91","v":10},{"$f":"'Sheet  -Office'!B91","v":"P & C U.C.R masonary for foundation & plinth in C.M.1:6 "},{"$f":"'Sheet  -Office'!C91","v":0},1.7,{"$f":"C32*D33","v":0},0.35,{"$f":"F33*C32","v":0},null,{"$f":"H33*C32","v":0}]
[]
[{"$f":"'Sheet  -Office'!A93","v":11},{"$f":"'Sheet  -Office'!B93","v":"P&C B.B.masonary for foundation & plinth in C.M.1:6 "},{"$f":"'Sheet  -Office'!C93","v":0},1.58,{"$f":"C33*D35","v":0},0.32,{"$f":"F35*C33","v":0},null,{"$f":"H35*C33","v":0}]
[]
[{"$f":"'Sheet  -Office'!A95","v":12},{"$f":"'Sheet  -Office'!B95","v":"P &C B.B. masonary in super structure in C.M.1:6 "},{"$f":"'Sheet  -Office'!C95","v":0},1.58,{"$f":"C35*D37","v":0},0.32,{"$f":"F37*C35","v":0},null,{"$f":"H37*C35","v":0}]
[]
[{"$f":"'Sheet  -Office'!A97","v":13},{"$f":"'Sheet  -Office'!B97","v":"P & R.C.C. M - 20 for footing"},{"$f":"'Sheet  -Office'!C97","v":0},7,{"$f":"C39*D39","v":0},0.42499999999999999,{"$f":"F39*C39","v":0},{"$f":"0.57+0.28","v":0.85},{"$f":"H39*C39","v":0}]
[]
[{"$f":"'Sheet  -Office'!A99","v":14},{"$f":"'Sheet  -Office'!B99","v":"P & R.C.C. M - 20 for column."},{"$f":"'Sheet  -Office'!C99","v":0},7,{"$f":"C41*D41","v":0},0.42499999999999999,{"$f":"F41*C41","v":0},{"$f":"0.57+0.28","v":0.85},{"$f":"H41*C41","v":0}]
[]
[{"$f":"'Sheet  -Office'!A101","v":15},{"$f":"'Sheet  -Office'!B101","v":"P & L R.C.C. M-20  for beams & lintels"},{"$f":"'Sheet  -Office'!C101","v":0},7,{"$f":"C43*D43","v":0},0.42499999999999999,{"$f":"F43*C43","v":0},{"$f":"0.57+0.28","v":0.85},{"$f":"H43*C43","v":0}]
[]
[{"$f":"'Sheet  -Office'!A103","v":16},{"$f":"'Sheet  -Office'!B103","v":"P & L R.C.C.  M-20 for weathersheds & canopies"},{"$f":"'Sheet  -Office'!C103","v":0},7,{"$f":"C45*D45","v":0},0.42499999999999999,{"$f":"F45*C45","v":0},{"$f":"0.57+0.28","v":0.85},{"$f":"H45*C45","v":0}]
[]
[{"$f":"'Sheet  -Office'!A105","v":17},{"$f":"'Sheet  -Office'!B105","v":"P & L R.C.C. M-20 for slabs"},{"$f":"'Sheet  -Office'!C105","v":0},7,{"$f":"C47*D47","v":0},0.42499999999999999,{"$f":"F47*C47","v":0},{"$f":"0.57+0.28","v":0.85},{"$f":"H47*C47","v":0}]
[]
[{"$f":"'Sheet  -Office'!A109","v":19},{"$f":"'Sheet  -Office'!B109","v":"P&C BBM half brick wall in super structure in C.M.1:4"},{"$f":"'Sheet  -Office'!C109","v":0},1.58,{"$f":"C47*D49","v":0},0.32,{"$f":"F49*C47","v":0},null,{"$f":"H49*C47","v":0}]
[]
[{"$f":"'Sheet  -Office'!A111","v":20},{"$f":"'Sheet  -Office'!B111","v":"P C.P.  12 mm tk in C.M 1:4  with neeru finish "},{"$f":"'Sheet  -Office'!C111","v":0},0.17,{"$f":"C51*D51","v":0},2.5000000000000001E-2,{"$f":"F51*C51","v":0},null,{"$f":"H51*C51","v":0}]
[]
[{"$f":"'Sheet  -Office'!A113","v":21},{"$f":"'Sheet  -Office'!B113","v":"P sand faced. 25 mm tk in C.M 1:4 without neeru  finish"},{"$f":"'Sheet  -Office'!C113","v":0},0.17,{"$f":"C53*D53","v":0},2.5000000000000001E-2,{"$f":"F53*C53","v":0},null,{"$f":"H53*C53","v":0}]
[]
[{"$f":"'Sheet  -Office'!A115","v":22},{"$f":"'Sheet  -Office'!B115","v":"Providing rough cast cement plster externally in two coats"},{"$f":"'Sheet  -Office'!C115","v":0},0.17,0,2.5000000000000001E-2,{"$f":"F55*C55","v":0},null,{"$f":"H55*C55","v":0}]
[]
[{"$f":"'Sheet  -Office'!A117","v":23},{"$f":"'Sheet  -Office'!B117","v":"P C.P. 20 mm tk in C.M 1:4 with slurry finish"},{"$f":"'Sheet  -Office'!C117","v":0},0.21,{"$f":"D57*C57","v":0},2.5000000000000001E-2,{"$f":"F57*C57","v":0},null,{"$f":"H57*C57","v":0}]
[]
[{"$f":"'Sheet  -Office'!A137","v":33},{"$f":"'Sheet  -Office'!B137","v":"P H.M. Filling in plinth "},{"$f":"'Sheet  -Office'!C137","v":0},null,{"$f":"C59*D59","v":0},null,{"$f":"F59*C59","v":0},null,{"$f":"H59*C59","v":0},1.2,{"$f":"J59*C59","v":0}]
[]
[{"$f":"'Sheet  -Office'!A215","v":72},{"$f":"'Sheet  -Office'!B215","v":"P  & C P.C.C.1:2:4 for flooring / Apron"},{"$f":"'Sheet  -Office'!C215","v":0},4.4000000000000004,{"$f":"C61*D61","v":0},0.47,{"$f":"F61*C61","v":0},{"$f":"0.7+0.24","v":0.94},{"$f":"H61*C61","v":0}]
[]
[]
[null,{"$f":"'DSR-Sheet I  '!C142","v":"S.W.- III INTERNAL    ROAD"}]
[1,"supply hard murum",{"$f":"'DSR-Sheet I  '!D150+'DSR-Sheet I  '!D151","v":0},null,{"$f":"C65*D65","v":0},null,null,1.2,{"$f":"H65*C65","v":0},1.2,{"$f":"J65*C65","v":0}]
[2,"P/L WBM road  stone aggregates of specific sizes to water bound macadam specification including  ",{"$f":"'DSR-Sheet I  '!D148+'DSR-Sheet I  '!D149","v":0},null,{"$f":"C66*D66","v":0},null,null,1.32,{"$f":"H66*C66","v":0},1.2,{"$f":"J66*C66","v":0}]
[3,"1:2:4 Guard stone",{"$f":"'DSR-Sheet I  '!D159","v":0},0.2,0]
[5,"M10  concrete (1:3:6)",{"$f":"'DSR-Sheet I  '!D164","v":0},4.4000000000000004,0,{"$f":"F13","v":0.47},{"$f":"F68*C68","v":0}]
[6,{"$f":"'[4]Sheet I  '!B216","v":"Providing U.C.R. masonary of trap stones in C.M. 1:6 in foundation & plinth including dewatering, striking joints on exposed surfaces and pointing with C.M. 1:3 on outside surfaces curing etc. complete.(Bd. H.1/329)"},0,{"$f":"D14","v":1.7},0,null,null,null,null,null,null,1.1599999999999999,{"$f":"L69*C69","v":0}]
[8,"M20 work for Beam & Lintel",{"$f":"'DSR-Sheet I  '!D167","v":0},7,0,{"$f":"F17","v":0.42499999999999999},{"$f":"F70*C70","v":0}]
[9," cement plaster 20 mm thick in two coats in C. M. 1 : 4 with slurry finish to concrete or brick surface or U. C. R surface in ",{"$f":"'DSR-Sheet I  '!D168","v":0},0.17,0,0.03,{"$f":"F71*C71","v":0}]
[13,"1:2:4 Cement concrete coping",{"$f":"'DSR-Sheet I  '!D172","v":0},6.4,0,0.44500000000000001,{"$f":"F72*C72","v":0},{"$f":"0.7+0.22+0.11","v":1.03},{"$f":"H72*C72","v":0}]
[14,"Prov Soling  80 mm",{"$f":"'DSR-Sheet I  '!D173","v":0},null,0,null,null,1,{"$f":"H73*C73","v":0}]
["15B","Preparing Embankment",{"$f":"'DSR-Sheet I  '!D175","v":0},null,0,null,null,null,null,1.2,{"$f":"J74*C74","v":0}]
[]
[null,{"$f":"'DSR-Sheet I  '!C285","v":"SUBWORK VI :- RAIN WATER HARVESTING"}]
[]
[{"$f":"'DSR-Sheet I  '!B305","v":2},{"$f":"'DSR-Sheet I  '!C305","v":"Providing & laying in situ cement concrete M-15 of  trap metal for foundation & bedding including dewatering if necessary, compacting, curing etc. complete. [Bd. E.1  /287]"},{"$f":"'DSR-Sheet I  '!D305","v":0},0,{"$f":"C78*D78","v":0},0.47,{"$f":"F78*C78","v":0},{"$f":"0.7+0.24","v":0.94},{"$f":"H78*C78","v":0}]
[]
[{"$f":"'DSR-Sheet I  '!B307","v":3},{"$f":"'DSR-Sheet I  '!C307","v":" Providing & Laying  dry /trap rubble stone metal soling 15 cm to 20 cm, thick including hand packing and compacting complewte."},{"$f":"'DSR-Sheet I  '!D307","v":0},null,null,null,null,null,null,null,null,1.1599999999999999,{"$f":"L80*C78","v":0}]
[]
[{"$f":"'DSR-Sheet I  '!B311","v":5},{"$f":"'DSR-Sheet I  '!C311","v":" Providing & filling Sand in excavated pit of approved quality including watering compaction complete."},{"$f":"'DSR-Sheet I  '!D311","v":0},null,null,1,{"$f":"F82*C82","v":0}]
[]
[null,null,null,"Total",{"$f":"SUM(E13:E29)","v":9910.66},null,{"$f":"SUM(G13:G82)","v":686.14499999999998},null,293.30399999999997,null,1031.3100000000002,null,257.75199999999995]
[]
[]
[]
[{"$f":"'Lab Tests'!A1:I1","v":"VIKAS AGRO PRODUCER CO.LTD"}]
[{"$f":"A3","v":"Gat No.79 / Nagzari, Tal- Latur Dist- Latur "}]
[{"$f":"A6","v":"NAME OF WORK :-  CONSTRUCTION OF 1/2160 MT CAP PRE- ENGINEERED WH BLDG WITH ANCILLARY WORKS AT: NAGZARI DIST. LATUR"}]
[]
[null,"Royalty Charges Recovery Statements"]
["Sr. No","Particular","Requar Quantity in Cum",null,null,"Requar Quantity in Brass","Royalty receipt received in last R A Bill","Royalty receipt received in this Bill","Balance Quantity in Cum"," Royalty Charges @ Rs 400 / Brass"]
[null,null,null,null,null,2.83,null,null,null,141.34]
[1,"SAND",0,null,null,{"$f":"C95/F94","v":0},0,0,{"$f":"F95-G95","v":0},{"$f":"C95*J94","v":0}]
[]
[2,"METAL Hand broken",{"$f":"I73+I66+I28","v":293.30399999999997},null,null,{"$f":"C97/F94","v":103.64098939929328},0,0,{"$f":"F97-G97","v":103.64098939929328},{"$f":"C97*J94","v":41455.587359999998}]
[]
[3,"MURUM ",{"$f":"K84","v":1031.3100000000002},null,null,{"$f":"C99/F94","v":364.42049469964667},0,0,{"$f":"C99","v":1031.3100000000002},{"$f":"C99*J94","v":145765.35540000003}]
[]
[4,"RUBBLE",{"$f":"M84","v":257.75199999999995},null,null,{"$f":"C101/F94","v":91.078445229681961},0,0,{"$f":"F101-G101","v":91.078445229681961},{"$f":"C101*J94","v":36430.667679999991}]
[null,null,null,null,null,"Total Amount Rs.",null,null,null,{"$f":"SUM(J95:J101)","v":223651.61044000002}]
[]
[]
[null,null,null,null,null,null,null,"Say","Rs.",{"$f":"ROUNDUP(J102,0)","v":223652}]

{"sheet":"Antiter","index":18,"n_rows":56,"n_cols":14,"rows_kept":56,"cut":false,"hidden":true,"merged":[[51,1,51,12],[14,1,14,12],[40,1,40,12],[45,1,45,12],[0,1,0,13],[1,1,1,13],[9,1,9,13],[11,2,11,5],[3,1,3,13]]}
[null,"MAHARASHTRA STATE  WAREHOUSING CORPORATION"]
[null,"583/B, MARKET YARD, GULTEKADI, PUNE-411037"]
[]
[null,{"$f":"'Wh. '!B74","v":"NAME OF WORK :-  CONSTRUCTION OF 1/2160 MT CAP PRE- ENGINEERED WH BLDG WITH ANCILLARY WORKS AT: NAGZARI DIST. LATUR"}]
[null,{"$f":"'Wh. '!B75","v":0}]
[]
[null,"Sub Work No. IV - ANTITERMITE  TREATEMENT "]
[]
[]
[null,"MEASUREMENT SHEET "]
[]
[null,"Item Nos & Description of Items ","NO.S",null,null,null,"LENGTH",null,"BREDTH",null,"DEPTH /",null,"TOTAL","Unit"]
[null,null,1,"X",2,null,null,null,null,null,"HIGHT",null,"QUANTITY"," "]
[]
[null,"Item No (1 ) :- Providing pre-constructional Anti-termite treatment as per I.S. 6313 (Part-II) - 1973 by treating the bottomsurface and sides of excavation clorophyriphoas / lendene at therate of 5 litres of emulsion concentrates of 0.5 percent of Aldrin ",null,null,null,null,null,null,null,null,null,null,null,"cum"]
[null,"I stage "]
[null,"Column footing  C1 bottom ",2,"X",8,"X",{"$f":"'Wh. '!G26","v":1.25},"X",{"$f":"'Wh. '!I26","v":1.5},null,null,"=",{"$f":"C17*E17*G17*I17","v":30}]
[null,"side ",2,"X",16,"X",{"$f":"G17","v":1.25},"X",1.5,null,null,"=",60]
[null,"side ",2,"X",16,"X",{"$f":"I17","v":1.5},"X",1.5,null,null,"=",72]
[null," C3 bottom  ",1,"X",2,"X",{"$f":"'Wh. '!G27","v":0},"X",{"$f":"G20","v":0},null,null,"=",0]
[null,"side ",2,"X",4,"X",{"$f":"G20","v":0},"X",1.5,null,null,"=",0]
[null,"C2 end bottom",2,"X",2,"X",{"$f":"'Wh. '!G28","v":1.35},"X",{"$f":"'Wh. '!I28","v":1},null,null,"=",5.4]
[null,"side ",2,"X",4,"X",{"$f":"G22","v":1.35},"X",1.5,null,null,"=",16.200000000000003]
[null,"side ",2,"X",4,"X",{"$f":"I22","v":1},"X",1.5,null,null,"=",12]
[null,"C2 middle bottom",2,"X",2,"X",{"$f":"'Wh. '!G29","v":0},"X",2.17,null,null,"=",0]
[null,"side ",2,"X",4,"X",2.4700000000000002,"X",{"$f":"'Wh. '!I29","v":0},null,null,"=",0]
[null,"side ",2,"X",4,"X",{"$f":"I25","v":2.17},"X",1.5,null,null,"=",26.04]
[null,"C3 expan. Bottom ",1,"X",2,"X",{"$f":"'Wh. '!G30","v":1.35},"X",{"$f":"G28","v":1.35},null,null,"=",3.6450000000000005]
[null,"side ",2,"X",4,"X",{"$f":"G28","v":1.35},"X",1.5,null,null,"=",16.200000000000003]
[null,"Platform colum n   bottom ",2,"X",4,"X",{"$f":"'Wh. '!#REF!","v":{"$error":"#REF!"}},"X",{"$f":"G30","v":{"$error":"#REF!"}},null,null,"=",{"$error":"#REF!"}]
[null,"side ",2,"X",16,"X",{"$f":"G30","v":{"$error":"#REF!"}},"X",2.5,null,null,"=",{"$error":"#REF!"}]
[null,"GB  C1-C1",2,"X",7,"X",{"$f":"'Wh. '!G33","v":5.3380000000000001},"X",1.75,null,null,"=",130.78100000000001]
[null,"C1-C3 end ",1,"X",2,"X",{"$f":"'Wh. '!G35","v":6.754999999999999},"X",1.75,null,null,"=",23.642499999999998]
[null,"C1-C3common ",1,"X",2,"X",3.35,"X",1.75,null,null,"=",11.725]
[null,"C3-C2 ",2,"X",2,"X",{"$f":"'Wh. '!G36","v":6.92},"X",1.75,null,null,"=",48.44]
[null,"C2-C2 end panel ",2,"X",2,"X",{"$f":"'Wh. '!G37","v":5.3380000000000001},"X",1.75,null,null,"=",37.366]
[null,"C2-C2 middle ",1,"X",2,"X",{"$f":"'Wh. '!G38","v":1.5},"X",1.75,null,null,"=",5.25]
[null,null,null,null,null,null,null,null,null,null,"Total","=",0]
[null,null,null,null,null,null,null,null,null,null,"Say ","=",0]
[]
[null,"Item No (2) :- Providing pre-constructional Anti-termite treatment as per I.S. 6313 (Part-II) - 1973 treatment by treating the backfill in immediate contact with foundation at the rate of 7.5 litres off emulsion concentrates of 0.5 percent of Clorophyriph"]
[null,"Coloumn footing "]
[null,null,null,null,null,null,null,null,null,null,"Total","=",0]
[null,null,null,null,null,null,null,null,null,null,"Say ","=",0]
[]
[null,"Item No (3) :- Providing pre-constructional Anti-termite treatment as per I.S. 6313 (Part-II) - 1973 by treating the  top surface of plinth filling at the rate of  5 litres of emulsion concentrates of 0.5 percent of Hephoclore per square meter of surface "]
[null,"III stage ",1,"X",1,"X",{"$f":"'Wh. '!G8","v":50.5},"X",21.74,null,null,"=",{"$f":"C47*E47*G47*I47","v":1097.8699999999999}]
[]
[null,null,null,null,null,null,null,null,null,null,"Total","=",{"$f":"SUM(M44:M48)","v":1097.8699999999999}]
[null,null,null,null,null,null,null,null,null,null,"Say ","=",1573]
[]
[null,"Item No (4) :- Providing pre-constructional Anti-termite treatment as per I.S. 6313 (Part-I) to the soil along the external face of building by punching holes of 1.2 of 1.5 C.M. diametre about 30 percent of Clorophyriphas / 20 E.C.Hephoclore at the rate 7"]
[null,"Long ",1,"X",2,"X",43.6,"X",null,null,null,"=",{"$f":"E53*G53","v":87.2}]
[null,"Short",1,"X",2,"X",23.6,"X",null,null,null,"=",{"$f":"E54*G54","v":47.2}]
[null,null,null,null,null,null,null,null,null,null,"Total","=",{"$f":"SUM(M53:M54)","v":134.4}]
[null,null,null,null,null,null,null,null,null,null,"Say ","=",0]

{"sheet":"office build","index":19,"n_rows":694,"n_cols":14,"rows_kept":694,"cut":false,"hidden":true,"merged":[[36,1,36,12],[0,1,0,13],[1,1,1,13],[7,1,7,13],[9,2,9,5],[12,1,12,12],[3,1,3,13],[190,1,190,12],[43,1,43,12],[66,1,66,12],[73,1,73,12],[79,1,79,12],[85,1,85,12],[88,1,88,12],[99,1,99,12],[131,1,131,12],[136,1,136,12],[157,1,157,12],[183,1,183,12],[362,1,362,12],[198,1,198,12],[239,1,239,12],[251,1,251,12],[264,1,264,12],[269,1,269,12],[277,1,277,12],[320,1,320,12],[335,1,335,12],[343,1,343,12],[351,1,351,12],[357,1,357,12],[459,1,459,12],[366,1,366,12],[371,1,371,12],[376,1,376,12],[381,1,381,12],[386,1,386,12],[391,1,391,12],[398,1,398,12],[409,1,409,12],[422,1,422,12],[445,1,445,12],[451,1,451,12],[535,1,535,12],[477,1,477,12],[482,1,482,12],[487,1,487,12],[492,1,492,12],[497,1,497,12],[505,1,505,12],[510,1,510,12],[515,1,515,12],[520,1,520,12],[525,1,525,12],[530,1,530,12],[595,1,595,12],[540,1,540,12],[545,1,545,12],[550,1,550,12],[555,1,555,12],[560,1,560,12],[565,1,565,12],[570,1,570,12],[575,1,575,12],[580,1,580,12],[584,1,584,12],[589,1,589,12],[664,1,664,12],[600,1,600,12],[604,1,604,12],[609,1,609,12],[613,1,613,12],[619,1,619,12],[624,1,624,12],[628,1,628,12],[632,1,632,12],[636,1,636,12],[645,1,645,12],[651,1,651,12],[670,1,670,12],[675,1,675,12],[680,1,680,12],[685,1,685,12],[690,1,690,12]]}
[null,"MAHARASHTRA STATE  WAREHOUSING CORPORATION"]
[null,"583/B, MARKET YARD, GULTEKADI, PUNE-411037"]
[]
[null,{"$f":"Recap!B6","v":"NAME OF WORK :-  CONSTRUCTION OF 1/2160 MT CAP PRE- ENGINEERED WH BLDG WITH ANCILLARY WORKS AT: NAGZARI DIST. LATUR"}]
[]
[null,"SUB WORK No. II- OFFICE BLDG.(14.55 x 6.70)"]
[null,null,null,null,null,null,null,null,null,null,null,null,{"$f":"14.55*6.7","v":97.485000000000014}]
[null,"   MEASUREMENT SHEET "]
[null,null,null,null,null,null,null,null,null,null,"Depth  ",null,1.5]
[null,"Item Nos & Description of Items ","NO.S",null,null,null,"LENGTH",null,"BREDTH",null,"DEPTH /",null,"TOTAL","Unit"]
[null,null,null,"X",null,null,null,null,null,null,"HIGHT",null,"QUANTITY"," "]
[]
[null,"Item No (1) :- Excavation for foundation in earth soil of all types sand, gravel & soft murum, depth upto 1.50 meters including removing the excavated stuff upto a distance of 50 meters beyond the bldg. area all lifts stacking or spreading as directed, dewatering, shoring, strutting if necessary preparing the bed for foundation including necessary backfilling (Bd.A.1/259)",null,null,null,null,null,null,null,null,null,null,null,"cum"]
[null,"Column"]
[null,"Column No.F-1",1,"X",12,"X",1.4,"X",1.5,"X",{"$f":"'Wh. '!K14","v":1.5},"=",{"$f":"K15*I15*G15*E15*C15","v":37.799999999999997}]
[null,"Column No. F-2",1,"X",3,"X",1.5,"X",1.7,"X",{"$f":"K15","v":1.5},"=",{"$f":"K16*I16*G16*E16*C16","v":11.475}]
[null,"For Plinth/Ground Beam"]
[null,"PB-1 & PB-9 (VER & S S.Room)   ",1,"X",3,"X",3.83,"X",0.53,"X",0.4,"=",{"$f":"C18*E18*G18*I18*K18","v":2.4358800000000005}]
[null,"PB - 1 & PB - 10 ( Office)   ",1,"X",2,"X",3.89,"X",0.53,"X",{"$f":"K18","v":0.4},"=",{"$f":"C19*E19*G19*I19*K19","v":1.6493600000000002}]
[null,"PB-2 & PB-3 (VER & S S.Room)  ",1,"X",2,"X",2.12,"X",0.53,"X",0.4,"=",0.89888000000000012]
[null,"PB-2 & PB-3 (VER & S S.Room)  ",1,"X",2,"X",3.89,"X",0.53,"X",0.4,"=",1.6493600000000002]
[null,"PB-1, 6, 11 (Store  & Toilet )   ",1,"X",3,"X",2.62,"X",0.53,"X",0.4,"=",1.66632]
[null,"PB- 3 & 5 Office & Toilet",1,"X",2,"X",2.62,"X",0.53,"X",0.4,"=",1.1108800000000001]
[null,"PB - 2 & 4 Office & Store",1,"X",2,"X",3.37,"X",0.53,"X",0.4,"=",1.4288800000000004]
[null,"PB-1,8,12 Hamal Room & Toilet",1,"X",3,"X",3.77,"X",0.53,"X",0.4,"=",2.3977200000000005]
[null,"PB-2 Hamal Room",1,"X",1,"X",3.89,"X",0.53,"X",0.4,"=",0.82468000000000008]
[null,"PB-3 Hamal Toilet",1,"X",1,"X",2.81,"X",0.53,"X",0.4,"=",0.59572000000000003]
[null,null,1,"X",1,"X",2.81,"X",0.45,"X",0.4,"=",0.50580000000000003]
[null,null,1,"X",1,"X",3.33,"X",0.45,"X",0.4,"=",0.59940000000000004]
[null,"For Safic tank.",null,null,null,null,null,null,null,null,null,"=",10]
[null,"For appron",1,"X",2,"X",16.649999999999999,"X",1,"X",{"$f":"K29","v":0.4},"=",13.32]
[null,"For appron",1,"X",2,"X",6.7,"X",1,"X",{"$f":"K31","v":0.4},"=",5.36]
[null,"For Steps",1,"X",3,"X",1.5,"X",1.2,"X",{"$f":"K32","v":0.4},"=",2.1599999999999997]
[null,null,null,null,null,null,null,null,null,"  TOTAL",null,"=",{"$f":"SUM(M15:M33)","v":95.87787999999999}]
[null,null,null,null,null,null,null,null,null,null,"SAY","=",{"$f":"ROUNDUP(M34,0)","v":96},"Cu.m."]
[]
[null,"Item No (2) :- Excavation for foundation in earth soil of all types sand, gravel & soft murum, depth above 1.50 meters including removing the excavated stuff upto a distance of 50 meters beyond the bldg. area all lifts stacking or spreading as directed, dewatering, shoring, strutting if necessary preparing the bed for foundation including necessary backfilling (Bd.A.1/259)",null,null,null,null,null,null,null,null,null,null,null,"cum"]
[null,"Column"]
[null,"Column No.F-1",1,"X",12,"X",1.4,"X",1.5,"X",{"$f":"'Wh. '!#REF!","v":{"$error":"#REF!"}},"=",{"$f":"K39*I39*G39*E39*C39","v":{"$error":"#REF!"}}]
[null,"Column No. F-2",1,"X",3,"X",1.5,"X",1.7,"X",{"$f":"K39","v":{"$error":"#REF!"}},"=",{"$f":"K40*I40*G40*E40*C40","v":{"$error":"#REF!"}}]
[null,null,null,null,null,null,null,null,null,"  TOTAL",null,"=",{"$f":"SUM(M39:M40)","v":{"$error":"#REF!"}}]
[null,null,null,null,null,null,null,null,null,null,"SAY","=",{"$f":"ROUNDUP(M41,0)","v":{"$error":"#REF!"}},"Cu.m."]
[]
[null,"Item No (3) :- Excavation for foundation in hard murum, depth upto 1.50 meters  including removing the excavated stuff upto a distance of 50 meters beyond the bldg. area all lifts stacking or spreading as directed, dewatering, shoring, strutting if necessary preparing the bed for foundation including necessary backfilling  etc complete (Bd.A2/259)"]
[null,"Column"]
[null,"Column No.F-1",1,"X",12,"X",1.4,"X",1.5,"X",0.4,"=",{"$f":"K46*I46*G46*E46*C46","v":10.080000000000002}]
[null,"Column No. F-2",1,"X",3,"X",1.5,"X",1.7,"X",{"$f":"K46","v":0.4},"=",{"$f":"K47*I47*G47*E47*C47","v":3.06}]
[null,"For Plinth/Ground Beam"]
[null,"PB-1 & PB-9 (VER & S S.Room)   ",1,"X",3,"X",3.83,"X",0.53,"X",0.4,"=",{"$f":"C49*E49*G49*I49*K49","v":2.4358800000000005}]
[null,"PB - 1 & PB - 10 ( Office)   ",1,"X",2,"X",3.89,"X",0.53,"X",{"$f":"K49","v":0.4},"=",{"$f":"C50*E50*G50*I50*K50","v":1.6493600000000002}]
[null,"PB-2 & PB-3 (VER & S S.Room)  ",1,"X",2,"X",2.12,"X",0.53,"X",0.4,"=",{"$f":"C51*E51*G51*I51*K51","v":0.89888000000000012}]
[null,"PB-2 & PB-3 (VER & S S.Room)  ",1,"X",2,"X",3.89,"X",0.53,"X",0.4,"=",1.6493600000000002]
[null,"PB-1, 6, 11 (Store  & Toilet )   ",1,"X",3,"X",2.62,"X",0.53,"X",0.4,"=",1.66632]
[null,"PB- 3 & 5 Office & Toilet",1,"X",2,"X",2.62,"X",0.53,"X",0.4,"=",1.1108800000000001]
[null,"PB - 2 & 4 Office & Store",1,"X",2,"X",3.37,"X",0.53,"X",0.4,"=",1.4288800000000004]
[null,"PB-1,8,12 Hamal Room & Toilet",1,"X",3,"X",3.77,"X",0.53,"X",0.4,"=",2.3977200000000005]
[null,"PB-2 Hamal Room",1,"X",1,"X",3.89,"X",0.53,"X",0.4,"=",0.82468000000000008]
[null,"PB-3 Hamal Toilet",1,"X",1,"X",2.81,"X",0.53,"X",0.4,"=",0.59572000000000003]
[null,null,1,"X",1,"X",2.81,"X",0.45,"X",0.4,"=",0.50580000000000003]
[null,null,1,"X",1,"X",3.33,"X",0.45,"X",0.4,"=",0.59940000000000004]
[null,"For Safic tank.",null,null,null,null,null,null,null,null,null,"=",10]
[null,"For appron",1,"X",2,"X",16.649999999999999,"X",1,"X",{"$f":"K60","v":0.4},"=",{"$f":"C62*E62*G62*I62*K62","v":13.32}]
[null,"For appron",1,"X",2,"X",6.7,"X",1,"X",{"$f":"K62","v":0.4},"=",5.36]
[null,"For Steps",1,"X",3,"X",1.5,"X",1.2,"X",{"$f":"K63","v":0.4},"=",2.1599999999999997]
[null,null,null,null,null,null,null,null,null,"  TOTAL",null,"=",{"$f":"SUM(M46:M64)","v":59.742880000000007}]
[null,null,null,null,null,null,null,null,null,null,"SAY","=",{"$f":"ROUNDUP(M65,0)","v":60},"Cu.m."]
[null,"Item No (4) :- Excavation for foundation in hard murum& boulders depth upto 1.50 meters  including removing the excavated stuff upto a distance of 50 meters beyond the bldg. area all lifts stacking or spreading as directed, dewatering, shoring, strutting if necessary preparing the bed for foundation including necessary backfilling  etc complete (Bd.A3/259)"]
[null,"Column"]
[null,"Column No.F-1",1,"X",12,"X",1.4,"X",1.5,"X",0.75,"=",{"$f":"K69*I69*G69*E69*C69","v":18.899999999999999}]
[null,"Column No. F-2",1,"X",3,"X",1.5,"X",1.7,"X",{"$f":"K69","v":0.75},"=",{"$f":"K70*I70*G70*E70*C70","v":5.7374999999999998}]
[null,null,null,null,null,null,null,null,null,"  TOTAL",null,"=",{"$f":"SUM(M69:M70)","v":24.637499999999999},"Cu.m."]
[null,null,null,null,null,null,null,null,null,null,"SAY","=",{"$f":"ROUNDUP(M71,0)","v":25},"Cu.m."]
[]
[null,"Item No (5) :- Excavation for foundation in Soft Rock  a depth ABOVE 1.50 meters including removing the excavated stuff upto a distance of 50 meters beyond the building area all lifts stacking or spreading as directed, dewatering, shoring, strutting if necessary etc complete.",null,null,null,null,null,null,null,null,null,null,null,"cum"]
[null,"Column"]
[null,"Column No.F-1",1,"X",12,"X",1.4,"X",1.5,"X",0.45,"=",{"$f":"K76*I76*G76*E76*C76","v":11.34}]
[null,"Column No. F-2",1,"X",3,"X",1.5,"X",1.7,"X",{"$f":"K76","v":0.45},"=",{"$f":"K77*I77*G77*E77*C77","v":3.4424999999999999}]
[null,null,null,null,null,null,null,null,null,"  TOTAL",null,"=",{"$f":"SUM(M76:M77)","v":14.782499999999999},"Cu.m."]
[null,null,null,null,null,null,null,null,null,null,"SAY","=",{"$f":"ROUNDUP(M78,0)","v":15},"Cu.m."]
[null,"Item No (6) :- Excavation for foundation in hard rock a depth from 1.50 meters by chiselling  wedging , line drilling  etc. including trimming removing the excavated stuff upto a distance of 50 meters beyond the building area all lifts stacking or spreading as directed, dewatering, shoring, strutting if necessary preparing the bed for foundation including necessary backfilling etc complete as directed.",null,null,null,null,null,null,null,null,null,null,null,"cum"]
[null,"Column"]
[null,"Column No.F-1",1,"X",12,"X",1.4,"X",1.5,"X",0.4,"=",{"$f":"K82*I82*G82*E82*C82","v":10.080000000000002}]
[null,"Column No. F-2",1,"X",3,"X",1.5,"X",1.7,"X",{"$f":"K82","v":0.4},"=",{"$f":"K83*I83*G83*E83*C83","v":3.06}]
[null,null,null,null,null,null,null,null,null,"  TOTAL",null,"=",{"$f":"SUM(M82:M83)","v":13.140000000000002},"Cu.m."]
[null,null,null,null,null,null,null,null,null,null,"SAY","=",{"$f":"ROUNDUP(M84,0)","v":14},"Cu.m."]
[null,"Item No (7): -  Excavation for foundation in hard rock a depth above 1.50 meters by numatic tractor mounted drilling machine including removing the excavated stuff upto a distance of 50 meters beyond the building area all lifts stacking or spreading as directed, dewatering, shoring, strutting if necessary preparing the bed for foundation including necessary backfilling etc complete as directed.",null,null,null,null,null,null,null,null,null,null,null,"cum"]
[null,"Token Provision is make.",null,null,null,null,null,null,null,"  TOTAL",null,"=",1,"Cu.m."]
[null,null,null,null,null,null,null,null,null,null,"SAY","=",{"$f":"ROUNDUP(M87,0)","v":1},"Cu.m."]
[null,"Item No (8): - Excavation in plinth in earth soil of all types of sand or gravel or soft murum including dressing section to the required grade, cambers & side slope & conveying the excavated materials with lead of 50 M and spreading for embakment or st",null,null,null,null,null,null,null,null,null,null,null,"cum"]
[null,"Store room ",1,"X",1,"X",3.37,"X",2.62,"X",0.05,"=",{"$f":"K90*I90*G90*E90*C90","v":0.44147000000000003}]
[null,"S.S. room",1,"X",1,"X",3.89,"X",3.83,"X",{"$f":"K90","v":0.05},"=",{"$f":"K91*I91*G91*E91*C91","v":0.74493500000000001}]
[null,"Staff room ",1,"X",1,"X",6.24,"X",3.77,"X",0.05,"=",1.17624]
[null,"Hamal room",1,"X",1,"X",3.89,"X",3.18,"X",0.05,"=",0.61851000000000012]
[null,"Verandah ",1,"X",1,"X",3.83,"X",2.12,"X",0.05,"=",0.40598000000000006]
[null,"Hamal Urinal.",1,"X",1,"X",3.18,"X",2.12,"X",0.05,"=",0.33708000000000005]
[null,"Office toilet",1,"X",2,"X",2.62,"X",3.55,"X",0.05,"=",0.93010000000000004]
[null,"For appron",1,"X",1,"X",46,"X",0.67,"X",{"$f":"K96","v":0.05},"=",{"$f":"K97*I97*G97*E97*C97","v":1.5410000000000001}]
[null,null,null,null,null,null,null,null,null,null,"TOTAL","=",{"$f":"SUM(M90:M97)","v":6.1953150000000008}]
[null,null,null,null,null,null,null,null,null,null,"SAY","=",{"$f":"ROUNDUP(M98,0)","v":7}]
[null,"Item No (9 ) :- Providing & laying in situ cement concrete trap metal (M10) for foundation & bedding including dewatering if necessary, compacting, curing etc. complete. [Bd. E.1  /287]"]
[null,"Column"]
[null,"Column No.F-1",1,"X",12,"X",1.4,"X",1.5,"X",0.1,"=",{"$f":"K102*I102*G102*E102*C102","v":2.5200000000000005}]
[null,"Column No. F-2",1,"X",3,"X",1.5,"X",1.7,"X",{"$f":"K102","v":0.1},"=",{"$f":"K103*I103*G103*E103*C103","v":0.76500000000000001}]
[null,"For Plinth/Ground Beam"]
[null,"PB-1 & PB-9 (VER & S S.Room)   ",1,"X",3,"X",3.83,"X",0.38,"X",7.4999999999999997E-2,"=",{"$f":"C105*E105*G105*I105*K105","v":0.32746500000000001}]
[null,"PB - 1 & PB - 10 ( Office)   ",1,"X",2,"X",3.89,"X",0.38,"X",7.4999999999999997E-2,"=",0.22172999999999998]
[null,"PB-2 & PB-3 (VER & S S.Room)  ",1,"X",2,"X",2.12,"X",0.38,"X",7.4999999999999997E-2,"=",0.12084]
[null,"PB-2 & PB-3 (VER & S S.Room)  ",1,"X",2,"X",3.89,"X",0.38,"X",7.4999999999999997E-2,"=",0.22172999999999998]
[null,"PB-1, 6, 11 (Store  & Toilet )   ",1,"X",3,"X",2.62,"X",0.38,"X",7.4999999999999997E-2,"=",0.22401000000000001]
[null,"PB- 3 & 5 Office & Toilet",1,"X",2,"X",2.62,"X",0.38,"X",7.4999999999999997E-2,"=",0.14934]
[null,"PB - 2 & 4 Office & Store",1,"X",2,"X",3.37,"X",0.38,"X",7.4999999999999997E-2,"=",0.19208999999999998]
[null,"PB-1,8,12 Hamal Room & Toilet",1,"X",3,"X",3.77,"X",0.38,"X",7.4999999999999997E-2,"=",0.32233500000000004]
[null,"PB-2 Hamal Room",1,"X",1,"X",3.89,"X",0.38,"X",7.4999999999999997E-2,"=",0.11086499999999999]
[null,"PB-3 Hamal Toilet",1,"X",1,"X",2.81,"X",0.38,"X",7.4999999999999997E-2,"=",8.0085000000000003E-2]
[null,"PB-7 Hamal Toilet",1,"X",1,"X",2.81,"X",0.3,"X",7.4999999999999997E-2,"=",6.322499999999999E-2]
[null,"PB-7 Office  Toilet",1,"X",1,"X",3.33,"X",0.3,"X",7.4999999999999997E-2,"=",7.4924999999999992E-2]
[null,"For Safic tank.",null,null,null,null,null,null,null,null,null,"=",1]
[null,"For appron",1,"X",2,"X",16.649999999999999,"X",1,"X",0.1,"=",{"$f":"C118*E118*G118*I118*K118","v":3.33}]
[null,"For appron",1,"X",2,"X",6.7,"X",1,"X",0.1,"=",{"$f":"C119*E119*G119*I119*K119","v":1.34}]
[null,"For Steps",1,"X",3,"X",1.5,"X",1.2,"X",0.1,"=",{"$f":"C120*E120*G120*I120*K120","v":0.53999999999999992}]
[null,"Floor bed"]
[null,"Store",1,"X",1,"X",2.62,"X",3.37,"X",0.1,"=",{"$f":"C122*E122*G122*I122*K122","v":0.88294000000000017}]
[null,"S.S. Room",1,"X",1,"X",3.83,"X",3.89,"X",0.1,"=",1.4898700000000002]
[null,"Office room",1,"X",1,"X",6.24,"X",3.77,"X",0.1,"=",2.3524800000000003]
[null,"Verandah",1,"X",1,"X",3.83,"X",2.12,"X",0.1,"=",0.81196000000000002]
[null,"Staircase",0,"X",0,"X",0,"X",0,"X",0,"=",0]
[null,"Hamal room",1,"X",1,"X",3.77,"X",3.89,"X",0.1,"=",1.4665300000000001]
[null,"Staff toilet & Passage",1,"X",1,"X",2.62,"X",2.64,"X",0.1,"=",0.69168000000000007]
[null,"Hamal toilet",1,"X",1,"X",3.18,"X",2.12,"X",0.1,"=",0.67416000000000009]
[null,null,null,null,null,null,null,null,null,"  TOTAL",null,"=",{"$f":"SUM(M102:M129)","v":19.97326}]
[null,null,null,null,null,null,null,null,null,null,"SAY","=",{"$f":"ROUNDUP(M130,0)","v":20},"Cu.m."]
[null,"Item No. (10) :- Providing U. C. R. masonary or trap stones in C. M. 1 : 6 in foundation  & plinth including dewatering, striking joints on exposed surfaces and pointing  with C. M. 1 ; 3 on outside surfaces curing etc complete.             ( Bd. H. 1/329 )"]
[null,null,1,"X",1,"X",0,"X",0,"X",0,"=",{"$f":"C133*E133*G133*I133*K133","v":0}]
[null,null,null,null,null,null,null,null,null,"  TOTAL",null,"=",{"$f":"SUM(M133)","v":0}]
[null,null,null,null,null,null,null,null,null,null,"SAY","=",1,"Cu.m."]
[]
[null,"Item No.(11) :- Providing II class B.B. masonary with local conventional / I. S. type bricks in cement morter ( 1 : 6)  in foundation and plinth including dewatering; striking joints on exposed faces and curing etc. complete. ( Bd. G. 1/313 )"]
[null,"For Plinth"]
[null,"On PB-1 & PB-9 (VER & S S.Room)   ",1,"X",3,"X",3.83,"X",0.23,"X",1,"=",{"$f":"C139*E139*G139*I139*K139","v":2.6427}]
[null,"On PB - 1 & PB - 10 ( Office)   ",1,"X",2,"X",3.89,"X",0.23,"X",1,"=",{"$f":"C140*E140*G140*I140*K140","v":1.7894000000000001}]
[null,"On PB-2  (VER & S S.Room)  ",1,"X",2,"X",2.12,"X",0.23,"X",1,"=",{"$f":"C141*E141*G141*I141*K141","v":0.97520000000000007}]
[null,"On PB-3 (VER & S S.Room)  ",1,"X",2,"X",3.89,"X",0.23,"X",1,"=",1.7894000000000001]
[null,"On PB-1, 6, 11 (Store  & Toilet )   ",1,"X",3,"X",2.62,"X",0.23,"X",1,"=",1.8078000000000001]
[null,"On PB- 3 & 5 Office & Toilet",1,"X",2,"X",2.62,"X",0.23,"X",1,"=",1.2052]
[null,"On PB - 2 & 4 Office & Store",1,"X",2,"X",3.37,"X",0.23,"X",1,"=",1.5502]
[null,"On PB-1,8,12 Hamal Room & Toilet",1,"X",3,"X",3.77,"X",0.23,"X",1,"=",2.6013000000000002]
[null,"PB-2 Hamal Room",1,"X",1,"X",3.89,"X",0.23,"X",1,"=",0.89470000000000005]
[null,"PB-3 Hamal Toilet",1,"X",1,"X",2.81,"X",0.23,"X",1,"=",0.64629999999999999]
[null,"PB-7 Hamal Toilet",1,"X",1,"X",2.81,"X",0.15,"X",1,"=",0.42149999999999999]
[null,"PB-7 Office  Toilet",1,"X",1,"X",3.33,"X",0.15,"X",1,"=",0.4995]
[null,"For Safic tank.",null,null,null,null,null,null,null,null,null,"=",8]
[null,"For appron",1,"X",2,"X",16.649999999999999,"X",0.23,"X",0.75,"=",{"$f":"C152*E152*G152*I152*K152","v":5.7442500000000001}]
[null,"For appron",1,"X",2,"X",6.7,"X",0.23,"X",0.75,"=",{"$f":"C153*E153*G153*I153*K153","v":2.3115000000000001}]
[null,"For Steps",1,"X",3,"X",1.5,"X",1.2,"X",0.75,"=",{"$f":"C154*E154*G154*I154*K154","v":4.05}]
[null,null,null,null,null,null,null,null,null,"  TOTAL",null,"=",{"$f":"SUM(M139:M154)","v":36.92895}]
[null,null,null,null,null,null,null,null,null,null,"SAY","=",{"$f":"ROUNDUP(M155,0)","v":37},"Cu.m."]
[]
[null,"Item No. (12) :- Providing II class B.B. masonary with local conventional / I. s. type bricks in cement morter ( 1: 6) in super structure including stricking joints watering scaffolding, curing etc. complete as directed. ( Bd. G.5 /315 ) "]
[]
[null,"On PB-1 & PB-9 (VER & S S.Room)   ",1,"X",3,"X",3.83,"X",0.23,"X",3.1749999999999998,"=",{"$f":"C160*E160*G160*I160*K160","v":8.3905724999999993}]
[null,"On PB - 1 & PB - 10 ( Office)   ",1,"X",2,"X",3.89,"X",0.23,"X",3.1749999999999998,"=",{"$f":"C161*E161*G161*I161*K161","v":5.6813450000000003}]
[null,"On PB-2 & PB-3 (VER & S S.Room)  ",1,"X",2,"X",2.12,"X",0.23,"X",3.1749999999999998,"=",{"$f":"C162*E162*G162*I162*K162","v":3.09626}]
[null,"On PB-2 & PB-3 (VER & S S.Room)  ",1,"X",2,"X",3.89,"X",0.23,"X",3.1749999999999998,"=",5.6813450000000003]
[null,"On PB-1, 6, 11 (Store  & Toilet )   ",1,"X",3,"X",2.62,"X",0.23,"X",3.1749999999999998,"=",5.7397650000000002]
[null,"On PB- 3 & 5 Office & Toilet",1,"X",2,"X",2.62,"X",0.23,"X",3.1749999999999998,"=",3.8265099999999999]
[null,"On PB - 2 & 4 Office & Store",1,"X",2,"X",3.37,"X",0.23,"X",3.1749999999999998,"=",4.9218849999999996]
[null,"On PB-1,8,12 Hamal Room & Toilet",1,"X",3,"X",3.77,"X",0.23,"X",3.1749999999999998,"=",8.2591275]
[null,"PB-2 Hamal Room",1,"X",1,"X",3.89,"X",0.23,"X",3.1749999999999998,"=",2.8406725000000002]
[null,"PB-3 Hamal Toilet",1,"X",1,"X",2.81,"X",0.23,"X",3.1749999999999998,"=",2.0520025]
[null,"PB-7 Hamal Toilet",1,"X",1,"X",2.81,"X",0.15,"X",3.1749999999999998,"=",1.3382624999999999]
[null,"PB-7 Office  Toilet",1,"X",1,"X",3.33,"X",0.15,"X",3.1749999999999998,"=",1.5859124999999998]
[null,"Deduction ",null,null,null,null,null,null,"Total Quantity",null,null,null,{"$f":"SUM(M160:M171)","v":53.41366}]
[null,"Column ",1,"X",15,"X",0.23,"X",0.375,"X",3.1749999999999998,"=",{"$f":"C173*E173*G173*I173*K173","v":4.1076562500000007}]
[null,"Doors D",1,"X",2,"X",1.02,"X",0.23,"X",2.36,"=",1.1073119999999999]
[null,"D1",1,"X",6,"X",1.02,"X",0.23,"X",2.06,"=",2.8996560000000002]
[null,"D2",1,"X",3,"X",0.72,"X",0.15,"X",2.06,"=",0.66744000000000003]
[null,"Windows",1,"X",8,"X",0.9,"X",0.23,"X",1.5,"=",2.484]
[null,"Grill ",1,"X",1,"X",0.9,"X",0.23,"X",1.5,"=",0.3105]
[null,"Ventilators",1,"X",5,"X",0.45,"X",0.23,"X",0.6,"=",0.31050000000000005]
[null,null,null,null,null,null,null,null,"Total Deduction ",null,null,null,{"$f":"SUM(M173:M179)","v":11.88706425}]
[null,null,null,null,null,null,null,null,null,"  TOTAL",null,"=",{"$f":"M172-M180","v":41.526595749999998}]
[null,null,null,null,null,null,null,null,null,null,"SAY","=",{"$f":"ROUNDUP(M181,0)","v":42},"Cu.m."]
[]
[null,"Item No. (13) :- Providing & laying in situ cement concrete 1:1.5:3  of trap metal for R.C.C. work in footings of columns including dewatering if necessary, formwork, compaction, finishing curing etc. complete.(Excluding reinforcement) [Bd.F.2/297]"]
[null,"Column Footing"]
[null,"Column No.F-1",1,"X",12,"X",1.1000000000000001,"X",1.2,"X",0.4,"=",{"$f":"K186*I186*G186*E186*C186","v":6.3360000000000003}]
[null,"Column No. F-2 ",1,"X",3,"X",1.2,"X",1.4,"X",0.4,"=",{"$f":"K187*I187*G187*E187*C187","v":2.016}]
[null,null,null,null,null,null,null,null,null,"  TOTAL",null,"=",{"$f":"SUM(M186:M187)","v":8.3520000000000003}]
[null,null,null,null,null,null,null,null,null,null,"SAY","=",{"$f":"M188","v":8.3520000000000003},"Cu.m."]
[]
[null,"Item No. (14) :- Providing & laying in situ cement concrete 1:1.5:3 of trap metal for R.C.C. work in columns as per detailed drawing and design as directed including dewatering if necessary centering, formwark, compaction, finishing the formed surface with C.M. 1:3 of sufficient minimum thickness to give smooth finish and even surface/roughening if special finish is to be provided and curing etc. complete (Excluding reinforcement) [Bd.F.4/298]"]
[null,"Column"]
[null,"Column No.C -1",1,"X",5,"X",0.23,"X",0.375,"X",6.5,"=",{"$f":"K193*I193*G193*E193*C193","v":2.8031250000000001}]
[null,"Column No. C - 2  ",1,"X",5,"X",0.23,"X",0.375,"X",{"$f":"K193","v":6.5},"=",{"$f":"K194*I194*G194*E194*C194","v":2.8031250000000001}]
[null,"Column No.C - 3",1,"X",5,"X",0.23,"X",0.375,"X",{"$f":"K194","v":6.5},"=",{"$f":"K195*I195*G195*E195*C195","v":2.8031250000000001}]
[null,null,null,null,null,null,null,null,null,"  TOTAL",null,"=",{"$f":"SUM(M193:M195)","v":8.4093750000000007}]
[null,null,null,null,null,null,null,null,null,null,"SAY","=",{"$f":"ROUNDUP(M196,0)","v":9},"Cu.m."]
[]
[null,"Item No. (15) :- Providing & lying in situ cement concrete 1:1.5:3 of trap metal for R. C. C. work in beams and lintels as per detailed drawing and design as directed including dewatering if necessary centering, formwark, compaction, finishing the formed surface with C. M. 1:3 of sufficient minimum thickness to give smooth finish and even surface or roughening if special finish is to be provided and curing etc. complete. (Excluding reinforcement) [ Bd. F.6/300] "]
[null,"Ground Beam"]
[null,"On PB-1 & PB-9 (VER & S S.Room)   ",1,"X",3,"X",3.83,"X",0.23,"X",0.375,"=",{"$f":"C201*E201*G201*I201*K201","v":0.99101250000000007}]
[null,"On PB - 1 & PB - 10 ( Office)   ",1,"X",2,"X",3.89,"X",0.23,"X",0.375,"=",{"$f":"C202*E202*G202*I202*K202","v":0.67102499999999998}]
[null,"On PB-2 & PB-3 (VER & S S.Room)  ",1,"X",2,"X",2.12,"X",0.23,"X",0.375,"=",{"$f":"C203*E203*G203*I203*K203","v":0.36570000000000003}]
[null,"On PB-2 & PB-3 (VER & S S.Room)  ",1,"X",2,"X",3.89,"X",0.23,"X",0.375,"=",0.67102499999999998]
[null,"On PB-1, 6, 11 (Store  & Toilet )   ",1,"X",3,"X",2.62,"X",0.23,"X",0.375,"=",0.677925]
[null,"On PB- 3 & 5 Office & Toilet",1,"X",2,"X",2.62,"X",0.23,"X",0.375,"=",0.45195000000000002]
[null,"On PB - 2 & 4 Office & Store",1,"X",2,"X",3.37,"X",0.23,"X",0.375,"=",0.58132499999999998]
[null,"On PB-1,8,12 Hamal Room & Toilet",1,"X",3,"X",3.77,"X",0.23,"X",0.375,"=",0.97548750000000006]
[null,"PB-2 Hamal Room",1,"X",1,"X",3.89,"X",0.23,"X",0.375,"=",0.33551249999999999]
[null,"PB-3 Hamal Toilet",1,"X",1,"X",2.81,"X",0.23,"X",0.375,"=",0.24236249999999998]
[null,"PB-7 Hamal Toilet",1,"X",1,"X",2.81,"X",0.15,"X",0.375,"=",0.15806249999999999]
[null,"PB-7 Office  Toilet",1,"X",1,"X",3.33,"X",0.15,"X",0.375,"=",0.18731249999999999]
[null,null,null,null,null,null,null,null,null,"TOTAL",null,"=",{"$f":"SUM(M201:M212)","v":6.3086999999999991}]
[]
[null,null,null,null,null,null,null,null,"     B.F.TOTAL",null,null,"=",{"$f":"SUM(M213)","v":6.3086999999999991}]
[null,"Roof Beam"]
[null,"On PB-1 & PB-9 (VER & S S.Room)   ",1,"X",3,"X",3.83,"X",0.23,"X",0.32500000000000001,"=",{"$f":"C217*E217*G217*I217*K217","v":0.85887750000000007}]
[null,"On PB - 1 & PB - 10 ( Office)   ",1,"X",2,"X",3.89,"X",0.23,"X",0.32500000000000001,"=",0.58155500000000004]
[null,"On PB-2 & PB-3 (VER & S S.Room)  ",1,"X",2,"X",2.12,"X",0.23,"X",0.32500000000000001,"=",0.31694000000000006]
[null,"On PB-2 & PB-3 (VER & S S.Room)  ",1,"X",2,"X",3.89,"X",0.23,"X",0.32500000000000001,"=",0.58155500000000004]
[null,"On PB-1, 6, 11 (Store  & Toilet )   ",1,"X",3,"X",2.62,"X",0.23,"X",0.32500000000000001,"=",0.58753500000000003]
[null,"On PB- 3 & 5 Office & Toilet",1,"X",2,"X",2.62,"X",0.23,"X",0.32500000000000001,"=",0.39169000000000004]
[null,"On PB - 2 & 4 Office & Store",1,"X",2,"X",3.37,"X",0.23,"X",0.32500000000000001,"=",0.50381500000000001]
[null,"On PB-1,8,12 Hamal Room & Toilet",1,"X",3,"X",3.77,"X",0.23,"X",0.32500000000000001,"=",0.84542250000000008]
[null,"PB-2 Hamal Room",1,"X",1,"X",3.89,"X",0.23,"X",0.32500000000000001,"=",0.29077750000000002]
[null,"PB-3 Hamal Toilet",1,"X",1,"X",2.81,"X",0.23,"X",0.32500000000000001,"=",0.2100475]
[null,"PB-7 Hamal Toilet",1,"X",1,"X",2.81,"X",0.23,"X",0.32500000000000001,"=",0.2100475]
[null,"PB-7 Office  Toilet",1,"X",1,"X",3.33,"X",0.23,"X",0.32500000000000001,"=",0.24891750000000001]
[null,"For Lintel",null,null,null,null,null,null,null,null,null,null,0]
[null,"W - 1",1,"X",9,"X",1.2,"X",0.23,"X",0.2,"=",0.49680000000000002]
[null,"V - 2",1,"X",4,"X",0.75,"X",0.23,"X",0.2,"=",0.13800000000000001]
[null,"V - 1",1,"X",1,"X",0.9,"X",0.23,"X",0.2,"=",4.1400000000000006E-2]
[null,"For Door D, D - 1 & D - 2",1,"X",7,"X",1.32,"X",0.23,"X",0.2,"=",0.42504000000000003]
[null,"D - 3",1,"X",3,"X",1.02,"X",0.23,"X",0.2,"=",0.14076000000000002]
[null,"For varanda Grill",1,"X",1,"X",2.5499999999999998,"X",0.23,"X",0.35,"=",0.20527499999999999]
[]
[null,null,null,null,null,null,null,null,null,"  TOTAL",null,"=",{"$f":"SUM(M215:M235)","v":13.383154999999999}]
[null,null,null,null,null,null,null,null,null,null,"SAY","=",{"$f":"ROUNDUP(M237,0)","v":14},"Cu.m."]
[]
[null,"Item No (16) :- Providing & laying in situ cement concrete 1:1.5:3  of trap metal for R. C. C. work in weathersheds & canopies as per detailed drg design as directed including dewatering if necessary centering formwork, compaction, finishing the formed surface with C. M. 1 : 3 of sufficient minimum thickness to give smooth finish and even surface or roughing if special finish is to be provided and curing etc. complete. (Excluding reinforcement) [Bd. F. 9/302]"]
[null,"Weathersheds & Lofts "]
[null,"Over W1            [ ( 0.10+0.125 )/2]",1,"X",8,"X",1.2,"X",0.45,"X",7.4999999999999997E-2,"=",{"$f":"C242*E242*G242*I242*K242","v":0.32400000000000001}]
[null,"Joint W1            [ ( 0.10+0.125 )/2]",1,"X",1,"X",2.4500000000000002,"X",0.45,"X",7.4999999999999997E-2,"=",8.2687499999999997E-2]
[null,"Over V2             [ ( 0.10+0.125 )/2]",1,"X",4,"X",0.6,"X",0.45,"X",7.4999999999999997E-2,"=",8.1000000000000003E-2]
[null,"Over V1",1,"X",1,"X",0.75,"X",0.45,"X",7.4999999999999997E-2,"=",2.5312500000000002E-2]
[null,"Over D1",1,"X",1,"X",1.1499999999999999,"X",0.45,"X",7.4999999999999997E-2,"=",3.8812499999999993E-2]
[null,"Over verandha greal",1,"X",1,"X",2.4500000000000002,"X",0.45,"X",7.4999999999999997E-2,"=",8.2687499999999997E-2]
[null,"Sides ",2,"X",10,"X",0.65,"X",0.45,"X",7.4999999999999997E-2,"=",0.43875000000000003]
[null,null,null,null,null,null,null,null,null,"  TOTAL",null,"=",{"$f":"SUM(M242:M248)+0.1","v":1.1732500000000001}]
[null,null,null,null,null,null,null,null,null,null,"SAY","=",{"$f":"ROUND(M249,1)","v":1.2},"Cu.m."]
[]
[null,"Item No. (17) :- Providing & laying in situ cement concrete 1:1.5:3  of trap metal for R. C. C. work in slabs as per detailed drawing and design as directed including dewatering if necessary centering, formwork, compaction finishing the formed surface with C. M. 1 : 3 of sufficient minimum thickness to give smooth finish and even surface or roughening if special finish is to be provided and curing etc. complete. (Excluding reinforcement) "]
[null,"Office slab",1,"X",1,"X",15.15,"X",7.2,"X",0.125,"=",{"$f":"C253*E253*G253*I253*K253","v":13.635}]
[null,"Loft in S.S.Room",1,"X",1,"X",3.89,"X",0.5,"X",0.1,"=",{"$f":"C254*E254*G254*I254*K254","v":0.19450000000000001}]
[null,"Loft in hamal.Room",1,"X",1,"X",3.89,"X",0.5,"X",0.1,"=",{"$f":"C255*E255*G255*I255*K255","v":0.19450000000000001}]
[null,"Loft in store Room",1,"X",1,"X",3.83,"X",0.5,"X",0.1,"=",{"$f":"C256*E256*G256*I256*K256","v":0.1915}]
[null,"For septic tank",null,null,null,null,null,null,null,null,null,"=",1]
[null,"Deductions:-           ",null,null,null,null,null,null,null,null,"TOTAL","=",{"$f":"SUM(M253:M257)","v":15.215499999999999}]
[null,"For Roof beam in slab (0.125 tk.)",0,"X",1,"X",7.2,"X",0.125,null,null,"=",{"$f":"(I259*G259*E259*C259)/G260","v":0}]
[null,null,null,null,null,null,0.45]
[null,null,null,null,null,null,null,null,"Deduction",null,"TOTAL","=",{"$f":"SUM(M259:M260)","v":0}]
[null,null,null,null,null,null,null,null,"GRAND",null,"TOTAL","=",{"$f":"M258-M261","v":15.215499999999999}]
[null,null,null,null,null,null,null,null,null,null,"SAY","=",{"$f":"ROUNDUP(M262,0)","v":16},"Cu.m."]
[]
[null,"Item No (18) :- Providing and fixing in position M. S. tor reinforcement of various diameters for R. C. C. foundations footing, columns, beams, lintels, weathersheds, canopy drops etc as per detailed design, drawing & schedule including cutting, bending, hooking the bars, binding with wires or tack welding and supporting as required etc. complete. (Bd. F. 17/306 )"]
[null,{"$f":"M263+M250+M238+M197+M189","v":48.552000000000007},"@",null,110,"=",{"$f":"B266*E266","v":5340.7200000000012},null,null,"  TOTAL",null,"=",{"$f":"G266/1000","v":5.340720000000001},"M.T."]
[null,null,null,null,null,null,null,null,null,null,"SAY","=",{"$f":"ROUNDUP(M266,0)","v":6},"M.T."]
[null,null,"-- 6 --"]
[]
[null,"Item No. (19) :- Providing II class B.B. masonary with conventional / I. s. type bricks in cement morter ( 1: 4 ) in half brick thick wall including longitudinal reinforcement of 2 bars of 6mm dia / 2 hoop iron strips 25mm x 1.6 mm at every III course properly bent & bounded at ends scaffolding, racking out joints and watering complete. [Bd.G.7 / P 316 ]"]
[null,"Between urinal &toilet"]
[null,"From GB top to roof slab bottom",1,"X",1,"X",1.5,"X",null,"X",3.65,"=",{"$f":"C272*E272*G272*K272","v":5.4749999999999996}]
[null,"From GB top to roof slab bottom",1,"X",1,"X",0.97,"X",null,"X",3.65,"=",{"$f":"C273*E273*G273*K273","v":3.5404999999999998}]
[null,null,null,null,null,null,null,null,null,"  TOTAL",null,"=",{"$f":"SUM(M272:M273)","v":9.0154999999999994}]
[null,null,null,null,null,null,null,null,null,null,"SAY","=",{"$f":"ROUNDUP(M274,0)","v":10},"Sq.m."]
[]
[]
[null,"Item No (20) :- Providing cement plaster 12 mm thick in C. M. 1 : 4 in single coat with neeru finish with even & smooth finish to concrete or brick surface in all positions including scaffolding curing etc. complete as directed. [Bd. L. 2/368 + Bd. L. 10]"]
[null,"Store room long",1,"X",2,"X",3.37,"X",null,"X",3.5,"=",{"$f":"C279*E279*G279*K279","v":23.59}]
[null,"Store room short",1,"X",2,"X",2.62,"X",null,"X",3.55,"=",{"$f":"C280*E280*G280*K280","v":18.602}]
[null,"Ceiling",1,"X",1,"X",3.37,"X",2.62,"X",null,"=",{"$f":"C281*E281*G281*I281","v":8.8294000000000015}]
[null,"S.S. room long",1,"X",2,"X",3.89,"X",null,"X",3.55,"=",{"$f":"C282*E282*G282*K282","v":27.619}]
[null,"S.S. room short",1,"X",2,"X",3.83,"X",null,"X",3.55,"=",{"$f":"C283*E283*G283*K283","v":27.192999999999998}]
[null,"Ceiling",1,"X",1,"X",3.89,"X",3.83,"X",null,"=",{"$f":"C284*E284*G284*I284","v":14.898700000000002}]
[null,"Staff room long (Office)",1,"X",2,"X",6.24,"X",null,"X",3.53,"=",{"$f":"C285*E285*G285*K285","v":44.054400000000001}]
[null,"Staff room short (Office)",1,"X",2,"X",3.77,"X",null,"X",3.53,"=",{"$f":"C286*E286*G286*K286","v":26.616199999999999}]
[null,"Ceiling",1,"X",1,"X",6.24,"X",3.77,"X",null,"=",{"$f":"C287*E287*G287*I287","v":23.524800000000003}]
[null,"Hamal room long",1,"X",2,"X",3.77,"X",null,"X",3.55,"=",{"$f":"C288*E288*G288*K288","v":26.766999999999999}]
[null,"Hamal room short",1,"X",2,"X",3.89,"X",null,"X",3.55,"=",{"$f":"C289*E289*G289*K289","v":27.619}]
[null,"Ceiling",1,"X",1,"X",3.89,"X",3.77,"X",null,"=",{"$f":"C290*E290*G290*I290","v":14.6653}]
[null,"Verandah long",1,"X",2,"X",3.83,"X",null,"X",3.55,"=",{"$f":"C291*E291*G291*K291","v":27.192999999999998}]
[null,"Verandah short",1,"X",2,"X",2.12,"X",null,"X",3.55,"=",{"$f":"C292*E292*G292*K292","v":15.052}]
[null,"Ceiling",1,"X",1,"X",3.83,"X",2.12,"X",null,"=",{"$f":"C293*E293*G293*I293","v":8.1196000000000002}]
[null,"Hamal Urinal:-. Long   ",1,"X",2,"X",3.77,"X",3.5,"X",null,"=",{"$f":"C294*E294*G294*I294","v":26.39}]
[null,"                      Short ",1,"X",4,"X",2.12,"X",null,"X",3.55,"=",{"$f":"C295*E295*G295*K295","v":30.103999999999999}]
[null,"                      Ceiling ",1,"X",1,"X",3.77,"X",2.12,"X",null,"=",{"$f":"C296*E296*G296*I296","v":7.9924000000000008}]
[null,"Hamal Urinal:-. Long   ",1,"X",2,"X",1.5,"X",3.5,"X",null,"=",{"$f":"C297*E297*G297*I297","v":10.5}]
[null,"                      Short ",1,"X",2,"X",0.97,"X",null,"X",3.55,"=",{"$f":"C298*E298*G298*K298","v":6.8869999999999996}]
[null,"Office toilet",1,"X",2,"X",2.64,"X",3.55,"X",null,"=",18.744]
[null,"Office toilet",1,"X",2,"X",0.97,"X",3.55,"X",null,"=",6.8869999999999996]
[null,"                      Ceiling ",1,"X",2,"X",2.62,"X",3.55,"X",null,"=",18.602]
[null,"Hamal Room Loft:-              Top ",1,"X",1,"X",3.18,"X",0.5,"X",null,"=",1.59]
[null,"                    Bottom",1,"X",2,"X",0.96499999999999997,"X",0.45,"X",null,"=",0.86849999999999994]
[null,"                    Bottom",1,"X",1,"X",1.02,"X",0.45,"X",null,"=",0.45900000000000002]
[null,"Store Room Loft:-              Top ",2,"X",3,"X",2.62,"X",null,"X",0.5,"=",{"$f":"C305*E305*G305*K305","v":7.86}]
[null,"Store Room Loft:-     WALL       ",2,"X",2,"X",2.62,"X",null,"X",0.5,"=",{"$f":"C306*E306*G306*K306","v":5.24}]
[null,"Door OFFSET",1,"X",2,"X",0.23,"X",null,"X",2.36,"=",{"$f":"C307*E307*G307*K307","v":1.0855999999999999}]
[null,"Soffits",1,"X",1,"X",2.0299999999999998,"X",0.23,"X",null,"=",{"$f":"C308*E308*G308*I308","v":0.46689999999999998}]
[null,"Deduction:-",null,null,null,null,null,null,null,"TOTAL",null,"=",{"$f":"SUM(M279:M308)","v":478.01979999999992}]
[null,"W1",0.5,"X",9,"X",0.9,"X",null,"X",1.5,"=",{"$f":"C310*E310*G310*K310","v":6.0749999999999993}]
[null,"V2",0.5,"X",4,"X",0.45,"X",null,"X",0.6,"=",0.54]
[null,"D1",0.5,"X",2,"X",1.02,"X",null,"X",2.36,"=",2.4072]
[null,"D1",1,"X",2,"X",1.02,"X",null,"X",2.36,"=",4.8144]
[null,"D2",1,"X",3,"X",1.02,"X",null,"X",2.06,"=",6.3036000000000003]
[null,"D3",1,"X",2,"X",0.76,"X",null,"X",2.06,"=",3.1312000000000002]
[null,null,null,null,null,null,null,null,"TOTAL DEDUCTION",null,null,"=",{"$f":"SUM(M310:M315)","v":23.2714}]
[null,null,null,null,null,null,null,null,"NET TOTAL",null,null,"=",{"$f":"M309-M316","v":454.74839999999995}]
[null,null,null,null,null,null,null,null,"SAY TOTAL QUANTITY",null,null,"=",{"$f":"ROUNDUP(M317,0)","v":455},"Sq.m."]
[]
[]
[null,"Item No (21) :- Providing sand faced plaster externally in cement mortar using approved screened sand, in all positions including base coat of 15mm thick in cement mortar 1:4 using waterproofing compound at 1kg per cement bag curing the same for not less than 2days and keeping the surface of the base coat rough to receive the sand faced treatment 6to8mm thick in cement mortar 1:4 finishing the surface by taking out grains and curing for fourteen days scaffolding etc.complete. (Bd.L.7/369)"]
[]
[null,"Out side plaster (Long wall)",1,"X",2,"X",14.65,"X",null,"X",4.5,"=",{"$f":"C323*E323*G323*K323","v":131.85}]
[null,"Out side plaster (Short wall)",1,"X",2,"X",6.7,"X",null,"X",4.5,"=",{"$f":"C324*E324*G324*K324","v":60.300000000000004}]
[null,"For chajje",null,null,null,null,null,null,null,null,null,"=",25]
[null,null,null,null,null,null,null,null,null,"TOTAL",null,"=",{"$f":"SUM(M323:M325)","v":217.15}]
[null,"Deduction"]
[null,"D",0.5,"X",2,"X",1.02,"X",null,"X",2.36,"=",{"$f":"C328*E328*G328*K328","v":2.4072}]
[null,"W1",0.5,"X",8,"X",0.9,"X",null,"X",1.5,"=",{"$f":"C329*E329*G329*K329","v":5.4}]
[null,"V2",0.5,"X",4,"X",0.45,"X",null,"X",0.6,"=",0.54]
[null,"G1",0.5,"X",1,"X",2.4,"X",null,"X",1.5,"=",1.7999999999999998]
[null,null,null,null,null,null,null,null,"TOTAL DEDUCTION",null,null,"=",{"$f":"SUM(M328:M331)","v":10.147200000000002}]
[null,null,null,null,null,null,null,null,"NET TOTAL",null,null,"=",{"$f":"M326-M332","v":207.00280000000001}]
[null,null,null,null,null,null,null,null,"SAY TOTAL QUANTITY",null,null,"=",{"$f":"ROUNDUP(M333,0)","v":208},"Sq.m."]
[]
[null,"Item No (22) :- Providing rough cast cement plster externally in two coats to concrete, brick or stone masonry surfaces in all positions with base coat of 12 to 15 mm. thick in C.M. 1:4 and rough cast treatment 12 mm. thick in proportion 1:1.5:3 including scaffolding and fourteen days curing etc. complete. [ Spec. No.:  Bd. L. 8/Page No. 370 ]( It.No. 12 / Page No. 370)"]
[null,"For windo and door portion (For architectural getup)"]
[null,"W ",1,"X",9,"X",0.9,"X",null,"X",2.5,"=",{"$f":"C338*E338*G338*K338","v":20.25}]
[null,"For varanda grill portion",1,"X",1,"X",2.4,"X",null,"X",2.5,"=",{"$f":"C339*E339*G339*K339","v":6}]
[null,"For door",1,"X",2,"X",1.02,"X",null,"X",1.25,"=",{"$f":"C340*E340*G340*K340","v":2.5499999999999998}]
[null,null,null,null,null,null,null,null,null,"  TOTAL",null,"=",{"$f":"SUM(M338:M340)","v":28.8}]
[null,null,null,null,null,null,null,null,null,null,"SAY ","=",{"$f":"ROUNDUP(M341,0)","v":29},"Sq.m."]
[]
[null,"Item No (23) :- Providing cement plaster 20 mm thick in C.M. 1:4( PLINTH)  with 1.5mm thick cement   finish to concrete /brick surface in all positions including scaffolding curing etc. complete as directed.(Bd.L.4/368)"]
[]
[null,"For Apron & plinth",1,"X",2,"X",14.65,"X",null,"X",1.8,"=",{"$f":"K346*G346*E346*C346","v":52.74}]
[null,null,1,"X",2,"X",6.7,"X",null,"X",1.8,"=",{"$f":"K347*G347*E347*C347","v":24.12}]
[null,"For septic tank",null,null,null,null,null,null,null,null,null,"=",25]
[null,null,null,null,null,null,null,null,null,"  TOTAL",null,"=",{"$f":"SUM(M346:M348)","v":101.86}]
[null,null,null,null,null,null,null,null,null,null,"SAY","=",{"$f":"ROUNDUP(M349,0)","v":102},"Sq.M."]
[]
[null,"Item No (24) :- Providing & applying cement paint  in three coats on plastered or masonary surface of approved manufacture & of approved colour including primer coat scafdfolding & preparing the surface complete. [ Bd. O. 8/406]"]
[null,"Qty as per I.No.15",null,null,null,null,null,null,null,null,null,null,{"$f":"M334","v":208}]
[null,null,null,null,null,null,null,null,"NET TOTAL",null,null,"=",{"$f":"M353","v":208}]
[null,null,null,null,null,null,null,null,"SAY TOTAL QUANTITY",null,null,"=",{"$f":"ROUNDUP(M354,0)","v":208},"Sq.m."]
[]
[]
[null,"Item No (25) :- Providing & applying oilbound distemper in three coats on plastered or masonary surface of approved manufacturer & of approved colour including primer coat scafolding & preparing the surface watering for two days complete. [Bd. P. 5/413]"]
[null,"Qty as per I.No.14",null,null,null,null,null,null,null,null,null,null,{"$f":"M318","v":455}]
[null,null,null,null,null,null,null,null,"NET TOTAL",null,null,"=",{"$f":"M359","v":455}]
[null,null,null,null,null,null,null,null,"SAY TOTAL QUANTITY",null,null,"=",{"$f":"ROUNDUP(M360,0)","v":455},"Sq.m."]
[]
[null,"Item No (26) :- Providing & applying whitewash three  coats on plastered or masonary surface including scafafolding & preparing the surface by brushing & brooming down complete. [Bd. P. 1/411]"]
[null,"For Ceiling O.B.D. is taken hence token provision is made",null,null,null,null,null,null,null,"  TOTAL",null,"=",10]
[null,null,null,null,null,null,null,null,null,null,"SAY","=",{"$f":"ROUNDUP(M364,0)","v":10},"Sq.m."]
[]
[null,"Item No (27) :- Providing & fixing in position solid core flush door single leaf 35 mm thick decorative type of exterior grade as per detailed drawing including superior Indian teak wood door frame 60 x 100 mm with ventilator as directed all necessary beads, moldings and lippings wrought iron hold fasts, chromium plated fixtures & fastenings without brass mortice lock including three coats of oilpainting as directed by Engineer – in charge [Bd. T. 34 P 499]"]
[null,"D1",1,"X",3,"X",1.02,"X",null,"X",2.36,"=",{"$f":"K368*G368*E368*C368","v":7.2216000000000005}]
[null,null,null,null,null,null,null,null,null,"  TOTAL",null,"=",{"$f":"SUM(M368)","v":7.2216000000000005}]
[null,null,null,null,null,null,null,null,null,null,"SAY","=",{"$f":"ROUNDUP(M369,0)","v":8},"Sq.m."]
[]
[null,"Item No (28) :-  Providing & fixing Country teak wood single leaf, second class fully panelled door, without ventilator as per detailed drawing including Iron Oxidiesed fixtures and fastenings and finishing the wood work with one coat of primer etc. including door frame 60 x 100 mm complete. Panels 12mm tk. exterior grade prelaminated particle boarf [Spec. No. Bd. T. 8/ P 482] (Item No. 6 / Page No. 81)"]
[null,"D2",1,"X",3,"X",1.02,"X",null,"X",2.06,"=",{"$f":"K373*G373*E373*C373","v":6.3035999999999994}]
[null,null,null,null,null,null,null,null,null,"  TOTAL",null,"=",{"$f":"SUM(M373)","v":6.3035999999999994}]
[null,null,null,null,null,null,null,null,null,null,"SAY","=",{"$f":"ROUNDUP(M374,0)","v":7},"Sq.m."]
[]
[null,"Item No (29) :-  Providing & fixing Country teak wood Double leaf, second class fully panelled framed and braced door,  with ventilator without / with Ironbars as per detailed drawing including the door frame 60 x 100 mm, Ironfixtures and fastenings and finishing with primer coat etc.complee [Spec. No. Bd. T. 19/ P 493]"]
[null,"D",1,"X",1,"X",1.02,"X",null,"X",2.36,"=",{"$f":"K378*G378*E378*C378","v":2.4072}]
[null,null,null,null,null,null,null,null,null,"  TOTAL",null,"=",{"$f":"SUM(M378)","v":2.4072}]
[null,null,null,null,null,null,null,null,null,null,"SAY","=",{"$f":"ROUNDUP(M379,0)","v":3},"Sq.m."]
[null,null,null,null,null,null,null,null,null,null,null,null,"`"]
[null,"Item No (30) :- Providing & fixing in position solid core flush door single leaf 32 mm thick decorative type of exterior grade as per detailed drawing including superior Indian teak woo door frame 60 x 100 mm without Ventilator as directed all necessary beads, moldings and lippings wrought iron hold fasts, chromium plated fixtures & fastening without brass mortice lock including three coats of oilpainting as directed by Engineer – in charge [ Bd. T. 36 P 500]"]
[null,"D3",1,"X",3,"X",0.72,"X",null,"X",2.06,"=",{"$f":"K383*G383*E383*C383","v":4.4496000000000002}]
[null,null,null,null,null,null,null,null,null,"  TOTAL",null,"=",{"$f":"SUM(M383:M383)","v":4.4496000000000002}]
[null,null,null,null,null,null,null,null,null,null,"SAY","=",{"$f":"ROUNDUP(M384,0)","v":5},"Sq.m."]
[]
[null,"Item No (31) :- providing & fixing in position teak wood wall cupboard plain planked with three teakwood shelves 50cm wide & 25 mm thick including teakwood frame of  50 mm x 75mm and shutters of 25 mm thick teak wood planks with 12mm thick & 75 mm wide ladges with C. P. fixtures and fastenings hold fasts, with three coats of oilpainting complete as directed by Engineer – in charge"]
[null,"Cupboard",1,"X",2,"X",0.9,"X",null,"X",2.2999999999999998,"=",{"$f":"K388*G388*E388*C388","v":4.1399999999999997}]
[null,null,null,null,null,null,null,null,null,"  TOTAL",null,"=",{"$f":"SUM(M388)","v":4.1399999999999997}]
[null,null,null,null,null,null,null,null,null,null,"SAY","=",{"$f":"ROUNDUP(M389,0)","v":5},"Sq.m."]
[]
[null,"Item No (32) : Providing & fixing M. S. grillwork for windows & ventilators upto 20 kg/sqm as per drawing including fixtures necessary welding and painting one coat of anticorrosive paint & two coats of oilpainting complete as directed [Bd. U1 P 537] "]
[null,"W1",1,"X",9,"X",0.9,"X",null,"X",1.5,"=",{"$f":"K393*G393*E393*C393","v":12.15}]
[null,"D1",1,"X",3,"X",1.02,"X",null,"X",0.3,"=",{"$f":"K394*G394*E394*C394","v":0.91799999999999993}]
[null,"Varanda gril",1,"X",1,"X",2.25,"X",null,"X",1.5,"=",{"$f":"K395*G395*E395*C395","v":3.375}]
[null,null,null,null,null,null,null,null,null,"  TOTAL",null,"=",{"$f":"SUM(M393:M395)","v":16.442999999999998}]
[null,null,null,null,null,null,null,null,null,null,"SAY","=",{"$f":"ROUNDUP(M396,0)","v":17},"Sq.m."]
[]
[null,"Item No (33) :- Providing hard Murum, cohesive non swelling materials in plinth in layers of 20 cms etc. complete as directed. [Only compacted thickness is payable]"]
[null,"Store room ",1,"X",1,"X",3.37,"X",2.62,"X",0.6,"=",{"$f":"K400*I400*G400*E400*C400","v":5.2976400000000003}]
[null,"S.S. room",1,"X",1,"X",3.89,"X",3.83,"X",{"$f":"K400","v":0.6},"=",{"$f":"K401*I401*G401*E401*C401","v":8.9392200000000006}]
[null,"Staff room ",1,"X",1,"X",6.24,"X",3.77,"X",0.6,"=",14.114880000000001]
[null,"Hamal room",1,"X",1,"X",3.89,"X",3.77,"X",0.6,"=",8.7991799999999998]
[null,"Verandah ",1,"X",1,"X",3.83,"X",2.12,"X",0.6,"=",4.8717600000000001]
[null,"Hamal Urinal.",1,"X",1,"X",3.18,"X",2.12,"X",0.6,"=",4.0449600000000006]
[null,"Office toilet",1,"X",2,"X",2.62,"X",3.55,"X",0.6,"=",11.161199999999999]
[null,"For appron",1,"X",1,"X",46,"X",0.67,"X",0.6,"=",{"$f":"K407*I407*G407*E407*C407","v":18.492000000000001}]
[null,null,null,null,null,null,null,null,null,"  TOTAL",null,"=",{"$f":"SUM(M400:M407)","v":75.72084000000001}]
[null,null,null,null,null,null,null,null,null,null,"SAY","=",{"$f":"ROUNDUP(M408,0)","v":76},"Sq.m."]
[null,"Item No (34) :- Providing & fixing in position for flooring, of vetrified tiles of approved quality & make 600 x 600 mm size & tk. for flooring  width on 1 : 4 cement plaster including cement float filling cement joints with neat cement slurry, curing, rubbing polishing & cleaning complete."]
[null,"Store room ",1,"X",1,"X",3.37,"X",2.62,"X",null,"=",{"$f":"I411*G411*E411*C411","v":8.8294000000000015}]
[null,"S.S. room",1,"X",1,"X",3.89,"X",3.83,"X",null,"=",{"$f":"I412*G412*E412*C412","v":14.898700000000002}]
[null,"Staff room ",1,"X",1,"X",6.24,"X",3.77,"X",null,"=",23.524800000000003]
[null,"Hamal room",1,"X",1,"X",3.89,"X",3.18,"X",null,"=",12.370200000000001]
[null,"Verandah ",1,"X",1,"X",3.83,"X",2.12,"X",null,"=",8.1196000000000002]
[null,"Hamal Urinal.",1,"X",1,"X",3.18,"X",2.12,"X",null,"=",6.7416000000000009]
[null,"Office toilet",1,"X",2,"X",2.62,"X",3.55,"X",null,"=",18.602]
[null,"DOOR",1,"X",6,"X",1.02,"X",0.23,"X",null,"=",1.4076]
[null,"D3",1,"X",4,"X",0.72,"X",0.23,"X",null,"=",0.66239999999999999]
[null,null,null,null,null,null,null,null,null,"  TOTAL",null,"=",{"$f":"SUM(M411:M419)","v":95.15630000000003}]
[null,null,null,null,null,null,null,null,null,null,"SAY","=",{"$f":"ROUNDUP(M420,0)","v":96},"Sq.m."]
[]
[null,"Item No (35) :- providing & fixing in position skirting or dado of vetrified tiles of approved quality & make 600 x 600 mm size & tk. for flooring  width on 1 : 4 cement plaster including cement float filling cement joints with neat cement slurry, curing, rubbing polishing & cleaning complete.",null,null,null,null,null,null,null,null,null,null,null,"Cu.m."]
[null,"Store room long",1,"X",2,"X",3.37,"X",null,"X",0.9,"=",{"$f":"C424*E424*G424*K424","v":6.0660000000000007}]
[null,"Store room short",1,"X",2,"X",2.62,"X",null,"X",0.9,"=",4.7160000000000002]
[null,"S.S. room long",1,"X",2,"X",3.89,"X",null,"X",0.9,"=",7.0020000000000007]
[null,"S.S. room short",1,"X",2,"X",3.83,"X",null,"X",0.9,"=",6.8940000000000001]
[null,"Staff room long (Office)",1,"X",2,"X",6.24,"X",null,"X",0.9,"=",11.232000000000001]
[null,"Staff room short (Office)",1,"X",2,"X",3.77,"X",null,"X",0.9,"=",6.7860000000000005]
[null,"Hamal room long",1,"X",2,"X",3.89,"X",null,"X",0.9,"=",7.0020000000000007]
[null,"Hamal room short",1,"X",2,"X",3.77,"X",null,"X",0.9,"=",6.7860000000000005]
[null,"Verandah long",1,"X",1,"X",3.83,"X",null,"X",0.9,"=",3.4470000000000001]
[null,"Verandah short",1,"X",2,"X",2.12,"X",null,"X",0.9,"=",3.8160000000000003]
[null,"Hamal Urinal:-. Long   ",1,"X",2,"X",3.83,"X",0.9,"X",null,"=",{"$f":"C434*E434*G434*I434","v":6.8940000000000001}]
[null,"                      Short ",1,"X",4,"X",2.12,"X",null,"X",0.9,"=",{"$f":"C435*E435*G435*K435","v":7.6320000000000006}]
[null,"Office toilet",1,"X",2,"X",2.64,"X",0.9,"X",null,"=",{"$f":"C436*E436*G436*I436","v":4.7520000000000007}]
[null,null,null,null,null,null,null,null,null,"TOTAL",null,"=",{"$f":"SUM(M424:M436)","v":83.025000000000006}]
[null,"Deduction:-"]
[null,"D1",1,"X",5,"X",1.02,"X",null,"X",{"$f":"K435","v":0.9},"=",{"$f":"C439*E439*G439*K439","v":4.59}]
[null,"D2",2,"X",1,"X",1.02,"X",null,"X",{"$f":"K436","v":0},"=",{"$f":"C440*E440*G440*K440","v":0}]
[null,"D3",1,"X",3,"X",0.76,"X",null,"X",0,"=",{"$f":"C441*E441*G441*K441","v":0}]
[null,null,null,null,null,null,null,null,"TOTAL DEDUCTION",null,null,"=",{"$f":"SUM(M439:M441)","v":4.59}]
[null,null,null,null,null,null,null,null,"NET TOTAL",null,null,"=",{"$f":"M437-M442","v":78.435000000000002}]
[null,null,null,null,null,null,null,null,"SAY TOTAL QUANTITY",null,null,"=",{"$f":"ROUNDUP(M443,0)","v":79},"Sq.m."]
[]
[null,"Item No (36 ) :- Providing & fixing in position sills of polished shahabad stone slabs 25mm to 30mm tk and required width on 1 : 4 cement float filling cement joints with neat cement slurry, curing, rubbing polishing & cleaning complete. [ Bd. M. 29/331]",null,null,null,null,null,null,null,null,null,null,null,"Cu.m."]
[null,"W",1,"X",9,"X",1.2,"X",null,"X",0.12,"=",{"$f":"K447*G447*E447*C447","v":1.2959999999999998}]
[null,"Below varandha grill",1,"X",1,"X",2.4500000000000002,"X",null,"X",0.12,"=",{"$f":"K448*G448*E448*C448","v":0.29399999999999998}]
[null,null,null,null,null,null,null,null,null,"   TOTAL",null,"=",{"$f":"SUM(M447:M448)","v":1.5899999999999999}]
[null,null,null,null,null,null,null,null,null,null,"SAY","=",{"$f":"ROUNDUP(M449,0)","v":2}]
[]
[null,"Item No (37 ) :- Providing & laying ceramic tiles of approved quality 20 cm x 20 cm x 7 mm in size   for flooring in required position laid on bed of 1 : 4 C. M.  including neat cement float, filling joints with neat white cement slurry, curing & cleaning complete as directed [Bd. M. 12/385]",null,null,null,null,null,null,null,null,null,null,null,"Cu.m."]
[null,"office & hamal urinal",1,"X",1,"X",2.12,"X",null,"X",3.77,"=",{"$f":"K453*G453*E453*C453","v":7.9924000000000008}]
[null,null,1,"X",1,"X",2.62,"X",null,"X",3.37,"=",{"$f":"K454*G454*E454*C454","v":8.8294000000000015}]
[null,"D2",1,"X",2,"X",1.02,"X",null,"X",0.23,"=",{"$f":"K455*G455*E455*C455","v":0.46920000000000001}]
[null,null,null,null,null,null,null,null,null,"   TOTAL",null,"=",{"$f":"SUM(M453:M455)","v":17.291000000000004}]
[null,null,null,null,null,null,null,null,null,null,"SAY","=",{"$f":"ROUNDUP(M456,0)","v":18}]
[null,null,"-- 11 --"]
[]
[null,"Item No (38) :- Providing & fixing white ceramic tiles of approved quality 20 cm x 20 cm x 7 thickness for dado & skirting in required positions on plaster of 1 : 4 cement morter including all specials required like round corner tiles, angles, cups etc. filling joints with white cement slurry, curing & cleaning complete. [Bd. M. 13/386]",null,null,null,null,null,null,null,null,null,null,null,"Sqm"]
[null,null,1,"X",2,"X",2.62,"X",null,"X",1.5,"=",{"$f":"K461*G461*E461*C461","v":7.86}]
[null,null,1,"X",2,"X",2.64,"X",null,"X",1.5,"=",7.92]
[null,null,1,"X",2,"X",1.95,"X",null,"X",1.5,"=",5.85]
[null,null,1,"X",2,"X",0.97,"X",null,"X",1.5,"=",2.91]
[null,null,1,"X",2,"X",3.77,"X",null,"X",1.5,"=",11.31]
[null,null,1,"X",2,"X",2.12,"X",null,"X",1.5,"=",6.36]
[null,null,1,"X",2,"X",2.12,"X",null,"X",1.5,"=",6.36]
[null,null,1,"X",2,"X",2.12,"X",null,"X",1.5,"=",6.36]
[null,null,1,"X",3,"X",0.15,"X",null,"X",1.5,"=",0.67499999999999993]
[null,null,null,null,null,null,null,null,null," TOTAL",null,"=",{"$f":"SUM(M461:M469)","v":55.604999999999997}]
[null,"Deduction"]
[null,"D2",1,"X",2,"X",1.02,"X",null,"X",1.5,"=",{"$f":"K472*G472*E472*C472","v":3.06}]
[null,"D3",1,"X",1,"X",0.72,"X",null,"X",1.5,"=",{"$f":"K473*G473*E473*C473","v":1.08}]
[null,null,null,null,null,null,null,null,null,null,null,"=",{"$f":"SUM(M472:M473)","v":4.1400000000000006}]
[null,null,null,null,null,null,null,null,null,null,"Net","=",{"$f":"M470-M474","v":51.464999999999996}]
[null,null,null,null,null,null,null,null,null,null,"SAY","=",{"$f":"ROUNDUP(M475,0)","v":52}]
[]
[null,"Item No (39) :- Providing & fixing Indian type white glazed Orissa type earthenware 580 x 440 mm water closet pan including S trap white earthenware foot rest cast iron soil & vent pipe upto the outside face of the wall 1:2:4 brickbat lime concrete bedding 10 Litre fibre highlevel tank flushing cistern with fittings, inlet pipe with stop tap, bracket for fixing the cistern 32 mm dia PVC pipe with fittings & clamps 20 mm dia G. I. Over flow pipe with mosquitoproof capping G. I. Chain  pull, painting of cistren & exposed pipes & fittings & making good walls & floor with enameled tank & PVC pipe as directed [Bd. V. 30/565]"]
[null,null,1,"x",2,null,null,null,null,null,null,"=",{"$f":"E479","v":2}]
[null,null,null,null,null,null,null,null,null,"  TOTAL",null,"=",{"$f":"SUM(M479)","v":2}]
[null,null,null,null,null,null,null,null,null,null,"SAY","=",{"$f":"ROUNDUP(M480,0)","v":2}]
[]
[null,"Item No (40) :- Providing and fixing European type white glazed earthenware coupled closet symphonic trap with symphonic low level white glazed 10litres cistern with black back lite seat with all necessary pipe connection etc. complete [Bd. V. 30/565]."]
[null,"W.C. pan Europian type",1,"x",1,null,null,null,null,null,null,"=",{"$f":"E484","v":1}]
[null,null,null,null,null,null,null,null,null,"  TOTAL",null,"=",{"$f":"SUM(M484)","v":1}]
[null,null,null,null,null,null,null,null,null,null,"SAY","=",{"$f":"ROUNDUP(M485,0)","v":1}]
[]
[null,"Item No(41) :- Providing & fixing white glazed wash hand basin of 55 x 40 cms size including cold water pillar tap brackets, rubber plug & brass chain, stop tap & necessary pipe connections including PVC vest pipe & trap upto outside face of the wall. [Bd. V. 30 / P 565]"]
[null,null,1,"x",2,null,null,null,null,null,null,"=",{"$f":"E489","v":2}]
[null,null,null,null,null,null,null,null,null,"  TOTAL",null,"=",{"$f":"SUM(M489)","v":2}]
[null,null,null,null,null,null,null,null,null,null,"SAY","=",{"$f":"M489","v":2}]
[]
[null,"Item No (42) :- Providing & fixing 10cms Rigid  C.I. Nahani trap including C.I Grating bend & piece of C.I. Pipe upto the outside face of the wall complete"]
[null,null,1,"x",3,null,null,null,null,null,null,"=",{"$f":"E494","v":3}]
[null,null,null,null,null,null,null,null,null,"  TOTAL",null,"=",{"$f":"SUM(M494)","v":3}]
[null,null,null,null,null,null,null,null,null,null,"SAY","=",{"$f":"ROUNDUP(M495,0)","v":3}]
[]
[null,"Item No (43) :- Providing & fixing 15 x 10cms salt glazed stoneware gully trap in C. C. 1:4:8 outside the building including cast iron grating in the sink, connecting glazed stoneware pipe, brick masonary chamber and cast iron lead & cast iron grating for gully trap. [bd. V. 38 / P 572]"]
[null,null,1,"x",2,null,null,null,null,null,null,"=",{"$f":"E499","v":2}]
[null,null,null,null,null,null,null,null,null,"  TOTAL",null,"=",{"$f":"SUM(M499)","v":2}]
[null,null,null,null,null,null,null,null,null,null,"SAY","=",{"$f":"ROUNDUP(M500,0)","v":2}]
[]
[null,null,null,null,null,null,null,null,null,null,null,null,"-- 12 --"]
[null,null,"-- 12 --"]
[]
[null,"Item No (44 ) :- Providing & constructing brick masonary inspection chamber 60 x 45cms including 1:4:8  C. C. foundation 1:2:4 cement concrete channels half round G S W pipes, brick masonary, plastering from inside with frame fixed in cement concrete etc. complete with R. C. C. cover. [Bd. V. 43 / P 574]"]
[null,null,1,"x",6,null,null,null,null,null,null,"=",{"$f":"E507","v":6}]
[null,null,null,null,null,null,null,null,null,"  TOTAL",null,"=",{"$f":"SUM(M507)","v":6}]
[null,null,null,null,null,null,null,null,null,null,"SAY","=",{"$f":"ROUNDUP(M508,0)","v":6}]
[]
[null,"tem No (45) :- Providing Soak pit including excavating and filling with brickbat [Bd. V. 46 / P 576]"]
[null,null,1,"x",1,null,null,null,null,null,null,"=",{"$f":"E512","v":1}]
[null,null,null,null,null,null,null,null,null,"  TOTAL",null,"=",{"$f":"SUM(M512)","v":1}]
[null,null,null,null,null,null,null,null,null,null,"SAY","=",{"$f":"ROUNDUP(M513,0)","v":1}]
[]
[null,"Item No.(46):-Providing & fixing hume pipe septic tank 900 mm diameterwith vent pipe and cap including necessary fittings (excuding excavation and laying) Bd.V.45 Page No.575"]
[null,null,1,"x",1,null,null,null,null,null,null,"=",{"$f":"E517","v":1}]
[null,null,null,null,null,null,null,null,null,"  TOTAL",null,"=",{"$f":"SUM(M517)","v":1}]
[null,null,null,null,null,null,null,null,null,null,"SAY","=",{"$f":"ROUNDUP(M518,0)","v":1}]
[]
[null,"Item No (47) :- Providing & laying 110 MM dia U.P.V.C. SOIL / VENT / WASTE SWR pipesalt glazed stoneware pipe including fittings such as bends, tees, single junction, double junction laying, jointing ( including excavation & refilling the trenches) complete [Bd. V. 39 / P 573] "]
[null,null,1,"X",1,"X",10,"X",null,"X",null,"=",{"$f":"C522*E522*G522","v":10}]
[null,null,null,null,null,null,null,null,null,"  TOTAL",null,"=",{"$f":"SUM(M522)","v":10}]
[null,null,null,null,null,null,null,null,null,null,"SAY","=",{"$f":"ROUNDUP(M523,0)","v":10}]
[]
[null,"Item No (48) :- Providing & fixing stainess steel sink 600 mm x 450 mm x 250 mm including all connection of the G.I. supply and lead waste pipes upto the out side face of the wall, cold water chromium plated screw down bib tap, rolled steel on C.I. brackets, rubber plug with chain and stop tap etc. complete. [Spec. No. Bd. V. 31 / P.No. 566] (It.No. 25 / P.No. 113) "]
[null,null,1,"X",1,"X",null,"X",null,"X",null,"=",1]
[null,null,null,null,null,null,null,null,null,"  TOTAL",null,"=",{"$f":"SUM(M527)","v":1}]
[null,null,null,null,null,null,null,null,null,null,"SAY","=",{"$f":"ROUNDUP(M528,0)","v":1}]
[]
[null,"Item No (49) :- Providing & laying in trenches 15 mm dia heavy grade (type) having embossed as ISI marked G. I. Pipes weight of 1.25 kg/Mtrs. with screwed socket joints & necessary G. I. Fittings such as sockets, backnuts, elbows, bends, tees, reducers, enlargers, plugs, clamps etc including necessary drilling holes in walls, slabs etc. and remaking good the demolished portion to restore the same in original condition neatly and  primer providing & applying anticorrosive primer  paint and two coats of oilpaintings complete "]
[null,null,1,"X",1,"X",50,"X",null,"X",null,"=",{"$f":"C532*E532*G532","v":50}]
[null,null,null,null,null,null,null,null,null,"  TOTAL",null,"=",{"$f":"SUM(M532)","v":50}]
[null,null,null,null,null,null,null,null,null,null,"SAY","=",{"$f":"ROUNDUP(M533,0)","v":50}]
[]
[null,"Item No (50) :- Providing & laying in trenches 20 mm dia heavy grade (type) having embossed as ISI marked G. I. Pipes weight of 1.25 kg/Mtrs. with screwed socket joints & necessary G. I. Fittings such as sockets, backnuts, elbows, bends, tees, reducers, enlargers, plugs, clamps etc including necessary drilling holes in walls, slabs etc. and remaking good the demolished portion to restore the same in original condition neatly and  primer providing & applying anticorrosive primer  paint and two coats of oilpaintings complete "]
[null,null,1,"X",1,"X",50,"X",null,"X",null,"=",{"$f":"C537*E537*G537","v":50}]
[null,null,null,null,null,null,null,null,null,"  TOTAL",null,"=",{"$f":"SUM(M537)","v":50}]
[null,null,null,null,null,null,null,null,null,null,"SAY","=",{"$f":"ROUNDUP(M538,0)","v":50}]
[]
[null,"Item No (51 ) :- Providing & fixing on walls, ceiling, flooring, 15 mm dia heavy grade (type) having embossed as ISI marked G. I. Pipes weight of 1.48 kg/Rms. with screwed socket joints & necessary G. I. Fittings such as sockets, backnuts, elbows, bends, tees, reducers, enlargers, plugs, clamps etc including necessary drilling holes in walls, slabs etc. and remaking good the demolished portion to restore the same in original condition neatly and providing & applying anticorrosive primer oilpaint and two coats of oilpaintings complete. [Bd. V. 5 / P 551] "]
[null,null,1,"X",1,"X",10,"X",null,"X",null,"=",{"$f":"C542*E542*G542","v":10}]
[null,null,null,null,null,null,null,null,null,"  TOTAL",null,"=",{"$f":"SUM(M542)","v":10}]
[null,null,null,null,null,null,null,null,null,null,"SAY","=",{"$f":"M542","v":10}]
[]
[null,"Item No (52 ) :- Providing & laying in treches 25 mm dia heavy  grade (type) having embossed as ISI marked G. I. Pipes weight of 2.49 kg/Rms. with screwed socket joints & necessary G. I. Fittings such as sockets, backnuts, elbows, bends, tees, reducers, enlargers, plugs, clamps etc including necessary drilling holes in walls, slabs etc. and remaking good the demolished portion to restore the same in original condition neatly and providing & applying anticorrosive primer oilpaint and two coats of oilpaintings complete. [Bd. V. 5 / P 551]"]
[null,null,1,"X",1,"X",5,"X",null,"X",null,"=",{"$f":"C547*E547*G547","v":5}]
[null,null,null,null,null,null,null,null,null,"  TOTAL",null,"=",{"$f":"SUM(M547)","v":5}]
[null,null,null,null,null,null,null,null,null,null,"SAY","=",{"$f":"ROUNDUP(M548,0)","v":5}]
[]
[null,"Item No (53) :- Providing & fixing on walls, ceiling, flooring, 25mm dia heavy grade (type) having embossed as ISI marked G. I. Pipes weight of  2.49  kg/Mtre. with screwed socket joints & necessary G. I. Fittings such as sockets, backnuts, elbows, bends, tees, reducers, enlargers, plugs, clamps etc including necessary drilling holes in walls, slabs etc. and remaking good the demolished portion to restore the same in original condition neatly and providing & applying anticorrosive primer oilpaint and two coats of oilpaintings complete. [Bd. V. 5 / P 551] "]
[null,null,1,"X",1,"X",5,"X",null,"X",null,"=",{"$f":"C552*E552*G552","v":5}]
[null,null,null,null,null,null,null,null,null,"  TOTAL",null,"=",{"$f":"SUM(M552)","v":5}]
[null,null,null,null,null,null,null,null,null,null,"SAY","=",{"$f":"ROUNDUP(M553,0)","v":5},"R M "]
[]
[null,"Item No (54 ) :- Providing & fixing on walls, ceiling, flooring, 20mm dia heavy grade (type) having embossed as ISI marked G. I. Pipes weight of 1.93 kg/Mtre. with screwed socket joints & necessary G. I. Fittings such as sockets, backnuts, elbows, bends, tees, reducers, enlargers, plugs, clamps etc including necessary drilling holes in walls, slabs etc. and remaking good the demolished portion to restore the same in original condition neatly and providing & applying anticorrosive primer oilpaint and two coats of oilpaintings complete. [Bd. V. 5 / P 551] "]
[null,null,1,"X",1,"X",5,"X",null,"X",null,"=",{"$f":"C557*E557*G557","v":5}]
[null,null,null,null,null,null,null,null,null,"  TOTAL",null,"=",{"$f":"SUM(M557)","v":5}]
[null,null,null,null,null,null,null,null,null,null,"SAY","=",{"$f":"ROUNDUP(M558,0)","v":5},"R M "]
[]
[null,"Item No (55) :- Providing & fixing in position 45 x 55 cms high class mirror over wash hand basin including all accessories, and necessary fittings etc. Complete as directed."]
[null,"For gate",1,"x",2,null,null,null,null,null,null,"=",{"$f":"E562","v":2}]
[null,null,null,null,null,null,null,null,null,"  TOTAL",null,"=",{"$f":"SUM(M562)","v":2}]
[null,null,null,null,null,null,null,null,null,null,"SAY","=",{"$f":"ROUNDUP(M563,0)","v":2}]
[]
[null,"Item No (56) :- Providing & fixing in position cast iron oxidised brackets mounted on country cut teak wood plank of size 90 x10 x 2.5 cms duly polished & fixed on wall properly etc. complete"]
[null,null,1,"x",10,null,null,null,null,null,null,"=",{"$f":"E567","v":10}]
[null,null,null,null,null,null,null,null,null,"  TOTAL",null,"=",{"$f":"SUM(M567)","v":10}]
[null,null,null,null,null,null,null,null,null,null,"SAY","=",{"$f":"M568","v":10}]
[]
[null,"Item No (57) :- Providing & fixing H. D. P container one piece mouled watertank made out of low density polyethler and build corrugations inclusive of delivery upto destination housing fixing of accessories such as inlet, outlet, overflow inclusive of all taxes as directed."]
[null,null,1,"X",2,"X",1000,"X",null,"X",null,"=",{"$f":"C572*E572*G572","v":2000}]
[null,null,null,null,null,null,null,null,null,"  TOTAL",null,"=",{"$f":"SUM(M572)","v":2000}]
[null,null,null,null,null,null,null,null,null,null,"SAY","=",{"$f":"ROUNDUP(M573,0)","v":2000},"Ltr."]
[]
[null,"Item No (58 ) :- Providing & fixing 15 mm dia screw down bib / stop tap of brass including necessary socket, union, nuts complete. [Bd. V. 8 / P 554]"]
[null,null,1,"x",5,null,null,null,null,null,null,"=",{"$f":"E577","v":5},"No."]
[null,null,null,null,null,null,null,null,null,"  TOTAL",null,"=",{"$f":"SUM(M577)","v":5}]
[null,null,null,null,null,null,null,null,null,null,"SAY","=",{"$f":"ROUNDUP(M578,0)","v":5}]
[]
[null,"Item No (59) :- Providing, construction and erecting in position flag post as per drawing and design as directed by Engineer in charge"]
[null,null,1,"x",1,null,null,null,null,null,null,"=",{"$f":"E582","v":1},"No."]
[null,null,null,null,null,null,null,null,null,"  TOTAL",null,"=",{"$f":"SUM(M582)","v":1}]
[null,null,null,null,null,null,null,null,null,null,"SAY","=",{"$f":"ROUNDUP(M583,0)","v":1}]
[null,"Item no (60 ) :- Providing & constructing water platform as per drawing & design as directed by Engineer in charge."]
[null,null,1,"x",1,null,null,null,null,null,null,"=",{"$f":"E586","v":1},"No."]
[null,null,null,null,null,null,null,null,null,"  TOTAL",null,"=",{"$f":"SUM(M586)","v":1}]
[null,null,null,null,null,null,null,null,null,null,"SAY","=",{"$f":"M587","v":1}]
[]
[null,"Item No. 61  :-  Providing and laying water proof treatment of terrace slab with B.B.Coba "]
[null,null,1,"X",1,"X",15.15,"X",7.2,"X",null,"=",{"$f":"I591*G591*E591*C591","v":109.08}]
[null,null,null,null,null,null,null,null,null,null,null,"=",5]
[null,null,null,null,null,null,null,null,null,"  TOTAL",null,"=",{"$f":"SUM(M591:M592)","v":114.08}]
[null,null,null,null,null,null,null,null,null,null,"SAY","=",{"$f":"ROUNDUP(M593,0)","v":115},"Sqm."]
[]
[null,"Item No (62) :- Providing & fixing 15mm dia. Screw down whealed stop tap of gun metal / brass including necessary  socket / union nuts etc. complete. [Bd.V.9/555]"]
[null,null,1,"x",1,null,null,null,null,null,null,"=",{"$f":"E597","v":1}]
[null,null,null,null,null,null,null,null,null,"  TOTAL",null,"=",{"$f":"SUM(M597)","v":1}]
[null,null,null,null,null,null,null,null,null,null,"SAY","=",{"$f":"ROUNDUP(M598,0)","v":1},"No."]
[]
[null,"Item No (63) :- Providing & fixing 25mm dia. Screw down whealed stop tap of gun metal / brass including necessary  socket / union nuts etc. complete.[Bd.V.9/555]"]
[null,null,1,"x",1,null,null,null,null,null,null,"=",{"$f":"E602","v":1}]
[null,null,null,null,null,null,null,null,null,"  TOTAL",null,"=",{"$f":"SUM(M602)","v":1}]
[null,null,null,null,null,null,null,null,null,null,"SAY","=",{"$f":"ROUNDUP(M603,0)","v":1},"No."]
[null,"Item No (64) :- Providing & fixing 20mm dia. Screw down whealed stop tap of gun metal / brass including necessary  socket / union nuts etc. complete.[Bd.V.9/555]"]
[null,null,1,"x",1,null,null,null,null,null,null,"=",{"$f":"E606","v":1}]
[null,null,null,null,null,null,null,null,null,"  TOTAL",null,"=",{"$f":"SUM(M606)","v":1}]
[null,null,null,null,null,null,null,null,null,null,"SAY","=",{"$f":"ROUNDUP(M607,0)","v":1},"No."]
[]
[null,"Item No (65) :- Providing &  fixing in position alluminium exctruded section two track sliding window up to 1.5 m. ht. outer frame made from section of over all size 62 x 45 mm with fixed vintilator  fully glazed of any size with powder coating as per detailed drawing and as directed by Engineer-in-charge with all necessary alluminium section including necessary fixtures and fastening such as 5 mm thick clear glass etc. complete. ( as directed by Engineer-in-charge )"]
[null,null,1,"X",9,"X",1.2,"X",null,"X",1.5,"=",{"$f":"K611*G611*E611*C611","v":16.2}]
[null,null,null,null,null,null,null,null,null,"  TOTAL",null,"=",{"$f":"SUM(M611:M611)","v":16.2}]
[null,null,null,null,null,null,null,null,null,null,"SAY","=",{"$f":"ROUNDUP(M612,0)","v":17},"Sq.M"]
[null,"Item No (66) :- Providing 25x30mm thick partions of polished black kadappa stone slab of approved shapes, quality and colour for platform  urinals, including cutting holes of reqauired sizes in the appropriate places to receive pipes etc., fixing in cement mortar 1:3 curing and cleaning complete. [Bd.M.35 / 393]"]
[null,"Urinal",1,"X",2,"X",0.45,"X",null,"X",1.4,"=",{"$f":"C615*E615*G615*K615","v":1.26}]
[null,"On cup board",1,"X",2,"X",0.5,"X",null,"X",1.1000000000000001,"=",{"$f":"C616*E616*G616*K616","v":1.1000000000000001}]
[null,"For sink",1,"X",1,"X",1.8,"X",null,"X",0.6,"=",{"$f":"C617*E617*G617*K617","v":1.08}]
[null,null,null,null,null,null,null,null,null,"   TOTAL",null,"=",{"$f":"SUM(M615:M617)","v":3.4400000000000004}]
[null,null,null,null,null,null,null,null,null,null,"SAY","=",{"$f":"ROUNDUP(M618,0)","v":4},"Sq.M"]
[null,"Item No (67) :- Providing & fixing 20 mm dia.  alluminuim powder coated palemat rod including fixtures as directed."]
[null,"W",1,"x",1,"x",9,"x",1.5,null,null,"=",{"$f":"I621*G621*E621*C621","v":13.5}]
[null,"D1 & D2",1,"x",1,"x",5,"x",1.32,null,null,"=",{"$f":"I622*G622*E622*C622","v":6.6000000000000005}]
[null,null,null,null,null,null,null,null,null,"  TOTAL",null,"=",{"$f":"SUM(M621:M622)","v":20.100000000000001}]
[null,null,null,null,null,null,null,null,null,null,"SAY","=",{"$f":"ROUNDUP(M623,0)","v":21},"Rmt."]
[null,"Item No  68 :-  Providing & fixing white glazed earthenware semi stall type Urinals without cistern with inlet pipes stop tap, UPVC flush pipe, with fittings and flushing arrangement including UPVC soil pipe, UPVC trap and soil pipe connection upto the outside face of the wall, making good to damaged surface testing etc. complete. (Prior approval of sample and brand by Ex. Engineer is necessary befor use.)  ( Spec.No. :  As directed by Engineer - in - Charge)                                      "]
[null,null,1,"x",2,null,null,null,null,null,null,"=",{"$f":"E626*C626","v":2}]
[null,null,null,null,null,null,null,null,null,"  TOTAL",null,"=",{"$f":"SUM(M626)","v":2}]
[null,null,null,null,null,null,null,null,null,null,"SAY","=",{"$f":"ROUNDUP(M627,0)","v":2},"No."]
[null,"Item No (69): - Conveying the materials obtained from excavation including laying in layers, breaking clods, dressing to the required lines, curves, grades and section for all leads up to 3 Km. from the site of excavation to the site of deposition  aeay from complex as directed. (Rd.18 Page No. 197)"]
[null,null,null,null,null,null,null,null,null,"  TOTAL",null,"=",{"$f":"M35+M42+M99","v":{"$error":"#REF!"}}]
[null,null,null,null,null,null,null,null,null,null,"SAY","=",{"$f":"ROUNDUP(M630,0)","v":{"$error":"#REF!"}},"Cu.m."]
[]
[null,"Item No (70) :- Filling in plinth with approved excavated stuff obtained from departmental land including watering, compacting etc. complete as directed.(Bd. A.10/262)"]
[null,"Qty received from excavation",null,null,null,null,null,null,null,"  TOTAL",null,"=",5]
[null,null,null,null,null,null,null,null,null,null,"SAY","=",{"$f":"ROUNDUP(M634,0)","v":5},"Cu.m."]
[]
[null,"Item No (71) : - Providing & laying stone metal layer of 20 cm thickness with 60 mm over size metal 65% and 40 mm size metal 35% with sand or stone chips spreading & leveling handpacking complete.[Rd.22/201,Rd.20/200 &Rd.20/205 ]"]
[null,"Column No.F-1",0,"X",12,"X",1.4,"X",1.5,"X",0.6,"=",{"$f":"K638*I638*G638*E638*C638","v":0}]
[null,"Column No. F-2",0,"X",3,"X",1.5,"X",1.7,"X",{"$f":"K638","v":0.6},"=",{"$f":"K639*I639*G639*E639*C639","v":0}]
[null,"In side ",1,"X",1,"X",14.09,"X",6.24,"X",0.15,"=",{"$f":"K640*I640*G640*E640*C640","v":13.188239999999999}]
[null,"For Apron",1,"X",2,"X",16.649999999999999,"X",0.67,"X",0.15,"=",{"$f":"K641*I641*G641*E641*C641","v":3.3466499999999999}]
[null,null,1,"X",2,"X",6.7,"X",0.67,"X",0.15,"=",{"$f":"K642*I642*G642*E642*C642","v":1.3467}]
[null,null,null,null,null,null,null,null,null,"  TOTAL",null,"=",{"$f":"SUM(M638:M642)","v":17.881589999999996}]
[null,null,null,null,null,null,null,null,null,null,"SAY","=",{"$f":"ROUNDUP(M643,0)","v":18},"Cu.m."]
[]
[null,"Item No (72): - Providing & laying in situ cement concrete 1:2:4 of trap metal for floor bedding laid to proper level & slope to suit the items of tremix dewatering concrete flooring items. [Bd.E.1/287]"]
[null,"For Apron",1,"X",2,"X",16.649999999999999,"X",0.67,"X",0.1,"=",{"$f":"K647*I647*G647*E647*C647","v":2.2311000000000001}]
[null,null,1,"X",2,"X",6.7,"X",0.67,"X",0.1,"=",{"$f":"K648*I648*G648*E648*C648","v":0.89780000000000004}]
[null,null,null,null,null,null,null,null,null,"  TOTAL",null,"=",{"$f":"SUM(M647:M648)","v":3.1289000000000002}]
[null,null,null,null,null,null,null,null,null,null,"SAY","=",{"$f":"ROUNDUP(M649,0)","v":4},"Cu.m."]
[]
[null,"Item No (73) :-  Providing & laying 20 to 25 mm th. Polished shahabad stone slabs for treads & risers of steps & staircases with rounded nosing for the treads on a bed of 1:4 C.M. including cement float, filling joints with neat cement slurry,curring,polishing & cleaning complete.(Bd. M.22/390)"]
[null,null,24,"X",1,"X",1.5,"X",null,"X",0.15,"=",{"$f":"C653*E653*G653*K653","v":5.3999999999999995}]
[null,null,24,"X",1,"X",1.5,"X",null,"X",0.3,"=",10.799999999999999]
[null,null,3,"X",1,"X",1.5,"X",null,"X",0.15,"=",0.67499999999999993]
[null,null,2,"X",1,"X",1.5,"X",null,"X",0.3,"=",0.89999999999999991]
[null,null,3,"X",1,"X",1.1000000000000001,"X",null,"X",0.15,"=",0.495]
[null,null,2,"X",1,"X",1.1000000000000001,"X",null,"X",0.3,"=",0.66]
[null,null,3,"X",1,"X",0.9,"X",null,"X",0.15,"=",0.40500000000000003]
[null,null,2,"X",1,"X",0.9,"X",null,"X",0.3,"=",0.54]
[null,null,null,null,null,null,null,null,null,"  TOTAL",null,"=",{"$f":"SUM(M653:M660)","v":19.875}]
[null,null,null,null,null,null,null,null,null,null,"SAY","=",{"$f":"ROUNDUP(M661,0)","v":20},"Sq.M"]
[]
[]
[null,"Item No (74) :-  Providing & fixing chromium plated towel rod 16 mm dia. and 75 Cm in length including all accessories etc. complete  ( As directed by Engineer incharge ) ( It No..49/Page No. 119)"]
[null,null,null,null,null,null,1,"X",2,"X",null,"=",{"$f":"I666*G666","v":2}]
[null,null,null,null,null,null,null,null,null,"  TOTAL",null,"=",{"$f":"SUM(M666:M666)","v":2}]
[null,null,null,null,null,null,null,null,null,null,"SAY","=",{"$f":"ROUNDUP(M667,0)","v":2},"Nos."]
[null,null,"-- 16 --"]
[]
[null,"Item No (75) :-  Providing & fixing U.P.S.V. Soil / vent / waste pipe 75 mm dia.of approved make with standing min. pressure of 4 Kg. / Cm. Sq. from standard manufactres with necessary fixture and fittings such as bend, tees, single junction, double junction, slotted vent offsets on walls or in the ground including excavation, laying refilling the trench etc. complete. As directed by Engineer incharge (BDV - 36 C ) ( It No..32/Page No. 115)"]
[null,null,null,null,null,null,1,"X",5,"X",null,"=",{"$f":"I672*G672","v":5}]
[null,null,null,null,null,null,null,null,null,"  TOTAL",null,"=",{"$f":"SUM(M672:M672)","v":5}]
[null,null,null,null,null,null,null,null,null,null,"SAY","=",{"$f":"ROUNDUP(M673,0)","v":5},"Rmt."]
[]
[null,"Item No (76) :-  Providing, laying & fixing  C.P.V.C pipe 15 mm dia.on wall (with standing 4 Kg. to 6 Kg./ Cm. Sq. pressure) with fittings such as bend, tees, reducers, clamps etc. including necessary excavation trench filling etc. complete. As directed by Engineer incharge (BDV - 60 A ) ( It No..47/Page No. 118)"]
[null,null,null,null,null,null,1,"X",10,"X",null,"=",{"$f":"I677*G677","v":10}]
[null,null,null,null,null,null,null,null,null,"  TOTAL",null,"=",{"$f":"SUM(M677:M677)","v":10}]
[null,null,null,null,null,null,null,null,null,null,"SAY","=",{"$f":"ROUNDUP(M678,0)","v":10},"Rmt."]
[]
[null,"Item No (77) :-  Providing &  fixing  a set of 5 fire buckets of special quality 0.03 m diameter including painting lettering & providing  M.S. stand, Iron hooks & locking arrangements & three coats of white zince paint for stand  etc. complete. as per drawing. As directed by Engineer incharge ( It No..51/Page No. 131)"]
[null,null,null,null,null,null,1,"X",1,"X",null,"=",{"$f":"I682*G682","v":1}]
[null,null,null,null,null,null,null,null,null,"  TOTAL",null,"=",{"$f":"SUM(M682:M682)","v":1}]
[null,null,null,null,null,null,null,null,null,null,"SAY","=",{"$f":"ROUNDUP(M683,0)","v":1},"No."]
[]
[null,"Item No (78) :-  Providing & fabricating cycle stand made up of M.S. Angle 50 x 50 x 6 mm & 16 mm diameter including cuting, joining, welding & prepring as per drawing including oil painting in three coats.  As directed by Engineer incharge "]
[null,null,null,null,null,null,1,"X",1,"X",null,"=",{"$f":"I687*G687","v":1}]
[null,null,null,null,null,null,null,null,null,"  TOTAL",null,"=",{"$f":"SUM(M687:M687)","v":1}]
[null,null,null,null,null,null,null,null,null,null,"SAY","=",{"$f":"ROUNDUP(M688,0)","v":1},"No."]
[]
[null,"Item No (79) :- Providing and fixing collapsible steel gate in one/two leaves with hot rolled vertical channels of 18x9x3mm minimum size, crossings of M.S.flats of size 18x5mm Tor E secti on for runner of minimum 40x6mm size for flange, M.S.flat for top runner of minimum size 40x12mm with roller wheels confirming to grade F.G.150 fitted with snap headed rivets of minimum size 6mm max. spacing of vertical channels be 100mm enclosed gate position and clear space of 150mm between two sets of crossings with holdfasts, stoppers, spaces, handles, locking arrangement and one coat of red lead primer and oil painting etc. complete. (I.S. 10521 1983).(BDT.57)"]
[null,null,null,null,null,null,2,"X",2.3199999999999998,"X",null,"=",{"$f":"I692*G692","v":4.6399999999999997}]
[null,null,null,null,null,null,null,null,null,"  TOTAL",null,"=",{"$f":"SUM(M692:M692)","v":4.6399999999999997}]
[null,null,null,null,null,null,null,null,null,null,"SAY","=",{"$f":"ROUNDUP(M693,0)","v":5},"No."]

{"sheet":"Mtrs CW","index":20,"n_rows":1177,"n_cols":16384,"rows_kept":1177,"cut":false,"hidden":true,"merged":[[1132,1,1132,12],[1138,1,1138,12],[1144,1,1144,12],[1151,9,1151,13],[1152,9,1152,13],[1084,2,1084,7],[1099,1,1099,12],[1105,1,1105,12],[1110,1,1110,12],[1119,1,1119,12],[1125,1,1125,12],[1056,1,1056,12],[1063,1,1063,12],[1068,1,1068,12],[1073,1,1073,12],[1078,1,1078,12],[1083,1,1083,12],[1032,1,1032,12],[1039,1,1039,13],[1048,2,1048,3],[1049,2,1049,3],[1051,1,1051,13],[1053,2,1053,5],[997,1,997,12],[1001,1,1001,12],[1005,1,1005,12],[1011,1,1011,10],[1019,1,1019,12],[1026,1,1026,12],[965,1,965,2],[967,1,967,12],[968,1,968,10],[977,1,977,10],[984,1,984,10],[992,1,992,10],[992,11,992,12],[943,1,943,10],[943,12,943,13],[949,1,949,10],[949,12,949,13],[955,1,955,2],[959,1,959,10],[959,12,959,13],[931,1,931,13],[932,0,932,1],[935,4,935,5],[937,1,937,10],[937,12,937,13],[938,1,938,4],[882,1,882,12],[888,1,888,12],[893,1,893,12],[899,1,899,12],[904,1,904,13],[916,2,916,5],[846,1,846,12],[854,1,854,12],[860,1,860,12],[865,1,865,12],[870,1,870,12],[876,1,876,12],[818,1,818,11],[823,1,823,11],[824,18,824,23],[828,1,828,12],[834,1,834,12],[839,1,839,12],[786,1,786,11],[793,1,793,11],[798,1,798,11],[803,1,803,11],[808,1,808,11],[813,1,813,11],[690,1,690,11],[723,1,723,11],[739,1,739,11],[749,1,749,11],[763,1,763,11],[775,1,775,11],[652,1,652,11],[658,1,658,10],[658,11,658,12],[666,1,666,12],[676,1,676,13],[685,1,685,11],[606,1,606,10],[613,1,613,11],[618,8,618,10],[622,1,622,11],[630,1,630,11],[637,1,637,11],[553,1,553,10],[559,1,559,10],[565,1,565,13],[574,1,574,10],[584,1,584,10],[594,1,594,10],[508,1,508,10],[514,1,514,10],[528,1,528,10],[533,1,533,10],[540,1,540,10],[547,1,547,10],[467,1,467,10],[475,1,475,10],[481,1,481,10],[488,1,488,10],[495,1,495,10],[502,1,502,10],[358,1,358,13],[367,1,367,12],[389,1,389,12],[398,1,398,12],[440,1,440,12],[454,1,454,12],[303,1,303,10],[303,11,303,12],[317,1,317,12],[325,1,325,12],[332,1,332,12],[344,1,344,12],[242,1,242,4],[244,1,244,12],[259,1,259,12],[267,1,267,12],[275,1,275,12],[288,1,288,12],[195,1,195,10],[195,11,195,12],[212,1,212,10],[212,11,212,12],[224,1,224,13],[230,1,230,13],[155,1,155,10],[155,11,155,12],[167,1,167,10],[167,11,167,12],[185,1,185,10],[185,11,185,12],[123,1,123,10],[123,11,123,13],[131,1,131,10],[131,11,131,13],[144,1,144,10],[144,11,144,13],[90,1,90,10],[90,11,90,13],[101,1,101,10],[101,11,101,13],[113,1,113,10],[113,11,113,13],[66,1,66,10],[66,11,66,13],[67,1,67,4],[74,1,74,10],[83,1,83,10],[83,11,83,13],[24,1,24,10],[32,1,32,10],[32,11,32,13],[38,1,38,13],[57,1,57,10],[57,11,57,13],[0,1,0,13],[1,1,1,13],[3,25,3,26],[5,1,5,13],[7,2,7,5],[12,1,12,10],[3,1,3,13]]}
[null,"MAHARASHTRA STATE  WAREHOUSING CORPORATION"]
[null,"583/B, MARKET YARD, GULTEKADI, PUNE-411037"]
[]
[null,{"$f":"Recap!B6","v":"NAME OF WORK :-  CONSTRUCTION OF 1/2160 MT CAP PRE- ENGINEERED WH BLDG WITH ANCILLARY WORKS AT: NAGZARI DIST. LATUR"}]
[]
[null,"MEASUREMENT SHEET "]
[]
[null,"Item Nos & Description of Items ","NO.S",null,null,null,"LENGTH",null,"BREDTH",null,"DEPTH /",null,"TOTAL","Unit"]
[null,null,1,"X",2,null,null,null,null,null,"HIGHT",null,"QUANTITY"," ",null,"."]
[]
[null,"Sub Work I :- M&R to warehouse complex"]
[]
[1,"Clearing grass and removal of rubbish up to a distance of 50 metres outside the periphery of the area etc. complete as directed by Engineer In Charge.",null,null,null,null,null,null,null,null,null,null,null,"sqm","2.07/24",2.7]
[null,"for cleaning "]
[null,"Area"]
[null,"short side",0,"x",2,"x",53.17,"x",1.5,null,null,"=",{"$f":"I16*G16*E16*C16","v":0}]
[null,"long side",0,"x",1,"x",79,"x",1.5,null,null,"=",{"$f":"I17*G17*E17*C17","v":0}]
[null,"long side",0,"x",1,"x",35,"x",1.5,null,null,"=",{"$f":"I18*G18*E18*C18","v":0}]
[null,"short side",0,"x",1,"x",25,"x",1.5,null,null,"=",{"$f":"I19*G19*E19*C19","v":0}]
[]
[null,null,null,null,null,null,null,null,null,null,"Total","=",{"$f":"SUM(M15:M20)","v":0}]
[]
[null,null,null,null,null,null,null,null,null,null,"SAY","=",{"$f":"ROUNDUP(M21,0)","v":0}]
[]
[2,"Dressing of side shoulder / Scrapping the road side shoulder by Mechanical means ( By JCB /DOUZER) including excavation of raised side shoulders  pto 15cm depth including remooving /cutting bushes,grass and dressing shoulder to desired camber and disposing of excavated stuff up to road boundary etc complete. as directed by Engineer In Charge.",null,null,null,null,null,null,null,null,null,null,null,"sqm","8.23/93",4]
[null,"for cleaning "]
[null,"Area",0,"x",2,"x",10,"x",10,null,null,"=",{"$f":"I27*G27*E27*C27","v":0}]
[]
[null,null,null,null,null,null,null,null,null,null,"Total","=",{"$f":"SUM(M27:M28)","v":0}]
[]
[null,null,null,null,null,null,null,null,null,null,"SAY","=",{"$f":"ROUNDUP(M29,0)","v":0}]
[]
[3,"Excavation for roadway in earth, soil of all sorts, sand, gravel or soft murum including dressing section to the required grade, camber and side slopes and conveying the excavated materials with all lifts upto a lead of 50m. and spreading for embankment or stacking as directed. etc complete. ",null,null,null,null,null,null,null,null,null,"Cum",null,null,"2.11/24",68]
[]
[null,"for debris material",0,"X",1,"X",10,"X",0.9,"X",1,"=",{"$f":"I35*G35*E35*C35","v":0}]
[null,null,null,null,null,null,null,null,null,null,"Total","=",{"$f":"SUM(M35:M35)","v":0}]
[null,null,null,null,null,null,null,null,null,null,"SAY","=",{"$f":"ROUNDUP(M36,0)","v":0}]
[]
[4,"Conveying the materials obtained from excavation including laying in layers, breaking clods, dressing to the required lines, curves, grades and section for all leads & lifts from the site of excavation to the site of deposition  outside the complex as directed engineer in charge.",null,null,null,null,null,null,null,null,null,null,null,null,"lead statement",105.25]
[]
[null,"Quanitity as per Item no.1",null,null,null,null,null,null,null,null,null,"=",{"$f":"M37","v":0},"Cu.M."]
[null,null,null,null,null,null,null,null,null,null,"Total","=",{"$f":"SUM(M41)","v":0},"Cu.M."]
[null,null,null,null,null,null,null,null,null,null,"SAY","=",{"$f":"ROUNDUP(M42,0)","v":0},"Cu.M."]
[]
[]
[]
[]
[]
[]
[]
[]
[]
[]
[]
[null,"Sub Work II :- Repairs to Appron and gutter "]
[]
[]
[1,"Labour charges for removing soil in gutter making surface clean for plastering and conveying material away etc complete",null,null,null,null,null,null,null,null,null,"Rmt",null,null,"RA",{"$f":"#REF!","v":{"$error":"#REF!"}}]
[null,"For gutter not going to dismentalled"]
[null,"Unit No V & VI L/S  side",null,null,0,"x",1,"x",2,"x",{"$f":"83.65+1+1","v":85.65},null,{"$f":"K60*I60*G60*E60","v":0}]
[null,"Unit No V & VI S/S side",null,null,0,"x",1,"x",2,"x",{"$f":"22+0.6+0.6","v":23.200000000000003},null,{"$f":"K61*I61*G61*E61","v":0}]
[]
[null,null,null,null,null,null,null,null,null,null,"Total ",null,{"$f":"SUM(M60:M62)","v":0}]
[null,null,null,null,null,null,null,null,null,null,"Say ",null,{"$f":"ROUND(M63,1)","v":0}]
[]
[]
[2,"Dismentling brick masonry in lime or cement Mortor and stacking the materials as directed with all leads, lifts etc. complete  As directed by Engineer - in - Charge",null,null,null,null,null,null,null,null,null,"Cum",null,null,"46.09/315",181]
[null," Appron"]
[null,"Unit No V & VI L/S  side",0,"x",2,"x",42,"x",0.23,"x",0.35,null,{"$f":"K69*I69*G69*E69*C69","v":0}]
[null,"Unit No V & VI S/S side",0,"x",2,"x",{"$f":"22+0.37+0.37","v":22.740000000000002},"x",0.23,"x",0.35,null,{"$f":"K70*I70*G70*E70*C70","v":0}]
[]
[null,null,null,null,null,null,null,null,null,null,"Total ",null,{"$f":"SUM(M69:M71)","v":0}]
[null,null,null,null,null,null,null,null,null,null,"Say ",null,{"$f":"ROUND(M72,1)","v":0}]
[]
[3,"Dismentling Uncoursed Rubble Masonry  in lime or Cement Mortor including  stacking the materials as directed with all leads, lifts etc. complete   As directed by Engineer - in - Charge ",null,null,null,null,null,null,null,null,null,null,null,"Cum","46.11/315",205]
[null,"Gutter"]
[null,"Unit No I & II L/S  side",0,"x",2,"x",{"$f":"83.65+1.2+1.2+1*4*2","v":94.050000000000011},"x",0.45,"x",0.4,null,{"$f":"K77*I77*G77*E77*C77","v":0}]
[null,"Unit No I & II S/S side",0,"x",2,"x",{"$f":"22+0.9+0.9","v":23.799999999999997},"x",0.45,"x",0.4,null,{"$f":"K78*I78*G78*E78*C78","v":0}]
[null,"Unit No III & IV L/S side",0,"x",2,"x",{"$f":"107.65+1.2+1.2 - 1*6","v":104.05000000000001},"x",0.45,"x",0.4,null,{"$f":"K79*I79*G79*E79*C79","v":0}]
[null,"Unit No III & IV S/S side",0,"x",2,"x",{"$f":"28.75+0.9+0.9","v":30.549999999999997},"x",0.45,"x",0.4,null,{"$f":"K80*I80*G80*E80*C80","v":0}]
[null,null,null,null,null,null,null,null,null,null,"Total ",null,{"$f":"SUM(M75:M80)","v":0}]
[null,null,null,null,null,null,null,null,null,null,"Say ",null,{"$f":"ROUND(M81,1)","v":0}]
[]
[4,"Removing the lime or lean cement concrete including stacking the spoils as directed with all leads, lifts etc. complete. As directed by Engineer - in - Charge",null,null,null,null,null,null,null,null,null,"Cum",null,null,"46.12/315",302]
[]
[null,"Unit No I & II L/S  side",0,"x",2,"x",{"$f":"60.35+2*1.55","v":63.45},"x",1.28,"x",0.1,null,{"$f":"K86*I86*G86*E86*C86","v":0}]
[null,"Unit No I &II S/S  side",0,"x",2,"x",29.29,"x",1.28,"x",0.1,null,{"$f":"K87*I87*G87*E87*C87","v":0}]
[null,null,null,null,null,null,null,null,null,null,"Total ",null,0]
[null,null,null,null,null,null,null,null,null,null,"Say ",null,0]
[]
[5,"Excavation for foundation in earth, soil of all types, sand, gravel and soft murum, including removing the excavated material upto a distance of 50 meters beyond the building area & stacking and spreading as directed, dewatering, preparing the bed for the foundation and necessary back filling, ramming, watering including shoring and strutting etc. complete. (Lift upto 1.5 m.)",null,null,null,null,null,null,null,null,null,"Cum",null,null,"21.02/150",125]
[null,"For Appron & Gutter"]
[null,"Unit No V & VI L/S  side",0,"x",4,"x",45.1,"x",1.55,"x",0.9,null,{"$f":"K93*I93*G93*E93*C93","v":0}]
[null,"Unit No V & VI L/S  platform sides",0,"x",8,"x",2,"x",1.55,"x",0.9,null,0]
[null,"Unit No V & VI S/S side",0,"x",4,"x",22,"x",1.55,"x",0.9,null,0]
[null,"Unit No  III L/S  side",0,"x",2,"x",35.799999999999997,"x",1.55,"x",0.9,null,0]
[null,"Unit No  III L/S   platform side",0,"x",4,"x",2,"x",1.55,"x",0.9,null,0]
[null,"Unit No III S/S side",0,"x",2,"x",22.5,"x",1.55,"x",0.9,null,0]
[null,null,null,null,null,null,null,null,null,null,"Total ",null,{"$f":"SUM(M93:M98)","v":0}]
[null,null,null,null,null,null,null,null,null,null,"Say ",null,{"$f":"ROUND(M99,1)","v":0}]
[]
[6,"Excavation for foundation in hard murum including removing the excavated materials upto distance of 50 metres beyond the building area and stacking and spreading as directed, dewatering, preparing the bed for the foundation and necessary back filling, ramming, watering including shoring and strutting etc. complete. (Lift upto 1.50 m)",null,null,null,null,null,null,null,null,null,"Cum",null,null,"21.06/150",132]
[null,"For Appron & Gutter"]
[null,"Unit No V & VI L/S  side",0,"x",4,"x",45.1,"x",1.55,"x",0.25,null,{"$f":"K104*I104*G104*E104*C104","v":0}]
[null,"Unit No V & VI L/S  platform sides",0,"x",8,"x",2,"x",1.55,"x",0.25,null,0]
[null,"Unit No V & VI S/S side",0,"x",4,"x",22,"x",1.55,"x",0.25,null,0]
[null,"Unit No  III L/S  side",0,"x",2,"x",35.799999999999997,"x",1.55,"x",0.25,null,0]
[null,"Unit No  III L/S   platform side",0,"x",4,"x",2,"x",1.55,"x",0.25,null,0]
[null,"Unit No III S/S side",0,"x",2,"x",22,"x",1.55,"x",0.25,null,0]
[]
[null,null,null,null,null,null,null,null,null,null,"Total ",null,{"$f":"SUM(M104:M110)","v":0}]
[null,null,null,null,null,null,null,null,null,null,"Say ",null,{"$f":"ROUND(M111,1)","v":0}]
[]
[7,"Excavation for foundation in Hard murum and boulders including removing the excavated materials upto a distance of 50 metres, beyond the building area and stacking and spreading as directed dewatering preparing the bed for the foundation and necessary back filling, ramming, watering including shoring and strutting etc. complete.  (Lift upto 1.5 m )",null,null,null,null,null,null,null,null,null,"Cum",null,null,"21.10/150",156]
[]
[null,"For Appron & Gutter"]
[null,"Unit No I & II L/S  side",0,"x",2,"x",{"$f":"83.65+1.55+1.55","v":86.75},"x",1.28,"x",0.1,null,{"$f":"K117*I117*G117*E117*C117","v":0}]
[null,"Unit No I & II S/S side",0,"x",2,"x",{"$f":"22+0.23+0.23","v":22.46},"x",1.28,"x",0.1,null,{"$f":"K118*I118*G118*E118*C118","v":0}]
[null,"Unit No III & IV L/S side",0,"x",2,"x",{"$f":"107.65+1.55+1.55","v":110.75},"x",1.28,"x",0.1,null,{"$f":"K119*I119*G119*E119*C119","v":0}]
[null,"Unit No III & IV S/S side",0,"x",2,"x",{"$f":"28.75+0.23+0.23","v":29.21},"x",1.28,"x",0.1,null,{"$f":"K120*I120*G120*E120*C120","v":0}]
[null,null,null,null,null,null,null,null,null,null,"Total ",null,0]
[null,null,null,null,null,null,null,null,null,null,"Say ",null,{"$f":"ROUND(M121,1)","v":0}]
[]
[8,"Providing dry/ trap/ granite/ quartzite/ gneiss rubble stone soling 15 cm to 20 cm thick including hand packing and compacting etc. complete.",null,null,null,null,null,null,null,null,null,"Cum",null,null,"21.38/154",516]
[null,"Unit No I  L/S  side",0,"x",2,"x",{"$f":"45.73+3.1","v":48.83},"x",1.28,"x",0.3,null,{"$f":"K125*I125*G125*E125*C125","v":0}]
[null,"Unit No I  S/S  side",0,"x",2,"x",{"$f":"36.58+0.54","v":37.119999999999997},"x",1.28,"x",0.3,null,{"$f":"K126*I126*G126*E126*C126","v":0}]
[null,"Unit No II & III L/S side",0,"x",2,"x",{"$f":"83.65+3.1","v":86.75},"x",1.28,"x",0.3,null,{"$f":"K127*I127*G127*E127*C127","v":0}]
[null,"Unit No II & III S/S side",0,"x",2,"x",{"$f":"21.55+0.54","v":22.09},"x",1.28,"x",0.3,null,{"$f":"K128*I128*G128*E128*C128","v":0}]
[null,null,null,null,null,null,null,null,null,null,"Total ",null,0]
[null,null,null,null,null,null,null,null,null,null,"Say ",null,{"$f":"ROUND(M129,1)","v":0}]
[]
[9,"Providing and laying Cast in situ/Ready Mix cement concrete in M-10 of trap/ granite/ quartzite/ gneiss metal for foundation and bedding including bailing out water, formwork, laying/pumping, compacting, roughening them if special finish is to be provided, finishing if required and curing complete, etc. complete. With natural sand/V.S.I. quality Artificial Sand",null,null,null,null,null,null,null,null,null,"Cum",null,null,"24.01/177",3181]
[null,null,null,null,null,null,null,null,null,null,null,null,null,null,null,-117]
[null,null,null,null,null,null,null,null,null,null,null,null,null,null,null,{"$f":"SUM(P132:P133)","v":3064}]
[null,"Unit No V & VI L/S  side",0,"x",4,"x",45.1,"x",1.28,"x",0.1,null,{"$f":"K135*I135*G135*E135*C135","v":0}]
[null,"Unit No V & VI L/S  platform sides",0,"x",8,"x",2,"x",1.28,"x",0.1,null,0]
[null,"Unit No V & VI S/S side",0,"x",4,"x",22,"x",1.28,"x",0.1,null,0]
[null,"Unit No  III L/S  side",0,"x",2,"x",35.799999999999997,"x",1.28,"x",0.1,null,0]
[null,"Unit No  III L/S   platform side",0,"x",4,"x",2,"x",1.28,"x",0.1,null,0]
[null,"Unit No III S/S side",0,"x",2,"x",22.5,"x",1.28,"x",0.1,null,0]
[]
[null,null,null,null,null,null,null,null,null,null,"Total ",null,{"$f":"SUM(M135:M141)","v":0}]
[null,null,null,null,null,null,null,null,null,null,"Say ",null,{"$f":"ROUND(M142,1)","v":0}]
[]
[10,"Providing second class Burnt Brick masonry with conventional/ I.S. type bricks in cement mortar 1:6 in foundations and plinth of inner walls/ in plinth external walls including bailing out water manually , striking joints on unexposed faces, raking out joints on exposed faces and watering etc. complete.",null,null,null,null,null,null,null,null,null,"Cum",null,null,"27.01/212",4653]
[]
[null,"Unit No V & VI L/S  side",0,"x",4,"x",43.2,"x",0.23,"x",0.6,null,{"$f":"K147*I147*G147*E147*C147","v":0}]
[null,"Unit No V & VI L/S  platform sides",0,"x",8,"x",2,"x",0.1,"x",0.6,null,0]
[null,"Unit No V & VI S/S side",0,"x",4,"x",23.2,"x",0.23,"x",0.6,null,0]
[null,"Unit No  III L/S  side",0,"x",2,"x",33.9,"x",0.23,"x",0.6,null,0]
[null,"Unit No  III L/S   platform side",0,"x",4,"x",2,"x",0.1,"x",0.6,null,0]
[null,"Unit No III S/S side",0,"x",2,"x",23.2,"x",0.23,"x",0.6,null,0]
[null,null,null,null,null,null,null,null,null,null,"Total ",null,{"$f":"SUM(M147:M152)","v":0}]
[null,null,null,null,null,null,null,null,null,null,"Say ",null,{"$f":"ROUND(M153,1)","v":0}]
[]
[11,"Providing uncoursed rubble masonry of trap / granite / quartzite / gneiss stones in cement mortar 1:6 in foundation and plinth of inner walls / in plinth of external walls including bailing out water manually , striking joints on un exposed faces and\nwatering etc.complete.",null,null,null,null,null,null,null,null,null,null,null,"Cum","28.01/214",2783]
[]
[null,"Unit No V & VI L/S  side",0,"x",4,"x",44.9,"x",0.45,"x",0.35,null,{"$f":"K158*I158*G158*E158*C158","v":0}]
[null,"Unit No V & VI L/S  platform sides",0,"x",8,"x",2,"x",0.45,"x",0.35,null,0]
[null,"Unit No V & VI S/S side",0,"x",4,"x",{"$f":"22+1+1","v":24},"x",0.45,"x",{"$f":"K158","v":0.35},null,0]
[null,"Unit No  III L/S  side",0,"x",2,"x",35.6,"x",0.45,"x",0.35,null,0]
[null,"Unit No  III L/S   platform side",0,"x",4,"x",2,"x",0.45,"x",0.35,null,0]
[null,"Unit No III S/S side",0,"x",2,"x",23.2,"x",0.45,"x",0.35,null,0]
[null,null,null,null,null,null,null,null,null,null,"Total ",null,{"$f":"SUM(M158:M163)","v":0}]
[null,null,null,null,null,null,null,null,null,null,"Say ",null,{"$f":"ROUND(M164,1)","v":0}]
[]
[]
[12,"Filling in plinth and floors with contractors material/brought from outside and approved by Engineer incharge in layers of 15 cm to 20 cm including watering and compaction etc. complete.",null,null,null,null,null,null,null,null,null,null,null,"Cum","21.37/154",255]
[]
[null,"below appron and gutter (below soling)"]
[null,"Unit No V & VI L/S  side",0,"x",4,"x",45.1,"x",1.55,"x",0.45,null,{"$f":"K171*I171*G171*E171*C171","v":0}]
[null,"Unit No V & VI L/S  platform sides",0,"x",8,"x",2,"x",1.55,"x",0.45,null,0]
[null,"Unit No V & VI S/S side",0,"x",4,"x",22,"x",1.55,"x",0.45,null,0]
[null,"Unit No  III L/S  side",0,"x",2,"x",35.799999999999997,"x",1.55,"x",0.45,null,0]
[null,"Unit No  III L/S   platform side",0,"x",4,"x",2,"x",1.55,"x",0.45,null,0]
[null,"Unit No III S/S side",0,"x",2,"x",22.5,"x",1.55,"x",0.45,null,0]
[]
[null,"For Appron "]
[null,"Unit No V & VI L/S  side",0,"x",4,"x",43.2,"x",0.37,"x",0.5,null,{"$f":"K179*I179*G179*E179*C179","v":0}]
[null,"Unit No V & VI S/S side",0,"x",4,"x",23.2,"x",0.37,"x",0.5,null,{"$f":"K180*I180*G180*E180*C180","v":0}]
[null,"Unit No  III L/S  side",0,"x",2,"x",33.9,"x",0.37,"x",0.5,null,{"$f":"K181*I181*G181*E181*C181","v":0}]
[null,"Unit No III S/S side",0,"x",2,"x",22.5,"x",0.37,"x",0.5,null,{"$f":"K182*I182*G182*E182*C182","v":0}]
[null,null,null,null,null,null,null,null,null,null,"Total ",null,{"$f":"SUM(M171:M182)","v":0}]
[null,null,null,null,null,null,null,null,null,null,"Say ",null,{"$f":"ROUND(M183,1)","v":0}]
[]
[13,"Providing & laying stone metal layer of 20 cm thickness with 60 mm over size metal 65% and 40 mm size metal 35% with sand or stone chips spreading & leveling handpacking complete.",null,null,null,null,null,null,null,null,null,null,null,"Cum","RA",{"$f":"#REF!","v":{"$error":"#REF!"}}]
[null,"For Appron "]
[null,"Unit No V & VI L/S  side",0,"x",4,"x",43.2,"x",0.37,"x",0.18,null,{"$f":"K188*I188*G188*E188*C188","v":0}]
[null,"Unit No V & VI S/S side",0,"x",4,"x",23.2,"x",0.37,"x",0.18,null,{"$f":"K189*I189*G189*E189*C189","v":0}]
[null,"Unit No  III L/S  side",0,"x",2,"x",33.9,"x",0.37,"x",0.18,null,{"$f":"K190*I190*G190*E190*C190","v":0}]
[null,"Unit No III S/S side",0,"x",2,"x",22.5,"x",0.37,"x",0.18,null,{"$f":"K191*I191*G191*E191*C191","v":0}]
[null,null,null,null,null,null,null,null,null,null,"Total ",null,{"$f":"SUM(M188:M191)","v":0}]
[null,null,null,null,null,null,null,null,null,null,"Say ",null,{"$f":"ROUND(M192,1)","v":0}]
[]
[]
[14,"Providing and laying Cast in situ/Ready Mix cement concrete in M15 of trap/ granite/quartzite/gneiss metal for steps including teel centering, plywood/steel  ormwork, laying/pumping, compacting, roughening them if special finish is to be provided, finishing uneven and honeycombed surface and curing etc. complete. The Cement Mortar 1:3 plaster is considered for rendering uneven and honeycombed surface, only. Newly laid concrete shall be covered by gunny bag, plastic, tarpaulin etc.(Wooden centering will not be allowed.), With natural sand/V.S.I. quality Artificial Sand",null,null,null,null,null,null,null,null,null,null,null,"cum","24.04/177",4205]
[null,"For Appron",null,null,null,null,null,null,null,null,null,null,null,null,null,-117]
[null,"Unit No V & VI L/S  side",0,"x",4,"x",43.2,"x",0.6,"x",0.1,null,{"$f":"K198*I198*G198*E198*C198","v":0},null,null,{"$f":"SUM(P196:P197)","v":4088}]
[null,"Unit No V & VI S/S side",0,"x",4,"x",22,"x",0.6,"x",{"$f":"K198","v":0.1},null,{"$f":"K199*I199*G199*E199*C199","v":0}]
[null,"Unit No  III L/S  side",0,"x",2,"x",33.9,"x",0.6,"x",{"$f":"K198","v":0.1},null,0]
[null,"Unit No III S/S side",0,"x",2,"x",22.5,"x",0.6,"x",{"$f":"K198","v":0.1},null,0]
[null,"For  Gutter"]
[null,null,0,"x",4,"x",44.9,"x",0.45,"x",{"$f":"K198","v":0.1},null,{"$f":"K203*I203*G203*E203*C203","v":0}]
[null,null,0,"x",8,"x",2,"x",0.45,"x",{"$f":"K199","v":0.1},null,{"$f":"K204*I204*G204*E204*C204","v":0}]
[null,null,0,"x",4,"x",{"$f":"22+1+1","v":24},"x",0.45,"x",{"$f":"K198","v":0.1},null,0]
[null,null,0,"x",2,"x",35.6,"x",0.45,"x",{"$f":"K198","v":0.1},null,0]
[null,null,0,"x",4,"x",2,"x",0.45,"x",{"$f":"K199","v":0.1},null,0]
[null,null,0,"x",2,"x",24.5,"x",0.45,"x",{"$f":"K198","v":0.1},null,0]
[null,null,null,null,null,null,null,null,null,null,"Total ",null,{"$f":"SUM(M198:M208)","v":0}]
[null,null,null,null,null,null,null,null,null,null,"Say ",null,{"$f":"ROUND(M209,1)","v":0}]
[]
[]
[15,"Providing internal cement plaster 20 mili meters thick in two coats in cement mortar 1:4 with neeru finish, to concrete, brick surface, in all positions including scaffolding and curing etc.complete.",null,null,null,null,null,null,null,null,null,null,null,"Sqm","32.07+32.21",328]
[null,null,null,null,null,null,null,null,null,null,null,null,null,null,null,59]
[null,"For Appron & Gutter",null,null,null,null,null,null,null,null,null,null,null,null,null,{"$f":"SUM(P213:P214)","v":387}]
[null,"Unit No V & VI L/S  side",null,null,0,"x",4,"x",43.2,"x",{"$f":"0.6+0.65+0.4+0.45+0.45","v":2.5500000000000003},null,{"$f":"K216*I216*G216*E216","v":0}]
[null,"Unit No V & VI L/S  platform sides",null,null,0,"x",8,"x",2,"x",2,null,0]
[null,"Unit No V & VI S/S side",null,null,0,"x",4,"x",23.2,"x",{"$f":"0.6+0.65+0.4+0.45+0.45","v":2.5500000000000003},null,0]
[null,"Unit No  III L/S  side",null,null,0,"x",2,"x",33.9,"x",{"$f":"0.6+0.65+0.4+0.45+0.45","v":2.5500000000000003},null,0]
[null,"Unit No  III L/S   platform side",null,null,0,"x",4,"x",2,"x",2,null,0]
[null,"Unit No III S/S side",null,null,0,"x",2,"x",22.5,"x",{"$f":"0.6+0.65+0.4+0.45+0.45","v":2.5500000000000003},null,0]
[null,null,null,null,null,null,null,null,null,null,"Total ",null,{"$f":"SUM(M216:M221)","v":0}]
[null,null,null,null,null,null,null,null,null,null,"Say ",null,{"$f":"ROUND(M222,1)","v":0}]
[]
[16,"Conveying the materials obtained from excavation including laying in layers, breaking clods, dressing to the required lines, curves, grades and section for all leads & lifts from the site of excavation to the site of deposition  outside the complex as directed engineer in charge.",null,null,null,null,null,null,null,null,null,null,null,null,"lead statement",105.25]
[]
[null,"Quanitity as per Item no.1",null,null,null,null,null,null,null,null,null,"=",0,"Cu.M."]
[null,null,null,null,null,null,null,null,null,null,"Total","=",{"$f":"SUM(M227)","v":0},"Cu.M."]
[null,null,null,null,null,null,null,null,null,null,"SAY","=",{"$f":"ROUNDUP(M228,0)","v":0},"Cu.M."]
[]
[17,"Removing and providing cement plaster 20 mili meters thick in two coats in cement mortar 1:4 with neeru finish, to concrete, brick surface, in all positions including scaffolding and curing etc.complete.",null,null,null,null,null,null,null,null,null,null,null,null,"32.07+32.21+46.22",328]
[null,"plinth plastering",null,null,null,null,null,null,null,null,null,null,null,null,null,15]
[null,"Unit No II & IV L/S  side",null,null,0,"x",2,"x",15,"x",0.8,null,{"$f":"K233*I233*G233*E233","v":0},null,null,59]
[null,"Unit No II  S/S Side",null,null,0,"x",2,"x",15,"x",{"$f":"K233","v":0.8},null,{"$f":"K234*I234*G234*E234","v":0},null,null,{"$f":"SUM(P231:P233)","v":402}]
[null,null,null,null,0]
[null,null,null,null,null,null,null,null,null,null,"Total ",null,{"$f":"SUM(M233:M234)","v":0}]
[null,null,null,null,null,null,null,null,null,null,"Say ",null,{"$f":"ROUND(M236,1)","v":0}]
[]
[]
[]
[]
[]
[null,"Sub Work III :- Repairs to warehouse flooring"]
[]
[1,"Removing cement tiles, or marble or polished shahabad floor or dado without bed concrete including stacking the materials as directed with all leads, lifts etc. complete",null,null,null,null,null,null,null,null,null,null,null,"Sqm","46.19/319",24]
[null,"For Dado"]
[null,"For Unit No.V"]
[null,"Long walls",0,"X",2,"X",41.3,"X",null,"X",0.6,"=",{"$f":"C248*E248*G248*K248","v":0}]
[null,"Short walls",0,"X",2,"X",21.3,"X",null,"X",0.6,"=",{"$f":"C249*E249*G249*K249","v":0}]
[]
[null,"For Unit No.IX"]
[null,"Long walls",0,"X",2,"X",{"$f":"28.05-0.7","v":27.35},"X",null,"X",0.6,"=",{"$f":"C252*E252*G252*K252","v":0}]
[null,"Short walls",0,"X",2,"X",21.3,"X",null,"X",0.6,"=",{"$f":"C253*E253*G253*K253","v":0}]
[null,"Deductions Rolling Shutters"]
[null,"For Unit No.V & IX",0,"X",4,"X",1.8,"X",null,"X",0.6,"=",{"$f":"-C255*E255*G255*K255","v":0}]
[]
[null,null,null,null,null,null,null,null,null,null,"Total",null,{"$f":"SUM(M248:M256)","v":0}]
[null,null,null,null,null,null,null,null,null,null,"say ",null,{"$f":"ROUNDUP(M257,0)","v":0}]
[]
[2,"Removing shahabad or Tabdur stones from floor without bed concrete including stacking the materials as directed with all leads, lifts etc. complete",null,null,null,null,null,null,null,null,null,null,null,"sqm","46.20/319",25]
[null,"For Dado"]
[null,"For Unit No.V"]
[null,"Long walls",0,"X",1,"X",41.3,"X",21.3,"X",null,"=",{"$f":"I263*G263*E263*C263","v":0}]
[]
[null,null,null,null,null,null,null,null,null,null,"Total",null,{"$f":"SUM(M263:M264)","v":0}]
[null,null,null,null,null,null,null,null,null,null,"say ",null,{"$f":"ROUNDUP(M265,0)","v":0}]
[]
[3,"Removing old damaged asphalt flooring without bed concrete including  stacking the materials as directed with all leads, lifts etc. complete",null,null,null,null,null,null,null,null,null,null,null,"sqm","RA",{"$f":"#REF!","v":{"$error":"#REF!"}}]
[null,"For Dado"]
[null,"For Unit No.V"]
[null,"Long walls",0,"X",1,"X",41.3,"X",21.3,"X",null,"=",{"$f":"I271*G271*E271*C271","v":0}]
[]
[null,null,null,null,null,null,null,null,null,null,"Total",null,{"$f":"SUM(M271:M272)","v":0}]
[null,null,null,null,null,null,null,null,null,null,"say ",null,{"$f":"ROUNDUP(M273,0)","v":0}]
[]
[4,"Providing & leveling and compacting the loose / Dislocated surfafe including dewatering if necessary, compacting, curing etc. complete. ",null,null,null,null,null,null,null,null,null,null,null,"Sqm","RA",{"$f":"#REF!","v":{"$error":"#REF!"}}]
[null,"plate vibrator"]
[null,{"$f":"B247","v":"For Unit No.V"}]
[null,"Over existing floor for levelling course",0,"X",1,"X",41.3,"X",21.3,"X",null,"=",{"$f":"C279*E279*G279*I279","v":0}]
[null,"For platform floor ",0,"X",2,"X",{"$f":"(4.65+0.3)-(2*0.555)","v":3.84},"X",{"$f":"1.8-0.555","v":1.2450000000000001},"X",null,"=",{"$f":"C280*E280*G280*I280","v":0}]
[]
[null,"For Unit No.IX"]
[null,{"$f":"B279","v":"Over existing floor for levelling course"},0,"X",1,"X",{"$f":"28.05-0.7","v":27.35},"X",21.3,"X",null,"=",{"$f":"C283*E283*G283*I283","v":0}]
[null,"For Platform",0,"X",2,"X",{"$f":"(4.65+4.65+0.3)-(2*0.555)","v":8.490000000000002},"X",{"$f":"1.8-0.555","v":1.2450000000000001},"X",null,"=",{"$f":"C284*E284*G284*I284","v":0}]
[]
[null,null,null,null,null,null,null,null,null,null,"Total",null,{"$f":"SUM(M279:M285)","v":0}]
[null,null,null,null,null,null,null,null,null,null,"say ",null,{"$f":"ROUNDUP(M286,0)","v":0}]
[]
[5,"Providing and laying Cast in situ/Ready Mix cement concrete in M-10 of trap/ granite/ quartzite/ gneiss metal for foundation and bedding including bailing out water, formwork, laying/pumping, compacting, roughening them if special finish is to be provided, finishing if required and curing complete, etc. complete. With natural sand/V.S.I. quality Artificial Sand",null,null,null,null,null,null,null,null,"Cum",null,null,"CuM","24.01/177",3181]
[null,null,null,null,null,null,null,null,null,null,null,null,null,null,null,-117]
[null,null,null,null,null,null,null,null,null,null,null,null,null,null,null,{"$f":"SUM(P289:P290)","v":3064}]
[]
[null,{"$f":"B278","v":"For Unit No.V"}]
[null,"Over existing floor for levelling course",0,"X",1,"X",{"$f":"G279","v":41.3},"X",21.3,"X",7.4999999999999997E-2,"=",{"$f":"C294*E294*G294*I294*K294","v":0}]
[null,"For platform floor ",0,"X",2,"X",{"$f":"G280","v":3.84},"X",{"$f":"1.8-0.555","v":1.2450000000000001},"X",{"$f":"K294","v":7.4999999999999997E-2},"=",{"$f":"C295*E295*G295*I295*K295","v":0}]
[]
[null,{"$f":"B282","v":"For Unit No.IX"}]
[null,"Over existing floor for levelling course",{"$f":"C283","v":0},"X",{"$f":"E283","v":1},"X",{"$f":"G283","v":27.35},"X",{"$f":"I283","v":21.3},"X",{"$f":"K294","v":7.4999999999999997E-2},"=",{"$f":"C298*E298*G298*I298*K298","v":0}]
[null,"For Platform",{"$f":"C284","v":0},"X",{"$f":"E284","v":2},"X",{"$f":"G284","v":8.490000000000002},"X",{"$f":"I284","v":1.2450000000000001},"X",{"$f":"K295","v":7.4999999999999997E-2},"=",{"$f":"C299*E299*G299*I299*K299","v":0}]
[]
[null,null,null,null,null,null,null,null,null,null,"Total",null,{"$f":"SUM(M293:M300)","v":0}]
[null,null,null,null,null,null,null,null,null,null,"say ",null,{"$f":"ROUNDUP(M301,0)","v":0}]
[]
[6,"Providing and laying Cast in situ/Ready Mix cement concrete in M15 of trap/ granite/ quartzite/gneiss metal for steps including teel centering, plywood/steel  ormwork, laying/pumping, compacting, roughening them if special finish is to be provided, finishing uneven and honeycombed surface and curing etc. complete. The Cement Mortar 1:3 plaster is considered for rendering uneven and honeycombed surface, only. Newly laid concrete shall be covered by gunny bag, plastic, tarpaulin etc.(Wooden centering will not be allowed.), With natural sand/V.S.I. quality Artificial Sand",null,null,null,null,null,null,null,null,null,null,null,"cum","24.04/177",4205]
[null,null,null,null,null,null,null,null,null,null,null,null,null,null,null,-117]
[null,null,null,null,null,null,null,null,null,null,null,null,null,null,null,{"$f":"SUM(P304:P305)","v":4088}]
[null,"For floor "]
[null,"For Unit No.V"]
[null,"Wh bldg",0,"X",1,"X",{"$f":"G279","v":41.3},"X",{"$f":"I279","v":21.3},"X",0.15,"=",{"$f":"C309*E309*G309*I309*K309","v":0}]
[null,"For platform",0,"X",1,"X",{"$f":"G280","v":3.84},"X",{"$f":"I280","v":1.2450000000000001},"X",0.15,"=",{"$f":"C310*E310*G310*I310*K310","v":0}]
[null,"For Unit No.IX"]
[null,{"$f":"B309","v":"Wh bldg"},{"$f":"C298","v":0},"X",{"$f":"E298","v":1},"X",{"$f":"G298","v":27.35},"X",{"$f":"I298","v":21.3},"X",0.15,"=",{"$f":"C312*E312*G312*I312*K312","v":0}]
[null,"For Platform",{"$f":"C299","v":0},"X",{"$f":"E299","v":2},"X",{"$f":"G299","v":8.490000000000002},"X",{"$f":"I299","v":1.2450000000000001},"X",0.15,"=",{"$f":"C313*E313*G313*I313*K313","v":0}]
[]
[null,null,null,null,null,null,null,null,null,null,"Total ","=",{"$f":"SUM(M307:M314)","v":0}]
[null,null,null,null,null,null,null,null,null,null,"Say","=",{"$f":"ROUNDUP(M315,0)","v":0}]
[]
[7,"Providing treatment of TREMIX vaccum dewatering over prelaid cement concrete M-15surface including fixing of M.S.Channel formwork as per required size and placing of dowel rod, vibrating the concrete by needle vibrator and leveling by tremix double beam surface vibrator, dewatering through suction matt of tremix system, power floating by skim floater and power trowelling to obtain required level surface and finish including procuring three phase temporary electric supply / Generator set if required at site for operating above machinery etc. complete as directed (clause 38 will not be applicable.)",null,null,null,null,null,null,null,null,null,null,null,"Sq.M","RA"]
[]
[null,{"$f":"B308","v":"For Unit No.V"},{"$f":"C309","v":0},{"$f":"D309","v":"X"},1,"X",41.3,"X",21.3,"X",null,"=",{"$f":"C320*E320*G320*I320","v":0}]
[null,"For Unit No.IX",{"$f":"C312","v":0},{"$f":"D312","v":"X"},1,"X",27.35,"X",21.3,"X",null,null,{"$f":"C321*E321*G321*I321","v":0}]
[]
[null,null,null,null,null,null,null,null,null,null,"Total ",null,{"$f":"SUM(M320:M322)","v":0}]
[null,null,null,null,null,null,null,null,null,null,"Say",null,{"$f":"ROUNDUP(M323,0)","v":0}]
[]
[8,"Providing & fixing M.S. angle 50 x 50 x 6 mili meters with holdfasts at doorsills including fixing in bed concrete and then applying three coats of oilpaint etc. complete ",null,null,null,null,null,null,null,null,null,null,null,"Sqm","RA"]
[]
[null,"For Angel Sills to Unit No.V",0,"X",2,"X",2.7,null,null,null,null,"=",{"$f":"C328*E328*G328","v":0}]
[null,"For Angel Sills to Unit No.IX",0,"X",2,"X",2.7,null,null,null,null,"=",{"$f":"C329*E329*G329","v":0}]
[null,null,null,null,null,null,null,null,null,null,"Total","=",{"$f":"SUM(M328:M329)","v":0}]
[null,null,null,null,null,null,null,null,null,null,"Say","=",{"$f":"ROUNDUP(M330,0)","v":0}]
[]
[9,"Providing groove cutting  25 mili meters x 6 mili meters in cement concrete flooring & filling the gap of exapnsion joints with bituman of 30/40 grade including cleaning the grove and preparing the same or filing  etc. complete as directed.",null,null,null,null,null,null,null,null,null,null,null,"Rmt","RA"]
[]
[null,"For Unt No.V"]
[null," long side",0,"X",6,"X",{"$f":"G309","v":41.3},"X",null,null,null,"=",{"$f":"C336*E336*G336","v":0}]
[null,"short side",0,"X",13,"X",21.3,"X",null,null,null,"=",{"$f":"C337*E337*G337","v":0}]
[null,"For Unt No.IX"]
[null," long side",0,"X",6,"X",{"$f":"G312","v":27.35},"X",null,null,null,"=",{"$f":"C339*E339*G339","v":0}]
[null,"short side",0,"X",9,"X",21.3,"X",null,null,null,"=",{"$f":"C340*E340*G340","v":0}]
[]
[null,null,null,null,null,null,null,null,null,null,"Total ",null,0]
[null,null,null,null,null,null,null,null,null,null,"Say",null,{"$f":"M342","v":0}]
[]
[10,"Providing and applying three coats (exterior quality) of flat oil paint of approved colour and shade to the plastered surface in buildings and workshops including scaffolding if necessary, cleaning the surface and preparing surface etc. complete. (including primer coat)",null,null,null,null,null,null,null,null,null,null,null,"Sqm","35.11+35.21 / 244",64]
[null,null,null,null,null,null,null,null,null,null,null,null,null,null,"Primer",22]
[null,{"$f":"B335","v":"For Unt No.V"},null,null,null,null,null,null,null,null,null,null,null,null,null,{"$f":"SUM(P345:P346)","v":86}]
[null,"For stack line",0,"x",12,"x",9,"x",0.1,null,null,"=",{"$f":"I348*G348*E348*C348","v":0}]
[null,"For stack line",0,"x",12,"x",5.8,"x",0.1,null,null,"=",{"$f":"I349*G349*E349*C349","v":0}]
[]
[null,{"$f":"B338","v":"For Unt No.IX"}]
[null,"For stack line",0,"x",6,"x",9,"x",0.1,null,null,"=",{"$f":"I352*G352*E352*C352","v":0}]
[null,"For stack line",0,"x",2,"x",4.55,"x",0.1,null,null,"=",{"$f":"I353*G353*E353*C353","v":0}]
[null,null,0,"x",3,"x",5.8,"x",0.1,null,null,"=",{"$f":"I354*G354*E354*C354","v":0}]
[]
[null,null,null,null,null,null,null,null,null,null,"Total","=",{"$f":"SUM(M347:M355)","v":0}]
[null,null,null,null,null,null,null,null,null,null,"Say","=",{"$f":"M356","v":0}]
[]
[11,"Conveying the materials obtained from excavation including laying in layers, breaking clods, dressing to the required lines, curves, grades and section for all leads & lifts from the site of excavation to the site of deposition  outside the complex as directed engineer in charge.",null,null,null,null,null,null,null,null,null,null,null,null,"lead statement",105.25]
[]
[null,"Quanitity as per Item no.1",null,null,null,null,null,null,null,null,null,"=",0,"Cu.M."]
[null,null,null,null,null,null,null,null,null,null,"Total","=",{"$f":"SUM(M361)","v":0},"Cu.M."]
[null,null,null,null,null,null,null,null,null,null,"SAY","=",{"$f":"ROUNDUP(M362,0)","v":0},"Cu.M."]
[]
[null,"Sub Work IV :- Colouring to warehouse building "]
[]
[]
[1,"Scrapping and providing & applying whitewash three coats on plastered or masonary surface and A.C. sheets including scaffolding & preparing the surface by brushing & brooming down complete. ",null,null,null,null,null,null,null,null,null,null,null,"sqm","36.03/226 + 36.04",{"$f":"8+1","v":9}]
[null,"Inside "]
[null,"Long wall  UNIT 5 & 6",0,"X",4,"X",41.3,"X",5.5,null,null,"=",{"$f":"C370*E370*G370*I370","v":0}]
[null,"Short wall ",0,"X",4,"X",21.3,"X",{"$f":"I370","v":5.5},null,null,"=",0]
[null,"Gable ",0,"X",4,"X",{"$f":"G371","v":21.3},"X",3.7,null,null,"=",0]
[null,"Long wall  UNIT 3",0,"X",2,"X",32,"X",5.5,null,null,"=",0]
[null,"Short wall ",0,"X",2,"X",21.8,"X",{"$f":"I373","v":5.5},null,null,"=",0]
[null,"Gable ",0,"X",2,"X",{"$f":"G374","v":21.8},"X",3.7,null,null,"=",0]
[null,null,0]
[null,null,null,null,null,null,null,null,null,null,"Total",null,{"$f":"SUM(M370:M376)","v":0}]
[null,"Dedu."]
[null,"R.S.UNIT 5 & 6",0,"X",4,"X",1.8,"X",2.4,null,null,"=",{"$f":"C379*E379*G379*I379","v":0}]
[null,"V2",0,"X",72,"X",1,"X",0.6,null,null,"=",0]
[null,"V2 in C/S ",0,"X",20,"X",1,"X",0.6,null,null,"=",0]
[null,"R.S.UNIT 3",0,"X",2,"X",1.8,"X",2.4,null,null,"=",0]
[null,"V2",0,"X",14,"X",1,"X",0.6,null,null,"=",0]
[null,"V2 in C/S ",0,"X",10,"X",1,"X",0.6,null,null,"=",0]
[null,null,null,null,null,null,null,null,null,null,null,null,{"$f":"SUM(M379:M384)","v":0}]
[null,null,null,null,null,null,null,null,null,null,"Total",null,{"$f":"M377-M385","v":0}]
[null,null,null,null,null,null,null,null,null,null,"Say",null,{"$f":"ROUNDUP(M386,0)","v":0}]
[]
[]
[2,"Scrapping and providing and applying three coats of water proof cement paint of approved manufacture and of approved colour to old plastered surfaces including scaffolding if ecessary, cleaning and preparing the surface, watering for two days etc. complete.",null,null,null,null,null,null,null,null,null,null,null,{"$f":"N368","v":"sqm"},"35.16/244",56]
[null,"Outside ",null,null,null,null,null,null,null,null,null,null,null,null,36.15,2]
[null,null,null,null,null,null,null,null,null,null,null,null,null,null,null,{"$f":"SUM(P390:P391)","v":58}]
[null,"provision ",0,{"$f":"D384","v":"X"},10,{"$f":"F384","v":"X"},{"$f":"G384","v":1},{"$f":"H384","v":"X"},{"$f":"I384","v":0.6},null,null,{"$f":"L384","v":"="},{"$f":"C393*E393*G393*I393","v":0}]
[null,null,0]
[null,null,0,null,null,null,null,null,null,null,"Total",null,{"$f":"SUM(M393:M394)","v":0}]
[null,null,0,null,null,null,null,null,null,null,"Say",null,{"$f":"M395","v":0}]
[null,null,null,null,null,null,null,null,null,null,null,null,{"$f":"ROUNDUP(M396,0)","v":0}]
[]
[3,"Providing & applying  two coats of polymer based  exteranal paint  of standard manufacturer like Apex from Asian paints, Excel from Nerolac paints,  exterior paint  of approved manufacturer and  approved colour  to the plastered or masonary surface including primer coat scafolding & preparing the surface etc. complete as directed. ( Sample and brand is to be got approved) ",null,null,null,null,null,null,null,null,null,null,null,"sqm","35.25/245",208]
[null,"Outside "]
[null," Long wall  UNIT 5&6",0,"X",2,"X",42,"X",5.5,null,null,"=",{"$f":"C401*E401*G401*I401","v":0}]
[null," short wall ",0,"X",4,"X",22,"X",{"$f":"I401","v":5.5},null,null,"=",0]
[null,"Gable wall",0,"X",4,"X",{"$f":"G402","v":22},"X",3.7,null,null,"=",0]
[null,"Column offset out side",0,"X",40,"X",0.1,"X",{"$f":"I402","v":5.5},null,null,"=",0]
[null," Long wall  UNIT 3",0,"X",2,"X",32.700000000000003,"X",5.5,null,null,"=",0]
[null," short wall ",0,"X",2,"X",22.5,"X",{"$f":"I405","v":5.5},null,null,"=",0]
[null,"Gable wall",0,"X",2,"X",{"$f":"G406","v":22.5},"X",3.7,null,null,"=",0]
[null,"Column offset out side",0,"X",28,"X",0.1,"X",{"$f":"I406","v":5.5},null,null,"=",0]
[]
[]
[null,"Weather sheds over "]
[null,"V1 top & bottom UNIT 5& 6",0,"X",14,"X",1.55,"X",0.45,null,null,"=",{"$f":"C412*E412*G412*I412","v":0}]
[null,"Sides",0,"X",14,"X",{"$f":"0.45*2+1.55","v":2.4500000000000002},"X",0.1,null,null,"=",0]
[null,"V2 top & bottom",0,"X",2,"X",0.75,"X",0.5,null,null,"=",0]
[null,"Sides",0,"X",4,"X",0.4,"X",{"$f":"(0.425+0.15)/2","v":0.28749999999999998},null,null,"=",0]
[null,"C/S V2 top & bottom",0,"X",2,"X",1.1499999999999999,"X",0.5,null,null,"=",0]
[null,{"$f":"B413","v":"Sides"},0,"X",1,"X",{"$f":"1.15+0.5+0.5","v":2.15},"X",0.1,null,null,"=",0]
[null,"Jams & Soffits",0,"X",4,"X",{"$f":"1.8+2.4*2","v":6.6},"X",0.35,null,null,null,{"$f":"C418*E418*G418*I418","v":0}]
[null,"V1 top & bottom UNIT 3",0,"X",5,"X",1.55,"X",0.45,null,null,"=",{"$f":"C419*E419*G419*I419","v":0}]
[null,"Sides",0,"X",5,"X",{"$f":"0.45*2+1.55","v":2.4500000000000002},"X",0.1,null,null,"=",0]
[null,"V2 top & bottom",0,"X",5,"X",0.75,"X",0.5,null,null,"=",0]
[null,"Sides",0,"X",4,"X",0.4,"X",{"$f":"(0.425+0.15)/2","v":0.28749999999999998},null,null,"=",0]
[null,"C/S V2 top & bottom",0,"X",2,"X",1.1499999999999999,"X",0.5,null,null,"=",0]
[null,{"$f":"B420","v":"Sides"},0,"X",1,"X",{"$f":"1.15+0.5+0.5","v":2.15},"X",0.1,null,null,"=",0]
[null,"Jams & Soffits",0,"X",2,"X",{"$f":"1.8+2.4*2","v":6.6},"X",0.35,null,null,null,{"$f":"C425*E425*G425*I425","v":0}]
[]
[null,"Deduction ",null,null,null,null,null,null,null,null,"Total ",null,{"$f":"SUM(M401:M426)","v":0}]
[null,"rolling shutter  UNIT 5& 6",0,"X",4,"X",1.8,"X",2.4,null,null,"=",{"$f":"C428*E428*G428*I428","v":0}]
[null,"V2",0,"X",72,"X",1,"X",0.6,null,null,"=",{"$f":"C429*E429*G429*I429","v":0}]
[null,"v 2 in c/s ",0,"X",20,"X",1,"X",0.6,null,null,{"$f":"#REF!","v":{"$error":"#REF!"}},0]
[null,"rolling shutter  UNIT 3",0,"X",2,"X",1.8,"X",2.4,null,null,"=",0]
[null,"V2",0,"X",28,"X",1,"X",0.6,null,null,"=",0]
[null,"v2 in c/s",0,{"$f":"D393","v":"X"},10,{"$f":"F393","v":"X"},{"$f":"G393","v":1},{"$f":"H393","v":"X"},0.6,null,null,{"$f":"L393","v":"="},0]
[null,null,null,null,null,null,null,null,null,null,null,null,{"$f":"SUM(M428:M433)","v":0}]
[]
[null,null,null,null,null,null,null,null,null,null,"Total",null,{"$f":"M427-M434","v":0}]
[null,null,null,null,null,null,null,null,null,null,"Say",null,{"$f":"ROUNDUP(M436,0)","v":0}]
[null,null,null,null,null,null,null,null,null,null,null,null,null,null,null,{"$f":"SUM(P399:P437)","v":208}]
[]
[]
[4,"Scrapping and providing & applying oilpainting in three coats of approved colour & shade to flooring for marking stacklines including preparing the surfaces & primer coat etc. complete. ( Sample and brand is to be got approved)  ",null,null,null,null,null,null,null,null,null,null,null,{"$f":"N390","v":"sqm"},"35.11/241",64]
[null,"Plinth UNIT 5 & 6",null,null,null,null,null,null,null,null,null,null,null,null,"35.10/204",25]
[null,"Long wall ",0,"X",4,"X",42,"X",0.9,null,null,"=",{"$f":"C443*E443*G443*I443","v":0},null,null,{"$f":"P441+P442","v":89}]
[null,"Short wall ",0,"X",4,"X",22,"X",0.9,null,null,"=",{"$f":"C444*E444*G444*I444","v":0}]
[null,null,0]
[null,"Platforms sides",0,"X",8,"X",{"$f":"(1.8*2)","v":3.6},"X",0.9,null,null,"=",0]
[null,"Plinth UNIT 3"]
[null,"Long wall ",0,"X",2,"X",32.700000000000003,"X",0.9,null,null,"=",{"$f":"C448*E448*G448*I448","v":0}]
[null,"Short wall ",0,"X",2,"X",22.5,"X",0.9,null,null,"=",{"$f":"C449*E449*G449*I449","v":0}]
[]
[null,"Platforms sides",0,"X",4,"X",{"$f":"(1.8*2)","v":3.6},"X",0.9,null,null,"=",{"$f":"C451*E451*G451*I451","v":0}]
[null,null,null,null,null,null,null,null,null,null,"Total ",null,{"$f":"SUM(M443:M450)","v":0}]
[null,null,null,null,null,null,null,null,null,null,"Say",null,{"$f":"ROUNDUP(M452,0)","v":0}]
[]
[5,"Scrapping and providing and applying three coats of synthetic enamel paint of aproved colour to new /old structural steel work and wood work in buildings, including scaffolding if necessary, cleaning and preparing the surface (excluding primer coat) etc. complete.",null,null,null,null,null,null,null,null,null,null,null,0,"35.18/245",12]
[null,"For shutters and ventilaters",null,null,null,null,null,null,null,null,null,null,null,null,"35.07/243",62]
[null,"for ventilaters V2 UNIT 5 & 6",0,"X",92,"X",1,"X",0.6,null,null,"=",{"$f":"C457*E457*G457*I457","v":0},null,"35.08/243",28]
[null,"For ventilaters V1",0,"X",56,"X",0.6,"X",0.6,null,null,"=",0,null,null,{"$f":"SUM(P455:P457)","v":102}]
[null,"platform channel",0,"X",8,"X",8.9600000000000009,"X",0.3,null,null,"=",0]
[null,"for ventilaters V2 UNIT 3",0,"X",28,"X",1,"X",0.6,null,null,"=",0]
[null,"For ventilaters V1",0,"X",20,"X",0.6,"X",0.6,null,null,"=",0]
[null,"platform channel",0,"X",4,"X",8.9600000000000009,"X",0.3,null,null,"=",0]
[null,null,null,null,null,null,null,null,null,null,"Total ",null,{"$f":"SUM(M457:M462)","v":0}]
[null,null,null,null,null,null,null,null,null,null,"Say",null,{"$f":"ROUNDUP(M463,0)","v":0}]
[]
[null,"Sub Work V :- Repairs to Rolling Shutters"]
[]
[1,"Dismantling brick masonry in lime or cement mortar and stacking the materials as directed with all leads, lifts etc.",null,null,null,null,null,null,null,null,null,null,null,"cum","46.09/318",181]
[null,"for removing R.Shutters"]
[null,"near shutters UNIT 3",0,"X",4,"X",0.35,"X",0.35,"X",2.4,"=",{"$f":"C470*E470*G470*I470*K470","v":0}]
[null,null,0,"X",4,"X",0.35,"X",0.35,"X",2.5,"=",{"$f":"C471*E471*G471*I471*K471","v":0}]
[null,null,null,null,null,null,null,null,null,null,"Total","=",{"$f":"SUM(M470:M471)","v":0}]
[]
[null,null,null,null,null,null,null,null,null,null,"SAY","=",{"$f":"ROUNDUP(M472,0)","v":0}]
[]
[2,"Providing second class Burnt Brick masonry with conventional/ I.S. type bricks in cement mortar 1:6 in superstructure including striking joints, raking out joints, watering and scaffolding etc. Complete",null,null,null,null,null,null,null,null,null,null,"cum",null,"27.05/215",4804]
[null,"near rolling shutter UNIT 3",0,"X",4,"X",0.35,"X",0.2,"X",2.4,"=",{"$f":"C477*E477*G477*I477*K477","v":0}]
[null,"(0.35-0.15=0.20)"]
[null,null,null,null,null,null,null,null,null,null,"Total","=",{"$f":"SUM(M477:M478)","v":0}]
[null,null,null,null,null,null,null,null,null,null,"Say","=",{"$f":"M479","v":0}]
[]
[3,"Providing and laying Cast in situ/Ready Mix cement concrete M-20 of trap /  ranite /quartzite/ gneiss metal for R.C.C. columns as per detailed designs and drawing or as directed including centering, formwork, cover blocks, laying/pumping, compaction finishing the formed surfaces with cement mortar 1:3 of sufficient minimum thickness to give a smooth and even surface or roughening if special finish is to be provided and curing etc.  complete,(Excluding reinforcement and structural steel)",null,null,null,null,null,null,null,null,null,null,null,"cum","25.31/188",{"$f":"7397+117","v":7514}]
[null,null,null,null,null,null,null,null,null,null,null,null,null,"scada dedu",null,-117]
[null,"near shutters UNIT 3",0,"X",2,"X",0.35,"X",0.15,"X",2.4,"=",{"$f":"C484*E484*G484*I484*K484","v":0},null,null,7397]
[]
[null,null,null,null,null,null,null,null,null,null,"Total","=",{"$f":"SUM(M484:M484)","v":0}]
[null,null,null,null,null,null,null,null,null,null,"Say","=",{"$f":"M486","v":0}]
[]
[4,"Providing and laying Cast in situ/Ready Mix cement concrete M-20 of trap / granite /quartzite/ gneiss metal for R.C.C. beams and lintels as per detailed designs and drawings or as directed including centering, formwork, cover blocks, laying/pumping, compactionand roughening the surface if special finish is to be provided and curing etc. complete. (Excluding reinforcement and structural steel).",null,null,null,null,null,null,null,null,null,null,null,"cum","25.50/191",6741]
[null,null,null,null,null,null,null,null,null,null,null,null,null,"scada dedu",null,-117]
[null,"below R.S.",0,"X",2,"X",0.35,"X",0.35,"X",2.5,"=",{"$f":"C491*E491*G491*I491*K491","v":0},null,null,{"$f":"SUM(P489:P490)","v":6624}]
[null,"above R.S. (0.35-.15=0.20)",0,"X",2,"X",0.2,"X",0.4,"X",2.5,"=",{"$f":"C492*E492*G492*I492*K492","v":0}]
[null,null,null,null,null,null,null,null,null,null,"Total","=",{"$f":"SUM(M491:M492)","v":0}]
[null,null,null,null,null,null,null,null,null,null,"Say","=",{"$f":"M493","v":0}]
[]
[5,"Providing and fixing in position TMT - FE - 500 bar reinforcement of various diameters for R.C.C. pile caps, footings, foundations, slabs, beams columns, canopies, staircase, newels, chajjas, lintels pardis, copings, fins, arches etc. as per detailed  esigns,drawings and schedules. including cutting, bending, hooking the bars, binding with wires or tack welding and supporting as required complete.",null,null,null,null,null,null,null,null,null,null,null,"M.T.","26.33/202",46309]
[null,null,null,null,null,null,"cum",null,"kg"]
[null,"Column",null,null,null,null,{"$f":"M487","v":0},"x",125,null,null,"=",{"$f":"I498*G498","v":0}]
[null,"Beam",null,null,null,null,{"$f":"M494","v":0},"x",125,null,null,"=",{"$f":"I499*G499","v":0}]
[null,null,null,null,null,null,null,null,null,null,"Total","=",{"$f":"SUM(M498:M499)","v":0}]
[null,null,null,null,null,null,null,null,null,null,"Say","=",{"$f":"M500/1000","v":0}]
[]
[6,"Providing internal cement plaster 20mm thick in two coats in cement mortar 1:4 without neeru finish, to concrete, brick surface, in all positions including scaffolding and curing etc.complete.",null,null,null,null,null,null,null,null,null,null,null,"sqm","32.07/227",328]
[null,"Slab",0,"x",2,"x",1.05,"x",2.4,null,null," =",{"$f":"I504*G504*E504*C504","v":0}]
[null,null,0,"x",2,"x",0.9,"x",2.6,null,null," =",{"$f":"I505*G505*E505*C505","v":0}]
[null,null,null,null,null,null,null,null,null,null,"Total"," =",{"$f":"SUM(M504:M505)","v":0}]
[null,null,null,null,null,null,null,null,null,null,"Say"," =",{"$f":"ROUNDUP(M506,0.5)","v":0},"sqm"]
[]
[7,"Removing the shutter from its positions and refixing them with new hold fast 0.60M side guide and bottom rail lath springs,oiling greasing, its tensioning etc complete as directed by Engineer In charge",null,null,null,null,null,null,null,null,null,null,null,"Nos","RA",{"$f":"'[5]RA shutter'!N17","v":1870}]
[]
[null,"rolling shutters",0,"x",2,null,null,null,null,null,null," =",{"$f":"E511*C511","v":0}]
[null,null,null,null,null,null,null,null,null,null,"Total"," =",{"$f":"SUM(M510:M511)","v":0}]
[null,null,null,null,null,null,null,null,null,null,"Say"," =",{"$f":"ROUNDUP(M512,0)","v":0}]
[]
[8,"Supply and fixing following material for fixing of Rolling Shutters etc. Complete as directed by Engineer in charge.",null,null,null,null,null,null,null,null,null,null,null,"Nos"]
[null,"UNIT 5 & 6"]
[null,"A -  side guide",null,null,0,"x",2,"x",0.6,null,null,null,{"$f":"I517*G517*E517","v":0},"Rm","MR",200]
[null,null,null,null,null,null,null,null,null,null,"Say Total",null,0,"Rm"]
[]
[null,"B - Bottom Rail",null,null,0,"x",2,"x",1.94,null,null,null,{"$f":"I520*G520*E520","v":0},"Rm","MR",800]
[null,null,null,null,null,null,null,null,null,null,"Say Total",null,0,"Rm"]
[]
[null,"C - Lath Patti",null,null,0,"x",4,"x",1.94,null,null,null,{"$f":"I523*G523*E523","v":0},"Rm'","MR",65]
[null,null,null,null,null,null,null,null,null,null,"Say Total",null,0,"Rm"]
[]
[null,"D - Spring",null,null,0,"x",4,"x",1,null,null,null,{"$f":"G526*E526","v":0},"Nos","MR",400]
[null,null,null,null,null,null,null,null,null,null,"Say Total",null,0,"Nos"]
[]
[9,"Providing and applying three coats of flat oil paint of approved colour to the old structural steel work and iron work previously painted in building including scaffolding, if necessary, cleaning and preparing the surface (excluding primer coat) etc. complete.",null,null,null,null,null,null,null,null,null,null,null,"Rmt","35.09/244",50]
[null,"shutters UNIT 5 & 6",0,"x",4,"x",1.8,"x",2.4,"x",1.1399999999999999," =",{"$f":"K530*I530*G530*E530*C530","v":0},null,null,11]
[null,"bay",null,null,null,null,null,null,null,null,"Total"," =",{"$f":"SUM(M530)","v":0},null,35.18,12]
[null,null,null,null,null,null,null,null,null,null,"Say"," =",{"$f":"ROUNDUP(M531,0)","v":0},null,null,{"$f":"SUM(P529:P531)","v":73}]
[]
[10,"Providing and applying three coats of water proof cement paint of approved manufacture and of approved colour to old plastered surfaces including scaffolding if necessary, cleaning and preparing the surface, watering for two days etc. complete.",null,null,null,null,null,null,null,null,null,null,null,"sqm","35.16/244 ",56]
[null,"UNIT 3",null,null,null,null,null,null,null,null,null,null,null,null,null,2]
[null,"for RS jams and soffits",0,"x",2,"x",7.2,"x",0.35,null,null," =",{"$f":"I536*G536*E536*C536","v":0},null,null,{"$f":"SUM(P534:P535)","v":58}]
[null,"for outside",0,"x",2,"x",7.2,"x",0.35,null,null,"=",{"$f":"I537*G537*E537*C537","v":0}]
[null,null,null,null,null,null,null,null,null,null,"Total"," =",{"$f":"SUM(M536:M537)","v":0}]
[null,null,null,null,null,null,null,null,null,null,"Say"," =",{"$f":"ROUNDUP(M538,0)","v":0}]
[]
[11,"Providing partition arrangements for shutter opening portion along with security arrangements upto completion of work etc. complete",null,null,null,null,null,null,null,null,null,null,null,"sqm","RA",{"$f":"'[5]RA shutter'!H42","v":165.27777777777777}]
[]
[null,"Unit no",0,"x",2,"x",1.8,"x",2.4,null,null," =",{"$f":"I543*G543*E543*C543","v":0}]
[null,null,null,null,null,null,null,null,null,null,"Total"," =",{"$f":"SUM(M543:M543)","v":0}]
[null,null,null,null,null,null,null,null,null,null,"Say"," =",{"$f":"ROUNDUP(M544,0)","v":0}]
[]
[]
[12,"Removing the existing damaged Rolling shutters from its original locations etc. complete as directed by engineer In charge.",null,null,null,null,null,null,null,null,null,null,null,"nos","RA",{"$f":"'[5]RA shutter'!J52","v":330}]
[]
[null,"Unit no 3 ",0,"x",2,"x",1.8,"x",2.4,null,null," =",{"$f":"I550*G550*E550*C550","v":0}]
[null,null,null,null,null,null,null,null,null,null,"Total"," =",{"$f":"SUM(M550:M550)","v":0}]
[null,null,null,null,null,null,null,null,null,null,"Say"," =",{"$f":"ROUNDUP(M551,0)","v":0}]
[]
[13,"Providing & fixing steel rolling shutter fabricated from 20 gauge steel laths with side guides, bottom rails, brackets of 10 G.M.S. sheet door suspension shaft of 50 mm dia, rolling springs of 45 cm length, locking arrangements with not less than 6mm thick strip and central lock as per specifications, housing box prepared out of 20 G sheets at the top, handles prepared out of 6mm thick flats 4 nos, holdfast patti 6 nos,for each side guide with 12 concrete nails / fasterner, including applying three coats of oilpaint of approved colour & shade etc. complete ",null,null,null,null,null,null,null,null,null,null,null,"sqm","RA",{"$f":"'[5]RA shutter'!J61","v":3063.44}]
[]
[null,"Unit no 3",0,"x",2,"x",1.8,"x",2.4,null,null," =",{"$f":"I556*G556*E556*C556","v":0}]
[null,null,null,null,null,null,null,null,null,null,"Total"," =",{"$f":"SUM(M556:M556)","v":0}]
[null,null,null,null,null,null,null,null,null,null,"Say"," =",{"$f":"ROUNDUP(M557,0)","v":0}]
[]
[14,"Crediting the amount against old damaged existing damaged rolling shutter as directed by engineer in charge.",null,null,null,null,null,null,null,null,null,null,null,"Kg","RA",-15]
[]
[null,"Unit no",null,null,null,null,null,null,null,null,null," =",0]
[null,null,null,null,null,null,null,null,null,null,"Total"," =",{"$f":"SUM(M562:M562)","v":0}]
[null,null,null,null,null,null,null,null,null,null,"Say"," =",{"$f":"ROUNDUP(M563,0)","v":0}]
[]
[15,"Conveying the materials obtained from excavation including laying in layers, breaking clods, dressing to the required lines, curves, grades and section for all leads & lifts from the site of excavation to the site of deposition  outside the complex as by directed engineer in charge.",null,null,null,null,null,null,null,null,null,null,null,null,"lead statement",105.25]
[]
[null,"Quanitity as per Item no.1",null,null,null,null,null,null,null,null,null,"=",{"$f":"M474","v":0},"Cu.M."]
[null,null,null,null,null,null,null,null,null,null,"Total","=",{"$f":"SUM(M568)","v":0},"Cu.M."]
[null,null,null,null,null,null,null,null,null,null,"SAY","=",{"$f":"ROUNDUP(M569,0)","v":0},"Cu.M."]
[]
[]
[null,"Sub Work VI :- Repairs to Warehouse Platforms"]
[]
[1,"Dismantling brick masonry in lime or cement mortar and stacking the materils as directed with all leads, lifts etc. complete",null,null,null,null,null,null,null,null,null,null,null,"cum","46.09/318",181]
[null,"Near R. S.","For Removing Roling shuter"]
[null," R. S. bay (2.4+.05+.45)",0,"x",3,"x",4.2,"x",0.35,"x",2.9,"=",{"$f":"K577*I577*G577*E577*C577","v":0}]
[null,"Long side platform",0,"x",1,"x",53.65,"x",0.35,"x",0.6,null,{"$f":"K578*I578*G578*E578*C578","v":0}]
[null,"Long side platform",0,"x",2,"x",1.6,"x",0.35,"x",0.6,null,{"$f":"K579*I579*G579*E579*C579","v":0}]
[null,"Short side platform",0,"x",1,"x",2.5,"x",0.35,"x",0.6,null,{"$f":"K580*I580*G580*E580*C580","v":0}]
[null,"Deduction for R. S. ",0,"x",2,"x",1.8,"x",0.35,"x",2.4,null,{"$f":"-K581*I581*G581*E581*C581","v":0}]
[null,null,null,null,null,null,null,null,null,null,"Total",null,{"$f":"SUM(M577:M581)","v":0}]
[null,null,null,null,null,null,null,null,null,null,"Say",null,{"$f":"M582","v":0}]
[]
[2,"Dismantling  stone masonry in  lime or cement mortar including stacking  the  materials  as  directed  with  all  leads,  lifts  etc. complete.",null,null,null,null,null,null,null,null,null,null,null,"Cum","46.11/315",205]
[]
[null,"Unit  III"]
[null,"Apron  L/S",0,"x",2,"x",55.2,"x",0.3,"x",0.3,"=",{"$f":"K588*I588*G588*E588*C588","v":0}]
[null,"Gutter L/S",0,"x",2,"x",56.4,"x",0.3,"x",0.3,"=",{"$f":"K589*I589*G589*E589*C589","v":0}]
[null,"Apron  S/S",0,"x",2,"x",24.2,"x",0.3,"x",0.3,"=",{"$f":"K590*I590*G590*E590*C590","v":0}]
[null,"Gutter S/S",0,"x",2,"x",25.4,"x",0.3,"x",0.3,"=",{"$f":"K591*I591*G591*E591*C591","v":0}]
[null,null,null,null,null,null,null,null,null,null,"Total",null,{"$f":"SUM(M588:M591)","v":0}]
[null,null,null,null,null,null,null,null,null,null,"Say",null,{"$f":"M592","v":0}]
[]
[3,"Removing rich mix cement concrete  and sorting out the materials such  as  steel  etc.  as  directed  and  stacking  them  within  the specified lead as directed etc. complete.",null,null,null,null,null,null,null,null,null,null,null,null,"46.13/318",502]
[null,"Platform beam "]
[null,"PB1 L/S",0,"X",1,"X",54,"X",0.55000000000000004,"X",0.15,"=",{"$f":"C597*E597*G597*I597*K597","v":0}]
[null,"PB1 L/S",0,"X",1,"X",54,"X",{"$f":"0.475/2+0.35/2","v":0.41249999999999998},"X",0.15,"=",0]
[null,"PB1 S/S",0,"X",2,"X",1.25,"X",{"$f":"I597","v":0.55000000000000004},null,{"$f":"K597","v":0.15},"=",0]
[null,null,0,"X",2,"X",1.25,"X",{"$f":"I598","v":0.41249999999999998},null,{"$f":"K598","v":0.15},"=",0]
[null,"PB3",0,"X",4,"X",1.0449999999999999,"X",0.3,"X",0.3,"=",0]
[null,"PB1 L/S",0,"X",3,"X",2.5,"X",0.55000000000000004,"X",0.15,"=",0]
[null,null,0,"X",3,"X",2.5,"X",{"$f":"0.475/2+0.35/2","v":0.41249999999999998},"X",0.15,"=",0]
[null,null,null,null,null,null,null,null,null,null,"Total ",null,{"$f":"SUM(M598:M603)","v":0}]
[null,null,null,null,null,null,null,null,null,null,"Say","=",{"$f":"ROUNDUP(M604,0)","v":0}]
[]
[4,"Removing  & refixing, fabricating structural steel work in rolled sections like joists, channels, angles, tees etc. as per detailed design and drawings or as directed including cutting, fabricating, hoisting, erecting, fixing in position making riveted / bolted /welded connections without connecting plates, braces etc. and including one coat of anticorrosive paint and over it two coats of oil painting of approved quality and shade etc. complete.",null,null,null,null,null,null,null,null,null,null,null,"kg","23.01/174",50.77]
[null,"Long platform",0,"X",1,"X",54,null,null,null,null,"=",{"$f":"C608*E608*G608","v":0}]
[null,"Long platform",0,"X",2,"X",1.8,null,null,null,null,"=",{"$f":"C609*E609*G609","v":0}]
[null,"Short  platform",0,"X",1,"X",2.5,null,null,null,null,"=",{"$f":"C610*E610*G610","v":0}]
[null,null,null,null,null,null,null,null,null,null,"Total ","=",{"$f":"SUM(M608:M610)","v":0}]
[null,null,null,null,null,null,null,null,null,null,"Say","=",{"$f":"ROUNDUP(M611,0)","v":0}]
[]
[5,"Providing second class Burnt Brick masonry with conventional/ I.S. type bricks in cement mortar 1:6 in superstructure including striking joints, raking out joints, watering and scaffolding etc. Complete",null,null,null,null,null,null,null,null,null,null,null,"cum","27.05/215",4804]
[null," R. S. bay",0,"x",3,"x",4.2,"x",0.35,"x",2.4500000000000002,"=",{"$f":"K615*I615*G615*E615*C615","v":0}]
[null,"Deduction for ",null,null,null,null,null,null,null,null,"Total ",null,{"$f":"SUM(M615)","v":0}]
[null,"Rolling shutters",0,"x",2,"X",2.1,"X",0.35,"X",2.4,"=",{"$f":"C617*E617*G617*I617*K617","v":0}]
[null,"C2 near R.S. ",0,"x",2,"X",0.15,"X",0.35,"X",2.4,"=",{"$f":"C618*E618*G618*I618*K618","v":0}]
[null,null,null,null,null,null,null,null,"Total deduction ",null,null,null,{"$f":"SUM(M617:M618)","v":0}]
[null,null,null,null,null,null,null,null,null,null,"net",null,{"$f":"M616-M619","v":0}]
[null,null,null,null,null,null,null,null,null,null,"Say","=",{"$f":"ROUNDUP(M620,0)","v":0}]
[]
[6,"Providing and laying in situ/Ready Mix cement concrete M-20 of trap / granite /quartzite/ gneiss metal for R.C.C. work in foundations like raft, strip foundations, grillage and footings of R.C.C. columns and steel stanchions etc. including bailing out water, formwork, laying/pumping cover blocks, compaction and curing roughening the surface if special finish is to be provided (Excluding reinforcement and structural steel) etc. complete, etc. complete. With natural sand/V.S.I. quality Artificial Sand",null,null,null,null,null,null,null,null,null,null,null,"cum","25.11/185",4907]
[null,"Column Raft",null,null,null,null,null,null,null,null,null,null,null,null,null,-117]
[null,"Column No.Platform",0,"x",2,"X",1,"X",1,"X",0.4,"=",{"$f":"C625*E625*G625*I625*K625","v":0},null,null,{"$f":"SUM(P623:P624)","v":4790}]
[null,null,null,null,null,null,null,null,null,null,"Total",null,{"$f":"SUM(M625)","v":0}]
[null,null,null,null,null,null,null,null,null,null,"Say","=",{"$f":"ROUNDUP(M626,0)","v":0}]
[]
[]
[]
[7,"Providing and laying Cast in situ/Ready Mix cement concrete M-20 of trap / granite /quartzite/ gneiss metal for R.C.C. columns as per detailed designs and drawing or as directed includingcentering, formwork, cover blocks, laying / pumping, compaction finishing the formed surfaces with cement mortar1:3 of sufficient minimum thickness to give a smooth and evensurface or roughening if special finish is to be provided andcuring etc.complete,(Excluding reinforcement and structuralsteel).With natural sand/V.S.I.quality Artificial Sand",null,null,null,null,null,null,null,null,null,null,null,"cum","25.31/188",7514]
[null," Platform Column ",0,"x",2,"x",0.56999999999999995,"x",0.3,"X",2,"=",{"$f":"C632*E632*G632*I632*K632","v":0},null,null,-117]
[null,"Column near R.S. ",0,"x",2,"x",0.15,"x",0.35,"X",2.4,"=",{"$f":"C633*E633*G633*I633*K633","v":0},null,null,{"$f":"SUM(P631:P632)","v":7397}]
[null,null,null,null,null,null,null,null,null,null,"Total",null,{"$f":"SUM(M632:M633)","v":0}]
[]
[null,null,null,null,null,null,null,null,null,null,"Say","=",{"$f":"ROUNDUP(M634,0)","v":0}]
[]
[8,"Providing and laying Cast in situ/Ready Mix cement concrete M-20 of trap / granite /quartzite/ gneiss metal for R.C.C. beams and lintels as per detailed designs and drawings or as directed including centering, formwork, cover blocks, laying/pumping, compaction and roughening the surface if special finish is to be provided and curing etc. complete. (Excluding reinforcement and structural steel).  etc. complete. With natural sand/ V.S.I. quality Artificial Sand",null,null,null,null,null,null,null,null,null,null,null,null,"25.50/191",6741]
[null,"Below R.S.",0,"x",3,"x",4.5,"x",0.35,"x",0.45,"=",{"$f":"K639*I639*G639*E639*C639","v":0},null,null,-117]
[null,"Above R.S.",0,"x",3,"x",2.5,"x",0.2,"x",0.4,"=",{"$f":"K640*I640*G640*E640*C640","v":0},null,null,{"$f":"SUM(P638:P639)","v":6624}]
[null,"Platform beam "]
[null,"PB2",0,"X",2,"X",4.2,"X",0.34,"X",0.45,"=",{"$f":"C642*E642*G642*I642*K642","v":0}]
[null,"PB1",0,"X",2,"X",4.3499999999999996,"X",0.3,"X",0.45,"=",0]
[null,"PB3",0,"X",2,"X",1.3,"X",0.3,"X",0.3,"=",0]
[null,"OFFSET ",0,"X",2,"X",4.8,"X",0.20499999999999999,"X",0.15,"=",0]
[null,"OFFSET ",0,"X",2,"X",1.595,"X",0.20499999999999999,"X",0.15,"=",0]
[null,"OFFSET L= 5.00+4.59/2",0,"X",2,"X",{"$f":"G645","v":4.8},"X",0.20499999999999999,"X",0.15,"=",0]
[null,"L= 1.80+1.595/2",0,"X",2,"X",1.7,"X",0.20499999999999999,"X",0.15,"=",0]
[]
[null,"0.35-0.15=0.20",null,null,null,null,null,null,null,null,"Total","=",{"$f":"SUM(M639:M649)","v":0},"Cum"]
[null,null,null,null,null,null,null,null,null,null,"Say","=",{"$f":"ROUNDUP(M650,0)","v":0},"Cum"]
[]
[9,"Providing and laying Cast in situ/Ready Mix cement concrete M-20 of trap/ granite / quartzite/ gneiss metal for R.C.C. slabs and landings as per detailed designs and drawings including centering, formwork, cover blocks, laying/pumping, compactionfinishing the formed surfaces with cement mortar 1:3 of sufficient minimum thickness to give a smooth and even surface or roughening if special finish is to be provided and curing etc. complete,(Excluding reinforcement and structural steel). complete. With natural sand/V.S.I. quality Artificial Sand",null,null,null,null,null,null,null,null,null,null,null,"cum","25.70/193",8516]
[null,"platform slab",0,"X",1,"X",4.2,"X",1.2949999999999999,"X",0.2,"=",{"$f":"K654*I654*G654*E654*C654","v":0},null,null,-117]
[null,"notch",0,"X",1,"X",4.2,"X",0.3,"X",0.2,"=",{"$f":"C655*E655*G655*I655*K655","v":0},null,null,{"$f":"SUM(P653:P654)","v":8399}]
[null,null,null,null,null,null,null,null,null,null,"Total",null,{"$f":"SUM(M654:M655)","v":0}]
[null,null,null,null,null,null,null,null,null,null,"Say","=",{"$f":"ROUNDUP(M656,0)","v":0}]
[]
[10,"Providing internal cement plaster 20mm thick in two coats in cement mortar 1:4 without neeru finish, to concrete, brick surface, in all positions including scaffolding and curing\netc.complete.",null,null,null,null,null,null,null,null,null,null,null,"Sqm","32.07/227",328]
[]
[null,"Shutter bay",0,"x",3,"x",2,"x",4.8,"x",3,"=",{"$f":"K661*I661*G661*E661*C661","v":0}]
[null,"Shutter jam",0,"x",3,"x",1,"x",0.35,"x",{"$f":"1.8+2.45+2.45","v":6.7},"=",{"$f":"K662*I662*G662*E662*C662","v":0}]
[null,null,null,null,null,null,null,null,null,null,"Total","=",{"$f":"SUM(M661:M662)","v":0},"Sqm"]
[null,null,null,null,null,null,null,null,null,null,"Say","=",{"$f":"ROUNDUP(M663,0)","v":0},"Sqm"]
[]
[]
[11,"Providing and fabricating structural steel work in rolled sections like joists, channels, angles, tees etc. as per detailed design and drawings or as directed including cutting, fabricating, hoisting, erecting, fixing in position making riveted / bolted /welded connections without connecting plates, braces etc. and including one coat of anticorrosive paint and over it two coats of oil painting of approved quality and shade etc. complete.",null,null,null,null,null,null,null,null,null,null,null,"Kg","23.01/177",50.77]
[]
[null,"for ISMC channel 75x150mm"]
[null,"a) For platforms ",0,"x",3,"x",{"$f":"4.8+1.8+1.8","v":8.4},"x",16.8,"=",null,null,{"$f":"C670*E670*G670*I670","v":0},null,null,null,null,null,null,null,null,null,null,null,null,null,null,null,null,null,null,null,null,null,null,null,null,null,null,null,null,null,null,null,null,null,null,null,null,null,null,null,null,null,null,null,null,null,null,null,null,null,null,null,null,null,null,null,null,null,null,null,null,null,null,null,null,null,null,null,null,null,null,null,null,null,null,null,null,null,null,null,null,null,null,null,null,null,null,null,null,null,null,null,null,null,null,null,null,null,null,null,null,null,null,null,null,null,null,null,null,null,null,null,null,null,null,null,null,null,null,null,null,null,null,null,null,null,null,null,null,null,null,null,null,null,null,null,null,null,null,null,null,null,null,null,null,null,null,null,null,null,null,null,null,null,null,null,null,null,null,null,null,null,null,null,null,null,null,null,null,null,null,null,null,null,null,null,null,null,null,null,null,null,null,null,null,null,null,null,null,null,null,null,null,null,null,null,null,null,null,null,null,null,null,null,null,null,null,null,null,null,null,null,null,null,null,null,null,null,null,null,null,null,null,null,null,null,null,null,null,null,null,null,null,null,null,null,null,null,null,null,null,null,null,null,null,null,null,null,null,null,null,null,null,null,null,null,null,null,null,null,null,null,null,null,null,null,null,null,null,null,null,null,null,null,null,null,null,null,null,null,null,null,null,null,null,null,null,null,null,null,null,null,null,null,null,null,null,null,null,null,null,null,null,null,null,null,null,null,null,null,null,null,null,null,null,null,null,null,null,null,null,null,null,null,null,null,null,null,null,null,null,null,null,null,null,null,null,null,null,null,null,null,null,null,null,null,null,null,null,null,null,null,null,null,null,null,null,null,null,null,null,null,null,null,null,null,null,null,null,null,null,null,null,null,null,null,null,null,null,null,null,null,null,null,null,null,null,null,null,null,null,null,null,null,null,null,null,null,null,null,null,null,null,null,null,null,null,null,null,null,null,null,null,null,null,null,null,null,null,null,null,null,null,null,null,null,null,null,null,null,null,null,null,null,null,null,null,null,null,null,null,null,null,null,null,null,null,null,null,null,null,null,null,null,null,null,null,null,null,null,null,null,null,null,null,null,null,null,null,null,null,null,null,null,null,null,null,null,null,null,null,null,null,null,null,null,null,null,null,null,null,null,null,null,null,null,null,null,null,null,null,null,null,null,null,null,null,null,null,null,null,null,null,null,null,null,null,null,null,null,null,null,null,null,null,null,null,null,null,null,null,null,null,null,null,null,null,null,null,null,null,null,null,null,null,null,null,null,null,null,null,null,null,null,null,null,null,null,null,null,null,null,null,null,null,null,null,null,null,null,null,null,null,null,null,null,null,null,null,null,null,null,null,null,null,null,null,null,null,null,null,null,null,null,null,null,null,null,null,null,null,null,null,null,null,null,null,null,null,null,null,null,null,null,null,null,null,null,null,null,null,null,null,null,null,null,null,null,null,null,null,null,null,null,null,null,null,null,null,null,null,null,null,null,null,null,null,null,null,null,null,null,null,null,null,null,null,null,null,null,null,null,null,null,null,null,null,null,null,null,null,null,null,null,null,null,null,null,null,null,null,null,null,null,null,null,null,null,null,null,null,null,null,null,null,null,null,null,null,null,null,null,null,null,null,null,null,null,null,null,null,null,null,null,null,null,null,null,null,null,null,null,null,null,null,null,null,null,null,null,null,null,null,null,null,null,null,null,null,null,null,null,null,null,null,null,null,null,null,null,null,null,null,null,null,null,null,null,null,null,null,null,null,null,null,null,null,null,null,null,null,null,null,null,null,null,null,null,null,null,null,null,null,null,null,null,null,null,null,null,null,null,null,null,null,null,null,null,null,null,null,null,null,null,null,null,null,null,null,null,null,null,null,null,null,null,null,null,null,null,null,null,null,null,null,null,null,null,null,null,null,null,null,null,null,null,null,null,null,null,null,null,null,null,null,null,null,null,null,null,null,null,null,null,null,null,null,null,null,null,null,null,null,null,null,null,null,null,null,null,null,null,null,null,null,null,null,null,null,null,null,null,null,null,null,null,null,null,null,null,null,null,null,null,null,null,null,null,null,null,null,null,null,null,null,null,null,null,null,null,null,null,null,null,null,null,null,null,null,null,null,null,null,null,null,null,null,null,null,null,null,null,null,null,null,null,null,null,null,null,null,null,null,null,null,null,null,null,null,null,null,null,null,null,null,null,null,null,null,null,null,null,null,null,null,null,null,null,null,null,null,null,null,null,null,null,null,null,null,null,null,null,null,null,null,null,null,null,null,null,null,null,null,null,null,null,null,null,null,null,null,null,null,null,null,null,null,null,null,null,null,null,null,null,null,null,null,null,null,null,null,null,null,null,null,null,null,null,null,null,null,null,null,null,null,null,null,null,null,null,null,null,null,null,null,null,null,null,null,null,null,null,null,null,null,null,null,null,null,null,null,null,null,null,null,null,null,null,null,null,null,null,null,null,null,null,null,null,null,null,null,null,null,null,null,null,null,null,null,null,null,null,null,null,null,null,null,null,null,null,null,null,null,null,null,null,null,null,null,null,null,null,null,null,null,null,null,null,null,null,null,null,null,null,null,null,null,null,null,null,null,null,null,null,null,null,null,null,null,null,null,null,null,null,null,null,null,null,null,null,null,null,null,null,null,null,null,null,null,null,null,null,null,null,null,null,null,null,null,null,null,null,null,null,null,null,null,null,null,null,null,null,null,null,null,null,null,null,null,null,null,null,null,null,null,null,null,null,null,null,null,null,null,null,null,null,null,null,null,null,null,null,null,null,null,null,null,null,null,null,null,null,null,null,null,null,null,null,null,null,null,null,null,null,null,null,null,null,null,null,null,null,null,null,null,null,null,null,null,null,null,null,null,null,null,null,null,null,null,null,null,null,null,null,null,null,null,null,null,null,null,null,null,null,null,null,null,null,null,null,null,null,null,null,null,null,null,null,null,null,null,null,null,null,null,null,null,null,null,null,null,null,null,null,null,null,null,null,null,null,null,null,null,null,null,null,null,null,null,null,null,null,null,null,null,null,null,null,null,null,null,null,null,null,null,null,null,null,null,null,null,null,null,null,null,null,null,null,null,null,null,null,null,null,null,null,null,null,null,null,null,null,null,null,null,null,null,null,null,null,null,null,null,null,null,null,null,null,null,null,null,null,null,null,null,null,null,null,null,null,null,null,null,null,null,null,null,null,null,null,null,null,null,null,null,null,null,null,null,null,null,null,null,null,null,null,null,null,null,null,null,null,null,null,null,null,null,null,null,null,null,null,null,null,null,null,null,null,null,null,null,null,null,null,null,null,null,null,null,null,null,null,null,null,null,null,null,null,null,null,null,null,null,null,null,null,null,null,null,null,null,null,null,null,null,null,null,null,null,null,null,null,null,null,null,null,null,null,null,null,null,null,null,null,null,null,null,null,null,null,null,null,null,null,null,null,null,null,null,null,null,null,null,null,null,null,null,null,null,null,null,null,null,null,null,null,null,null,null,null,null,null,null,null,null,null,null,null,null,null,null,null,null,null,null,null,null,null,null,null,null,null,null,null,null,null,null,null,null,null,null,null,null,null,null,null,null,null,null,null,null,null,null,null,null,null,null,null,null,null,null,null,null,null,null,null,null,null,null,null,null,null,null,null,null,null,null,null,null,null,null,null,null,null,null,null,null,null,null,null,null,null,null,null,null,null,null,null,null,null,null,null,null,null,null,null,null,null,null,null,null,null,null,null,null,null,null,null,null,null,null,null,null,null,null,null,null,null,null,null,null,null,null,null,null,null,null,null,null,null,null,null,null,null,null,null,null,null,null,null,null,null,null,null,null,null,null,null,null,null,null,null,null,null,null,null,null,null,null,null,null,null,null,null,null,null,null,null,null,null,null,null,null,null,null,null,null,null,null,null,null,null,null,null,null,null,null,null,null,null,null,null,null,null,null,null,null,null,null,null,null,null,null,null,null,null,null,null,null,null,null,null,null,null,null,null,null,null,null,null,null,null,null,null,null,null,null,null,null,null,null,null,null,null,null,null,null,null,null,null,null,null,null,null,null,null,null,null,null,null,null,null,null,null,null,null,null,null,null,null,null,null,null,null,null,null,null,null,null,null,null,null,null,null,null,null,null,null,null,null,null,null,null,null,null,null,null,null,null,null,null,null,null,null,null,null,null,null,null,null,null,null,null,null,null,null,null,null,null,null,null,null,null,null,null,null,null,null,null,null,null,null,null,null,null,null,null,null,null,null,null,null,null,null,null,null,null,null,null,null,null,null,null,null,null,null,null,null,null,null,null,null,null,null,null,null,null,null,null,null,null,null,null,null,null,null,null,null,null,null,null,null,null,null,null,null,null,null,null,null,null,null,null,null,null,null,null,null,null,null,null,null,null,null,null,null,null,null,null,null,null,null,null,null,null,null,null,null,null,null,null,null,null,null,null,null,null,null,null,null,null,null,null,null,null,null,null,null,null,null,null,null,null,null,null,null,null,null,null,null,null,null,null,null,null,null,null,null,null,null,null,null,null,null,null,null,null,null,null,null,null,null,null,null,null,null,null,null,null,null,null,null,null,null,null,null,null,null,null,null,null,null,null,null,null,null,null,null,null,null,null,null,null,null,null,null,null,null,null,null,null,null,null,null,null,null,null,null,null,null,null,null,null,null,null,null,null,null,null,null,null,null,null,null,null,null,null,null,null,null,null,null,null,null,null,null,null,null,null,null,null,null,null,null,null,null,null,null,null,null,null,null,null,null,null,null,null,null,null,null,null,null,null,null,null,null,null,null,null,null,null,null,null,null,null,null,null,null,null,null,null,null,null,null,null,null,null,null,null,null,null,null,null,null,null,null,null,null,null,null,null,null,null,null,null,null,null,null,null,null,null,null,null,null,null,null,null,null,null,null,null,null,null,null,null,null,null,null,null,null,null,null,null,null,null,null,null,null,null,null,null,null,null,null,null,null,null,null,null,null,null,null,null,null,null,null,null,null,null,null,null,null,null,null,null,null,null,null,null,null,null,null,null,null,null,null,null,null,null,null,null,null,null,null,null,null,null,null,null,null,null,null,null,null,null,null,null,null,null,null,null,null,null,null,null,null,null,null,null,null,null,null,null,null,null,null,null,null,null,null,null,null,null,null,null,null,null,null,null,null,null,null,null,null,null,null,null,null,null,null,null,null,null,null,null,null,null,null,null,null,null,null,null,null,null,null,null,null,null,null,null,null,null,null,null,null,null,null,null,null,null,null,null,null,null,null,null,null,null,null,null,null,null,null,null,null,null,null,null,null,null,null,null,null,null,null,null,null,null,null,null,null,null,null,null,null,null,null,null,null,null,null,null,null,null,null,null,null,null,null,null,null,null,null,null,null,null,null,null,null,null,null,null,null,null,null,null,null,null,null,null,null,null,null,null,null,null,null,null,null,null,null,null,null,null,null,null,null,null,null,null,null,null,null,null,null,null,null,null,null,null,null,null,null,null,null,null,null,null,null,null,null,null,null,null,null,null,null,null,null,null,null,null,null,null,null,null,null,null,null,null,null,null,null,null,null,null,null,null,null,null,null,null,null,null,null,null,null,null,null,null,null,null,null,null,null,null,null,null,null,null,null,null,null,null,null,null,null,null,null,null,null,null,null,null,null,null,null,null,null,null,null,null,null,null,null,null,null,null,null,null,null,null,null,null,null,null,null,null,null,null,null,null,null,null,null,null,null,null,null,null,null,null,null,null,null,null,null,null,null,null,null,null,null,null,null,null,null,null,null,null,null,null,null,null,null,null,null,null,null,null,null,null,null,null,null,null,null,null,null,null,null,null,null,null,null,null,null,null,null,null,null,null,null,null,null,null,null,null,null,null,null,null,null,null,null,null,null,null,null,null,null,null,null,null,null,null,null,null,null,null,null,null,null,null,null,null,null,null,null,null,null,null,null,null,null,null,null,null,null,null,null,null,null,null,null,null,null,null,null,null,null,null,null,null,null,null,null,null,null,null,null,null,null,null,null,null,null,null,null,null,null,null,null,null,null,null,null,null,null,null,null,null,null,null,null,null,null,null,null,null,null,null,null,null,null,null,null,null,null,null,null,null,null,null,null,null,null,null,null,null,null,null,null,null,null,null,null,null,null,null,null,null,null,null,null,null,null,null,null,null,null,null,null,null,null,null,null,null,null,null,null,null,null,null,null,null,null,null,null,null,null,null,null,null,null,null,null,null,null,null,null,null,null,null,null,null,null,null,null,null,null,null,null,null,null,null,null,null,null,null,null,null,null,null,null,null,null,null,null,null,null,null,null,null,null,null,null,null,null,null,null,null,null,null,null,null,null,null,null,null,null,null,null,null,null,null,null,null,null,null,null,null,null,null,null,null,null,null,null,null,null,null,null,null,null,null,null,null,null,null,null,null,null,null,null,null,null,null,null,null,null,null,null,null,null,null,null,null,null,null,null,null,null,null,null,null,null,null,null,null,null,null,null,null,null,null,null,null,null,null,null,null,null,null,null,null,null,null,null,null,null,null,null,null,null,null,null,null,null,null,null,null,null,null,null,null,null,null,null,null,null,null,null,null,null,null,null,null,null,null,null,null,null,null,null,null,null,null,null,null,null,null,null,null,null,null,null,null,null,null,null,null,null,null,null,null,null,null,null,null,null,null,null,null,null,null,null,null,null,null,null,null,null,null,null,null,null,null,null,null,null,null,null,null,null,null,null,null,null,null,null,null,null,null,null,null,null,null,null,null,null,null,null,null,null,null,null,null,null,null,null,null,null,null,null,null,null,null,null,null,null,null,null,null,null,null,null,null,null,null,null,null,null,null,null,null,null,null,null,null,null,null,null,null,null,null,null,null,null,null,null,null,null,null,null,null,null,null,null,null,null,null,null,null,null,null,null,null,null,null,null,null,null,null,null,null,null,null,null,null,null,null,null,null,null,null,null,null,null,null,null,null,null,null,null,null,null,null,null,null,null,null,null,null,null,null,null,null,null,null,null,null,null,null,null,null,null,null,null,null,null,null,null,null,null,null,null,null,null,null,null,null,null,null,null,null,null,null,null,null,null,null,null,null,null,null,null,null,null,null,null,null,null,null,null,null,null,null,null,null,null,null,null,null,null,null,null,null,null,null,null,null,null,null,null,null,null,null,null,null,null,null,null,null,null,null,null,null,null,null,null,null,null,null,null,null,null,null,null,null,null,null,null,null,null,null,null,null,null,null,null,null,null,null,null,null,null,null,null,null,null,null,null,null,null,null,null,null,null,null,null,null,null,null,null,null,null,null,null,null,null,null,null,null,null,null,null,null,null,null,null,null,null,null,null,null,null,null,null,null,null,null,null,null,null,null,null,null,null,null,null,null,null,null,null,null,null,null,null,null,null,null,null,null,null,null,null,null,null,null,null,null,null,null,null,null,null,null,null,null,null,null,null,null,null,null,null,null,null,null,null,null,null,null,null,null,null,null,null,null,null,null,null,null,null,null,null,null,null,null,null,null,null,null,null,null,null,null,null,null,null,null,null,null,null,null,null,null,null,null,null,null,null,null,null,null,null,null,null,null,null,null,null,null,null,null,null,null,null,null,null,null,null,null,null,null,null,null,null,null,null,null,null,null,null,null,null,null,null,null,null,null,null,null,null,null,null,null,null,null,null,null,null,null,null,null,null,null,null,null,null,null,null,null,null,null,null,null,null,null,null,null,null,null,null,null,null,null,null,null,null,null,null,null,null,null,null,null,null,null,null,null,null,null,null,null,null,null,null,null,null,null,null,null,null,null,null,null,null,null,null,null,null,null,null,null,null,null,null,null,null,null,null,null,null,null,null,null,null,null,null,null,null,null,null,null,null,null,null,null,null,null,null,null,null,null,null,null,null,null,null,null,null,null,null,null,null,null,null,null,null,null,null,null,null,null,null,null,null,null,null,null,null,null,null,null,null,null,null,null,null,null,null,null,null,null,null,null,null,null,null,null,null,null,null,null,null,null,null,null,null,null,null,null,null,null,null,null,null,null,null,null,null,null,null,null,null,null,null,null,null,null,null,null,null,null,null,null,null,null,null,null,null,null,null,null,null,null,null,null,null,null,null,null,null,null,null,null,null,null,null,null,null,null,null,null,null,null,null,null,null,null,null,null,null,null,null,null,null,null,null,null,null,null,null,null,null,null,null,null,null,null,null,null,null,null,null,null,null,null,null,null,null,null,null,null,null,null,null,null,null,null,null,null,null,null,null,null,null,null,null,null,null,null,null,null,null,null,null,null,null,null,null,null,null,null,null,null,null,null,null,null,null,null,null,null,null,null,null,null,null,null,null,null,null,null,null,null,null,null,null,null,null,null,null,null,null,null,null,null,null,null,null,null,null,null,null,null,null,null,null,null,null,null,null,null,null,null,null,null,null,null,null,null,null,null,null,null,null,null,null,null,null,null,null,null,null,null,null,null,null,null,null,null,null,null,null,null,null,null,null,null,null,null,null,null,null,null,null,null,null,null,null,null,null,null,null,null,null,null,null,null,null,null,null,null,null,null,null,null,null,null,null,null,null,null,null,null,null,null,null,null,null,null,null,null,null,null,null,null,null,null,null,null,null,null,null,null,null,null,null,null,null,null,null,null,null,null,null,null,null,null,null,null,null,null,null,null,null,null,null,null,null,null,null,null,null,null,null,null,null,null,null,null,null,null,null,null,null,null,null,null,null,null,null,null,null,null,null,null,null,null,null,null,null,null,null,null,null,null,null,null,null,null,null,null,null,null,null,null,null,null,null,null,null,null,null,null,null,null,null,null,null,null,null,null,null,null,null,null,null,null,null,null,null,null,null,null,null,null,null,null,null,null,null,null,null,null,null,null,null,null,null,null,null,null,null,null,null,null,null,null,null,null,null,null,null,null,null,null,null,null,null,null,null,null,null,null,null,null,null,null,null,null,null,null,null,null,null,null,null,null,null,null,null,null,null,null,null,null,null,null,null,null,null,null,null,null,null,null,null,null,null,null,null,null,null,null,null,null,null,null,null,null,null,null,null,null,null,null,null,null,null,null,null,null,null,null,null,null,null,null,null,null,null,null,null,null,null,null,null,null,null,null,null,null,null,null,null,null,null,null,null,null,null,null,null,null,null,null,null,null,null,null,null,null,null,null,null,null,null,null,null,null,null,null,null,null,null,null,null,null,null,null,null,null,null,null,null,null,null,null,null,null,null,null,null,null,null,null,null,null,null,null,null,null,null,null,null,null,null,null,null,null,null,null,null,null,null,null,null,null,null,null,null,null,null,null,null,null,null,null,null,null,null,null,null,null,null,null,null,null,null,null,null,null,null,null,null,null,null,null,null,null,null,null,null,null,null,null,null,null,null,null,null,null,null,null,null,null,null,null,null,null,null,null,null,null,null,null,null,null,null,null,null,null,null,null,null,null,null,null,null,null,null,null,null,null,null,null,null,null,null,null,null,null,null,null,null,null,null,null,null,null,null,null,null,null,null,null,null,null,null,null,null,null,null,null,null,null,null,null,null,null,null,null,null,null,null,null,null,null,null,null,null,null,null,null,null,null,null,null,null,null,null,null,null,null,null,null,null,null,null,null,null,null,null,null,null,null,null,null,null,null,null,null,null,null,null,null,null,null,null,null,null,null,null,null,null,null,null,null,null,null,null,null,null,null,null,null,null,null,null,null,null,null,null,null,null,null,null,null,null,null,null,null,null,null,null,null,null,null,null,null,null,null,null,null,null,null,null,null,null,null,null,null,null,null,null,null,null,null,null,null,null,null,null,null,null,null,null,null,null,null,null,null,null,null,null,null,null,null,null,null,null,null,null,null,null,null,null,null,null,null,null,null,null,null,null,null,null,null,null,null,null,null,null,null,null,null,null,null,null,null,null,null,null,null,null,null,null,null,null,null,null,null,null,null,null,null,null,null,null,null,null,null,null,null,null,null,null,null,null,null,null,null,null,null,null,null,null,null,null,null,null,null,null,null,null,null,null,null,null,null,null,null,null,null,null,null,null,null,null,null,null,null,null,null,null,null,null,null,null,null,null,null,null,null,null,null,null,null,null,null,null,null,null,null,null,null,null,null,null,null,null,null,null,null,null,null,null,null,null,null,null,null,null,null,null,null,null,null,null,null,null,null,null,null,null,null,null,null,null,null,null,null,null,null,null,null,null,null,null,null,null,null,null,null,null,null,null,null,null,null,null,null,null,null,null,null,null,null,null,null,null,null,null,null,null,null,null,null,null,null,null,null,null,null,null,null,null,null,null,null,null,null,null,null,null,null,null,null,null,null,null,null,null,null,null,null,null,null,null,null,null,null,null,null,null,null,null,null,null,null,null,null,null,null,null,null,null,null,null,null,null,null,null,null,null,null,null,null,null,null,null,null,null,null,null,null,null,null,null,null,null,null,null,null,null,null,null,null,null,null,null,null,null,null,null,null,null,null,null,null,null,null,null,null,null,null,null,null,null,null,null,null,null,null,null,null,null,null,null,null,null,null,null,null,null,null,null,null,null,null,null,null,null,null,null,null,null,null,null,null,null,null,null,null,null,null,null,null,null,null,null,null,null,null,null,null,null,null,null,null,null,null,null,null,null,null,null,null,null,null,null,null,null,null,null,null,null,null,null,null,null,null,null,null,null,null,null,null,null,null,null,null,null,null,null,null,null,null,null,null,null,null,null,null,null,null,null,null,null,null,null,null,null,null,null,null,null,null,null,null,null,null,null,null,null,null,null,null,null,null,null,null,null,null,null,null,null,null,null,null,null,null,null,null,null,null,null,null,null,null,null,null,null,null,null,null,null,null,null,null,null,null,null,null,null,null,null,null,null,null,null,null,null,null,null,null,null,null,null,null,null,null,null,null,null,null,null,null,null,null,null,null,null,null,null,null,null,null,null,null,null,null,null,null,null,null,null,null,null,null,null,null,null,null,null,null,null,null,null,null,null,null,null,null,null,null,null,null,null,null,null,null,null,null,null,null,null,null,null,null,null,null,null,null,null,null,null,null,null,null,null,null,null,null,null,null,null,null,null,null,null,null,null,null,null,null,null,null,null,null,null,null,null,null,null,null,null,null,null,null,null,null,null,null,null,null,null,null,null,null,null,null,null,null,null,null,null,null,null,null,null,null,null,null,null,null,null,null,null,null,null,null,null,null,null,null,null,null,null,null,null,null,null,null,null,null,null,null,null,null,null,null,null,null,null,null,null,null,null,null,null,null,null,null,null,null,null,null,null,null,null,null,null,null,null,null,null,null,null,null,null,null,null,null,null,null,null,null,null,null,null,null,null,null,null,null,null,null,null,null,null,null,null,null,null,null,null,null,null,null,null,null,null,null,null,null,null,null,null,null,null,null,null,null,null,null,null,null,null,null,null,null,null,null,null,null,null,null,null,null,null,null,null,null,null,null,null,null,null,null,null,null,null,null,null,null,null,null,null,null,null,null,null,null,null,null,null,null,null,null,null,null,null,null,null,null,null,null,null,null,null,null,null,null,null,null,null,null,null,null,null,null,null,null,null,null,null,null,null,null,null,null,null,null,null,null,null,null,null,null,null,null,null,null,null,null,null,null,null,null,null,null,null,null,null,null,null,null,null,null,null,null,null,null,null,null,null,null,null,null,null,null,null,null,null,null,null,null,null,null,null,null,null,null,null,null,null,null,null,null,null,null,null,null,null,null,null,null,null,null,null,null,null,null,null,null,null,null,null,null,null,null,null,null,null,null,null,null,null,null,null,null,null,null,null,null,null,null,null,null,null,null,null,null,null,null,null,null,null,null,null,null,null,null,null,null,null,null,null,null,null,null,null,null,null,null,null,null,null,null,null,null,null,null,null,null,null,null,null,null,null,null,null,null,null,null,null,null,null,null,null,null,null,null,null,null,null,null,null,null,null,null,null,null,null,null,null,null,null,null,null,null,null,null,null,null,null,null,null,null,null,null,null,null,null,null,null,null,null,null,null,null,null,null,null,null,null,null,null,null,null,null,null,null,null,null,null,null,null,null,null,null,null,null,null,null,null,null,null,null,null,null,null,null,null,null,null,null,null,null,null,null,null,null,null,null,null,null,null,null,null,null,null,null,null,null,null,null,null,null,null,null,null,null,null,null,null,null,null,null,null,null,null,null,null,null,null,null,null,null,null,null,null,null,null,null,null,null,null,null,null,null,null,null,null,null,null,null,null,null,null,null,null,null,null,null,null,null,null,null,null,null,null,null,null,null,null,null,null,null,null,null,null,null,null,null,null,null,null,null,null,null,null,null,null,null,null,null,null,null,null,null,null,null,null,null,null,null,null,null,null,null,null,null,null,null,null,null,null,null,null,null,null,null,null,null,null,null,null,null,null,null,null,null,null,null,null,null,null,null,null,null,null,null,null,null,null,null,null,null,null,null,null,null,null,null,null,null,null,null,null,null,null,null,null,null,null,null,null,null,null,null,null,null,null,null,null,null,null,null,null,null,null,null,null,null,null,null,null,null,null,null,null,null,null,null,null,null,null,null,null,null,null,null,null,null,null,null,null,null,null,null,null,null,null,null,null,null,null,null,null,null,null,null,null,null,null,null,null,null,null,null,null,null,null,null,null,null,null,null,null,null,null,null,null,null,null,null,null,null,null,null,null,null,null,null,null,null,null,null,null,null,null,null,null,null,null,null,null,null,null,null,null,null,null,null,null,null,null,null,null,null,null,null,null,null,null,null,null,null,null,null,null,null,null,null,null,null,null,null,null,null,null,null,null,null,null,null,null,null,null,null,null,null,null,null,null,null,null,null,null,null,null,null,null,null,null,null,null,null,null,null,null,null,null,null,null,null,null,null,null,null,null,null,null,null,null,null,null,null,null,null,null,null,null,null,null,null,null,null,null,null,null,null,null,null,null,null,null,null,null,null,null,null,null,null,null,null,null,null,null,null,null,null,null,null,null,null,null,null,null,null,null,null,null,null,null,null,null,null,null,null,null,null,null,null,null,null,null,null,null,null,null,null,null,null,null,null,null,null,null,null,null,null,null,null,null,null,null,null,null,null,null,null,null,null,null,null,null,null,null,null,null,null,null,null,null,null,null,null,null,null,null,null,null,null,null,null,null,null,null,null,null,null,null,null,null,null,null,null,null,null,null,null,null,null,null,null,null,null,null,null,null,null,null,null,null,null,null,null,null,null,null,null,null,null,null,null,null,null,null,null,null,null,null,null,null,null,null,null,null,null,null,null,null,null,null,null,null,null,null,null,null,null,null,null,null,null,null,null,null,null,null,null,null,null,null,null,null,null,null,null,null,null,null,null,null,null,null,null,null,null,null,null,null,null,null,null,null,null,null,null,null,null,null,null,null,null,null,null,null,null,null,null,null,null,null,null,null,null,null,null,null,null,null,null,null,null,null,null,null,null,null,null,null,null,null,null,null,null,null,null,null,null,null,null,null,null,null,null,null,null,null,null,null,null,null,null,null,null,null,null,null,null,null,null,null,null,null,null,null,null,null,null,null,null,null,null,null,null,null,null,null,null,null,null,null,null,null,null,null,null,null,null,null,null,null,null,null,null,null,null,null,null,null,null,null,null,null,null,null,null,null,null,null,null,null,null,null,null,null,null,null,null,null,null,null,null,null,null,null,null,null,null,null,null,null,null,null,null,null,null,null,null,null,null,null,null,null,null,null,null,null,null,null,null,null,null,null,null,null,null,null,null,null,null,null,null,null,null,null,null,null,null,null,null,null,null,null,null,null,null,null,null,null,null,null,null,null,null,null,null,null,null,null,null,null,null,null,null,null,null,null,null,null,null,null,null,null,null,null,null,null,null,null,null,null,null,null,null,null,null,null,null,null,null,null,null,null,null,null,null,null,null,null,null,null,null,null,null,null,null,null,null,null,null,null,null,null,null,null,null,null,null,null,null,null,null,null,null,null,null,null,null,null,null,null,null,null,null,null,null,null,null,null,null,null,null,null,null,null,null,null,null,null,null,null,null,null,null,null,null,null,null,null,null,null,null,null,null,null,null,null,null,null,null,null,null,null,null,null,null,null,null,null,null,null,null,null,null,null,null,null,null,null,null,null,null,null,null,null,null,null,null,null,null,null,null,null,null,null,null,null,null,null,null,null,null,null,null,null,null,null,null,null,null,null,null,null,null,null,null,null,null,null,null,null,null,null,null,null,null,null,null,null,null,null,null,null,null,null,null,null,null,null,null,null,null,null,null,null,null,null,null,null,null,null,null,null,null,null,null,null,null,null,null,null,null,null,null,null,null,null,null,null,null,null,null,null,null,null,null,null,null,null,null,null,null,null,null,null,null,null,null,null,null,null,null,null,null,null,null,null,null,null,null,null,null,null,null,null,null,null,null,null,null,null,null,null,null,null,null,null,null,null,null,null,null,null,null,null,null,null,null,null,null,null,null,null,null,null,null,null,null,null,null,null,null,null,null,null,null,null,null,null,null,null,null,null,null,null,null,null,null,null,null,null,null,null,null,null,null,null,null,null,null,null,null,null,null,null,null,null,null,null,null,null,null,null,null,null,null,null,null,null,null,null,null,null,null,null,null,null,null,null,null,null,null,null,null,null,null,null,null,null,null,null,null,null,null,null,null,null,null,null,null,null,null,null,null,null,null,null,null,null,null,null,null,null,null,null,null,null,null,null,null,null,null,null,null,null,null,null,null,null,null,null,null,null,null,null,null,null,null,null,null,null,null,null,null,null,null,null,null,null,null,null,null,null,null,null,null,null,null,null,null,null,null,null,null,null,null,null,null,null,null,null,null,null,null,null,null,null,null,null,null,null,null,null,null,null,null,null,null,null,null,null,null,null,null,null,null,null,null,null,null,null,null,null,null,null,null,null,null,null,null,null,null,null,null,null,null,null,null,null,null,null,null,null,null,null,null,null,null,null,null,null,null,null,null,null,null,null,null,null,null,null,null,null,null,null,null,null,null,null,null,null,null,null,null,null,null,null,null,null,null,null,null,null,null,null,null,null,null,null,null,null,null,null,null,null,null,null,null,null,null,null,null,null,null,null,null,null,null,null,null,null,null,null,null,null,null,null,null,null,null,null,null,null,null,null,null,null,null,null,null,null,null,null,null,null,null,null,null,null,null,null,null,null,null,null,null,null,null,null,null,null,null,null,null,null,null,null,null,null,null,null,null,null,null,null,null,null,null,null,null,null,null,null,null,null,null,null,null,null,null,null,null,null,null,null,null,null,null,null,null,null,null,null,null,null,null,null,null,null,null,null,null,null,null,null,null,null,null,null,null,null,null,null,null,null,null,null,null,null,null,null,null,null,null,null,null,null,null,null,null,null,null,null,null,null,null,null,null,null,null,null,null,null,null,null,null,null,null,null,null,null,null,null,null,null,null,null,null,null,null,null,null,null,null,null,null,null,null,null,null,null,null,null,null,null,null,null,null,null,null,null,null,null,null,null,null,null,null,null,null,null,null,null,null,null,null,null,null,null,null,null,null,null,null,null,null,null,null,null,null,null,null,null,null,null,null,null,null,null,null,null,null,null,null,null,null,null,null,null,null,null,null,null,null,null,null,null,null,null,null,null,null,null,null,null,null,null,null,null,null,null,null,null,null,null,null,null,null,null,null,null,null,null,null,null,null,null,null,null,null,null,null,null,null,null,null,null,null,null,null,null,null,null,null,null,null,null,null,null,null,null,null,null,null,null,null,null,null,null,null,null,null,null,null,null,null,null,null,null,null,null,null,null,null,null,null,null,null,null,null,null,null,null,null,null,null,null,null,null,null,null,null,null,null,null,null,null,null,null,null,null,null,null,null,null,null,null,null,null,null,null,null,null,null,null,null,null,null,null,null,null,null,null,null,null,null,null,null,null,null,null,null,null,null,null,null,null,null,null,null,null,null,null,null,null,null,null,null,null,null,null,null,null,null,null,null,null,null,null,null,null,null,null,null,null,null,null,null,null,null,null,null,null,null,null,null,null,null,null,null,null,null,null,null,null,null,null,null,null,null,null,null,null,null,null,null,null,null,null,null,null,null,null,null,null,null,null,null,null,null,null,null,null,null,null,null,null,null,null,null,null,null,null,null,null,null,null,null,null,null,null,null,null,null,null,null,null,null,null,null,null,null,null,null,null,null,null,null,null,null,null,null,null,null,null,null,null,null,null,null,null,null,null,null,null,null,null,null,null,null,null,null,null,null,null,null,null,null,null,null,null,null,null,null,null,null,null,null,null,null,null,null,null,null,null,null,null,null,null,null,null,null,null,null,null,null,null,null,null,null,null,null,null,null,null,null,null,null,null,null,null,null,null,null,null,null,null,null,null,null,null,null,null,null,null,null,null,null,null,null,null,null,null,null,null,null,null,null,null,null,null,null,null,null,null,null,null,null,null,null,null,null,null,null,null,null,null,null,null,null,null,null,null,null,null,null,null,null,null,null,null,null,null,null,null,null,null,null,null,null,null,null,null,null,null,null,null,null,null,null,null,null,null,null,null,null,null,null,null,null,null,null,null,null,null,null,null,null,null,null,null,null,null,null,null,null,null,null,null,null,null,null,null,null,null,null,null,null,null,null,null,null,null,null,null,null,null,null,null,null,null,null,null,null,null,null,null,null,null,null,null,null,null,null,null,null,null,null,null,null,null,null,null,null,null,null,null,null,null,null,null,null,null,null,null,null,null,null,null,null,null,null,null,null,null,null,null,null,null,null,null,null,null,null,null,null,null,null,null,null,null,null,null,null,null,null,null,null,null,null,null,null,null,null,null,null,null,null,null,null,null,null,null,null,null,null,null,null,null,null,null,null,null,null,null,null,null,null,null,null,null,null,null,null,null,null,null,null,null,null,null,null,null,null,null,null,null,null,null,null,null,null,null,null,null,null,null,null,null,null,null,null,null,null,null,null,null,null,null,null,null,null,null,null,null,null,null,null,null,null,null,null,null,null,null,null,null,null,null,null,null,null,null,null,null,null,null,null,null,null,null,null,null,null,null,null,null,null,null,null,null,null,null,null,null,null,null,null,null,null,null,null,null,null,null,null,null,null,null,null,null,null,null,null,null,null,null,null,null,null,null,null,null,null,null,null,null,null,null,null,null,null,null,null,null,null,null,null,null,null,null,null,null,null,null,null,null,null,null,null,null,null,null,null,null,null,null,null,null,null,null,null,null,null,null,null,null,null,null,null,null,null,null,null,null,null,null,null,null,null,null,null,null,null,null,null,null,null,null,null,null,null,null,null,null,null,null,null,null,null,null,null,null,null,null,null,null,null,null,null,null,null,null,null,null,null,null,null,null,null,null,null,null,null,null,null,null,null,null,null,null,null,null,null,null,null,null,null,null,null,null,null,null,null,null,null,null,null,null,null,null,null,null,null,null,null,null,null,null,null,null,null,null,null,null,null,null,null,null,null,null,null,null,null,null,null,null,null,null,null,null,null,null,null,null,null,null,null,null,null,null,null,null,null,null,null,null,null,null,null,null,null,null,null,null,null,null,null,null,null,null,null,null,null,null,null,null,null,null,null,null,null,null,null,null,null,null,null,null,null,null,null,null,null,null,null,null,null,null,null,null,null,null,null,null,null,null,null,null,null,null,null,null,null,null,null,null,null,null,null,null,null,null,null,null,null,null,null,null,null,null,null,null,null,null,null,null,null,null,null,null,null,null,null,null,null,null,null,null,null,null,null,null,null,null,null,null,null,null,null,null,null,null,null,null,null,null,null,null,null,null,null,null,null,null,null,null,null,null,null,null,null,null,null,null,null,null,null,null,null,null,null,null,null,null,null,null,null,null,null,null,null,null,null,null,null,null,null,null,null,null,null,null,null,null,null,null,null,null,null,null,null,null,null,null,null,null,null,null,null,null,null,null,null,null,null,null,null,null,null,null,null,null,null,null,null,null,null,null,null,null,null,null,null,null,null,null,null,null,null,null,null,null,null,null,null,null,null,null,null,null,null,null,null,null,null,null,null,null,null,null,null,null,null,null,null,null,null,null,null,null,null,null,null,null,null,null,null,null,null,null,null,null,null,null,null,null,null,null,null,null,null,null,null,null,null,null,null,null,null,null,null,null,null,null,null,null,null,null,null,null,null,null,null,null,null,null,null,null,null,null,null,null,null,null,null,null,null,null,null,null,null,null,null,null,null,null,null,null,null,null,null,null,null,null,null,null,null,null,null,null,null,null,null,null,null,null,null,null,null,null,null,null,null,null,null,null,null,null,null,null,null,null,null,null,null,null,null,null,null,null,null,null,null,null,null,null,null,null,null,null,null,null,null,null,null,null,null,null,null,null,null,null,null,null,null,null,null,null,null,null,null,null,null,null,null,null,null,null,null,null,null,null,null,null,null,null,null,null,null,null,null,null,null,null,null,null,null,null,null,null,null,null,null,null,null,null,null,null,null,null,null,null,null,null,null,null,null,null,null,null,null,null,null,null,null,null,null,null,null,null,null,null,null,null,null,null,null,null,null,null,null,null,null,null,null,null,null,null,null,null,null,null,null,null,null,null,null,null,null,null,null,null,null,null,null,null,null,null,null,null,null,null,null,null,null,null,null,null,null,null,null,null,null,null,null,null,null,null,null,null,null,null,null,null,null,null,null,null,null,null,null,null,null,null,null,null,null,null,null,null,null,null,null,null,null,null,null,null,null,null,null,null,null,null,null,null,null,null,null,null,null,null,null,null,null,null,null,null,null,null,null,null,null,null,null,null,null,null,null,null,null,null,null,null,null,null,null,null,null,null,null,null,null,null,null,null,null,null,null,null,null,null,null,null,null,null,null,null,null,null,null,null,null,null,null,null,null,null,null,null,null,null,null,null,null,null,null,null,null,null,null,null,null,null,null,null,null,null,null,null,null,null,null,null,null,null,null,null,null,null,null,null,null,null,null,null,null,null,null,null,null,null,null,null,null,null,null,null,null,null,null,null,null,null,null,null,null,null,null,null,null,null,null,null,null,null,null,null,null,null,null,null,null,null,null,null,null,null,null,null,null,null,null,null,null,null,null,null,null,null,null,null,null,null,null,null,null,null,null,null,null,null,null,null,null,null,null,null,null,null,null,null,null,null,null,null,null,null,null,null,null,null,null,null,null,null,null,null,null,null,null,null,null,null,null,null,null,null,null,null,null,null,null,null,null,null,null,null,null,null,null,null,null,null,null,null,null,null,null,null,null,null,null,null,null,null,null,null,null,null,null,null,null,null,null,null,null,null,null,null,null,null,null,null,null,null,null,null,null,null,null,null,null,null,null,null,null,null,null,null,null,null,null,null,null,null,null,null,null,null,null,null,null,null,null,null,null,null,null,null,null,null,null,null,null,null,null,null,null,null,null,null,null,null,null,null,null,null,null,null,null,null,null,null,null,null,null,null,null,null,null,null,null,null,null,null,null,null,null,null,null,null,null,null,null,null,null,null,null,null,null,null,null,null,null,null,null,null,null,null,null,null,null,null,null,null,null,null,null,null,null,null,null,null,null,null,null,null,null,null,null,null,null,null,null,null,null,null,null,null,null,null,null,null,null,null,null,null,null,null,null,null,null,null,null,null,null,null,null,null,null,null,null,null,null,null,null,null,null,null,null,null,null,null,null,null,null,null,null,null,null,null,null,null,null,null,null,null,null,null,null,null,null,null,null,null,null,null,null,null,null,null,null,null,null,null,null,null,null,null,null,null,null,null,null,null,null,null,null,null,null,null,null,null,null,null,null,null,null,null,null,null,null,null,null,null,null,null,null,null,null,null,null,null,null,null,null,null,null,null,null,null,null,null,null,null,null,null,null,null,null,null,null,null,null,null,null,null,null,null,null,null,null,null,null,null,null,null,null,null,null,null,null,null,null,null,null,null,null,null,null,null,null,null,null,null,null,null,null,null,null,null,null,null,null,null,null,null,null,null,null,null,null,null,null,null,null,null,null,null,null,null,null,null,null,null,null,null,null,null,null,null,null,null,null,null,null,null,null,null,null,null,null,null,null,null,null,null,null,null,null,null,null,null,null,null,null,null,null,null,null,null,null,null,null,null,null,null,null,null,null,null,null,null,null,null,null,null,null,null,null,null,null,null,null,null,null,null,null,null,null,null,null,null,null,null,null,null,null,null,null,null,null,null,null,null,null,null,null,null,null,null,null,null,null,null,null,null,null,null,null,null,null,null,null,null,null,null,null,null,null,null,null,null,null,null,null,null,null,null,null,null,null,null,null,null,null,null,null,null,null,null,null,null,null,null,null,null,null,null,null,null,null,null,null,null,null,null,null,null,null,null,null,null,null,null,null,null,null,null,null,null,null,null,null,null,null,null,null,null,null,null,null,null,null,null,null,null,null,null,null,null,null,null,null,null,null,null,null,null,null,null,null,null,null,null,null,null,null,null,null,null,null,null,null,null,null,null,null,null,null,null,null,null,null,null,null,null,null,null,null,null,null,null,null,null,null,null,null,null,null,null,null,null,null,null,null,null,null,null,null,null,null,null,null,null,null,null,null,null,null,null,null,null,null,null,null,null,null,null,null,null,null,null,null,null,null,null,null,null,null,null,null,null,null,null,null,null,null,null,null,null,null,null,null,null,null,null,null,null,null,null,null,null,null,null,null,null,null,null,null,null,null,null,null,null,null,null,null,null,null,null,null,null,null,null,null,null,null,null,null,null,null,null,null,null,null,null,null,null,null,null,null,null,null,null,null,null,null,null,null,null,null,null,null,null,null,null,null,null,null,null,null,null,null,null,null,null,null,null,null,null,null,null,null,null,null,null,null,null,null,null,null,null,null,null,null,null,null,null,null,null,null,null,null,null,null,null,null,null,null,null,null,null,null,null,null,null,null,null,null,null,null,null,null,null,null,null,null,null,null,null,null,null,null,null,null,null,null,null,null,null,null,null,null,null,null,null,null,null,null,null,null,null,null,null,null,null,null,null,null,null,null,null,null,null,null,null,null,null,null,null,null,null,null,null,null,null,null,null,null,null,null,null,null,null,null,null,null,null,null,null,null,null,null,null,null,null,null,null,null,null,null,null,null,null,null,null,null,null,null,null,null,null,null,null,null,null,null,null,null,null,null,null,null,null,null,null,null,null,null,null,null,null,null,null,null,null,null,null,null,null,null,null,null,null,null,null,null,null,null,null,null,null,null,null,null,null,null,null,null,null,null,null,null,null,null,null,null,null,null,null,null,null,null,null,null,null,null,null,null,null,null,null,null,null,null,null,null,null,null,null,null,null,null,null,null,null,null,null,null,null,null,null,null,null,null,null,null,null,null,null,null,null,null,null,null,null,null,null,null,null,null,null,null,null,null,null,null,null,null,null,null,null,null,null,null,null,null,null,null,null,null,null,null,null,null,null,null,null,null,null,null,null,null,null,null,null,null,null,null,null,null,null,null,null,null,null,null,null,null,null,null,null,null,null,null,null,null,null,null,null,null,null,null,null,null,null,null,null,null,null,null,null,null,null,null,null,null,null,null,null,null,null,null,null,null,null,null,null,null,null,null,null,null,null,null,null,null,null,null,null,null,null,null,null,null,null,null,null,null,null,null,null,null,null,null,null,null,null,null,null,null,null,null,null,null,null,null,null,null,null,null,null,null,null,null,null,null,null,null,null,null,null,null,null,null,null,null,null,null,null,null,null,null,null,null,null,null,null,null,null,null,null,null,null,null,null,null,null,null,null,null,null,null,null,null,null,null,null,null,null,null,null,null,null,null,null,null,null,null,null,null,null,null,null,null,null,null,null,null,null,null,null,null,null,null,null,null,null,null,null,null,null,null,null,null,null,null,null,null,null,null,null,null,null,null,null,null,null,null,null,null,null,null,null,null,null,null,null,null,null,null,null,null,null,null,null,null,null,null,null,null,null,null,null,null,null,null,null,null,null,null,null,null,null,null,null,null,null,null,null,null,null,null,null,null,null,null,null,null,null,null,null,null,null,null,null,null,null,null,null,null,null,null,null,null,null,null,null,null,null,null,null,null,null,null,null,null,null,null,null,null,null,null,null,null,null,null,null,null,null,null,null,null,null,null,null,null,null,null,null,null,null,null,null,null,null,null,null,null,null,null,null,null,null,null,null,null,null,null,null,null,null,null,null,null,null,null,null,null,null,null,null,null,null,null,null,null,null,null,null,null,null,null,null,null,null,null,null,null,null,null,null,null,null,null,null,null,null,null,null,null,null,null,null,null,null,null,null,null,null,null,null,null,null,null,null,null,null,null,null,null,null,null,null,null,null,null,null,null,null,null,null,null,null,null,null,null,null,null,null,null,null,null,null,null,null,null,null,null,null,null,null,null,null,null,null,null,null,null,null,null,null,null,null,null,null,null,null,null,null,null,null,null,null,null,null,null,null,null,null,null,null,null,null,null,null,null,null,null,null,null,null,null,null,null,null,null,null,null,null,null,null,null,null,null,null,null,null,null,null,null,null,null,null,null,null,null,null,null,null,null,null,null,null,null,null,null,null,null,null,null,null,null,null,null,null,null,null,null,null,null,null,null,null,null,null,null,null,null,null,null,null,null,null,null,null,null,null,null,null,null,null,null,null,null,null,null,null,null,null,null,null,null,null,null,null,null,null,null,null,null,null,null,null,null,null,null,null,null,null,null,null,null,null,null,null,null,null,null,null,null,null,null,null,null,null,null,null,null,null,null,null,null,null,null,null,null,null,null,null,null,null,null,null,null,null,null,null,null,null,null,null,null,null,null,null,null,null,null,null,null,null,null,null,null,null,null,null,null,null,null,null,null,null,null,null,null,null,null,null,null,null,null,null,null,null,null,null,null,null,null,null,null,null,null,null,null,null,null,null,null,null,null,null,null,null,null,null,null,null,null,null,null,null,null,null,null,null,null,null,null,null,null,null,null,null,null,null,null,null,null,null,null,null,null,null,null,null,null,null,null,null,null,null,null,null,null,null,null,null,null,null,null,null,null,null,null,null,null,null,null,null,null,null,null,null,null,null,null,null,null,null,null,null,null,null,null,null,null,null,null,null,null,null,null,null,null,null,null,null,null,null,null,null,null,null,null,null,null,null,null,null,null,null,null,null,null,null,null,null,null,null,null,null,null,null,null,null,null,null,null,null,null,null,null,null,null,null,null,null,null,null,null,null,null,null,null,null,null,null,null,null,null,null,null,null,null,null,null,null,null,null,null,null,null,null,null,null,null,null,null,null,null,null,null,null,null,null,null,null,null,null,null,null,null,null,null,null,null,null,null,null,null,null,null,null,null,null,null,null,null,null,null,null,null,null,null,null,null,null,null,null,null,null,null,null,null,null,null,null,null,null,null,null,null,null,null,null,null,null,null,null,null,null,null,null,null,null,null,null,null,null,null,null,null,null,null,null,null,null,null,null,null,null,null,null,null,null,null,null,null,null,null,null,null,null,null,null,null,null,null,null,null,null,null,null,null,null,null,null,null,null,null,null,null,null,null,null,null,null,null,null,null,null,null,null,null,null,null,null,null,null,null,null,null,null,null,null,null,null,null,null,null,null,null,null,null,null,null,null,null,null,null,null,null,null,null,null,null,null,null,null,null,null,null,null,null,null,null,null,null,null,null,null,null,null,null,null,null,null,null,null,null,null,null,null,null,null,null,null,null,null,null,null,null,null,null,null,null,null,null,null,null,null,null,null,null,null,null,null,null,null,null,null,null,null,null,null,null,null,null,null,null,null,null,null,null,null,null,null,null,null,null,null,null,null,null,null,null,null,null,null,null,null,null,null,null,null,null,null,null,null,null,null,null,null,null,null,null,null,null,null,null,null,null,null,null,null,null,null,null,null,null,null,null,null,null,null,null,null,null,null,null,null,null,null,null,null,null,null,null,null,null,null,null,null,null,null,null,null,null,null,null,null,null,null,null,null,null,null,null,null,null,null,null,null,null,null,null,null,null,null,null,null,null,null,null,null,null,null,null,null,null,null,null,null,null,null,null,null,null,null,null,null,null,null,null,null,null,null,null,null,null,null,null,null,null,null,null,null,null,null,null,null,null,null,null,null,null,null,null,null,null,null,null,null,null,null,null,null,null,null,null,null,null,null,null,null,null,null,null,null,null,null,null,null,null,null,null,null,null,null,null,null,null,null,null,null,null,null,null,null,null,null,null,null,null,null,null,null,null,null,null,null,null,null,null,null,null,null,null,null,null,null,null,null,null,null,null,null,null,null,null,null,null,null,null,null,null,null,null,null,null,null,null,null,null,null,null,null,null,null,null,null,null,null,null,null,null,null,null,null,null,null,null,null,null,null,null,null,null,null,null,null,null,null,null,null,null,null,null,null,null,null,null,null,null,null,null,null,null,null,null,null,null,null,null,null,null,null,null,null,null,null,null,null,null,null,null,null,null,null,null,null,null,null,null,null,null,null,null,null,null,null,null,null,null,null,null,null,null,null,null,null,null,null,null,null,null,null,null,null,null,null,null,null,null,null,null,null,null,null,null,null,null,null,null,null,null,null,null,null,null,null,null,null,null,null,null,null,null,null,null,null,null,null,null,null,null,null,null,null,null,null,null,null,null,null,null,null,null,null,null,null,null,null,null,null,null,null,null,null,null,null,null,null,null,null,null,null,null,null,null,null,null,null,null,null,null,null,null,null,null,null,null,null,null,null,null,null,null,null,null,null,null,null,null,null,null,null,null,null,null,null,null,null,null,null,null,null,null,null,null,null,null,null,null,null,null,null,null,null,null,null,null,null,null,null,null,null,null,null,null,null,null,null,null,null,null,null,null,null,null,null,null,null,null,null,null,null,null,null,null,null,null,null,null,null,null,null,null,null,null,null,null,null,null,null,null,null,null,null,null,null,null,null,null,null,null,null,null,null,null,null,null,null,null,null,null,null,null,null,null,null,null,null,null,null,null,null,null,null,null,null,null,null,null,null,null,null,null,null,null,null,null,null,null,null,null,null,null,null,null,null,null,null,null,null,null,null,null,null,null,null,null,null,null,null,null,null,null,null,null,null,null,null,null,null,null,null,null,null,null,null,null,null,null,null,null,null,null,null,null,null,null,null,null,null,null,null,null,null,null,null,null,null,null,null,null,null,null,null,null,null,null,null,null,null,null,null,null,null,null,null,null,null,null,null,null,null,null,null,null,null,null,null,null,null,null,null,null,null,null,null,null,null,null,null,null,null,null,null,null,null,null,null,null,null,null,null,null,null,null,null,null,null,null,null,null,null,null,null,null,null,null,null,null,null,null,null,null,null,null,null,null,null,null,null,null,null,null,null,null,null,null,null,null,null,null,null,null,null,null,null,null,null,null,null,null,null,null,null,null,null,null,null,null,null,null,null,null,null,null,null,null,null,null,null,null,null,null,null,null,null,null,null,null,null,null,null,null,null,null,null,null,null,null,null,null,null,null,null,null,null,null,null,null,null,null,null,null,null,null,null,null,null,null,null,null,null,null,null,null,null,null,null,null,null,null,null,null,null,null,null,null,null,null,null,null,null,null,null,null,null,null,null,null,null,null,null,null,null,null,null,null,null,null,null,null,null,null,null,null,null,null,null,null,null,null,null,null,null,null,null,null,null,null,null,null,null,null,null,null,null,null,null,null,null,null,null,null,null,null,null,null,null,null,null,null,null,null,null,null,null,null,null,null,null,null,null,null,null,null,null,null,null,null,null,null,null,null,null,null,null,null,null,null,null,null,null,null,null,null,null,null,null,null,null,null,null,null,null,null,null,null,null,null,null,null,null,null,null,null,null,null,null,null,null,null,null,null,null,null,null,null,null,null,null,null,null,null,null,null,null,null,null,null,null,null,null,null,null,null,null,null,null,null,null,null,null,null,null,null,null,null,null,null,null,null,null,null,null,null,null,null,null,null,null,null,null,null,null,null,null,null,null,null,null,null,null,null,null,null,null,null,null,null,null,null,null,null,null,null,null,null,null,null,null,null,null,null,null,null,null,null,null,null,null,null,null,null,null,null,null,null,null,null,null,null,null,null,null,null,null,null,null,null,null,null,null,null,null,null,null,null,null,null,null,null,null,null,null,null,null,null,null,null,null,null,null,null,null,null,null,null,null,null,null,null,null,null,null,null,null,null,null,null,null,null,null,null,null,null,null,null,null,null,null,null,null,null,null,null,null,null,null,null,null,null,null,null,null,null,null,null,null,null,null,null,null,null,null,null,null,null,null,null,null,null,null,null,null,null,null,null,null,null,null,null,null,null,null,null,null,null,null,null,null,null,null,null,null,null,null,null,null,null,null,null,null,null,null,null,null,null,null,null,null,null,null,null,null,null,null,null,null,null,null,null,null,null,null,null,null,null,null,null,null,null,null,null,null,null,null,null,null,null,null,null,null,null,null,null,null,null,null,null,null,null,null,null,null,null,null,null,null,null,null,null,null,null,null,null,null,null,null,null,null,null,null,null,null,null,null,null,null,null,null,null,null,null,null,null,null,null,null,null,null,null,null,null,null,null,null,null,null,null,null,null,null,null,null,null,null,null,null,null,null,null,null,null,null,null,null,null,null,null,null,null,null,null,null,null,null,null,null,null,null,null,null,null,null,null,null,null,null,null,null,null,null,null,null,null,null,null,null,null,null,null,null,null,null,null,null,null,null,null,null,null,null,null,null,null,null,null,null,null,null,null,null,null,null,null,null,null,null,null,null,null,null,null,null,null,null,null,null,null,null,null,null,null,null,null,null,null,null,null,null,null,null,null,null,null,null,null,null,null,null,null,null,null,null,null,null,null,null,null,null,null,null,null,null,null,null,null,null,null,null,null,null,null,null,null,null,null,null,null,null,null,null,null,null,null,null,null,null,null,null,null,null,null,null,null,null,null,null,null,null,null,null,null,null,null,null,null,null,null,null,null,null,null,null,null,null,null,null,null,null,null,null,null,null,null,null,null,null,null,null,null,null,null,null,null,null,null,null,null,null,null,null,null,null,null,null,null,null,null,null,null,null,null,null,null,null,null,null,null,null,null,null,null,null,null,null,null,null,null,null,null,null,null,null,null,null,null,null,null,null,null,null,null,null,null,null,null,null,null,null,null,null,null,null,null,null,null,null,null,null,null,null,null,null,null,null,null,null,null,null,null,null,null,null,null,null,null,null,null,null,null,null,null,null,null,null,null,null,null,null,null,null,null,null,null,null,null,null,null,null,null,null,null,null,null,null,null,null,null,null,null,null,null,null,null,null,null,null,null,null,null,null,null,null,null,null,null,null,null,null,null,null,null,null,null,null,null,null,null,null,null,null,null,null,null,null,null,null,null,null,null,null,null,null,null,null,null,null,null,null,null,null,null,null,null,null,null,null,null,null,null,null,null,null,null,null,null,null,null,null,null,null,null,null,null,null,null,null,null,null,null,null,null,null,null,null,null,null,null,null,null,null,null,null,null,null,null,null,null,null,null,null,null,null,null,null,null,null,null,null,null,null,null,null,null,null,null,null,null,null,null,null,null,null,null,null,null,null,null,null,null,null,null,null,null,null,null,null,null,null,null,null,null,null,null,null,null,null,null,null,null,null,null,null,null,null,null,null,null,null,null,null,null,null,null,null,null,null,null,null,null,null,null,null,null,null,null,null,null,null,null,null,null,null,null,null,null,null,null,null,null,null,null,null,null,null,null,null,null,null,null,null,null,null,null,null,null,null,null,null,null,null,null,null,null,null,null,null,null,null,null,null,null,null,null,null,null,null,null,null,null,null,null,null,null,null,null,null,null,null,null,null,null,null,null,null,null,null,null,null,null,null,null,null,null,null,null,null,null,null,null,null,null,null,null,null,null,null,null,null,null,null,null,null,null,null,null,null,null,null,null,null,null,null,null,null,null,null,null,null,null,null,null,null,null,null,null,null,null,null,null,null,null,null,null,null,null,null,null,null,null,null,null,null,null,null,null,null,null,null,null,null,null,null,null,null,null,null,null,null,null,null,null,null,null,null,null,null,null,null,null,null,null,null,null,null,null,null,null,null,null,null,null,null,null,null,null,null,null,null,null,null,null,null,null,null,null,null,null,null,null,null,null,null,null,null,null,null,null,null,null,null,null,null,null,null,null,null,null,null,null,null,null,null,null,null,null,null,null,null,null,null,null,null,null,null,null,null,null,null,null,null,null,null,null,null,null,null,null,null,null,null,null,null,null,null,null,null,null,null,null,null,null,null,null,null,null,null,null,null,null,null,null,null,null,null,null,null,null,null,null,null,null,null,null,null,null,null,null,null,null,null,null,null,null,null,null,null,null,null,null,null,null,null,null,null,null,null,null,null,null,null,null,null,null,null,null,null,null,null,null,null,null,null,null,null,null,null,null,null,null,null,null,null,null,null,null,null,null,null,null,null,null,null,null,null,null,null,null,null,null,null,null,null,null,null,null,null,null,null,null,null,null,null,null,null,null,null,null,null,null,null,null,null,null,null,null,null,null,null,null,null,null,null,null,null,null,null,null,null,null,null,null,null,null,null,null,null,null,null,null,null,null,null,null,null,null,null,null,null,null,null,null,null,null,null,null,null,null,null,null,null,null,null,null,null,null,null,null,null,null,null,null,null,null,null,null,null,null,null,null,null,null,null,null,null,null,null,null,null,null,null,null,null,null,null,null,null,null,null,null,null,null,null,null,null,null,null,null,null,null,null,null,null,null,null,null,null,null,null,null,null,null,null,null,null,null,null,null,null,null,null,null,null,null,null,null,null,null,null,null,null,null,null,null,null,null,null,null,null,null,null,null,null,null,null,null,null,null,null,null,null,null,null,null,null,null,null,null,null,null,null,null,null,null,null,null,null,null,null,null,null,null,null,null,null,null,null,null,null,null,null,null,null,null,null,null,null,null,null,null,null,null,null,null,null,null,null,null,null,null,null,null,null,null,null,null,null,null,null,null,null,null,null,null,null,null,null,null,null,null,null,null,null,null,null,null,null,null,null,null,null,null,null,null,null,null,null,null,null,null,null,null,null,null,null,null,null,null,null,null,null,null,null,null,null,null,null,null,null,null,null,null,null,null,null,null,null,null,null,null,null,null,null,null,null,null,null,null,null,null,null,null,null,null,null,null,null,null,null,null,null,null,null,null,null,null,null,null,null,null,null,null,null,null,null,null,null,null,null,null,null,null,null,null,null,null,null,null,null,null,null,null,null,null,null,null,null,null,null,null,null,null,null,null,null,null,null,null,null,null,null,null,null,null,null,null,null,null,null,null,null,null,null,null,null,null,null,null,null,null,null,null,null,null,null,null,null,null,null,null,null,null,null,null,null,null,null,null,null,null,null,null,null,null,null,null,null,null,null,null,null,null,null,null,null,null,null,null,null,null,null,null,null,null,null,null,null,null,null,null,null,null,null,null,null,null,null,null,null,null,null,null,null,null,null,null,null,null,null,null,null,null,null,null,null,null,null,null,null,null,null,null,null,null,null,null,null,null,null,null,null,null,null,null,null,null,null,null,null,null,null,null,null,null,null,null,null,null,null,null,null,null,null,null,null,null,null,null,null,null,null,null,null,null,null,null,null,null,null,null,null,null,null,null,null,null,null,null,null,null,null,null,null,null,null,null,null,null,null,null,null,null,null,null,null,null,null,null,null,null,null,null,null,null,null,null,null,null,null,null,null,null,null,null,null,null,null,null,null,null,null,null,null,null,null,null,null,null,null,null,null,null,null,null,null,null,null,null,null,null,null,null,null,null,null,null,null,null,null,null,null,null,null,null,null,null,null,null,null,null,null,null,null,null,null,null,null,null,null,null,null,null,null,null,null,null,null,null,null,null,null,null,null,null,null,null,null,null,null,null,null,null,null,null,null,null,null,null,null,null,null,null,null,null,null,null,null,null,null,null,null,null,null,null,null,null,null,null,null,null,null,null,null,null,null,null,null,null,null,null,null,null,null,null,null,null,null,null,null,null,null,null,null,null,null,null,null,null,null,null,null,null,null,null,null,null,null,null,null,null,null,null,null,null,null,null,null,null,null,null,null,null,null,null,null,null,null,null,null,null,null,null,null,null,null,null,null,null,null,null,null,null,null,null,null,null,null,null,null,null,null,null,null,null,null,null,null,null,null,null,null,null,null,null,null,null,null,null,null,null,null,null,null,null,null,null,null,null,null,null,null,null,null,null,null,null,null,null,null,null,null,null,null,null,null,null,null,null,null,null,null,null,null,null,null,null,null,null,null,null,null,null,null,null,null,null,null,null,null,null,null,null,null,null,null,null,null,null,null,null,null,null,null,null,null,null,null,null,null,null,null,null,null,null,null,null,null,null,null,null,null,null,null,null,null,null,null,null,null,null,null,null,null,null,null,null,null,null,null,null,null,null,null,null,null,null,null,null,null,null,null,null,null,null,null,null,null,null,null,null,null,null,null,null,null,null,null,null,null,null,null,null,null,null,null,null,null,null,null,null,null,null,null,null,null,null,null,null,null,null,null,null,null,null,null,null,null,null,null,null,null,null,null,null,null,null,null,null,null,null,null,null,null,null,null,null,null,null,null,null,null,null,null,null,null,null,null,null,null,null,null,null,null,null,null,null,null,null,null,null,null,null,null,null,null,null,null,null,null,null,null,null,null,null,null,null,null,null,null,null,null,null,null,null,null,null,null,null,null,null,null,null,null,null,null,null,null,null,null,null,null,null,null,null,null,null,null,null,null,null,null,null,null,null,null,null,null,null,null,null,null,null,null,null,null,null,null,null,null,null,null,null,null,null,null,null,null,null,null,null,null,null,null,null,null,null,null,null,null,null,null,null,null,null,null,null,null,null,null,null,null,null,null,null,null,null,null,null,null,null,null,null,null,null,null,null,null,null,null,null,null,null,null,null,null,null,null,null,null,null,null,null,null,null,null,null,null,null,null,null,null,null,null,null,null,null,null,null,null,null,null,null,null,null,null,null,null,null,null,null,null,null,null,null,null,null,null,null,null,null,null,null,null,null,null,null,null,null,null,null,null,null,null,null,null,null,null,null,null,null,null,null,null,null,null,null,null,null,null,null,null,null,null,null,null,null,null,null,null,null,null,null,null,null,null,null,null,null,null,null,null,null,null,null,null,null,null,null,null,null,null,null,null,null,null,null,null,null,null,null,null,null,null,null,null,null,null,null,null,null,null,null,null,null,null,null,null,null,null,null,null,null,null,null,null,null,null,null,null,null,null,null,null,null,null,null,null,null,null,null,null,null,null,null,null,null,null,null,null,null,null,null,null,null,null,null,null,null,null,null,null,null,null,null,null,null,null,null,null,null,null,null,null,null,null,null,null,null,null,null,null,null,null,null,null,null,null,null,null,null,null,null,null,null,null,null,null,null,null,null,null,null,null,null,null,null,null,null,null,null,null,null,null,null,null,null,null,null,null,null,null,null,null,null,null,null,null,null,null,null,null,null,null,null,null,null,null,null,null,null,null,null,null,null,null,null,null,null,null,null,null,null,null,null,null,null,null,null,null,null,null,null,null,null,null,null,null,null,null,null,null,null,null,null,null,null,null,null,null,null,null,null,null,null,null,null,null,null,null,null,null,null,null,null,null,null,null,null,null,null,null,null,null,null,null,null,null,null,null,null,null,null,null,null,null,null,null,null,null,null,null,null,null,null,null,null,null,null,null,null,null,null,null,null,null,null,null,null,null,null,null,null,null,null,null,null,null,null,null,null,null,null,null,null,null,null,null,null,null,null,null,null,null,null,null,null,null,null,null,null,null,null,null,null,null,null,null,null,null,null,null,null,null,null,null,null,null,null,null,null,null,null,null,null,null,null,null,null,null,null,null,null,null,null,null,null,null,null,null,null,null,null,null,null,null,null,null,null,null,null,null,null,null,null,null,null,null,null,null,null,null,null,null,null,null,null,null,null,null,null,null,null,null,null,null,null,null,null,null,null,null,null,null,null,null,null,null,null,null,null,null,null,null,null,null,null,null,null,null,null,null,null,null,null,null,null,null,null,null,null,null,null,null,null,null,null,null,null,null,null,null,null,null,null,null,null,null,null,null,null,null,null,null,null,null,null,null,null,null,null,null,null,null,null,null,null,null,null,null,null,null,null,null,null,null,null,null,null,null,null,null,null,null,null,null,null,null,null,null,null,null,null,null,null,null,null,null,null,null,null,null,null,null,null,null,null,null,null,null,null,null,null,null,null,null,null,null,null,null,null,null,null,null,null,null,null,null,null,null,null,null,null,null,null,null,null,null,null,null,null,null,null,null,null,null,null,null,null,null,null,null,null,null,null,null,null,null,null,null,null,null,null,null,null,null,null,null,null,null,null,null,null,null,null,null,null,null,null,null,null,null,null,null,null,null,null,null,null,null,null,null,null,null,null,null,null,null,null,null,null,null,null,null,null,null,null,null,null,null,null,null,null,null,null,null,null,null,null,null,null,null,null,null,null,null,null,null,null,null,null,null,null,null,null,null,null,null,null,null,null,null,null,null,null,null,null,null,null,null,null,null,null,null,null,null,null,null,null,null,null,null,null,null,null,null,null,null,null,null,null,null,null,null,null,null,null,null,null,null,null,null,null,null,null,null,null,null,null,null,null,null,null,null,null,null,null,null,null,null,null,null,null,null,null,null,null,null,null,null,null,null,null,null,null,null,null,null,null,null,null,null,null,null,null,null,null,null,null,null,null,null,null,null,null,null,null,null,null,null,null,null,null,null,null,null,null,null,null,null,null,null,null,null,null,null,null,null,null,null,null,null,null,null,null,null,null,null,null,null,null,null,null,null,null,null,null,null,null,null,null,null,null,null,null,null,null,null,null,null,null,null,null,null,null,null,null,null,null,null,null,null,null,null,null,null,null,null,null,null,null,null,null,null,null,null,null,null,null,null,null,null,null,null,null,null,null,null,null,null,null,null,null,null,null,null,null,null,null,null,null,null,null,null,null,null,null,null,null,null,null,null,null,null,null,null,null,null,null,null,null,null,null,null,null,null,null,null,null,null,null,null,null,null,null,null,null,null,null,null,null,null,null,null,null,null,null,null,null,null,null,null,null,null,null,null,null,null,null,null,null,null,null,null,null,null,null,null,null,null,null,null,null,null,null,null,null,null,null,null,null,null,null,null,null,null,null,null,null,null,null,null,null,null,null,null,null,null,null,null,null,null,null,null,null,null,null,null,null,null,null,null,null,null,null,null,null,null,null,null,null,null,null,null,null,null,null,null,null,null,null,null,null,null,null,null,null,null,null,null,null,null,null,null,null,null,null,null,null,null,null,null,null,null,null,null,null,null,null,null,null,null,null,null,null,null,null,null,null,null,null,null,null,null,null,null,null,null,null,null,null,null,null,null,null,null,null,null,null,null,null,null,null,null,null,null,null,null,null,null,null,null,null,null,null,null,null,null,null,null,null,null,null,null,null,null,null,null,null,null,null,null,null,null,null,null,null,null,null,null,null,null,null,null,null,null,null,null,null,null,null,null,null,null,null,null,null,null,null,null,null,null,null,null,null,null,null,null,null,null,null,null,null,null,null,null,null,null,null,null,null,null,null,null,null,null,null,null,null,null,null,null,null,null,null,null,null,null,null,null,null,null,null,null,null,null,null,null,null,null,null,null,null,null,null,null,null,null,null,null,null,null,null,null,null,null,null,null,null,null,null,null,null,null,null,null,null,null,null,null,null,null,null,null,null,null,null,null,null,null,null,null,null,null,null,null,null,null,null,null,null,null,null,null,null,null,null,null,null,null,null,null,null,null,null,null,null,null,null,null,null,null,null,null,null,null,null,null,null,null,null,null,null,null,null,null,null,null,null,null,null,null,null,null,null,null,null,null,null,null,null,null,null,null,null,null,null,null,null,null,null,null,null,null,null,null,null,null,null,null,null,null,null,null,null,null,null,null,null,null,null,null,null,null,null,null,null,null,null,null,null,null,null,null,null,null,null,null,null,null,null,null,null,null,null,null,null,null,null,null,null,null,null,null,null,null,null,null,null,null,null,null,null,null,null,null,null,null,null,null,null,null,null,null,null,null,null,null,null,null,null,null,null,null,null,null,null,null,null,null,null,null,null,null,null,null,null,null,null,null,null,null,null,null,null,null,null,null,null,null,null,null,null,null,null,null,null,null,null,null,null,null,null,null,null,null,null,null,null,null,null,null,null,null,null,null,null,null,null,null,null,null,null,null,null,null,null,null,null,null,null,null,null,null,null,null,null,null,null,null,null,null,null,null,null,null,null,null,null,null,null,null,null,null,null,null,null,null,null,null,null,null,null,null,null,null,null,null,null,null,null,null,null,null,null,null,null,null,null,null,null,null,null,null,null,null,null,null,null,null,null,null,null,null,null,null,null,null,null,null,null,null,null,null,null,null,null,null,null,null,null,null,null,null,null,null,null,null,null,null,null,null,null,null,null,null,null,null,null,null,null,null,null,null,null,null,null,null,null,null,null,null,null,null,null,null,null,null,null,null,null,null,null,null,null,null,null,null,null,null,null,null,null,null,null,null,null,null,null,null,null,null,null,null,null,null,null,null,null,null,null,null,null,null,null,null,null,null,null,null,null,null,null,null,null,null,null,null,null,null,null,null,null,null,null,null,null,null,null,null,null,null,null,null,null,null,null,null,null,null,null,null,null,null,null,null,null,null,null,null,null,null,null,null,null,null,null,null,null,null,null,null,null,null,null,null,null,null,null,null,null,null,null,null,null,null,null,null,null,null,null,null,null,null,null,null,null,null,null,null,null,null,null,null,null,null,null,null,null,null,null,null,null,null,null,null,null,null,null,null,null,null,null,null,null,null,null,null,null,null,null,null,null,null,null,null,null,null,null,null,null,null,null,null,null,null,null,null,null,null,null,null,null,null,null,null,null,null,null,null,null,null,null,null,null,null,null,null,null,null,null,null,null,null,null,null,null,null,null,null,null,null,null,null,null,null,null,null,null,null,null,null,null,null,null,null,null,null,null,null,null,null,null,null,null,null,null,null,null,null,null,null,null,null,null,null,null,null,null,null,null,null,null,null,null,null,null,null,null,null,null,null,null,null,null,null,null,null,null,null,null,null,null,null,null,null,null,null,null,null,null,null,null,null,null,null,null,null,null,null,null,null,null,null,null,null,null,null,null,null,null,null,null,null,null,null,null,null,null,null,null,null,null,null,null,null,null,null,null,null,null,null,null,null,null,null,null,null,null,null,null,null,null,null,null,null,null,null,null,null,null,null,null,null,null,null,null,null,null,null,null,null,null,null,null,null,null,null,null,null,null,null,null,null,null,null,null,null,null,null,null,null,null,null,null,null,null,null,null,null,null,null,null,null,null,null,null,null,null,null,null,null,null,null,null,null,null,null,null,null,null,null,null,null,null,null,null,null,null,null,null,null,null,null,null,null,null,null,null,null,null,null,null,null,null,null,null,null,null,null,null,null,null,null,null,null,null,null,null,null,null,null,null,null,null,null,null,null,null,null,null,null,null,null,null,null,null,null,null,null,null,null,null,null,null,null,null,null,null,null,null,null,null,null,null,null,null,null,null,null,null,null,null,null,null,null,null,null,null,null,null,null,null,null,null,null,null,null,null,null,null,null,null,null,null,null,null,null,null,null,null,null,null,null,null,null,null,null,null,null,null,null,null,null,null,null,null,null,null,null,null,null,null,null,null,null,null,null,null,null,null,null,null,null,null,null,null,null,null,null,null,null,null,null,null,null,null,null,null,null,null,null,null,null,null,null,null,null,null,null,null,null,null,null,null,null,null,null,null,null,null,null,null,null,null,null,null,null,null,null,null,null,null,null,null,null,null,null,null,null,null,null,null,null,null,null,null,null,null,null,null,null,null,null,null,null,null,null,null,null,null,null,null,null,null,null,null,null,null,null,null,null,null,null,null,null,null,null,null,null,null,null,null,null,null,null,null,null,null,null,null,null,null,null,null,null,null,null,null,null,null,null,null,null,null,null,null,null,null,null,null,null,null,null,null,null,null,null,null,null,null,null,null,null,null,null,null,null,null,null,null,null,null,null,null,null,null,null,null,null,null,null,null,null,null,null,null,null,null,null,null,null,null,null,null,null,null,null,null,null,null,null,null,null,null,null,null,null,null,null,null,null,null,null,null,null,null,null,null,null,null,null,null,null,null,null,null,null,null,null,null,null,null,null,null,null,null,null,null,null,null,null,null,null,null,null,null,null,null,null,null,null,null,null,null,null,null,null,null,null,null,null,null,null,null,null,null,null,null,null,null,null,null,null,null,null,null,null,null,null,null,null,null,null,null,null,null,null,null,null,null,null,null,null,null,null,null,null,null,null,null,null,null,null,null,null,null,null,null,null,null,null,null,null,null,null,null,null,null,null,null,null,null,null,null,null,null,null,null,null,null,null,null,null,null,null,null,null,null,null,null,null,null,null,null,null,null,null,null,null,null,null,null,null,null,null,null,null,null,null,null,null,null,null,null,null,null,null,null,null,null,null,null,null,null,null,null,null,null,null,null,null,null,null,null,null,null,null,null,null,null,null,null,null,null,null,null,null,null,null,null,null,null,null,null,null,null,null,null,null,null,null,null,null,null,null,null,null,null,null,null,null,null,null,null,null,null,null,null,null,null,null,null,null,null,null,null,null,null,null,null,null,null,null,null,null,null,null,null,null,null,null,null,null,null,null,null,null,null,null,null,null,null,null,null,null,null,null,null,null,null,null,null,null,null,null,null,null,null,null,null,null,null,null,null,null,null,null,null,null,null,null,null,null,null,null,null,null,null,null,null,null,null,null,null,null,null,null,null,null,null,null,null,null,null,null,null,null,null,null,null,null,null,null,null,null,null,null,null,null,null,null,null,null,null,null,null,null,null,null,null,null,null,null,null,null,null,null,null,null,null,null,null,null,null,null,null,null,null,null,null,null,null,null,null,null,null,null,null,null,null,null,null,null,null,null,null,null,null,null,null,null,null,null,null,null,null,null,null,null,null,null,null,null,null,null,null,null,null,null,null,null,null,null,null,null,null,null,null,null,null,null,null,null,null,null,null,null,null,null,null,null,null,null,null,null,null,null,null,null,null,null,null,null,null,null,null,null,null,null,null,null,null,null,null,null,null,null,null,null,null,null,null,null,null,null,null,null,null,null,null,null,null,null,null,null,null,null,null,null,null,null,null,null,null,null,null,null,null,null,null,null,null,null,null,null,null,null,null,null,null,null,null,null,null,null,null,null,null,null,null,null,null,null,null,null,null,null,null,{"$f":"SUM(A670:XFC670)","v":28.200000000000003}]
[null,"a) For platforms ",0,"x",3,"x",{"$f":"4.8+0.6+0.6","v":5.9999999999999991},"x",16.8,"=",null,null,{"$f":"C671*E671*G671*I671","v":0}]
[null,"b) Foundation bolts  20 mm dia at 1m C/C",0,"x",8,"x",0.6,"x",2.5,"=",null,null,{"$f":"C672*E672*G672*I672","v":0}]
[null,"b) Foundation bolts  20 mm dia at 1m C/C",0,"x",6,"x",0.6,"x",2.5,"=",null,null,{"$f":"C673*E673*G673*I673","v":0}]
[null,null,null,null,null,null,null,null,null,null,"Total ",null,{"$f":"SUM(M670:M673)","v":0}]
[null,null,null,null,null,null,null,null,null,null,"Say",null,{"$f":"ROUNDUP(M674,0)","v":0}]
[]
[12,"Conveying the materials obtained from excavation including laying in layers, breaking clods, dressing to the required lines, curves, grades and section for all leads & lifts from the site of excavation to the site of deposition  outside the complex as by directed engineer in charge.",null,null,null,null,null,null,null,null,null,null,null,null,"lead statement",105.25]
[]
[null,null,null,null,null,null,null,null,null,null,null,"=",{"$f":"M605+M583","v":0},"Cu.M."]
[null,null,null,null,null,null,null,null,null,null,"Total","=",{"$f":"SUM(M679)","v":0},"Cu.M."]
[null,null,null,null,null,null,null,null,null,null,"SAY","=",{"$f":"ROUNDUP(M680,0)","v":0},"Cu.M."]
[]
[]
[null,"Sub Work VII :- Repairs to Office building "]
[]
[1,"Scrapping & providing & applying white wash in three coats on plastered surfaces including scaffolding & preparing the surface by brushing & brooming down  complete including scrapping old white wash & preparing surface to receive new white wash etc complete.",null,null,null,null,null,null,null,null,null,null,null,"sqm","36.03/246+ 36.04",9]
[]
[null,"Provision ",null,null,null,null,null,null,null,null,"Total",null,0]
[null,null,null,null,null,null,null,null,"Say",null,null,null,{"$f":"ROUND(M688,0)","v":0}]
[]
[2,"Providing & applying Washable Oil Bound Distemper of approved colour & shade  three coats  including scaffolding & preparing the surface by scrapping the old paint etc complete ",null,null,null,null,null,null,null,null,null,null,null,"sqm","46.22/316 + 36.11/247",15]
[null,"Ceiling",null,null,null,null,null,null,null,null,null,null,null,null,null,32]
[null,"Computer Room 1",0,"x",1,"x",4.0999999999999996,"x",2.9,"x",null,"=",{"$f":"C693*E693*G693*I693","v":0},null,null,{"$f":"SUM(P691:P692)","v":47}]
[null,"Computer Room 2 ",0,"x",1,"x",3,"x",2.9,"x",null,"=",{"$f":"C694*E694*G694*I694","v":0}]
[null,"Lab Room",0,"x",1,"x",3.75,"x",3.65,"x",null,"=",0]
[null,"Varandah",0,"x",1,"x",3.65,"x",2,"x",null,"=",0]
[null,"Store",0,"x",1,"x",6,"x",3.65,"x",null,"=",0]
[null,"Sanitary",0,"x",1,"x",2.9,"x",1.5,"x",null,"=",0]
[null,"Sanitary Passage",0,"x",1,"x",2.9,"x",1,"x",null,"=",0]
[]
[null,"In side office "]
[null,"Computer Room 1 - 2x4.10 + 2x2.90 ",0,"x",1,"x",14,"x",null,"x",3.65,"=",{"$f":"C702*E702*G702*K702","v":0},"sqm"]
[null,"Computer Room 2-2x3.00+2x2.90",0,"x",1,"x",11.8,"x",null,"x",{"$f":"K702","v":3.65},"=",{"$f":"C703*E703*G703*K703","v":0}]
[null,"Lab Room -2x3.75 + 2x3.65",0,"x",1,"x",14.8,"x",null,"x",{"$f":"K703","v":3.65},"=",0]
[null,"Varandah- 2x3.65 + 2x2.00",0,"x",1,"x",11.3,"x",null,"x",{"$f":"K704","v":3.65},"=",0]
[null,"Store 2x6.00 +2x3.65",0,"x",1,"x",19.3,"x",null,"x",{"$f":"K705","v":3.65},"=",0]
[null,"Sanitory passage2x2.9+2x1",0,"x",2,"x",7.8,"x",null,"x",{"$f":"K706","v":3.65},"=",0]
[null,"Bath 2x1.45+2x1.5",0,"x",2,"x",5.9,"x",null,"x",2.8,"=",0]
[null,"W.C.2x1+2x1.5",0,"x",2,"x",5,"x",null,"x",{"$f":"K708","v":2.8},"=",0]
[null,"Loft in store",0,"x",3,"x",2.4300000000000002,"x",null,"x",0.45,"=",{"$f":"C710*E710*G710*K710","v":0}]
[null,"Loft in camping Room",0,"x",2,"x",3.77,"x",null,"x",0.45,"=",{"$f":"C711*E711*G711*K711","v":0}]
[null,null,null,null,null,null,null,null,null,null,"Total",null,{"$f":"SUM(M693:M711)","v":0}]
[null,"Deductions"]
[null,"Door D-1 outer",0,"x",3,"x",1.02,"x",null,"x",2.36,"=",{"$f":"C714*E714*G714*K714","v":0}]
[null,null,0,"x",1,"x",1.02,"x",null,"x",2.36,"=",0]
[null,"D -2",0,"x",6,"x",1.02,"x",null,"x",2.0099999999999998,"=",0]
[null,"D -3",0,"x",2,"x",0.72,"x",null,"x",2.0099999999999998,"=",0]
[null,"Window outer",0,"x",9,"x",0.9,"x",null,"x",1.5,"=",0]
[null,null,0,"x",1,"x",0.9,"x",null,"x",1.5,"=",0]
[null,null,null,null,null,null,null,null,null,null,"Total",null,{"$f":"SUM(M714:M719)","v":0}]
[null,null,null,null,null,null,null,null,"Net Total",null,null,null,{"$f":"M712-M720","v":0}]
[null,null,null,null,null,null,null,null,null,null,"Say",null,{"$f":"ROUND(M721,0)","v":0}]
[]
[3,"Scrapping the old paint and providing and applying two coats of exterior acraylic emulsion paint confirming to corresponding I.S. of approved manufacture and of approved colour to the plastered surfaces including cleaning ,preparing the plaster surface, applying primer coat ,scaffolding if necessary , and watering the surface for two days etc complete.",null,null,null,null,null,null,null,null,null,null,null,"sqm","35.25/304",208]
[]
[null,"Out side office ",null,null,null,null,null,null,null,null,null,null,null,null,null,{"$f":"SUM(P724:P725)","v":208}]
[null,"Long ",0,"x",2,null,15.65,null,null,null,3.65,null,{"$f":"C727*E727*G727*K727","v":0},null,"sqm"]
[null,"Short",0,"x",2,null,6.7,null,null,null,3.65,null,{"$f":"C728*E728*G728*K728","v":0}]
[null,"Bottom of projected slab",0,"x",2,null,{"$f":"G727","v":15.65},null,null,null,{"$f":"0.25+0.15","v":0.4},null,{"$f":"C729*E729*G729*K729","v":0}]
[null,null,0,"x",2,null,6.7,null,null,null,{"$f":"0.25+0.15","v":0.4},null,{"$f":"C730*E730*G730*K730","v":0}]
[null,"Add for chajja L S",null,null,null,null,null,null,null,null,null,null,25]
[null,null,null,null,null,null,null,null,null,null,"Total",null,{"$f":"SUM(M727:M731)","v":25}]
[null,"Deductions"]
[null,"Door D-1 outer",0,"x",3,null,1.02,null,null,null,2.36,null,{"$f":"C734*E734*G734*K734","v":0}]
[null,"Window outer",0,"x",9,null,0.9,null,null,null,1.5,null,{"$f":"C735*E735*G735*K735","v":0}]
[null,null,null,null,null,null,null,null,null,null,"Total",null,{"$f":"SUM(M734:M735)","v":0}]
[null,null,null,null,null,null,null,null,"Net Total",null,null,null,{"$f":"M736","v":0}]
[null,null,null,null,null,null,null,null,null,null,"Say",null,{"$f":"ROUND(M737,0)","v":0}]
[]
[4,"Scrapping the old paint and providing and applying two coats of synthetic enamel paint of approved colour to new /old structural steel work and wood work in buildings, including scaffolding if necessary, cleaning and preparing the surface (excluding primer coat) etc. complete.",null,null,null,null,null,null,null,null,null,null,null,"sqm","35.07/243",62]
[null,null,null,null,null,null,null,null,null,null,null,null,null,null,"35.20/245",21]
[null,"Door D-1 ",0,"x",3,null,1.02,null,null,null,2.36,null,{"$f":"C742*E742*G742*K742","v":0}]
[null,"D -2",0,"x",6,null,1.02,null,null,null,2.0099999999999998,null,{"$f":"C743*E743*G743*K743","v":0},null,null,{"$f":"SUM(P740:P742)","v":83}]
[null,"D -3",0,"x",2,null,0.72,null,null,null,2.0099999999999998,null,{"$f":"C744*E744*G744*K744","v":0}]
[null,"Window ",0,"x",9,null,0.9,null,null,null,1.5,null,{"$f":"C745*E745*G745*K745","v":0}]
[null,"Grill",0,"x",2,null,1.95,null,null,null,1.9,null,{"$f":"C746*E746*G746*K746","v":0}]
[null,null,null,null,null,null,null,null,null,null,"Total",null,{"$f":"SUM(M742:M745)","v":0}]
[null,null,null,null,null,null,null,null,null,null,"Say",null,{"$f":"ROUND(M747,0)","v":0}]
[null,null,null,null,null,null,null,null,null,null,null,null,null,null,null,null,null,0.2,{"$f":"M762*R749","v":0}]
[5,"Removing existing plaster and providing and laying vitrified mirror / glossy finish tiles having size 590 mm to 605 mm x 590 mm to 605 mm of 8 to 10 mm thickness and confirming to IS. 15622-2006 ( group Bla) of approved make, shade and pattern for flooring in required position laid on a bed of 1:4 cement mortar including neat cement float, filling joints, curing and clearing etc. complete.b) Skirting",null,null,null,null,null,null,null,null,null,null,null,null,"33.41/236",928]
[null,"Dado skirting in office bldg.",null,null,null,null,null,null,null,null,null,null,null,null,"46.22/319",15]
[null,"Computer Room 1",0,"x",1,null,14,null,null,null,0.15,null,{"$f":"C752*E752*G752*K752","v":0},null,null,{"$f":"SUM(P750:P751)","v":943}]
[null,"Computer Room 2",0,"x",1,null,11.8,null,null,null,0.15,null,{"$f":"C753*E753*G753*K753","v":0}]
[null,"Varandah",0,"x",1,null,11.3,null,null,null,0.15,null,0]
[null,"Lab Room",0,"x",1,null,14.8,null,null,null,0.15,null,0]
[null,"Passage",0,"x",1,null,7.8,null,null,null,0.15,null,0]
[null,"Store",0,"x",1,null,{"$f":"G706","v":19.3},null,null,null,0.15,null,0]
[null,"Bath",0,"x",1,null,{"$f":"2*(2.43+2.73)","v":10.32},null,null,null,0.15,null,0]
[null,"WC",0,"x",1,null,5.24,null,null,null,0.15,null,0]
[]
[null,null,null,null,null,null,null,null,null,null,"Total",null,{"$f":"SUM(M752:M759)","v":0}]
[null,null,null,null,null,null,null,null,null,null,"Say",null,{"$f":"ROUNDUP(M761,0)","v":0}]
[null,null,null,null,null,null,null,null,null,null,null,null,null,null,null,null,null,0.2,{"$f":"M774*R763","v":0}]
[6,"Removing existing  shahabad flooring & stacking the material properly and providing and laying vitrified mirror / glossy finish tiles decorative type having size 590 mm to 605 mm x 590 mm to 605 mm of 8 to 10 mm thickness and confirming to IS. 15622- 2006 ( group Bla) of approved make, shade and pattern for flooring in required position laid on a bed of 1:4 cement mortar including neat cement float, filling joints, curing and clearing\netc. complete. a) Flooring",null,null,null,null,null,null,null,null,null,null,null,null,"33.40/196",839]
[null,"FLOORING",null,null,null,null,null,null,null,null,null,null,null,null,"46.20/295",24,null,null,{"$f":"(S766)&(S767)&(S768)&(S769)&(S770)&(S771)&(S772)&(S796)&(S797)&(S798)","v":""}]
[null,"Computer Room 1",0,"x",1,null,{"$f":"G693","v":4.0999999999999996},null,{"$f":"I693","v":2.9},null,null,null,{"$f":"C766*E766*G766*I766","v":0},null,null,{"$f":"SUM(P764:P765)","v":863}]
[null,"Computer Room 2",0,"x",1,null,{"$f":"G694","v":3},null,{"$f":"I694","v":2.9},null,null,null,0]
[null,"Lab Room",0,"x",1,null,{"$f":"G695","v":3.75},null,3.65,null,null,null,0]
[null,"Varandah",0,"x",1,null,{"$f":"G696","v":3.65},null,2,null,null,null,0]
[null,"Store",0,"x",1,null,{"$f":"G697","v":6},null,{"$f":"I697","v":3.65},null,null,null,0]
[null,"Sanitary Passage",0,"x",1,null,{"$f":"G699","v":2.9},null,{"$f":"I699","v":1},null,null,null,0]
[]
[null,null,null,null,null,null,null,null,null,null,"Total",null,{"$f":"SUM(M766:M771)","v":0}]
[null,null,null,null,null,null,null,null,null,null,"Say",null,0]
[]
[7,"Removing existing plaster and providing and laying ceramic tiles of RAK/Kajaria / Nitco /Asian or equivalentmake having size 30 cm. x 30 cm. for dado and skirting in required position with readymade adhesive mortar ofapproved quality on plaster of 1:2 cement mortar including joint filling with white/colour cement slurry cleaning curing complete.",null,null,null,null,null,null,null,null,null,null,null,null,"33.25/234",927,null,0.2,{"$f":"M785*R776","v":0}]
[null,null,null,null,null,null,null,null,null,null,null,null,null,null,"46.22/319",15]
[null,"Dado & skirting in ceramic tiles for sanitory",null,null,null,null,null,null,null,null,null,null,null,null,null,{"$f":"SUM(P776:P777)","v":942}]
[null,"Bath ",0,"x",2,null,5.9,"x",null,null,0.6,null,{"$f":"C779*E779*G779*K779","v":0},null,"sqm"]
[null,"WC",0,"x",2,null,5,"x",null,null,0.6,null,{"$f":"C780*E780*G780*K780","v":0}]
[null,"Deductions"]
[null,"Door D-3 ",0,"x",2,null,0.72,"x",null,null,null,null,0]
[]
[null,null,null,null,null,null,null,null,null,null,"Total",null,{"$f":"M782","v":0}]
[null,null,null,null,null,null,null,null,null,null,"Say",null,{"$f":"ROUNDUP(M784,0)","v":0}]
[null,null,null,null,null,null,null,null,null,null,null,null,null,null,null,null,null,0.2,{"$f":"M792*R786","v":0}]
[8,"Removing existing tiles and Providing and laying ceramic tiles of RAK/ Kajaria/ Nitco/ Asian or equivalent make having size 30 cm x 30 cmconfirming I.S.15622/2006 (group D IIA) and 7 to 8 mm thick for flooring inrequired position laid on a bed of 1:4cement mortar including cement float, filling joint with white/colour cement slurry cleaning curing complete.",null,null,null,null,null,null,null,null,null,null,null,null,"33.24/234 + 46.19/319",920]
[null,"FLOORING",null,null,null,null,null,null,null,null,null,null,null,null,null,24]
[null,{"$f":"B779","v":"Bath "},0,"x",1,null,1.45,null,1.5,null,null,null,{"$f":"C789*E789*G789*I789","v":0},null,null,{"$f":"SUM(P787:P788)","v":944}]
[null,{"$f":"B780","v":"WC"},0,"x",1,null,1,null,1.5,null,null,null,{"$f":"C790*E790*G790*I790","v":0}]
[null,null,null,null,null,null,null,null,null,null,"Total",null,{"$f":"SUM(M789:M790)","v":0}]
[null,null,null,null,null,null,null,null,null,null,"Say",null,{"$f":"ROUNDUP(M791,0)","v":0}]
[null,null,null,null,null,null,null,null,null,null,null,null,null,null,null,null,null,0.2,{"$f":"M797*R793","v":0}]
[9,"Removing the existing brickwork and plaster below window sill & Providing sills of polished Marble stone 25mm to 30mm thick, on a bed of 1:4cement mortar including cement float, fillingjoints with slurry, curing polishing andcleaning complete.",null,null,null,null,null,null,null,null,null,null,null,null,"33.21/234 + 46.09/318",1273]
[null,null,null,null,null,null,null,null,null,null,null,null,null,null,null,{"$f":"181/10","v":18.100000000000001}]
[null,"Sills for windows",0,"x",6,"x",1,"x",0.4,null,null,"=",{"$f":"I796*G796*E796*C796","v":0},null,null,{"$f":"SUM(P794:P795)","v":1291.0999999999999}]
[null,null,null,null,null,null,null,null,null,null,"Total",null,{"$f":"M796","v":0}]
[]
[10,"Providing necessary repairs to the doors and windows with required spares and finishing, etc, to have smooth operation etc. complete as directed.",null,null,null,null,null,null,null,null,null,null,null,null,"MR",200]
[]
[null,"Doors ",0,"x",9,null,null,null,null,null,null,null,0]
[null,null,null,null,null,null,null,null,null,null,"Total",null,{"$f":"M801","v":0}]
[]
[11,"Providing repairs to doors by removing the damaged old wooden shutter and Providing and fixing solid core flush door shutter commercial in single leaf 32mmthick without ventilator commercial type ofexterior grade as per detailed drawings with wrought iron hold fast, stainless steel fixtures and fastenings and handles on both sides and finishing with oil painting 3coats complete.",null,null,null,null,null,null,null,null,null,null,null,null,"39.04/263 + 46.15/318",5468]
[null,null,null,null,null,null,null,null,null,null,null,null,null,null,null,24]
[null,"Repairs to door by replacing shutter",0,"x",1,"x",0.9,"x",2.1,null,null,"=",{"$f":"I806*G806*E806*C806","v":0},null,null,{"$f":"SUM(P804:P805)","v":5492}]
[null,null,null,null,null,null,null,null,null,null,"Total",null,{"$f":"ROUNDUP(M806,0)","v":0}]
[]
[12,"Providing and fixing frame with / without ventilator of size as specified with Ghana teak wood for doors and windowsincluding chamfering, rounding,rebating, iron holdfast of size 300mm x40mm x 5mm with oil painting,including removing the damaged portion of frame etc.complete. As directed by Engineer incharge.",null,null,null,null,null,null,null,null,null,null,null,null,"39.01/262",126465]
[]
[null,"Repairs to door frame by replacing frame",0,"x",0.06,"x",0.1,"x",2.1,null,null,"=",{"$f":"I811*G811*E811*C811","v":0}]
[null,null,null,null,null,null,null,null,null,null,"Total",null,{"$f":"ROUNDUP(M811,3)","v":0},null,null,null,null,{"$f":"(R813)&(R814)&(R815)&(R825)&(R902)&(R914)&(R915)&(#REF!)&(#REF!)&(#REF!)&(#REF!)&(#REF!)&(#REF!)&(#REF!)&(#REF!)&(#REF!)&(#REF!)&(#REF!)&(#REF!)&(#REF!)&(#REF!)&(#REF!)&(#REF!)&(#REF!)&(#REF!)&(#REF!)","v":{"$error":"#REF!"}}]
[]
[13,"Providing and fixing in position. (as perI.S.1868 / 1982) Aluminium slidingwindow of two tracks with rectangularpipe having overall dimension 63.50 x38.10 x 1.02mm at weight 0.547 kg/Rmt.and window frame bottom track section61.85 x 31.75 x 1.20mm at weight 0.695kg/Rmt. Top and side track section 61.85 x31.75 x 1.30 mm at weight 0.659 kg/Rmt.The shutter should be of bearing bottom 40x 18 x 1.25 mm at weight 0.417 kg/Rmt.Inter locking section 40 x 18 x 1.10mm atweight 0.469 kg/Rmt. And handle section40 x 18 x 1.25mm at weight 0.417 kg/Rmt.and top section 40 x 18 x 1.25mm atweight 0.417 kg/Rmt. As per detaileddrawings and as directed by Engineer incharge with all necessary Aluminiumsections fixtures and fastenings such asroller bearing in nylon casting and selflocking catch fitted in vertical section ofshutter including 5 mm thick plain glasswith all required screws and nuts etc,complete. with colour Anodising withoutboxSpec : As directed by Engineer In Charge",null,null,null,null,null,null,null,null,null,null,null,null,"39.37/270",4613]
[]
[null,"Aluminium windows",0,"x",6,"x",0.9,"x",1.5,null,null,"=",{"$f":"I816*G816*E816*C816","v":0}]
[null,null,null,null,null,null,null,null,null,null,"Total",null,{"$f":"ROUNDUP(M816,3)","v":0}]
[]
[14,"Removing doors and windows with frames with the help of gas cutting and stacking the materials asdirected with all leads, lifts, complete.Spec : As directed by Engineer In Charge",null,null,null,null,null,null,null,null,null,null,null,null,"46.15/318",84]
[]
[null," old Steel windows shutter ",0,"x",6,"x",1,"x",1,null,null,"=",{"$f":"I821*G821*E821*C821","v":0}]
[null,null,null,null,null,null,null,null,null,null,"Total",null,{"$f":"ROUNDUP(M821,3)","v":0}]
[null,null,null,null,null,null,null,null,null,null,null,null,null,null,null,null,null,0.55000000000000004,{"$f":"M827*R823","v":0}]
[15,"Providing and laying damp proof course 50 mm thick in M20 cement concrete layer and bitumen / using cement with waterproofing compound curing, formwork etc. complete.",null,null,null,null,null,null,null,null,null,null,null,null,"31.04/223",711]
[]
[null,"Waterproofing to slab of office building",0,"x",1,"x",15.65,"x",6.7,null,null,"=",{"$f":"I826*G826*E826*C826","v":0}]
[null,null,null,null,null,null,null,null,null,null,"Total",null,{"$f":"ROUNDUP(M826,3)","v":0}]
[null,null,null,null,null,null,null,null,null,null,null,null,null,null,null,null,null,0.25,{"$f":"M832*R828","v":0}]
[16,"Removing the damaged W.C. pan and providing & fixing Indian type white glazed Orissa type earthenware 600 x 400 mm water closet pan including S trap white earthenware foot rest cast iron soil & vent pipe upto the outside face of the wall 1:2:4 brickbat lime concrete bedding 10 Litre fibre highlevel tank flushing cistern with fittings, inlet pipe with stop tap, bracket for fixing the cistern 32 mm dia PVC pipe with fittings & clamps 20 mm dia G. I. Over flow pipe with mosquitoproof capping G. I. Chain  pull, painting of cistren & exposed pipes & fittings & making good walls & floor with enameled tank & PVC pipe as directed. etc. complete",null,null,null,null,null,null,null,null,null,null,null,null,"42.33/300",3881]
[]
[null,"W.C. pan",0,"x",1,"x",1,"x",1,null,null,"=",{"$f":"I831*G831*E831*C831","v":0}]
[null,null,null,null,null,null,null,null,null,null,"Total",null,{"$f":"ROUNDUP(M831,3)","v":0}]
[]
[null,null,null,null,null,null,null,null,null,null,null,null,null,null,null,null,null,0.1,{"$f":"M838*R834","v":0}]
[17,"Removing damaged wash hand basin and providing & fixing white glazed wash hand basin of 45 x 30 cms size including cold water pillar tap brackets, rubber plug & brass chain, stop tap & necessary pipe connections including PVC vest pipe & trap upto outside face of the wall. ",null,null,null,null,null,null,null,null,null,null,null,null,"41.64/293",3191]
[]
[null,"Wash Hand basin",0,"x",1,"x",1,"x",1,null,null,"=",{"$f":"I837*G837*E837*C837","v":0}]
[null,null,null,null,null,null,null,null,null,null,"Total",null,{"$f":"ROUNDUP(M837,3)","v":0}]
[null,null,null,null,null,null,null,null,null,null,null,null,null,null,null,null,null,2.33,{"$f":"M843*R839","v":0}]
[18,"Providing and constructing Brick Masonry Inspection Chamber 60cm x 45cm x 90cm including M-10 cement concrete foundation M-20 cement concrete channels half round G.S.W. pipes, Brick Masonry, plastering from inside and airtight C. I. cover of 75 kg with lid and frame fixed in cement concrete etc. complete as directed by Engineer in charge.",null,null,null,null,null,null,null,null,null,null,null,null,"42.10/297",7005]
[]
[null,"Inspection chamber",0,"x",1,"x",1,"x",1,null,null,"=",{"$f":"I842*G842*E842*C842","v":0}]
[null,null,null,null,null,null,null,null,null,null,"Total",null,{"$f":"ROUNDUP(M842,3)","v":0}]
[]
[]
[]
[19,"Providing and fixing hume pipe septic tank 900mm diameter with vent pipe and capincluding necessary (including excavationand laying) etc. Complete",null,null,null,null,null,null,null,null,null,null,null,null,"42.18/298",10880]
[]
[null,"Septic tank",0,"x",1,"x",1,"x",1,null,null,"=",{"$f":"I849*G849*E849*C849","v":0}]
[null,null,null,null,null,null,null,null,null,null,"Total",null,{"$f":"ROUNDUP(M849,3)","v":0}]
[]
[]
[]
[]
[20,"Providing soak pit of size 120cm x 120cmx 120cm including excavating and fillingwith brick-bats. etc. Complete",null,null,null,null,null,null,null,null,null,null,null,null,"42.19/298",1537]
[]
[null,"Soak Pit",0,"x",1,"x",1,"x",1,null,null,"=",{"$f":"I857*G857*E857*C857","v":0}]
[null,null,null,null,null,null,null,null,null,null,"Total",null,{"$f":"ROUNDUP(M857,3)","v":0}]
[]
[null,null,null,null,null,null,null,null,null,null,null,null,null,null,null,null,null,3.5000000000000003E-2,{"$f":"M864*R860","v":0}]
[21,"Providing & laying 110 MM dia U.P.V.C. SOIL / VENT / WASTE SWR pipesalt glazed stoneware pipe including fittings such as bends, tees, single junction, double junction laying, jointing ( including excavation & refilling the trenches) etc. complete ",null,null,null,null,null,null,null,null,null,null,null,null,"42.03/296",196]
[]
[null,"Vent pipe",0,"x",1,"x",15,"x",1,null,null,"=",{"$f":"I863*G863*E863*C863","v":0}]
[null,null,null,null,null,null,null,null,null,null,"Total",null,{"$f":"ROUNDUP(M863,3)","v":0}]
[]
[22,"Providing and fixing H.D.P container Syntex or alike one piece moulded water tank made out of high density polythyler and built corrugated inclusive of delivery up to destination hoisting and fixing of accessories such as inlet,outlet overflow pipe inclusive of all tanks capacity between 200 to 1000 liters etc. complete",null,null,null,null,null,null,null,null,null,null,null,null,"42.53/303",9]
[]
[null,"Tank",0,"x",1,"x",1000,"x",1,null,null,"=",{"$f":"I868*G868*E868*C868","v":0},null,null,null,null,4.4000000000000004,{"$f":"N873*R868","v":0}]
[null,null,null,null,null,null,null,null,null,null,"Total",null,{"$f":"ROUNDUP(M868,3)","v":0}]
[null,null,null,null,null,null,null,null,null,null,null,null,null,null,null,null,null,0.47,{"$f":"L875*R870","v":0},"Sand"]
[23,"Providing & fixing 10cms Rigid  C.I. Nahani trap including C.I Grating bend & piece of C.I. Pipe upto the outside face of the wall complete",null,null,null,null,null,null,null,null,null,null,null,null,"42.03/296",196]
[null,null,null,null,null,null,null,null,null,null,null,null,null,2]
[]
[null,null,null,null,null,null,null,null,null,null,"Total",null,0,null,null,null,null,4.4000000000000004,{"$f":"N879*R874","v":0}]
[null,null,null,null,null,null,null,null,null,null,"Say",null,{"$f":"ROUNDUP(M874,0)","v":0}]
[null,null,null,null,null,null,null,null,null,null,null,null,null,null,null,null,null,0.47,{"$f":"L881*R876","v":0},"Sand"]
[23,"Providing & fixing 15 x 10cms salt glazed stoneware gully trap in C. C. 1:4:8 outside the building including cast iron grating in the sink, connecting glazed stoneware pipe, brick masonary chamber and cast iron lead & cast iron grating for gully trap. ",null,null,null,null,null,null,null,null,null,null,null,null,"42.02/296",802]
[null,null,null,null,null,null,null,null,null,null,null,null,null,1]
[]
[null,null,null,null,null,null,null,null,null,null,"Total",null,0,null,null,null,null,4.4000000000000004,{"$f":"N885*R880","v":0}]
[null,null,null,null,null,null,null,null,null,null,"Say",null,{"$f":"ROUNDUP(M880,0)","v":0}]
[null,null,null,null,null,null,null,null,null,null,null,null,null,null,null,null,null,0.47,{"$f":"L887*R882","v":0},"Sand"]
[23,"Providing and fixing in position on wall or in trenches medium type 15 mm diameter GI pipe of approved make and manufacturer inculding all necessary accessories removing existing pipe if requiredetc. Complete as directed by Engineer in charge.",null,null,null,null,null,null,null,null,null,null,null,null,"41.10/287",257]
[null,null,null,null,null,null,null,null,null,null,null,null,null,5]
[]
[null,null,null,null,null,null,null,null,null,null,"Total",null,0]
[null,null,null,null,null,null,null,null,null,null,"Say",null,{"$f":"ROUNDUP(M886,0)","v":0}]
[null,null,null,null,null,null,null,null,null,null,null,null,null,null,null,null,null,3.5000000000000003E-2,{"$f":"M892*R888","v":0}]
[23,"Providing and fixing in position on wall or in trenches medium type 20 mm diameter GI pipe of approved make and manufacturer inculding all necessary accessories removing existing pipe if requiredetc. Complete as directed by Engineer in charge.",null,null,null,null,null,null,null,null,null,null,null,null,"41.11/287",310]
[]
[null,"Supply pipeline 20 mm dia. ",0,"x",1,"x",20,"x",1,null,null,"=",{"$f":"I891*G891*E891*C891","v":0},null,"Rmt."]
[null,null,null,null,null,null,null,null,null,null,"Total",null,{"$f":"ROUNDUP(M891,3)","v":0}]
[]
[27,"Providing and fixing 15 mm dia. screw down bib/ stop tap of brass including necessary socket union nut complete.",null,null,null,null,null,null,null,null,null,null,null,"Nos","41.40/291",366]
[null,null,null,null,null,null,null,null,null,null,"Total",null,0]
[null,null,null,null,null,null,null,null,null,null,"Provision",null,{"$f":"ROUNDUP(M895,0)","v":0}]
[null,null,null,null,null,null,null,null,null,null,"Total",null,{"$f":"M895","v":0}]
[null,null,null,null,null,null,null,null,null,null,"Say",null,{"$f":"ROUNDUP(M897,0)","v":0}]
[null,null,null,null,null,null,null,null,null,null,null,null,null,null,null,null,3.5000000000000003E-2,null,{"$f":"M903*Q899","v":0}]
[24,"Providing and fixing screw down for 20 mm dia. wheeled stoptap of brass including necessary sockets/union nut complete.",null,null,null,null,null,null,null,null,null,null,null,{"$f":"N894","v":"Nos"},"41.44/291",529]
[]
[null,"Wheeled stop tap 20 mm dia. ",0,"x",1,"x",1,"x",1,null,null,"=",{"$f":"I902*G902*E902*C902","v":0}]
[null,null,null,null,null,null,null,null,null,null,"Total",null,{"$f":"ROUNDUP(M902,3)","v":0}]
[]
[null,"Conveying the materials obtained from excavation including laying in layers, breaking clods, dressing to the required lines, curves, grades and section for all leads & lifts from the site of excavation to the site of deposition  outside the complex as by directed engineer in charge.",null,null,null,null,null,null,null,null,null,null,null,null,"lead statement",105.25]
[]
[null,"Quanitity as per Item no.1",null,null,null,null,null,null,null,null,null,"=",0,"Cu.M."]
[null,null,null,null,null,null,null,null,null,null,"Total","=",{"$f":"SUM(M907)","v":0},"Cu.M."]
[null,null,null,null,null,null,null,null,null,null,"SAY","=",{"$f":"ROUNDUP(M908,0)","v":0},"Cu.M."]
[]
[]
[]
[]
[null,"Sub Work VIII :-Part A:- Repairs to Road & CD works"]
[]
[]
[null,"Item Nos & Description of Items ","NO.S",null,null,null,"LENGTH",null,"BREDTH",null,"DEPTH /",null,"TOTAL","Unit"]
[null,null,1,"X",2,null,null,null,null,null,"HIGHT",null,"QUANTITY"," "]
[]
[null,2,null,null,null,null,null,null,null,null,null,null,null,3]
[null,"Road surface Area"]
[null,"unit 5 long side",0,"x",2,"x",60,"x",7,null,null,"=",{"$f":"I922*G922*E922*C922","v":0},"Sq.M"]
[null,"unit 5 short side",0,"x",2,"x",35,"x",6,null,null,"=",0,"Sq.M"]
[null,"unit 6 long side",0,"x",2,"x",60,"x",7,null,null,"=",0,"Sq.M"]
[null,"unit 6 short side",0,"x",2,"x",35,"x",6,null,null,"=",0,"Sq.M"]
[null,"unit 3 long side",0,"x",2,"x",35,"x",7,null,null,"=",0,"Sq.M"]
[null,"unit 3 short side",0,"x",2,"x",25,"x",6,null,null,"=",0,"Sq.M"]
[]
[null,null,null,null,null,null,null,null,"Total",null,null,"=",{"$f":"SUM(M922:M928)","v":0},"Sq.M"]
[null,null,null,null,null,null,null,null,"Say",null,null,"=",{"$f":"M929","v":0},"Sq.M"]
[]
[1,"Picking the road surface including sectioning complete. (WBM suface)",null,null,null,null,null,null,null,null,null,null,null,null,"2.32/27",18]
["As per Area",null,null,null,null,null,null,null,null,null,0,"Sq.M"]
[null,null,null,null,null,null,"Total",null,null,"=",{"$f":"SUM(K933)","v":0},"Sq.M"]
[null,null,null,null,null,null,"Say",null,null,"=",{"$f":"ROUND(K934,1)","v":0},"Sq.M"]
[]
[]
[2,"Providing dry/ trap/ granite/ quartzite/ gneiss rubble stone soling 15 cm to 20 cm thick including hand packing and compacting etc. complete.",null,null,null,null,null,null,null,null,null,null,null,null,"21.38/157",516]
[null,"For pot holes"]
[null,"5 % of total area",null,null,null,null,null,null,null,"=",0,"Cu.M"]
[null,null,null,null,null,null,"Total",null,null,"=",{"$f":"SUM(K940)","v":0},"Cu.M"]
[null,null,null,null,null,null,"Say",null,null,"=",{"$f":"ROUND(K941,1)","v":0},"Cu.M"]
[]
[3,"Providing, laying, spreading and compacting stone aggregates of specific sizes to water bound macadam specification including spreading in uniform thickness, hand packing to proper grade and camber, applying and brooming requisite type of screening/ binding Materials to fill up the interstices of coarse aggregate, watering and compacting ?with Intelligent Compactor with compaction analyzer and V-Sat attachment.to the required density. Grading I (Using Screening Type B (11.2 mm) Aggregate)",null,null,null,null,null,null,null,null,null,null,"cum",null,"3.19/30",1132]
[null,null,0,"x",2,"x",15,"x",7.4999999999999997E-2,null,null,"=",{"$f":"I945*G945*E945*C945","v":0}]
[null,null,0,{"$f":"D945","v":"x"},2,"x",15,"x",7.4999999999999997E-2,null,null,null,{"$f":"I946*G946*E946*C946","v":0}]
[null,null,null,null,null,null,null,null,null,null,"Total","=",{"$f":"SUM(M945:M946)","v":0}]
[null,null,null,null,null,null,null,null,null,null,"Say","=",{"$f":"ROUND(M947,1)","v":0}]
[]
[4,"Supplying hard murum at the road side including conveying & stacking etc. complete.",null,null,null,null,null,null,null,null,null,null,"cum",null,"2.29/26",248]
[null,"road long side unit 5 & 6",0,"x",4,"X",55,"X",6.5,"X",0.05,"=",{"$f":"K951*I951*G951*E951*C951","v":0}]
[null,"short side ",0,"x",2,"X",35,"X",6.5,"X",{"$f":"K951","v":0.05},"=",{"$f":"K952*I952*G952*E952*C952","v":0}]
[null,"road long side unit 3",0,"x",2,"X",45,"X",6.5,"X",0.05,"=",{"$f":"K953*I953*G953*E953*C953","v":0}]
[null,"short side ",0,"x",2,"X",22.5,"X",6.5,"X",0.05,"=",{"$f":"K954*I954*G954*E954*C954","v":0}]
[null,"add 20%",null,null,null,null,null,null,null,null,null,null,{"$f":"M951*0.2","v":0}]
[null,null,null,null,null,null,null,null,null,null,"Total","=",{"$f":"SUM(M951:M955)","v":0}]
[null,null,null,null,null,null,null,null,null,null,"Say","=",{"$f":"ROUND(M956,0)","v":0}]
[]
[]
[5,"Spreading hard murum for side width etc. complete",null,null,null,null,null,null,null,null,null,null,"sq,m",null,"2.30/26",49]
[]
[null,"unit 5 & 6",0,"x",4,"X",55,"X",6.5,"X",{"$f":"K951","v":0.05},"=",{"$f":"K962*I962*G962*E962*C962","v":0}]
[null,null,0,"x",4,"X",35,"X",6.5,"X",{"$f":"K952","v":0.05},"=",{"$f":"K963*I963*G963*E963*C963","v":0}]
[null,"unit 3",0,"x",2,"X",45,"X",6.5,"X",0.05,"=",{"$f":"K964*I964*G964*E964*C964","v":0}]
[null,null,0,"x",2,"X",22.5,"X",6.5,"X",0.05,"=",{"$f":"K965*I965*G965*E965*C965","v":0}]
[null,null,null,null,null,null,null,null,null,null,null,"=",{"$f":"SUM(M962:M965)","v":0}]
[null,null,null,null,null,null,null,null,null,null,null,"=",{"$f":"ROUND(M966,0)","v":0}]
[]
[6,"Compacting the hard murum side widths including laying in layers on each side with power roller including artificial watering etc. complete.",null,null,null,null,null,null,null,null,null,null,null,"sqm","2.31/27",10]
[null,"Side width unit 5 & 6 ",0,"x",4,"X",{"$f":"G962","v":55},"X",6.5,null,null,"=",{"$f":"I970*G970*E970*C970","v":0}]
[null,null,0,"x",4,"X",{"$f":"G963","v":35},"X",6.5,null,null,"=",{"$f":"I971*G971*E971*C971","v":0}]
[null,"unit 3 ",0,"x",2,"X",{"$f":"G964","v":45},"X",6.5,null,null,"=",{"$f":"I972*G972*E972*C972","v":0}]
[null,null,0,"x",2,"X",{"$f":"G965","v":22.5},"X",6.5,null,null,"=",{"$f":"I973*G973*E973*C973","v":0}]
[]
[null,null,null,null,null,null,null,null,null,null,"Total","=",{"$f":"SUM(M970:M970)","v":0}]
[null,null,null,null,null,null,null,null,null,null,"Say","=",{"$f":"ROUND(M975,1)","v":0}]
[]
[7,"Removing and refixing old available guard stone in warehoue complex",null,null,null,null,null,null,null,null,null,null,null,null,"RA",{"$f":"#REF!","v":{"$error":"#REF!"}}]
[null,"Side width",0,"x",1,"X",1,"X",10,"x",null,"=",{"$f":"I979*G979*E979*C979","v":0},"nos"]
[]
[null,null,null,null,null,null,null,null,null,null,"Total","=",{"$f":"SUM(M979:M979)","v":0}]
[null,null,null,null,null,null,null,null,null,null,"Say","=",{"$f":"ROUND(M981,1)","v":0}]
[]
[]
[8,"Providing and fixing M-15 R.C.C. guard stone/ indicator stones/ boundary stones of standard size and shape including fixing in C.C. 1:4:8 and white washing etc. complete.",null,null,null,null,null,null,null,null,null,null,null,"nos","6.03/49",635]
[null,"Side width",0,"x",1,"X",1,"X",10,"x",null,"=",{"$f":"I986*G986*E986*C986","v":0}]
[]
[null,null,null,null,null,null,null,null,null,null,"Total","=",{"$f":"SUM(M986:M986)","v":0}]
[null,null,null,null,null,null,null,null,null,null,"Say","=",{"$f":"ROUND(M988,1)","v":0}]
[]
[null,"Part B: Repairs to Cross drainage works"]
[]
[9,"Excavation for foundation in earth soil of all types sand, gravel & soft murum, depth upto 1.50 meters including removing the excavated stuff upto a distance of 50 meters beyond the bldg. area all lifts stacking or spreading as directed, dewatering, shoring, strutting if necessary preparing the bed for foundation including necessary backfilling ",null,null,null,null,null,null,null,null,null,null,null,"cum ","21.02/153",125]
[null,"INTERNAL C  D Works  unit 3, 5 & 6",0,"x",3,"x",10,"x",1.5,"x",0.9,"=",{"$f":"K994*I994*G994*E994*C994","v":0}]
[null,null,null,null,null,null,null,null,null,null,"Total ",null,{"$f":"M994","v":0}]
[null,null,null,null,null,null,null,null,null,null,"Say ",null,{"$f":"ROUND(M995,1)","v":0}]
[]
[10,"Excavation for foundation in hard murum depth upto 1.50m  including removing the excavated stuff upto a distance of 50 meters beyond the building area all lifts stacking or spreading as directed, dewatering, shoring, strutting if necessary preparing the bed for foundation including necessary backfilling  etc complete",null,null,null,null,null,null,null,null,null,null,null,"Cum","21.06/153",132]
[null,"C  D Works ",0,"x",3,"x",10,"x",1.5,"x",0.1,"=",{"$f":"K999*I999*G999*E999*C999","v":0}]
[null,null,null,null,null,null,null,null,null,null,"Total ",null,{"$f":"SUM(M999)","v":0}]
[null,null,null,null,null,null,null,null,null,null,"Say ",null,{"$f":"M1000","v":0}]
[11,"Excavation for foundation in H.M. & boulder upto 1.50 meters including removing the excavated stuff upto a distance of 50 meters beyond the building area all lifts stacking or spreading as directed, dewatering, shoring, strutting if necessary preparing the bed for foundation including necessary backfilling etc complete ",null,null,null,null,null,null,null,null,null,null,null,"Cum","21.10/153",156]
[null,"C  D Works ",0,"x",1,"x",10,"x",1.5,"x",0.1,"=",{"$f":"K1003*I1003*G1003*E1003*C1003","v":0}]
[null,null,null,null,null,null,null,null,null,null,"Total ",null,0]
[null,null,null,null,null,null,null,null,null,null,"Say ",null,0]
[12,"Providing and laying Cast in situ/Ready Mix cement concrete in M-10 of trap/ granite/ quartzite/ gneiss metal for foundation and bedding including bailing out water, formwork, laying/pumping, compacting, roughening them if special finish is to be provided, finishing if required and curing complete, etc. complete. With natural sand/V.S.I. quality Artificial Sand",null,null,null,null,null,null,null,null,null,null,null,"Cum","24.01/180",3181]
[null,"C  D Works ",0,"x",3,"x",10,"x",1.5,"x",0.1,"=",{"$f":"K1007*I1007*G1007*E1007*C1007","v":0},null,null,-117]
[null,null,null,null,null,null,null,null,null,null,"Total ",null,{"$f":"SUM(M1007:M1007)","v":0},null,null,{"$f":"SUM(P1006:P1007)","v":3064}]
[null,null,null,null,null,null,null,null,null,null,"Say ",null,{"$f":"ROUND(M1008,1)","v":0}]
[]
[]
[13,"Providing and fixing in position TMT - FE - 500 bar reinforcement of various diameters for R.C.C. pile caps, footings, foundations, slabs, beams columns, canopies, staircase, newels, chajjas, lintels pardis, copings, fins, arches etc. as per detailed  esigns,drawings and schedules. including cutting, bending, hooking the bars, binding with wires or tack welding and supporting as required complete.",null,null,null,null,null,null,null,null,null,null,null,"M.T.","26.33/202",46309]
[]
[null,"at 250 Kgs / cum ",0,"x",null,"x",{"$f":"M1024","v":0},"x",null,null,null,null,{"$f":"C1014*G1014*0.2","v":0}]
[null,"at 125 Kgs / cum ",0,"x",null,"x",{"$f":"M1031","v":0},"x",null,null,null,null,{"$f":"C1015*G1015*0.2","v":0}]
[null,"For Concreat  Road 10 mm bar 20 cm C/C both way"]
[null,null,null,null,null,null,null,null,null,null,"Total ",null,{"$f":"SUM(M1014:M1016)","v":0}]
[null,null,null,null,null,null,null,null,null,null,"Say","=",{"$f":"ROUND(M1017,2)","v":0}]
[]
[14,"Providing and laying Cast in situ/Ready Mix cement concrete in M-20 of trap/ granite/ quartzite/ gneiss metal for R.C.C. pardi of required thickness including centering, formwork, cover  locks, laying/pumping, compacting , curing , finishing and rougheningthem if special finish is to be provided and curing complete.(Excluding reinforcement and structural steel).With natural sand/V.S.I. quality Artificial Sand",null,null,null,null,null,null,null,null,null,null,null,"Cum","26.17/197",9539]
[null,"Slab on C / D Work",0,"x",45,"x",1.3,"x",0.2,"x",0.2,null,{"$f":"K1021*I1021*G1021*E1021*C1021","v":0},null,null,-117]
[null," C / D Work sides",0,"x",2,"x",10,"x",0.45,"x",0.25,null,{"$f":"K1022*I1022*G1022*E1022*C1022","v":0},null,null,{"$f":"SUM(P1020:P1021)","v":9422}]
[null,null,null,null,null,null,null,null,null,null,"Total ",null,{"$f":"SUM(M1021:M1022)","v":0}]
[null,null,null,null,null,null,null,null,null,null,"Say ",null,{"$f":"ROUND(M1023,1)","v":0}]
[]
[]
[15,"Providing and laying in situ/Ready Mix cement concrete M-20 of trap / granite /quartzite/ gneiss metal for R.C.C. work in foundations like raft, strip foundations, grillage and footings of R.C.C. columns and steel stanchions etc. including bailing out water, formwork, laying/pumping cover blocks, compaction and curing roughening the surface if special finish is to be provided (Excluding reinforcement and structural steel) etc.complete, with natural sand/VSI and artificial sand",null,null,null,null,null,null,null,null,null,null,null,"Cum","25.11/185",4907]
[null,null,null,null,null,null,null,null,null,null,null,null,null,null,null,-117]
[null,"C/D WORK Raft",0,"x",3,"x",10,"x",1.5,"x",0.2,null,{"$f":"K1029*I1029*G1029*E1029*C1029","v":0},null,null,{"$f":"SUM(P1027:P1028)","v":4790}]
[null,null,null,null,null,null,null,null,null,null,"Total ",null,{"$f":"SUM(M1029)","v":0}]
[null,null,null,null,null,null,null,null,null,null,"Say ",null,{"$f":"ROUND(M1030,1)","v":0}]
[]
[16,"Providing cement plaster 20 mm thick in two coats in C. M. 1 : 4 with slurry finish to concrete or brick surface or U. C. R surface in all positions including scaffolding & curing smooth cement slurry  finish of 1.5 mm thickness  etc. complete as directed.  ",null,null,null,null,null,null,null,null,null,null,null,"Sqm","32.07/227+32.21/228",328]
[null,"C  D Works ",0,"x",3,"x",10,"x",1.2,null,null,null,{"$f":"I1034*G1034*E1034*C1034","v":0},null,null,59]
[null,"At Places",null,"x",null,"x",null,"x",null,null,null,null,null,null,null,{"$f":"SUM(P1033:P1034)","v":387}]
[null,null,0,"x",2,"x",0.45,"x",0.1,null,null,"=",{"$f":"I1036*G1036*E1036*C1036","v":0}]
[null,null,null,null,null,null,null,null,null,null,"Total ",null,{"$f":"SUM(M1034:M1036)","v":0}]
[null,null,null,null,null,null,null,null,null,null,"Say",null,{"$f":"ROUND(M1037,1)","v":0}]
[]
[17,"Conveying the materials obtained from excavation including laying in layers, breaking clods, dressing to the required lines, curves, grades and section for all leads & lifts from the site of excavation to the site of deposition  outside the complex as by directed engineer in charge.",null,null,null,null,null,null,null,null,null,null,null,null,"lead statement",105.25]
[]
[null,null,null,null,null,null,null,null,null,null,null,"=",{"$f":"M996","v":0},"Cu.M."]
[null,null,null,null,null,null,null,null,null,null,"Total","=",{"$f":"SUM(M1042)","v":0},"Cu.M."]
[null,null,null,null,null,null,null,null,null,null,"SAY","=",{"$f":"ROUNDUP(M1043,0)","v":0},"Cu.M."]
[]
[null,"Sub Work I :- Compound wall"]
[]
[null,"B A S I C    D A T A"]
[null,null,"East",null,"West",null,"North",null,"South",null,"Gate(2)",null,"Total","Say"]
[null,"Length of compound wall excluding gate ",152,null,{"$f":"220-6","v":214},null,220,null,270,null,6,null,{"$f":"SUM(C1050:K1050)","v":862},862]
[]
[null,"MEASUREMENT SHEET "]
[]
[null,"Item Nos & Description of Items ","NO.S",null,null,null,"LENGTH",null,"BREDTH",null,"DEPTH /",null,"TOTAL","Unit"]
[null,null,1,"X",2,null,null,null,null,null,"HIGHT",null,"QUANTITY"," "]
[]
[1,"Excavation for foundation in earth soil of all types sand, gravel & soft murum, depth upto 1.50 meters including removing the excavated stuff upto a distance of 50 meters beyond the bldg. area all lifts stacking or spreading as directed, etc. complete",null,null,null,null,null,null,null,null,null,null,null,null,"21.02/197",157]
[null,"Approch Road",1,"X",2,"X",10,"X",7,"X",0.5,"=",{"$f":"C1058*E1058*G1058*I1058*K1058","v":70},"Cu.M."]
[null,"Gate Column",2,"X",2,"X",1.2,"X",1.2,"X",1.2,"=",{"$f":"C1059*E1059*G1059*I1059*K1059","v":6.9119999999999999},"Cu.M."]
[null,null,null,null,null,null,null,null,null,null,"Total","=",{"$f":"SUM(M1058:M1059)","v":76.912000000000006},"Cu.M."]
[null,null,null,null,null,null,null,null,null,null,"SAY","=",{"$f":"ROUNDUP(M1060,0)","v":77},"Cu.M."]
[]
[]
[2,"Excavation for foundation in hard murum including removing the excavated materials upto distance of 50 metres beyond the building area and stacking and spreading as directed, dewatering, preparing the bed for the foundation and necessary back filling, ramming, watering including shoring and strutting etc. complete. (Lift upto 1.50 m)",null,null,null,null,null,null,null,null,null,null,null,null,"21.06/197",172]
[null,"Gate Column",2,"X",{"$f":"E1059","v":2},"X",{"$f":"G1059","v":1.2},"X",{"$f":"I1059","v":1.2},"X",0.3,"=",{"$f":"C1065*E1065*G1065*I1065*K1065","v":1.728},"Cu.M."]
[null,null,null,null,null,null,null,null,null,null,"Total","=",{"$f":"SUM(M1065:M1065)","v":1.728},"Cu.M."]
[null,null,null,null,null,null,null,null,null,null,"SAY","=",{"$f":"ROUNDUP(M1066,0)","v":2},"Cu.M."]
[]
[3,"Providing and laying Cast in situ/Ready Mix cement concrete in M-10 of trap/ granite/ quartzite/ gneiss metal for foundation and bedding including bailing out water, formwork, laying/pumping, compacting, roughening them if special finish is to be provided, finishing if required and curing complete, Drum Type mixer/concrete Batch mix plant (Pan mixer) etc.complete. With natural sand/V.S.I. quality Artificial Sand",null,null,null,null,null,null,null,null,null,null,null,null,"24.01/226",4766]
[null,"Gate Column",2,"X",2,"X",{"$f":"G1059","v":1.2},"X",{"$f":"I1059","v":1.2},"X",0.1,"=",{"$f":"C1070*E1070*G1070*I1070*K1070","v":0.57599999999999996},"Cu.M.",null,-117]
[null,null,null,null,null,null,null,null,null,null,"Total","=",{"$f":"SUM(M1070:M1070)","v":0.57599999999999996},"Cu.M.",null,{"$f":"SUM(P1069:P1070)","v":4649}]
[null,null,null,null,null,null,null,null,null,null,"Say","=",{"$f":"ROUNDUP(M1071,0)","v":1},"Cu.M."]
[]
[4,"Providing & laying in situ cement concrete M20 of trap metal for R.C.C. work in column footing,  including dewatering if necessary, formwork, compaction, finishing curing etc. complete.(Excluding reinforcement) ",null,null,null,null,null,null,null,null,null,null,null,null,"25.11/230",5704]
[null,"Gate Column footing ",2,"X",2,"X",0.9,"X",0.9,"X",0.3,"=",{"$f":"C1075*E1075*G1075*I1075*K1075","v":0.97199999999999998},"Cu.M.",null,-117]
[null,null,null,null,null,null,null,null,null,null,"Total","=",{"$f":"SUM(M1075)","v":0.97199999999999998},"Cu.M.",null,{"$f":"SUM(P1074:P1075)","v":5587}]
[null,null,null,null,null,null,null,null,null,null,"Say","=",{"$f":"ROUNDUP(M1076,0)","v":1},"Cu.M."]
[]
[5,"Providing and laying Cast in situ/Ready Mix cement concrete M- 20 of trap / granite /quartzite/ gneiss metal for R.C.C. columns as per detailed designs and drawing or as directed including centering, formwork, cover blocks, laying/pumping, compaction finishing the formed surfaces with cement mortar 1:3 of sufficient minimum thickness to give a smooth and even surface or roughening if special finish is to be provided and curing etc.  complete,(Excluding reinforcement and structural steel)",null,null,null,null,null,null,null,null,null,null,null,"cum","25.31/232",11252]
[null,"Gate Column ",2,"X",2,"X",0.35,"X",0.35,"X",4,"=",{"$f":"C1080*E1080*G1080*I1080*K1080","v":1.9599999999999997},null,"SCADA",-117]
[null,null,null,null,null,null,null,null,null,null,null,"=",{"$f":"SUM(M1080)","v":1.9599999999999997},null,null,11135]
[null,null,null,null,null,null,null,null,null,null,null,"=",{"$f":"ROUNDUP(M1081,0)","v":2}]
[]
[6,"Providing and fixing in position TMT - FE - 500 bar reinforcement of various diameters for R.C.C. pile caps, footings, foundations, slabs, beams columns, canopies, staircase, newels, chajjas, lintels pardis, copings, fins, arches etc. as per detailed designs, drawings and schedules. including cutting, bending, hooking the bars, binding with wires or tack welding and supporting as required etc.complete.",null,null,null,null,null,null,null,null,null,null,null,"M.T.","26.33/245",62581]
[null,null,"Nos.",null,null,null,null,null,"Length",null,"Kg. / M"]
[null,"RCC FOOTING "]
[null,"10 mm dia  both way",4,"X",7,"X",2,"X",1,"@",0.6,"=",{"$f":"C1087*E1087*G1087*I1087*K1087","v":33.6},"kg"]
[null,"Columns"]
[null,"Gate columns"]
[null,"Main bar 12 mm dia 8 nos.",4,"X",8,"X",1,"X",{"$f":"4+ 0.3 + 0.35 - 0.05","v":4.5999999999999996},"@",0.9,"=",{"$f":"C1090*E1090*G1090*I1090*K1090","v":132.47999999999999}]
[null,"Rings 8 mm 15 cm c/c    ",4,"X",28,"X",1,"X",1.395,"@",0.4,"=",{"$f":"C1091*E1091*G1091*I1091*K1091","v":62.496000000000009}]
[null,null,null,null,null,null,null,null,null,null,"Total","=",{"$f":"SUM(M1087:M1091)","v":228.57599999999999}]
[null,"add. 2% required for unevel slop & due to quarry pits.",null,null,null,null,null,null,null,null,null,"=",{"$f":"M1092*2%","v":4.5715199999999996}]
[null,null,null,null,null,null,null,null,null,null,"Total","=",{"$f":"SUM(M1092:M1093)","v":233.14751999999999}]
[null,null,null,null,null,null,null,null,null,null,"SAY","=",{"$f":"M1094","v":233.14751999999999}]
[null,null,null,null,null,null,null,null,"Conv. In MT",null,null,"=",{"$f":"M1095/1000","v":0.23314752}]
[null,null,null,null,null,null,null,null,null,null,"SAY","=",0.2]
[]
[]
[7,"Providing cement plaster 20 mm thick in C.M. 1:4 with even and smooth 1.5mm thick cement finish to concrete /brick surface in all positions including scaffolding curing etc. complete as directed.",null,null,null,null,null,null,null,null,null,null,null,null,"32.07/268+32.21/269",392]
[null,null,null,null,null,null,null,null,null,null,null,null,null,null,null,57]
[null,"For Gate column",2,"X",2,"X",1,"X",1.4,"X",3.5,"=",{"$f":"I1102*G1102*E1102*C1102*K1102","v":19.599999999999998},"Sq.M.",null,{"$f":"P1100+P1101","v":449}]
[null,null,null,null,null,null,null,null,null,null,"Total",null,{"$f":"SUM(M1102:M1102)","v":19.599999999999998},"Sq.M."]
[null,null,null,null,null,null,null,null,null,null,"SAY","=",{"$f":"ROUNDUP(M1103,0)","v":20},"Sq.M."]
[]
[8,"Providing and applying three coats of water proof cement paint of approved manufacture and of approved colour to plastered surfaces including scaffolding if ecessary, cleaning and preparing the surface, watering for two days etc. complete.",null,null,null,null,null,null,null,null,null,null,null,{"$f":"N1084","v":"M.T."},"35.16/287",80]
[null,"gate column",2,"X",2,"X",1.4,"X",3.5,"X",null,"=",{"$f":"C1107*E1107*G1107*I1107","v":19.599999999999998}]
[null,null,null,null,null,null,null,null,null,null,"Total","=",{"$f":"SUM(M1107)","v":19.599999999999998},"Sq.M."]
[null,null,null,null,null,null,null,null,null,null,"SAY","=",{"$f":"ROUNDUP(M1108,0)","v":20},"Sq.M."]
[]
[9,"Providing & erecting 1.5 M high wire  with7 rows of barbed wire fencing two diagonals  and two verticle barbed wire at centre of panel , supported on M.S. angle post [50x50x6 mm] 2.50 m c/c and fixing the same in C.C. block 1:4:8 of size 45x45x45 cms fastening the wire and applying two coats of approved paints. (By using New Angle)",null,null,null,null,null,null,null,null,null,null,null,null,"RA",340.9]
[null,"East Side",1,"X",1,"X",152,"X",null,"X",null,"=",{"$f":"C1112*E1112*G1112","v":152},"Rmt"]
[null,"West Side",1,"X",1,"X",220,"X",null,"X",null,"=",{"$f":"C1113*E1113*G1113","v":220},"Rmt"]
[null,"North Side",1,"X",1,"X",220,"X"," ","X",null,"=",{"$f":"C1114*E1114*G1114","v":220},"Rmt"]
[null,"South Side",1,"X",1,"X",270,"X",null,"X",null,"=",{"$f":"C1115*E1115*G1115","v":270},"Rmt"]
[null,null,null,null,null,null,null,null,null,null,"Total","=",{"$f":"SUM(M1112:M1115)","v":862},"Rmt."]
[null,null,null,null,null,null,null,null,null,null,"Say","=",{"$f":"ROUNDUP(M1116,0)","v":862},"Rmt."]
[]
[]
[10,"Filling in plinth & floors with approad excavated material or murum in layers of 15 to 20 cms including watering & compaction etc. complete.",null,null,null,null,null,null,null,null,null,null,null,"cum","21.36/201",96]
[null,"Qty as per Item No. 1 B ",1,"X",1,"X",1.2,"X",1.2," "," "," "," "," "]
[null,null,null,null,null,null,null,null,null,null,null,"=",{"$f":"M1067","v":2}]
[null,null,null,null,null,null,null,null,null,null,"Total","=",{"$f":"SUM(M1122:M1122)","v":2}]
[null,null,null,null,null,null,null,null,null,null,"SAY","=",{"$f":"ROUNDUP(M1123,0)","v":2}]
[]
[11,"Providing earth work in embankment with approved materials obtained from other sources upto lead of 50m. including all lifts, laying in layers of 20cm. to 30cm. thickness breaking clods, dressing to the required lines, curves, grades & section, watering and compaction with vibratory roller with V-Sat attachment to achieve not less than 97 % of standard proctor density etc. complete ( Material obtained from Other sources)",null,null,null,null,null,null,null,null,null,null,null,"cum ","2.28/29",424]
[null,"Approch Road",1,"X",2,"X",10,"X",7,"X",1,"=",{"$f":"C1127*E1127*G1127*I1127*K1127","v":140},"Cu.M."]
[null,null,null,null,null,null,null,null,null,null,"Total","=",{"$f":"SUM(M1127:M1127)","v":140},"Cu.M."]
[null,null,null,null,null,null,null,null,null,null,"SAY","=",{"$f":"ROUNDUP(M1128,0)","v":140},"Cu.M."]
[]
[]
[]
[12,"Conveying the materials obtained from excavation including laying in layers, breaking clods, dressing to the required lines, curves, grades and section for all leads & lifts from the site of excavation to the site of deposition  away from",null,null,null,null,null,null,null,null,null,null,null,"cum'","lead statment ",105.25]
[null,null,null,null,null,null,null,null,null,null,null,"=",{"$f":"M1061","v":77}]
[null,null,null,null,null,null,null,null,null,null,"Total","=",{"$f":"SUM(M1134)","v":77}]
[null,null,null,null,null,null,null,null,null,null,"SAY","=",{"$f":"ROUNDUP(M1135,0)","v":77}]
[]
[]
[13,"Providing & erecting M.S.tubular gate of M.S. tubular pipes and M.S.flats as per drawing & design including hinges, pivot locks and applying one coat of approved anticorrosive paint and two coats of oilpaint etc. complete.",null,null,null,null,null,null,null,null,null,null,null,"Sqm","RA",1306.6600000000001]
[null,null,1,"X",2,"X",6,"X",null,"X",1.6,"=",{"$f":"C1140*E1140*G1140*K1140","v":19.200000000000003}]
[null,null,null,null,null,null,null,null,null,null,"Total","=",{"$f":"SUM(M1140)","v":19.200000000000003}]
[null,null,null,null,null,null,null,null,null,null,"SAY","=",{"$f":"ROUNDUP(M1141,0)","v":20}]
[]
[]
[14,"Providing and laying cement concrete pipe of IS 458:2003 NP-3 class of 0.90 m diameter in proper line, level and slope etc. complete.",null,null,null,null,null,null,null,null,null,null,null,"Rmt","1/527",7990]
[]
[null,"Front of Gate",2,"X",1,"X",10,"X",null,"X",1,"=",{"$f":"C1147*E1147*G1147*K1147","v":20}]
[null,null,null,null,null,null,null,null,null,null,"Total","=",{"$f":"SUM(M1147)","v":20}]
[null,null,null,null,null,null,null,null,null,null,"SAY","=",{"$f":"ROUNDUP(M1148,0)","v":20}]
[]
[]
[null,"                Junior Engineer",null,null,null,null,null,null,null,"Deputy Manager (Engg)"]
[null,"           mswc Amravati",null,null,null,null,null,null,null,"mswc Amravati"]
[]
[]
[]
[]
[]
[]
[]
[]
[]
[]
[]
[]
[]
[]
[]
[]
[]
[]
[]
[]
[]
[]
[]
[null,null,null,null,null,null,null,null,null,null,null,null,null,"s"]

{"sheet":"Rain harvest","index":21,"n_rows":111,"n_cols":14,"rows_kept":111,"cut":false,"hidden":true,"merged":[[7,2,7,5],[0,1,0,13],[1,1,1,13],[3,1,3,13],[3,23,3,24],[5,1,5,13],[76,1,76,12],[11,1,11,6],[13,1,13,12],[19,1,19,12],[25,1,25,12],[31,1,31,12],[37,1,37,12],[43,1,43,12],[49,1,49,12],[56,1,56,12],[63,1,63,12],[70,1,70,12],[81,1,81,12],[86,1,86,12],[93,1,93,12],[99,1,99,12],[106,1,106,12]]}
[null,"MAHARASHTRA STATE  WAREHOUSING CORPORATION"]
[null,"583/B, MARKET YARD, GULTEKADI, PUNE-411037"]
[]
[null,{"$f":"Recap!B6","v":"NAME OF WORK :-  CONSTRUCTION OF 1/2160 MT CAP PRE- ENGINEERED WH BLDG WITH ANCILLARY WORKS AT: NAGZARI DIST. LATUR"}]
[]
[null,"MEASUREMENT SHEET "]
[]
[null,"Item Nos & Description of Items ","NO.S",null,null,null,"LENGTH",null,"BREDTH",null,"DEPTH /",null,"TOTAL","Unit"]
[null,null,1,"X",2,null,null,null,null,null,"HIGHT",null,"QUANTITY"," "]
[]
[]
[]
[]
[1,"Excavation for foundation insoil depth upto 1.50m  including removing the excavated stuff upto a distance of 50 meters beyond the building area all lifts stacking or spreading as directed, dewatering, shoring, strutting if necessary preparing the bed for foundation including necessary backfilling  etc complete (Bd.A2/ 260)",null,null,null,null,null,null,null,null,null,null,null,"cum"]
[null,"Rain harvest"]
[null,null,1,"X",1,"X",5,"X",5,"X",{"$f":"'Wh. '!K14","v":1.5},"=",{"$f":"C16*E16*G16*I16*K16","v":37.5}]
[null,"Open drain",1,"X",1,"X",50,"X",0.6,"X",0.6,"=",{"$f":"C17*E17*G17*I17*K17","v":18}]
[null,null,null,null,null,null,null,null,null,null,"Total ",null,{"$f":"SUM(M16:M17)","v":55.5}]
[null,null,null,null,null,null,null,null,null,null,"say ",null,{"$f":"ROUNDUP(M18,0)","v":56}]
["1-A","Excavation for foundation insoil depth 1.50m   TO 3.00including removing the excavated stuff upto a distance of 50 meters beyond the building area all lifts stacking or spreading as directed, dewatering, shoring, strutting if necessary preparing the bed for foundation including necessary backfilling  etc complete (Bd.A2/ 260)",null,null,null,null,null,null,null,null,null,null,null,"cum"]
[null,"Rain harvest"]
[null,null,0,"X",1,"X",5,"X",5,"X",0.3,"=",{"$f":"C22*E22*G22*I22*K22","v":0}]
[]
[null,null,null,null,null,null,null,null,null,null,"Total ",null,5]
[null,null,null,null,null,null,null,null,null,null,"say ",null,{"$f":"ROUNDUP(M24,0)","v":5}]
["1-B","Excavation for foundation in hard murum depth upto 1.50m  including removing the excavated stuff upto a distance of 50 meters beyond the building area all lifts stacking or spreading as directed, dewatering, shoring, strutting if necessary preparing the bed for foundation including necessary backfilling  etc complete (Bd.A2/ 260)",null,null,null,null,null,null,null,null,null,null,null,"cum"]
[null,"Rain harvest"]
[null,null,1,"X",1,"X",5,"X",5,"X",0,"=",{"$f":"C28*E28*G28*I28*K28","v":0}]
[]
[null,null,null,null,null,null,null,null,null,null,"Total ",null,{"$f":"SUM(M28:M29)","v":0}]
[null,null,null,null,null,null,null,null,null,null,"say ",null,1]
["1-C","Excavation for foundation in hard murum depth  1.50m TO 3.00  including removing the excavated stuff upto a distance of 50 meters beyond the building area all lifts stacking or spreading as directed, dewatering, shoring, strutting if necessary preparing the bed for foundation including necessary backfilling  etc complete (Bd.A2/ 260)",null,null,null,null,null,null,null,null,null,null,null,"cum"]
[null,"Rain harvest"]
[null,null,1,"X",1,"X",5,"X",5,"X",0.7,"=",{"$f":"C34*E34*G34*I34*K34","v":17.5}]
[]
[null,null,null,null,null,null,null,null,null,null,"Total ",null,{"$f":"SUM(M34:M35)","v":17.5}]
[null,null,null,null,null,null,null,null,null,null,"say ",null,{"$f":"ROUNDUP(M36,0)","v":18}]
["1-D","Excavation for foundation in hard murum  & boulderdepth upto 1.50m  including removing the excavated stuff upto a distance of 50 meters beyond the building area all lifts stacking or spreading as directed, dewatering, shoring, strutting if necessary preparing the bed for foundation including necessary backfilling  etc complete (Bd.A2/ 260)",null,null,null,null,null,null,null,null,null,null,null,"cum"]
[null,"Rain harvest"]
[null,"Provision",1,"X",1,"X",5,"X",5,"X",0.1,"=",{"$f":"C40*E40*G40*I40*K40","v":2.5}]
[]
[null,null,null,null,null,null,null,null,null,null,"Total ",null,{"$f":"SUM(M40:M41)","v":2.5}]
[null,null,null,null,null,null,null,null,null,null,"say ",null,{"$f":"ROUNDUP(M42,0)","v":3}]
["1-E","Excavation for foundation in hard murum  & boulderdepth  1.50m TO 3.00  including removing the excavated stuff upto a distance of 50 meters beyond the building area all lifts stacking or spreading as directed, dewatering, shoring, strutting if necessary preparing the bed for foundation including necessary backfilling  etc complete (Bd.A2/ 260)",null,null,null,null,null,null,null,null,null,null,null,"cum"]
[null,"Rain harvest"]
[null,null,1,"X",1,"X",5,"X",5,"X",0.1,"=",{"$f":"C46*E46*G46*I46*K46","v":2.5}]
[]
[null,null,null,null,null,null,null,null,null,null,"Total ",null,5]
[null,null,null,null,null,null,null,null,null,null,"say ",null,{"$f":"ROUNDUP(M48,0)","v":5}]
["1-F","Excavation for foundation inSoft Rock m  including removing the excavated stuff upto a distance of 50 meters beyond the building area all lifts stacking or spreading as directed, dewatering, shoring, strutting if necessary preparing the bed for foundation including necessary backfilling  etc complete (Bd.A2/ 260)",null,null,null,null,null,null,null,null,null,null,null,"cum"]
[null,"Rain harvest"]
[null,null,1,"X",1,"X",5,"X",5,"X",0,"=",{"$f":"C52*E52*G52*I52*K52","v":0}]
[]
[null,null,null,null,null,null,null,null,null,null,"Total ",null,{"$f":"SUM(M52:M53)","v":0}]
[null,null,null,null,null,null,null,null,null,null,"say ",null,{"$f":"ROUNDUP(M54,0)","v":0}]
[]
["1-G","Excavation for foundation in hard Rock depth upto 1.50m  including removing the excavated stuff upto a distance of 50 meters beyond the building area all lifts stacking or spreading as directed, dewatering, shoring, strutting if necessary preparing the bed for foundation including necessary backfilling  etc complete (Bd.A2/ 260)",null,null,null,null,null,null,null,null,null,null,null,"cum"]
[null,"Rain harvest"]
[null,null,0,"X",1,"X",5,"X",5,"X",0,"=",{"$f":"C59*E59*G59*I59*K59","v":0}]
[]
[null,null,null,null,null,null,null,null,null,null,"Total ",null,1]
[null,null,null,null,null,null,null,null,null,null,"say ",null,0]
[]
[2,"Providing & laying in situ cement concrete M-15 of  trap metal for foundation & bedding including dewatering if necessary, compacting, curing etc. complete. [Bd. E.1  /287]",null,null,null,null,null,null,null,null,null,null,null,{"$f":"N14","v":"cum"}]
[null,{"$f":"B15","v":"Rain harvest"}]
[null,"On top portion",{"$f":"C16","v":1},"X",{"$f":"E16","v":1},"X",{"$f":"G16","v":5},"X",{"$f":"I16","v":5},"X",0.1,"=",{"$f":"C66*E66*G66*I66*K66","v":2.5}]
[]
[null,null,null,null,null,null,null,null,null,null,"Total ",null,{"$f":"SUM(M66:M67)","v":2.5}]
[null,null,null,null,null,null,null,null,null,null,"say ",null,{"$f":"ROUNDUP(M68,0)","v":3}]
[]
[3," Providing & Laying  dry /trap rubble stone metal soling 15 cm to 20 cm, thick including hand packing and compacting complewte.",null,null,null,null,null,null,null,null,null,null,null,{"$f":"N64","v":"cum"}]
[null,{"$f":"B65","v":"Rain harvest"},null,null,null,null,null,null,null,null,null,{"$f":"L65","v":0}]
[null,null,1,"X",1,"X",5,"X",5,"X",1.2,"=",{"$f":"C73*E73*G73*I73*K73","v":30}]
[null,null,null,null,null,null,null,null,null,null,{"$f":"K68","v":"Total "},null,{"$f":"SUM(M73:M73)","v":30}]
[null,null,null,null,null,null,null,null,null,null,"say ",null,{"$f":"ROUNDUP(M74,0)","v":30}]
[]
[4," Providing & filling  brick  bat in excavated pit as directed by Engineer- in -charge.",null,null,null,null,null,null,null,null,null,null,null,{"$f":"N71","v":"cum"}]
[null,{"$f":"B72","v":"Rain harvest"}]
[null,null,1,{"$f":"D66","v":"X"},1,"X",5,"X",5,{"$f":"J66","v":"X"},0.9,"=",{"$f":"C79*E79*G79*I79*K79","v":22.5}]
[null,null,null,null,null,null,null,null,null,null,"Total",null,{"$f":"SUM(M79:M79)","v":22.5}]
[null,null,null,null,null,null,null,null,null,null,"say ","=",{"$f":"ROUNDUP(M80,0)","v":23}]
[5," Providing & filling Sand in excavated pit of approved quality including watering compaction complete.",null,null,null,null,null,null,null,null,null,null,null,"Rmt"]
[null,null,{"$f":"C79","v":1},{"$f":"D79","v":"X"},1,"X",5,"X",5,"X",0.3,"=",{"$f":"C83*E83*G83*I83*K83","v":7.5}]
[null,null,null,null,null,null,null,null,null,null,"Total",null,{"$f":"SUM(M83:M83)","v":7.5}]
[null,null,null,null,null,null,null,null,null,null,"say ","=",{"$f":"ROUNDUP(M84,0)","v":8}]
[]
[6,"Providing & Laying   in position polythene  sheet over excavated pit as directed by Engineer- in - charge.",null,null,null,null,null,null,null,null,null,null,null,{"$f":"N77","v":"cum"}]
[null,{"$f":"B78","v":"Rain harvest"}]
[null,null,1,"X",{"$f":"E79","v":1},"X",{"$f":"G79","v":5},"X",{"$f":"I79","v":5},"X",1,"=",{"$f":"C89*E89*G89*I89*K89","v":25}]
[]
[null,null,null,null,null,null,null,null,null,null,"Total","=",{"$f":"SUM(M89:M90)","v":25}]
[null,null,null,null,null,null,null,null,null,null,"say ",null,{"$f":"ROUNDUP(M91,0)","v":25}]
[]
[7," Providing & layiung  PVC PIPES 110 MM dia on the top of pit to drain the rain water inside the pit as directed by Engineer- in - charge.",null,null,null,null,null,null,null,null,null,null,null,"Rmt"]
[]
[null,null,14,{"$f":"D79","v":"X"},9,{"$f":"F79","v":"X"},0.1,{"$f":"H79","v":"X"},1,"X",1,"=",{"$f":"C96*E96*G96*I96*K96","v":12.600000000000001}]
[]
[null,null,null,null,null,null,null,null,null,null,"Total ",null,{"$f":"SUM(M96:M97)","v":12.600000000000001}]
[null,null,null,null,null,null,null,null,null,null,"SAY",null,{"$f":"ROUNDUP(M98,0)","v":13}]
[8," Conveying the materials obtained from excavation including laying in layers, breaking clods, dressing to the required lines, curves, grades and section for all leads & lifts from the site of excavation to the site of deposition  area away  from complex as directed. ",null,null,null,null,null,null,null,null,null,null,null,"cum"]
[]
[null,"As per Item No.1a & b",null,null,null,null,null,null,null,null,null,null,{"$f":"M19+M25","v":61}]
[]
[null,null,null,null,null,null,null,null,null,null,"Total ",null,{"$f":"SUM(M102:M103)","v":61}]
[null,null,null,null,null,null,null,null,null,null,"SAY",null,{"$f":"ROUNDUP(M104,0)","v":61}]
[]
[9,"Drilling the bore well 150 mm dia. Upto a depth as directed in all types of strata by using bore drilling machine incluiding all necessary  material & equipment etc. complete as directed.",null,null,null,null,null,null,null,null,null,null,null,"Rmt."]
[]
[null,"Drilling of borewell",1,"X",2,"X",25,null,null,null,null,"=",{"$f":"C109*E109*G109","v":50}]
[null,null,null,null,null,null,null,null,null,null,"Total",null,{"$f":"SUM(M109:M109)","v":50}]
[null,null,null,null,null,null,null,null,null,null,"Say",null,{"$f":"ROUNDUP(M110,0)","v":50}]

{"sheet":"Bore Mtrs.","index":22,"n_rows":537,"n_cols":16384,"rows_kept":537,"cut":false,"hidden":true,"merged":[[536,9,536,13],[508,1,508,12],[512,1,512,12],[517,1,517,12],[522,1,522,12],[527,1,527,12],[535,9,535,13],[503,1,503,12],[445,1,445,12],[451,1,451,12],[457,1,457,12],[463,1,463,12],[468,1,468,12],[472,1,472,12],[477,1,477,12],[483,1,483,12],[489,1,489,12],[495,1,495,12],[499,1,499,12],[438,1,438,12],[368,1,368,12],[374,1,374,12],[382,1,382,12],[388,1,388,12],[395,1,395,12],[401,1,401,12],[407,1,407,12],[416,1,416,12],[421,1,421,12],[426,1,426,12],[433,1,433,12],[367,1,367,12],[256,1,256,12],[288,1,288,12],[299,1,299,12],[304,1,304,12],[310,1,310,12],[325,1,325,12],[331,1,331,12],[336,1,336,12],[343,1,343,12],[349,1,349,12],[360,1,360,12],[132,14,133,14],[148,1,148,12],[251,1,251,12],[163,1,163,12],[171,1,171,12],[179,1,179,12],[189,1,189,12],[198,1,198,12],[205,1,205,12],[213,1,213,12],[221,1,221,12],[229,1,229,12],[236,1,236,12],[243,1,243,12],[154,1,154,12],[129,8,129,13],[130,1,130,13],[132,1,133,1],[132,2,132,5],[13,1,13,12],[42,1,42,12],[89,1,89,12],[97,1,97,12],[106,1,106,12],[117,1,117,12],[0,1,0,13],[1,1,1,13],[3,25,3,26],[5,1,5,13],[7,2,7,5],[3,1,3,13]]}
[null,"MAHARASHTRA STATE  WAREHOUSING CORPORATION"]
[null,"583/B, MARKET YARD, GULTEKADI, PUNE-411037"]
[]
[null,{"$f":"Recap!B6","v":"NAME OF WORK :-  CONSTRUCTION OF 1/2160 MT CAP PRE- ENGINEERED WH BLDG WITH ANCILLARY WORKS AT: NAGZARI DIST. LATUR"}]
[]
[null,"MEASUREMENT SHEET "]
[]
[null,"Item Nos & Description of Items ","NO.S",null,null,null,"LENGTH",null,"BREDTH",null,"DEPTH /",null,"TOTAL","Unit"]
[null,null,1,"X",2,null,null,null,null,null,"HIGHT",null,"QUANTITY"," ",null,"."]
[]
[null,"Sub Work I :- Coloring to warehouse Bldg."]
[]
[]
[1,"Scrapping and providing & applying whitewash two coats on plastered or masonary surface and A.C. sheets including scaffolding & preparing the surface by brushing & brooming down complete. ",null,null,null,null,null,null,null,null,null,null,null,"sqm","36.03/290",8.4,null,null,null,null,{"$f":"85.92-0.28*3","v":85.08}]
[null,"Inside ",null,null,null,null,null,null,null,null,null,null,null,null,null,null,null,null,{"$f":"22-21.3","v":0.69999999999999929}]
[null,"Unit No I "]
[null,"Long wall ",1,"X",2,"X",37.450000000000003,"X",5.5,null,null,"=",{"$f":"C17*E17*G17*I17","v":411.95000000000005}]
[null,"Short wall ",1,"X",2,"X",15,"X",{"$f":"I17","v":5.5},null,null,"=",{"$f":"C18*E18*G18*I18","v":165}]
[null,"Gable ",0.5,"X",1,"X",{"$f":"G18","v":15},"X",2.7,null,null,"=",{"$f":"C19*E19*G19*I19","v":20.25}]
[null,"Unit No III"]
[null,"Long wall ",1,"X",2,"X",37.450000000000003,"X",5.5,null,null,"=",{"$f":"C21*E21*G21*I21","v":411.95000000000005}]
[null,"Short wall ",1,"X",2,"X",15,"X",{"$f":"I21","v":5.5},null,null,"=",{"$f":"C22*E22*G22*I22","v":165}]
[null,"Gable ",0.5,"X",1,"X",{"$f":"G22","v":15},"X",2.7,null,null,"=",{"$f":"C23*E23*G23*I23","v":20.25}]
[null,"C&G"]
[null," Long wall ",1,"X",2,"X",{"$f":"7.31","v":7.31},"X",5.5,null,null,"=",{"$f":"C25*E25*G25*I25","v":80.41},null,null,{"$f":"SUM(P22:P24)","v":0},null,null,null,null,null,{"$f":"SUM(V22:V24)","v":0}]
[null,null,null,null,null,null,null,null,null,null,"Total",null,{"$f":"SUM(M17:M25)","v":1274.8100000000002}]
[]
[null,"Dedu."]
[null,{"$f":"B16","v":"Unit No I "}]
[null,"R.S.",1,"X",3,"X",1.8,"X",2.4,null,null,"=",{"$f":"C30*E30*G30*I30","v":12.96}]
[null,"V2 ",0.5,"X",{"$f":"(9*2)+3","v":21},"X",1,"X",0.6,null,null,"=",{"$f":"C31*E31*G31*I31","v":6.3}]
[null,{"$f":"B20","v":"Unit No III"}]
[null,"R.S.",1,"X",4,"X",1.8,"X",2.4,null,null,"=",{"$f":"C33*E33*G33*I33","v":17.28}]
[null,"V2 ",0.5,"X",{"$f":"(9*2*2)+3","v":39},"X",1,"X",0.6,null,null,"=",{"$f":"C34*E34*G34*I34","v":11.7}]
[null,"C&G"]
[null,"R.S.",1,"X",2,"X",1.8,"X",2.4,null,null,"=",{"$f":"C36*E36*G36*I36","v":8.64}]
[null,"V2",0.5,"X",1,"X",1.6,"X",0.6,null,null,"=",{"$f":"C37*E37*G37*I37","v":0.48}]
[]
[null,null,null,null,null,null,null,null,null,null,"Ded",null,{"$f":"SUM(M30:M37)","v":57.360000000000007}]
[null,null,null,null,null,null,null,null,null,null,"Total",null,{"$f":"M26-M39","v":1217.4500000000003}]
[null,null,null,null,null,null,null,null,null,null,"Say",null,{"$f":"ROUNDUP(M40,0)","v":1218}]
[]
[2,"Providing & applying  two coats of acraylic emulsion based  exteranal paint  of standard manufacturer like Apex from Asian paints, Excel from Nerolac paints,  exterior paint  of approved manufacturer and  approved colour  to the plastered or masonary surface including primer coat scafolding & preparing the surface etc. complete as directed. ( Sample and brand is to be got approved) ",null,null,null,null,null,null,null,null,null,null,null,"sqm","35.25/288",215,null,null,null,null,"35.16/244",56]
[null,"Outside ",null,null,null,null,null,null,null,null,null,null,null,null,"36.15/291",2.2999999999999998,null,null,null,null,36.15,2]
[null,{"$f":"B16","v":"Unit No I "}]
[null," Long wall ",1,"X",{"$f":"E17","v":2},"X",{"$f":"37.45+0.7","v":38.150000000000006},"X",5.5,null,null,"=",{"$f":"C46*E46*G46*I46","v":419.65000000000009},null,null,{"$f":"SUM(P43:P45)","v":217.3},null,null,null,null,null,{"$f":"SUM(V43:V45)","v":58}]
[null," short wall ",1,"X",1,"X",15.7,"X",{"$f":"I46","v":5.5},null,null,"=",{"$f":"C47*E47*G47*I47","v":86.35}]
[null,"Gable wall",1,"X",1,"X",{"$f":"G47","v":15.7},"X",2.7,null,null,"=",{"$f":"C48*E48*G48*I48","v":42.39}]
[null,"Column offset out side",2,"X",10,"X",0.1,"X",{"$f":"I47","v":5.5},null,null,"=",{"$f":"C49*E49*G49*I49","v":11}]
[]
[null,"Weather sheds over "]
[null,"V1 top & bottom",2,"X",9,"X",0.6,"X",0.45,null,null,"=",{"$f":"C52*E52*G52*I52","v":4.8599999999999994}]
[null,"Sides",2,"X",9,"X",0.45,"X",0.1,null,null,"=",{"$f":"C53*E53*G53*I53","v":0.81}]
[null,"V2 top & bottom",2,"X",3,"X",0.9,"X",0.45,null,null,"=",{"$f":"C54*E54*G54*I54","v":2.4300000000000002}]
[null,"Sides",2,"X",3,"X",0.45,"X",0.1,null,null,"=",{"$f":"C55*E55*G55*I55","v":0.27}]
[null,"Jams & Soffits",2,"X",4,"X",7.1,"X",0.35,null,null,null,{"$f":"C56*E56*G56*I56","v":19.88}]
[null,"Unit III"]
[null," Long wall ",1,"X",2,"X",{"$f":"37.45+0.7","v":38.150000000000006},"X",5.5,null,null,"=",{"$f":"C58*E58*G58*I58","v":419.65000000000009},null,null,{"$f":"SUM(P55:P57)","v":0},null,null,null,null,null,{"$f":"SUM(V55:V57)","v":0}]
[null," short wall ",1,"X",1,"X",15.7,"X",{"$f":"I58","v":5.5},null,null,"=",{"$f":"C59*E59*G59*I59","v":86.35}]
[null,"Gable wall",1,"X",1,"X",{"$f":"G59","v":15.7},"X",2.7,null,null,"=",{"$f":"C60*E60*G60*I60","v":42.39}]
[null,"Column offset out side",2,"X",10,"X",0.1,"X",{"$f":"I59","v":5.5},null,null,"=",{"$f":"C61*E61*G61*I61","v":11}]
[]
[null,"Weather sheds over "]
[null,"V1 top & bottom",2,"X",18,"X",1.55,"X",0.45,null,null,"=",{"$f":"C64*E64*G64*I64","v":25.110000000000003}]
[null,"Sides",2,"X",9,"X",0.45,"X",0.1,null,null,"=",{"$f":"C65*E65*G65*I65","v":0.81}]
[null,"V2 top & bottom",2,"X",3,"X",0.9,"X",0.45,null,null,"=",{"$f":"C66*E66*G66*I66","v":2.4300000000000002}]
[null,"Sides",2,"X",3,"X",0.45,"X",0.1,null,null,"=",{"$f":"C67*E67*G67*I67","v":0.27}]
[null,"Jams & Soffits",2,"X",4,"X",7.1,"X",0.35,null,null,null,{"$f":"C68*E68*G68*I68","v":19.88}]
[null,"C&G"]
[null," Long wall ",1,"X",2,"X",7.31,"X",5.5,null,null,"=",{"$f":"C70*E70*G70*I70","v":80.41},null,null,{"$f":"SUM(P67:P69)","v":0},null,null,null,null,null,{"$f":"SUM(V67:V69)","v":0}]
[null,"Column offset out side",2,"X",2,"X",0.1,"X",5.5,null,null,"=",{"$f":"C71*E71*G71*I71","v":2.2000000000000002}]
[null,"Weather sheds over "]
[null,"V1 top & bottom",2,"X",1,"X",1.55,"X",0.45,null,null,"=",{"$f":"C73*E73*G73*I73","v":1.395}]
[null,"Sides",2,"X",1,"X",0.45,"X",0.1,null,null,"=",{"$f":"C74*E74*G74*I74","v":9.0000000000000011E-2}]
[]
[null,null,null,null,null,null,null,null,null,null,"Total ",null,{"$f":"SUM(M46:M74)","v":1279.6250000000002}]
[null,"Deduction"]
[null,"Unit No I"]
[null,"R.S.",1,"X",3,"X",1.8,"X",2.4,null,null,"=",{"$f":"C79*E79*G79*I79","v":12.96}]
[null,"V2",0.5,"X",{"$f":"9+3","v":12},"X",1,"X",0.6,null,null,"=",{"$f":"C80*E80*G80*I80","v":3.5999999999999996}]
[null,"Unit No III "]
[null,"R.S.",1,"X",4,"X",{"$f":"G30","v":1.8},"X",{"$f":"I30","v":2.4},null,null,"=",{"$f":"C82*E82*G82*I82","v":17.28}]
[null,"V2",0.5,"X",{"$f":"(9*2*2)+3","v":39},"X",{"$f":"G31","v":1},"X",0.6,null,null,"=",{"$f":"C83*E83*G83*I83","v":11.7}]
[null,"C&G"]
[null,"R.S.",1,"X",2,"X",{"$f":"G33","v":1.8},"X",{"$f":"I33","v":2.4},null,null,"=",{"$f":"C85*E85*G85*I85","v":8.64}]
[null,"V2",0.5,"X",1,"X",1.6,"X",0.6,null,null,"=",{"$f":"C86*E86*G86*I86","v":0.48}]
[null,null,null,null,null,null,null,null,null,null,"Dedu.",null,{"$f":"SUM(M79:M86)","v":54.660000000000004}]
[null,null,null,null,null,null,null,null,null,null,"Total",null,{"$f":"M76-M87","v":1224.9650000000001}]
[null,null,null,null,null,null,null,null,null,null,"Say",null,{"$f":"ROUNDUP(M88,0)","v":1225}]
[3,"Scrapping and providing and applying three coats of water proof cement paint of approved manufacture and of approved colour to old plastered surfaces including scaffolding if ecessary, cleaning and preparing the surface, watering for two days etc. complete.",null,null,null,null,null,null,null,null,null,null,null,{"$f":"N43","v":"sqm"},"35.16/244",56]
[null,"Outside ",null,null,null,null,null,null,null,null,null,null,null,null,36.15,2]
[null,"Gable wall(Unit No I)",0,"X",0.5,"X",28.75,"X",3.7,null,null,"=",{"$f":"C92*E92*G92*I92","v":0}]
[null,null,null,null,null,null,null,null,null,null,null,null,null,null,null,{"$f":"SUM(P90:P92)","v":58}]
[null,null,null,null,null,null,null,null,null,null,"Total",null,{"$f":"SUM(M92:M92)","v":0}]
[null,null,null,null,null,null,null,null,null,null,"Say",null,{"$f":"ROUNDUP(M94,0)","v":0}]
[]
[]
[3,"Scrapping and providing & applying oilpainting in three coats of approved colour & shade to flooring for marking stacklines including preparing the surfaces & primer coat etc. complete. ( Sample and brand is to be got approved)  ",null,null,null,null,null,null,null,null,null,null,null,{"$f":"N43","v":"sqm"},"35.11/287",73]
[null,"Plinth (Unit No I & III)",null,null,null,null,null,null,null,null,null,null,null,null,"35.10/287",45]
[null,"Long wall ",2,"X",2,"X",38.15,"X",0.7,null,null,"=",{"$f":"C100*E100*G100*I100","v":106.82},null,null,{"$f":"P98+P99","v":118}]
[null,"Short wall ",1,"X",2,"X",{"$f":"G48","v":15.7},"X",0.7,null,null,"=",{"$f":"C101*E101*G101*I101","v":21.979999999999997}]
[null,"Platforms sides",2,"X",2,"X",1.6,"X",0.7,null,null,"=",{"$f":"C102*E102*G102*I102","v":4.4799999999999995}]
[]
[null,null,null,null,null,null,null,null,null,null,"Total ",null,{"$f":"SUM(M100:M102)","v":133.27999999999997}]
[null,null,null,null,null,null,null,null,null,null,"Say",null,{"$f":"ROUNDUP(M104,0)","v":134}]
[]
[4,"Scrapping and providing and applying three coats of synthetic enamel paint of approved colour to new /old structural steel work and wood work in buildings, including scaffolding if necessary, cleaning and preparing the surface (excluding primer coat) etc. complete.",null,null,null,null,null,null,null,null,null,null,null,{"$f":"N98","v":"sqm"},"35.18/288",14]
[null,null,null,null,null,null,null,null,null,null,null,null,null,null,"35.08/286",48]
[null,"For shutters and ventilaters",null,null,null,null,null,null,null,null,null,null,null,null,"35.07/286",76]
[null,"Unit I,III&C&G",null,null,null,null,null,null,null,null,null,null,null,null,null,{"$f":"SUM(P107:P109)","v":138}]
[null,"Rolling shutters",1.1399999999999999,"X",18,"X",2.1,"X",2.5499999999999998,null,null,"=",{"$f":"C111*E111*G111*I111","v":109.88459999999999}]
[null,"Housing box of rolling shutter ",1,"X",9,"X",2.5499999999999998,"X",0.6,null,null,"=",{"$f":"C112*E112*G112*I112","v":13.77}]
[null,"V1 ",1,"X",{"$f":"15+18+2+2","v":37},"X",0.6,"X",0.6,null,null,"=",{"$f":"C113*E113*G113*I113","v":13.319999999999999}]
[null,"V2",1,"X",{"$f":"21+39+2","v":62},"X",1,"X",0.6,null,null,"=",{"$f":"C114*E114*G114*I114","v":37.199999999999996}]
[null,null,null,null,null,null,null,null,null,null,"Total ",null,{"$f":"SUM(M111:M114)","v":174.17459999999997}]
[null,null,null,null,null,null,null,null,null,null,"Say",null,{"$f":"ROUNDUP(M115,0)","v":175}]
[]
[5,"Removing Lose damaged cement plaster and Providing cement plaster 20mm thick in Single coats in cement mortar 1:4 with fine cement finish 1.5 mm thick over green plaster surface, to concrete, brick surface, in all positions including scaffolding and curing etc.complete. and stacking the debris upto a distance of 50 metres or spreading in the compound and cleaning the site etc.complete.",null,null,null,null,null,null,null,null,null,null,null,"Sqm","32.07/268",392]
[null,null,null,null,null,null,null,null,null,null,null,null,null,null,"32.33/272",41]
[null,"Unit III Plinth",null,null,null,null,null,null,null,null,null,null,null,null,null,{"$f":"SUM(P118:P119)","v":433}]
[null,null,1,"X",38.15,"X",null,null,0.8,null,null,"=",{"$f":"C121*E121*I121","v":30.52}]
[null,null,1,"X",15.7,"X",null,null,0.8,null,null,"=",{"$f":"C122*E122*I122","v":12.56}]
[null,"For Gutter at places Provision",null,null,null,null,null,null,null,null,null,"=",50]
[null,null,null,null,null,null,null,null,null,null,"Total ",null,{"$f":"SUM(M121:M123)","v":93.08}]
[null,null,null,null,null,null,null,null,null,null,"Say",null,{"$f":"ROUNDUP(M124,0)","v":94}]
[]
[]
[null,"Sub Work II :- Repairs to compound wall"]
[]
[null,null,null,null,null,null,null,null,"For Soft Strata "]
[null,"MEASUREMENT SHEET ",null,null,null,null,null,null,null,null,null,null,null,null,null,null,null,{"$f":"(#REF!+355)*3705","v":{"$error":"#REF!"}}]
[]
["Item ","Description of Items ","NO.S",null,null,null,"LENGTH",null,"BREDTH",null,"DEPTH /",null,"TOTAL","Unit"]
["No",null,1,"X",2,"x",3,"x",4,"x","HEIGHT ","=","QUANTITY       "]
[]
[null,"B A S I C    D A T A"]
[]
["Sr.No","Description","East",null,"West",null,"North",null,"South",null,"Gate",null,"Total","Say"]
[1,"Length of compound wall  ",29.57,null,36.58,null,134.75,null,0,null,0,null,{"$f":"I139+G139+E139+C139-K139","v":200.89999999999998},{"$f":"ROUNDUP(M139,0)","v":201}]
[2,"No. Expansion column footing ",{"$f":"ROUNDUP(C139/25.3-1,0)","v":1},null,{"$f":"ROUNDUP(E139/25.3-1,0)","v":1},null,{"$f":"ROUNDUP(G139/25.3-1,0)","v":5},null,0,null,0,null,{"$f":"C140+E140+G140+I140+K140","v":7},{"$f":"M140","v":7}]
[3,"No of regular column footing ",{"$f":"ROUNDUP(C139/2.53-1,0)","v":11},null,{"$f":"ROUNDUP(E139/2.53-1,0)","v":14},null,{"$f":"ROUNDUP(G139/2.53-1,0)","v":53},null,0,null,0,null,{"$f":"I141+G141+E141+C141","v":78},{"$f":"M141","v":78}]
[4,"Nos of  Gate column",0,null,0,null,0,null,4,null,0,null,{"$f":"K142+I142+G142+E142+C142","v":4},{"$f":"M142","v":4}]
[5,"Nos of bays ",{"$f":"C141-1","v":10},null,{"$f":"E141-1","v":13},null,{"$f":"G141-1","v":52},null,0,null,0,null,{"$f":"K143+I143+G143+E143+C143","v":75},{"$f":"M143","v":75}]
[]
[null,"MEASUREMENT SHEET "]
[]
["Item ","Description of Items ","NO.S",null,null,null,"LENGTH",null,"BREDTH",null,"DEPTH /",null,"TOTAL","Unit","REMARK IF ANY"]
["No",null,1,"X",2,"x",3,"x",4,"x","HEIGHT   (5)","=","QUANTITY       (6)"]
[1,"Removing wire fencing with iron/ C.C. fencing post and stacking the materials as directed with all leads, lifts etc. complete.     ",null,null,null,null,null,null,null,null,null,null,null,"Rmt"]
[null,"North,East & West side",1,"X",1,"X",{"$f":"G139+C139+E139","v":200.89999999999998},null,null,null,null,"=",{"$f":"G150*E150*C150","v":200.89999999999998}]
[null,"South Side",1,"X",1,"X",123,null,null,null,null,"=",{"$f":"G151*E151*C151","v":123}]
[null,"50% Theft/missing",null,null,null,null,null,null,null,null,"Total","=",{"$f":"SUM(M150:M151)*50%","v":161.94999999999999}]
[null,null,null,null,null,null,null,null,null,null,"SAY","=",{"$f":"ROUNDUP(M152,0)","v":162},"Rmt"]
[]
[2,"Excavation for foundation in earth, soil of all types, sand, gravel and soft murum, including removing the excavated material up to a distance of 50 m. beyond the building area and stacking and spreading as directed, dewatering, preparing the bed for the foundation and necessary back filling, ramming, watering including shoring and strutting etc. complete. (Lift upto 1.5 m.) By Mechanical Means"]
[null,"For Regular Column Footing",1,"X",{"$f":"N141","v":78},"X",1.2,"X",1.2,"X",1.5,"=",{"$f":"ROUND(K156*I156*G156*E156*C156,2)","v":168.48},"Cu.M.",null,null,null,null,"Gate","UCR","Gutter"]
[null,"Expantion column footing",1,"X",{"$f":"N140","v":7},"X",1.5,"X",1.2,"X",1.5,"=",18.899999999999999,"Cu.M.",null,null,null,null,{"$f":"K158+K175","v":1.6},{"$f":"#REF!+#REF!+#REF!+#REF!","v":{"$error":"#REF!"}},{"$f":"#REF!+#REF!+#REF!","v":{"$error":"#REF!"}}]
[null,"For Gate Column footing",1,"X",{"$f":"N142","v":4},"X",1.2,"X",1.2,"X",1.5,"=",8.64,"Cu.M."]
[null,"For ground beam",1,"X",{"$f":"N143","v":75},"X",{"$f":"2.53-0.6-0.6","v":1.3299999999999996},"X",{"$f":"0.23+0.15+0.15","v":0.53},"X",{"$f":"0.3+0.1-0.15","v":0.25},"=",13.22,"Cu.M."]
[null,"Ground beams  In between Gate column",1,"X",2,"X",{"$f":"6.2-G156","v":5},"X",{"$f":"I159","v":0.53},"X",0.5,"=",2.65,"Cu.M."]
[null,null,null,null,null,null,null,null,null,null,"Total","=",{"$f":"SUM(M156:M160)","v":211.89},"Cu.M."]
[null,null,null,null,null,null,null,null,null,null,"SAY","=",{"$f":"ROUNDUP(M161,0)","v":212},"Cu.M."]
[null,null,null,null,null,null,null,null,null,null,null,null,null,null,null,null,null,{"$f":"K156+K165+K173","v":1.8}]
[3,"Excavation for foundation in earth, soils of all types, sand,gravel and soft murum, including removing the excavated material upto a distance of 50 metres beyond the building area and stacking and spreading as directed, dewatering, preparing the bed for the foundation and necessary back filling, ramming, watering including shoring and strutting etc. complete. (Lift from 1.5m to 3.0m) By Mechanical Means"]
[null,{"$f":"B156","v":"For Regular Column Footing"},{"$f":"C156","v":1},"X",{"$f":"E156","v":78},"X",1.2,"X",1.2,"X",0.2,"=",{"$f":"ROUND(K165*I165*G165*E165*C165,2)","v":22.46},"Cu.M."]
[null,{"$f":"B157","v":"Expantion column footing"},{"$f":"C157","v":1},"X",7,"X",1.5,"X",1.2,"X",{"$f":"K165","v":0.2},"=",2.52,"CU.M."]
[null,{"$f":"B158","v":"For Gate Column footing"},1,"X",4,"X",1.2,"X",1.2,"X",{"$f":"K166","v":0.2},"=",1.1499999999999999,"Cu.M."]
[null,{"$f":"B160","v":"Ground beams  In between Gate column"},1,"X",1,{"$f":"F160","v":"X"},{"$f":"G160","v":5},"X",0.53,"X",0,"=",0,"Cu.M."]
[null,null,null,null,null,null,null,null,null,null,"Total","=",{"$f":"SUM(M165:M168)","v":26.13},"Cu.M."]
[null,null,null,null,null,null,null,null,null,null,"SAY","=",{"$f":"ROUNDUP(M169,0)+1","v":28},"Cu.M."]
[]
[4,"Excavation for foundation in hard murum including removing the excavated material upto distance of 50 metres beyond the building area and stacking and spreading as directed, dewatering, preparing the bed for the foundation and necessary back filling, ramming, watering including shoring and strutting etc. complete. (Lift upto 1.50 m) By Mechanical Means"]
[null,{"$f":"B165","v":"For Regular Column Footing"},{"$f":"C165","v":1},{"$f":"D165","v":"X"},78,"X",1.2,"X",{"$f":"I165","v":1.2},"X",0.1,"=",{"$f":"ROUND(K173*I173*G173*E173*C173,2)","v":11.23},"Cu.M."]
[null,{"$f":"B166","v":"Expantion column footing"},1,"X",7,"X",1.5,"X",1.2,"X",0.1,"=",{"$f":"ROUND(K174*I174*G174*E174*C174,2)","v":1.26},"Cu.M."]
[null,"For Gate Column footing",1,"X",4,"X",1.2,"X",1.2,"X",0.1,"=",{"$f":"ROUND(K175*I175*G175*E175*C175,2)","v":0.57999999999999996},"Cu.M."]
[null,"Ground beams  In between Gate column",1,"X",1,"X",5,"X",0.53,"X",0.1,"=",0.27,"Cu.M."]
[null,null,null,null,null,null,null,null,null,null,"Total","=",{"$f":"SUM(M173:M176)","v":13.34},"Cu.M."]
[null,null,null,null,null,null,null,null,null,null,"SAY","=",{"$f":"ROUNDUP(M177,0)","v":14},"Cu.M."]
[]
[5,"Providing and laying Cast in situ/Ready Mix cement concrete in M-10 of trap/ granite/ quartzite/ gneiss metal for foundation and bedding including bailing out water, Steel centering, formwork, laying/pumping, compacting, oughening them if special finish is to be provided, finishing if required and curing complete, with fully automatic micro processor based PLC with SCADA enabled reversible Drum Type mixer/concrete Batch mix plant (Pan mixer) etc. complete. With fine aggregate (Crushed sand VSI Grade finely washed etc)"]
[]
[null,{"$f":"B156","v":"For Regular Column Footing"},{"$f":"C156","v":1},{"$f":"D156","v":"X"},{"$f":"E156","v":78},"X",1.2,"X",1.2,"X",0.1,"=",{"$f":"ROUND(K182*I182*G182*E182*C182,2)","v":11.23},"Cu.M."]
[null,{"$f":"B157","v":"Expantion column footing"},{"$f":"C157","v":1},"X",7,"X",1.5,"X",1.2,"X",{"$f":"K182","v":0.1},null,1.26,"Cu.M."]
[null,{"$f":"B158","v":"For Gate Column footing"},1,"X",4,"X",1.2,"X",1.2,"X",{"$f":"K183","v":0.1},null,0.57999999999999996,"Cu.M."]
[null,{"$f":"B159","v":"For ground beam"},{"$f":"C159","v":1},"X",75,"X",1.3299999999999996,"X",0.43,"X",{"$f":"K184","v":0.1},null,4.29,"Cu.M."]
[null,{"$f":"B160","v":"Ground beams  In between Gate column"},{"$f":"C160","v":1},"X",2,"X",5,"X",0.53,"X",{"$f":"K185","v":0.1},"=",0.53,"Cu.M."]
[null,null,null,null,null,null,null,null,null,null,"Total","=",{"$f":"SUM(M182:M186)","v":17.89},"Cu.M."]
[null,null,null,null,null,null,null,null,null,null,"Say","=",{"$f":"ROUNDUP(M187,0)","v":18},"Cu.M."]
[]
["5A","Providing and laying Cast in situ/Ready Mix cement concrete in M-10 of trap/ granite/ quartzite/ gneiss metal for foundation and bedding including bailing out water, Steel centering, formwork, laying/pumping, compacting, oughening them if special finish is to be provided, finishing if required and curing complete, with fully automatic micro processor based PLC with SCADA enabled reversible Drum Type mixer/concrete Batch mix plant (Pan mixer) etc. complete. With fine aggregate (Natural Sand)"]
[null,null,null,null,null,null,null,null,null,null,null,null,null,"Cu.M."]
[null,{"$f":"B165","v":"For Regular Column Footing"},0,{"$f":"D165","v":"X"},78,"X",{"$f":"G183","v":1.5},"X",{"$f":"I183","v":1.2},"X",{"$f":"K191","v":0},null,{"$f":"ROUND(K192*I192*G192*E192*C192,2)","v":0},"Cu.M."]
[null,{"$f":"B166","v":"Expantion column footing"},0,"X",7,"X",1.2,"X",1.2,"X",{"$f":"K192","v":0},null,0,"Cu.M."]
[null,{"$f":"B167","v":"For Gate Column footing"},0,"X",4,"X",1.3299999999999996,"X",0.43,"X",{"$f":"K193","v":0},null,0,"Cu.M."]
[null,{"$f":"B168","v":"Ground beams  In between Gate column"},0,"X",1,"X",5,"X",0.53,"X",{"$f":"K194","v":0},"=",0,"Cu.M."]
[null,null,null,null,null,null,null,null,null,null,"Total","=",0,"Cu.M."]
[null,null,null,null,null,null,null,null,null,null,"Say","=",1,"Cu.M."]
[]
[6,"Providing and laying in situ /Ready Mix cement concrete M-20 of trap / granite /quartzite/ gneiss metal for R.C.C. work in foundations like raft, strip foundations, grillage and footings of R.C.C. columns and steel stanchions etc. including bailing out water, Steel centering formwork, laying/pumping cover blocks, compaction and curing roughening the surface if special finish is to be provided (Excluding reinforcement and structural steel) etc. complete, with fully automatic micro processor based PLC with SCADA enabled reversible Drum Type mixer/ concrete Batch mix plant (Pan mixer) etc. complete. With fine aggregate (Crushed sand VSI Grade finely washed etc) "]
[]
[null,{"$f":"B182","v":"For Regular Column Footing"},{"$f":"C182","v":1},{"$f":"D182","v":"X"},{"$f":"E182","v":78},{"$f":"F182","v":"X"},{"$f":"G182-0.3","v":0.89999999999999991},"X",{"$f":"I182-0.3","v":0.89999999999999991},"X",0.3,"=",{"$f":"ROUND(K201*I201*G201*E201*C201,2)","v":18.95},"Cu.M."]
[null,{"$f":"B183","v":"Expantion column footing"},1,"X",7,"X",{"$f":"G183-0.3","v":1.2},"X",{"$f":"I183-0.3","v":0.89999999999999991},"X",0.3,"=",2.27,"Cu.M."]
[null,"For Gate Column footing",1,"X",4,"X",{"$f":"G184-0.3","v":0.89999999999999991},"X",{"$f":"I184-0.3","v":0.89999999999999991},"X",0.3,"=",0.97,"Cu.M."]
[null,null,null,null,null,null,null,null,null,null,"Total","=",{"$f":"SUM(M201:M203)","v":22.189999999999998},"Cu.M."]
[null,null,null,null,null,null,null,null,null,null,"Say","=",{"$f":"ROUNDUP(M204,1)","v":22.200000000000003},"Cu.M."]
["6A","Providing and laying in situ /Ready Mix cement concrete M-20 of trap / granite /quartzite/ gneiss metal for R.C.C. work in foundations like raft, strip foundations, grillage and footings of R.C.C. columns and steel stanchions etc. including bailing out water, Steel centering formwork, laying/pumping cover blocks, compaction and curing roughening the surface if special finish is to be provided (Excluding reinforcement and structural steel) etc. complete, with fully automatic micro processor based PLC with SCADA enabled reversible Drum Type mixer/ concrete Batch mix plant (Pan mixer) etc. complete. With fine aggregate (Natural Sand ) "]
[]
[null,null,{"$f":"C189","v":0},{"$f":"D189","v":0},{"$f":"E189","v":0},{"$f":"F189","v":0},{"$f":"G201","v":0.89999999999999991},"x",{"$f":"I201","v":0.89999999999999991},"X",0.3,"=",{"$f":"ROUND(K208*I208*G208*E208*C208,2)","v":0},"Cu.M."]
[null,null,{"$f":"C190","v":0},0,0,0,{"$f":"G202","v":1.2},"X",{"$f":"I202","v":0.89999999999999991},"X",0.3,"=",0,"Cu.M."]
[null,null,0,0,0,0,0.89999999999999991,"X",0.89999999999999991,"X",0.3,"=",0,"Cu.M."]
[null,null,null,null,null,null,null,null,null,null,"Total","=",1,"Cu.M."]
[null,null,null,null,null,null,null,null,null,null,"Say","=",{"$f":"ROUNDUP(M211,0)","v":1},"Cu.M."]
[]
[7,"Providing and laying Cast in situ/Ready Mix cement concrete M-20 of trap / granite /quartzite/ gneiss metal for R.C.C. columns as per detailed designs and drawing or as directed including steel centering, formwork, cover blocks, laying/pumping, compaction finishing the formed surfaces with cement mortar 1:3 of sufficient minimum thickness to give a smooth and even surface or roughening if special finish is to be provided and curing etc. complete,(Excluding reinforcement and structural steel).with fully automatic micro processor based PLC with SCADA enabled reversible Drum Type mixer/ concrete Batch mix plant (Pan mixer) etc. complete. With fine aggregate (Natural Sand / Crushed sand VSI Grade finely washed etc)",null,null,null,null,null,null,null,null,null,null,null,null,null,null,null,null,{"$f":"3-0.6-0.15-0.3-0.3-0.15","v":1.5},null,{"$f":"1.5+0.3+0.9+1.65","v":4.3499999999999996}]
[]
[null,"For Regular Column ",{"$f":"C201","v":1},{"$f":"D201","v":"X"},{"$f":"C141+E141+G141+I141","v":78},"X",0.3,"X",0.23,"X",{"$f":"(1.8-0.1-0.3)+0.9","v":2.2999999999999998},"=",{"$f":"ROUND(K216*I216*G216*E216*C216,2)","v":12.38},"Cu.M."]
[null,"Expantion column",{"$f":"C202","v":1},"X",{"$f":"E202","v":7},"X",0.3,"X",0.23,"X",{"$f":"K216","v":2.2999999999999998},"=",{"$f":"ROUND(K217*I217*G217*E217*C217,2)","v":1.1100000000000001},"Cu.M."]
[null,"For Gate Column ",1,"X",4,"X",0.35,"X",0.35,"X",{"$f":"(1.8-0.1-0.3)+1.8","v":3.2},"=",1.57,"Cu.M."]
[null,null,null,null,null,null,null,null,null,null,"Total","=",{"$f":"SUM(M216:M218)","v":15.06},"Cu.M."]
[null,null,null,null,null,null,null,null,null,null,"Say","=",15.1,"Cu.M."]
[]
["7A","Providing and laying Cast in situ/Ready Mix cement concrete M-20 of trap / granite /quartzite/ gneiss metal for R.C.C. columns as per detailed designs and drawing or as directed including steel centering, formwork, cover blocks, laying/pumping, compaction finishing the formed surfaces with cement mortar 1:3 of sufficient minimum thickness to give a smooth and even surface or roughening if special finish is to be provided and curing etc. complete,(Excluding reinforcement and structural steel).with fully automatic micro processor based PLC with SCADA enabled reversible Drum Type mixer/ concrete Batch mix plant (Pan mixer) etc. complete. With fine aggregate (Natural Sand / Crushed sand VSI Grade finely washed etc)",null,null,null,null,null,null,null,null,null,null,null,null,null,null,null,null,{"$f":"3-0.6-0.15-0.3-0.3-0.15","v":1.5},null,{"$f":"1.5+0.3+0.9+1.65","v":4.3499999999999996}]
[]
[null,"For Regular Column ",{"$f":"C209","v":0},{"$f":"D209","v":0},{"$f":"C149+E149+G149+I149","v":0},{"$f":"F209","v":0},0.3,{"$f":"H209","v":"X"},0.3,{"$f":"J209","v":"X"},{"$f":"(3.6-0.1-0.3-0.3-0.6)+0.85","v":3.1500000000000004},"=",{"$f":"ROUND(K224*I224*G224*E224*C224,2)","v":0},"Cu.M."]
[null,"Expantion column",{"$f":"C210","v":0},0,{"$f":"E210","v":0},0,0.3,"X",0.3,"X",{"$f":"K224","v":3.1500000000000004},"=",0,"Cu.M."]
[null,"For Gate Column ",0,0,0,0,0.35,"X",0.35,"X",{"$f":"K224+1.8","v":4.95},"=",0,"Cu.M."]
[null,null,null,null,null,null,null,null,null,null,"Total","=",0,"Cu.M."]
[null,null,null,null,null,null,null,null,null,null,"Say","=",1,"Cu.M."]
[]
[8,"Providing and laying Cast in situ/Ready Mix cement concrete M-20 of trap / granite /quartzite/ gneiss metal for R.C.C. beams and lintels as per detailed designs and drawings or as directed including steel centering, formwork, cover blocks, laying/pumping, compactionand roughening the surface if special finish is to be provided and curing etc. complete. (Excluding reinforcement and structural steel). with fully automatic micro processor based PLC with SCADA enabled reversible Drum Type mixer/ concrete Batch mix plant (Pan mixer) etc. complete. With fine Aggregate (Natural Sand / Crushed sand VSI Grade finely washed etc)"]
[null,"Ground Beams  "]
[null,"Ground beams  In between Gate column",{"$f":"C186","v":1},{"$f":"D186","v":"X"},{"$f":"E186","v":2},{"$f":"F186","v":"X"},{"$f":"G186","v":5},"X",0.23,"X",0.3,"=",{"$f":"ROUND(K232*I232*G232*E232*C232,2)","v":0.69}]
[null,{"$f":"B185","v":"For ground beam"},{"$f":"C185","v":1},"X",{"$f":"E185","v":75},"X",{"$f":"2.53-0.3","v":2.23},"X",0.23,"X",{"$f":"K232","v":0.3},"=",{"$f":"ROUND(K233*I233*G233*E233*C233,2)","v":11.54}]
[null,null,null,null,null,null,null,null,null,null,"Total","=",{"$f":"SUM(M232:M233)","v":12.229999999999999},"Cu.M."]
[null,null,null,null,null,null,null,null,null,null,"Say","=",{"$f":"ROUNDUP(M234,1)","v":12.299999999999999},"Cu.M."]
[]
["8A","Providing and laying Cast in situ/Ready Mix cement concrete M-20 of trap / granite /quartzite/ gneiss metal for R.C.C. beams and lintels as per detailed designs and drawings or as directed including steel centering, formwork, cover blocks, laying/pumping, compactionand roughening the surface if special finish is to be provided and curing etc. complete. (Excluding reinforcement and structural steel). with fully automatic micro processor based PLC with SCADA enabled reversible Drum Type mixer/ concrete Batch mix plant (Pan mixer) etc. complete. With fine Aggregate (Natural Sand / Crushed sand VSI Grade finely washed etc)"]
[null,"Ground Beams  "]
[null,"Ground beams  In between Gate column",{"$f":"C193","v":0},{"$f":"D193","v":"X"},{"$f":"E193","v":7},{"$f":"F193","v":"X"},{"$f":"G193","v":1.2},"X",0.23,"X",0.3,"=",{"$f":"ROUND(K239*I239*G239*E239*C239,2)","v":0}]
[null,{"$f":"B192","v":"For Regular Column Footing"},{"$f":"C192","v":0},"X",{"$f":"E192","v":78},{"$f":"F192","v":"X"},{"$f":"2.53-0.3","v":2.23},{"$f":"H192","v":"X"},0.23,"X",{"$f":"K239","v":0.3},"=",{"$f":"ROUND(K240*I240*G240*E240*C240,2)","v":0}]
[null,null,null,null,null,null,null,null,null,null,"Total","=",0,"Cu.M."]
[null,null,null,null,null,null,null,null,null,null,"Say","=",1,"Cu.M."]
[]
[9,"Providing and fixing in position TMT - FE - 500 bar reinforcement of various diameters for R.C.C. pile caps, footings, foundations, slabs, beams columns, canopies, staircase, newels, chajjas, lintels pardis, copings, fins, arches etc. as per detailed designs, drawings and schedules. including cutting, bending, hooking the bars, binding with wires or  ack welding and supporting as required complete."]
[null,"For Column Footing ",1,"x",90,"x",{"$f":"M205","v":22.200000000000003},null,null,null,null,"=",{"$f":"G245*E245*C245","v":1998.0000000000002},"Kg"]
[null,"For Columns",1,"x",120,"x",{"$f":"M220","v":15.1},null,null,null,null,"=",{"$f":"G246*E246*C246","v":1812},"Kg"]
[null,"For beams & Coping ",1,"x",130,"x",{"$f":"M235","v":12.299999999999999},null,null,null,null,"=",1598.9999999999998,"Kg"]
[null,null,null,null,null,null,null,null,null,null,"Total","=",{"$f":"SUM(M245:M247)","v":5409},"Kg."]
[null,null,null,null,null,null,null,null,"Conv. In MT",null,null,"=",{"$f":"M248/1000","v":5.4089999999999998},"M.T."]
[null,null,null,null,null,null,null,null,null,null,"SAY","=",{"$f":"ROUNDUP(M249,1)","v":5.5},"M.T."]
[]
[10,"Providing second class Burnt Brick masonry with conventional/ I.S. type bricks in cement mortar 1:6 in foundations and plinth of inner walls/ in plinth external walls including bailing out water manually , striking joints on unexposed faces, raking out joints on exposed faces and watering etc. Complete."]
[null,"Pannels ",1,{"$f":"D233","v":"X"},{"$f":"E233","v":75},{"$f":"F233","v":"X"},{"$f":"2.53-0.3","v":2.23},{"$f":"H233","v":"X"},0.23,"X",0.9,"=",{"$f":"ROUND(K253*I253*G253*E253*C253,2)","v":34.619999999999997},"Cu.M."]
[null,null,null,null,null,null,null,null,null,null,"Total","=",{"$f":"SUM(M253:M253)","v":34.619999999999997},"Cu.M."]
[null,null,null,null,null,null,null,null,null,null,"SAY","=",{"$f":"ROUNDUP(M254,0)","v":35},"Cu.M."]
[]
[11,"Providing internal cement plaster 12mm thick in single coat in cement mortar 1:4 without neeru finish to concrete or brick surfaces, in all positions including scaffolding and curing etc. complete."]
[null,"For Walls "]
[null,"side wall ",1,"X",2,"X",{"$f":"M139","v":200.89999999999998},"X",null,"X",{"$f":"0.9+0.15","v":1.05},"=",{"$f":"C259*E259*G259*K259","v":421.89},"Sq.M."]
[null,"Top of coping ",1,"X",1,"X",{"$f":"M139","v":200.89999999999998},"X",null,"X",0.23,"=",{"$f":"C260*E260*G260*K260","v":46.206999999999994},"Sq.M."]
[null,"Gate column",2,"X",2,"X",1.4,"x",null,"X",2.1,"=",{"$f":"C261*E261*G261*K261","v":11.76},"Sq.M."]
[null,null,null,null,null,null,null,null,null,null,"Total",null,{"$f":"SUM(M259:M261)","v":479.85699999999997},"Sq.M."]
[null,null,null,null,null,null,null,null,null,null,"SAY","=",{"$f":"ROUNDUP(M262,0)","v":480},"Sq.M."]
[]
[]
[]
[]
[]
[]
[]
[]
[]
[]
[]
[]
[]
[]
[]
[]
[]
[]
[]
[]
[]
[]
[]
[]
[]
[12,"Providing and applying three coats of water proof cement paint of approved manufacture and of approved colour to new plastered surfaces including scaffolding if necessary, cleaning and preparing the surface, watering for two days etc. complete."]
[]
[null,"For Walls "]
[null,"side wall ",1,"X",2,"X",{"$f":"G259","v":200.89999999999998},"X",null,"X",{"$f":"0.9+1.8+0.1","v":2.8000000000000003},"=",{"$f":"C292*E292*G292*K292","v":1125.04},"Sq.M."]
[null,{"$f":"B260","v":"Top of coping "},1,"X",1,"X",{"$f":"G260","v":200.89999999999998},"X",null,"X",{"$f":"K260","v":0.23},"=",46.206999999999994,"Sq.M."]
[null,"Gate column",2,"X",2,"X",1.4,"X",null,"X",2.8,"=",15.679999999999998,"Sq.M."]
[null,"Column offsets",null,null,null,null,null,null,null,null,null,null,null,null,null,{"$f":"6.5/1000","v":6.4999999999999997E-3}]
[null,"side wall columns",2,"X",78,"X",{"$f":"0.2-0.065","v":0.13500000000000001},"X",null,"X",1.8,"=",{"$f":"C296*E296*G296*K296","v":37.908000000000008},"Sq.M."]
[null,null,null,null,null,null,null,null,null,null,"Total",null,{"$f":"SUM(M292:M296)","v":1224.8349999999998},"Sq.M."]
[null,null,null,null,null,null,null,null,null,null,"SAY","=",{"$f":"ROUNDUP(M297,0)","v":1225},"Sq.M."]
[]
[13,"Cutting down tree including trunks and branches and removing wood upto 1 meter below ground level and stacking the materials neatly with a lead of 50 m as directed with specified girths etc. complete as directed by Engineer - in - charge."]
[null,"Provision",null,null,null,null,null,null,null,null,null,"=",5,"Nos."]
[null,null,null,null,null,null,null,null,null,null,"Total","=",{"$f":"SUM(M301:M301)","v":5},"Nos."]
[null,null,null,null,null,null,null,null,null,null,"SAY","=",{"$f":"ROUNDUP(M302,0)","v":5},"Nos."]
[]
[14,"Providing and laying weep holes of 100 mm diameter PVC pipes as per drawing for abutment returns, return walls etc. Complete. "]
[]
[null,null,2,"X",{"$f":"M143","v":75},"X",null,"X",0.25,"X",null,"=",{"$f":"I307*E307*C307","v":37.5},"Rmt."]
[null,null,null,null,null,null,null,null,null,null,"Total","=",{"$f":"SUM(M307)","v":37.5},"Rmt."]
[null,null,null,null,null,null,null,null,null,null,"SAY","=",{"$f":"ROUNDUP(M308,0)","v":38},"Rmt."]
[]
[15,"Filling in plinth and floors with contractors material/brought from outside and approved by Engineer incharge in layers of 15 cm to 20 cm including watering and compaction etc. complete."]
[null,"A)Calculation For Backfilling Qty."]
[null,"Excavated qty on earth soil ",null,null,null,null,null,null,null,null,null,"=",{"$f":"M162+M170+M178","v":254},"Cu.M."]
[null,null,null,null,null,null,null,null,null,null,"Total","=",{"$f":"ROUNDUP(M313,0)","v":254},"Cu.M."]
[null,"Deduction"]
[null,"PCC",null,null,null,null,null,null,null,null,null,"=",{"$f":"M188","v":18},"Cu.M."]
[null,"Footing ",null,null,null,null,null,null,null,null,null,"=",{"$f":"M205","v":22.200000000000003},"Cu.M."]
[null,"Column  up to G.L.",null,null,null,null,null,null,null,null,null,"=",{"$f":"(E216+E217)*G216*I216*(R163-(K182+K201))","v":8.2110000000000003},"Cu.M."]
[null,"Ground beam ",null,null,null,null,null,null,null,null,null,"=",{"$f":"M235","v":12.299999999999999},"Cu.M."]
[null,"Available H.M.",null,null,null,null,null,null,null,null,null,{"$f":"L319","v":"="},{"$f":"M178","v":14},"Cu.M."]
[null,null,null,null,null,null,null,null,null,null,"Total","=",{"$f":"SUM(M316:M320)","v":74.710999999999999},"Cu.M."]
[null,null,null,null,null,null,null,null,"Grand total",null,null,"=",{"$f":"M314-M321","v":179.28899999999999},"Cu.M."]
[null,null,null,null,null,null,null,null,null,null,"SAY","=",{"$f":"M322","v":179.28899999999999},"Cu.M."]
[]
[]
[16,"Conveying the materials obtained from excavation including laying in layers, breaking clods, dressing to the required lines, curves, grades and section for all leads & lifts from the site of excavation to the site of deposition  away from"]
[null,"Quanitity as per Item no.2",null,null,null,null,null,null,null,null,null,"=",{"$f":"M162","v":212},"Cu.M."]
[null,"Quanitity as per Item no.3",null,null,null,null,null,null,null,null,null,"=",{"$f":"M170","v":28},"Cu.M."]
[null,null,null,null,null,null,null,null,null,null,"Total","=",{"$f":"SUM(M327:M328)","v":240},"Cu.M."]
[null,null,null,null,null,null,null,null,null,null,"SAY","=",{"$f":"ROUNDUP(M329,0)","v":240},"Cu.M."]
[]
[17,"Providing & erecting M.S.tubular gate of M.S. tubular pipes and M.S.flats as per drawing & design including hinges, pivot locks and applying one coat of approved anticorrosive paint and two coats of oilpaint etc. complete."]
[null,null,1,"X",2,"X",6,"X",null,"X",1.6,"=",{"$f":"C333*E333*G333*K333","v":19.200000000000003},"Sq.M."]
[null,null,null,null,null,null,null,null,null,null,"Total","=",{"$f":"SUM(M333)","v":19.200000000000003},"Sq.M."]
[null,null,null,null,null,null,null,null,null,null,"SAY","=",{"$f":"M333","v":19.200000000000003},"Sq.M."]
[]
[18,"Providing and laying Cast in situ/Ready Mix cement concrete in M 15 of trap/ granite/quartzite/gneiss metal for steps including steel centering, formwork, laying/pumping, compacting, roughening them if special finish is to be provided, finishing uneven and honeycombed surface and curing etc. complete. The Cement Mortar 1:3 plaster is considered for rendering uneven and honeycombed surface, only. Newly laid concrete shall be covered by gunny bag, plastic, tarpaulin etc. (Wooden centering will not be allowed.)etc. complete. With fine aggregate (Natural Sand / Crushed sand VSI Grade finely washed etc)"]
[null,null,null,null,null,null,null,null,null,null,null,null,null,null,null,null,null,{"$f":"M342*'[6]Sheet 1 COMPD'!M308","v":0}]
[null,"Coping on BBM",1,"X",75,"x",{"$f":"2.53-0.3","v":2.23},"x",0.23,"X",0.1,"=",{"$f":"ROUND(K339*I339*G339*E339*C339,2)","v":3.85}]
[null,"Coping Gate column",1,"X",4,"X",0.45,"X",0.45,"X",0.12,"=",{"$f":"ROUND(K340*I340*G340*E340*C340,2)","v":0.1}]
[null,null,null,null,null,null,null,null,null,null,"Total","=",{"$f":"SUM(M339:M340)","v":3.95},"Cu.M."]
[null,null,null,null,null,null,null,null,null,null,"Say","=",{"$f":"M341","v":3.95},"Cu.M."]
[]
[19,"Providing & Fixing at site   precast steel fibre reinforcrd concrete M20 grade precast boundary wall including column size 20 cm x20 cm ,RCC M-20 plank of size 30cm X 6.5 cm, precast column to be erected in 45 cm deep in cast in situ column at the  height 1.00 m above ground and 2.53 m C/C & RCC Planks of minimum ht. 1.80 m as per drawings & design Including all required material,curing, transporation of precast column and panel from factory to work site,etc. complete as directed by Engineer Incharge."]
[null,null,1,"X",1,"X",{"$f":"N139","v":201},"X",null,null,1.8,"=",{"$f":"G345*E345*C345*K345","v":361.8},"Sqm"]
[null,null,null,null,null,null,null,null,null,null,"Total","=",{"$f":"SUM(M345:M345)","v":361.8},{"$f":"N345","v":"Sqm"},null,null,null,{"$f":"115*10.76","v":1237.3999999999999}]
[null,null,null,null,null,null,null,null,null,null,"SAY","=",{"$f":"ROUNDUP(M346,0)","v":362},{"$f":"N346","v":"Sqm"},null,null,null,{"$f":"R346*1%","v":12.373999999999999},"water"]
[null,null,null,null,null,null,null,null,null,null,null,null,null,null,null,null,null,{"$f":"SUM(#REF!)","v":{"$error":"#REF!"}}]
[]
[20,"Crediting Against the Angle post & Barbed Wires fencing …..,etc complete",null,null,null,null,null,null,null,null,null,null,null,"Kg"]
[]
[null,"Barbed Wire 50%",0.5,"x",1,"x",{"$f":"G150","v":200.89999999999998},"x",0.16500000000000001,null,null,"=",{"$f":"I352*G352*E352*C352","v":16.574249999999999}]
[null,null,null,null,null,null,null,null,"Kg/M"]
[null,"Angles Post Vertical 50%",0.5,"x",{"$f":"G352/2.5","v":80.359999999999985},"x",{"$f":"1.8+0.45","v":2.25},"x",4.5,null,null,"=",{"$f":"I354*G354*E354*C354","v":406.82249999999993}]
[null,"Angles Post Vertical  50%",0.5,"x",{"$f":"(G352/10)","v":20.089999999999996},"x",1.35,"x",4.5,null,null,"=",{"$f":"I355*G355*E355*C355","v":61.023374999999987}]
[null,null,null,null,null,null,null,null,"@KG/ No"]
[null,"Old gate available  Aprox",1,"x",2,"x",1,"x",150,null,null,"=",{"$f":"I357*G357*E357*C357","v":300}]
[null,null,null,null,null,null,null,null,null,null,"Total","=",{"$f":"SUM(M352:M357)","v":784.42012499999987}]
[null,null,null,null,null,null,null,null,null,null,"SAY","=",{"$f":"ROUNDUP(M358,0)","v":785},"Kg"]
[]
[21,"Providing & laying RCC pipe of 600 mm dia NP-3, class in proper line level & slope including excavation providing & fixing collars in cement morter 1:1 complete. CD.7 / 162)",null,null,null,null,null,null,null,null,null,null,null,"Rmt"]
[]
[null,"Aproch near gate",1,"X",2,"X",10,"X",null,"X",null,"=",{"$f":"C363*E363*G363","v":20}]
[]
[null,null,null,null,null,null,null,null,null,null,"Total","=",{"$f":"SUM(M363:M363)","v":20}]
[null,null,null,null,null,null,null,null,null,null,"SAY","=",{"$f":"ROUNDUP(M365,0)","v":20},"Rmt"]
[]
[22,"Removing the old damaged existing gate etc complete as per direction of engineer in charge",null,null,null,null,null,null,null,null,null,null,null,"nos","Job work",1000]
[null,"Old existing gate is badly damged and most of the member is damaged"]
[null,"appo wt of the gate is 150 Kg"]
[null,null,1,"X",2,null,null,null,null,null,null,"=",{"$f":"E371*C371","v":2}]
[null,null,null,null,null,null,null,null,null,null,"Total","=",{"$f":"SUM(M371)","v":2}]
[null,null,null,null,null,null,null,null,null,null,"SAY","=",{"$f":"ROUNDUP(M372,0)","v":2},"Nos"]
[]
[23,"Providing and erecting chain link fencing 1.6M. height with G.I. chainlink of size 50x50mm, 8 gauge thick and fixed 75mm above ground level on vertical M.S. Angles of 40x40x6 mm size, including excavating pits for foundation and embeddeding C.C. block of 1:4:8 mix of size 450x450x670 mm.  at 1.75M. c/c with iron bar 16mm dia as hold fast including welding link with angle frame at 30cm c/c with nuts and bolts and horizontal M.S. Angles at top and bottom of 25x25x5 mm size and vertical M.S. flat 35x 5mm and 25x5 mm horizonta lincluding cross support of 40x40x6 mm angles both side at every corner or bend embedded in concrete blocks of 1:4:8 of size 450 x 450 x 670 mm including 3 coats of oil painting etc. complete.",null,null,null,null,null,null,null,null,null,null,null,null,"RA",{"$f":"'[7]Com wall RA - IV'!#REF!","v":{"$error":"#REF!"}}]
[]
[null,"South Side front portion",1,"X",1,"X",{"$f":"101.71+33.46-6.6-6.6","v":121.97},"X",null,"X",null,"=",{"$f":"C377*E377*G377","v":121.97},"Rmt"]
[null,null,null,null,null,null,null,null,null,null,"Total","=",{"$f":"SUM(M377)","v":121.97},"Rmt."]
[null,null,null,null,null,null,null,null,null,null,"Say","=",{"$f":"ROUNDUP(M378,0)","v":122},"Rmt."]
[]
[null,"SUBWORK IV :- Repairs to Platform Unit III"]
[]
[1,"Dismantling brick masonry in lime or cement mortar and stacking the materils as directed with all leads, lifts etc. complete",null,null,null,null,null,null,null,null,null,null,null,"cum","46.09/377",268]
[null,"Long side platform",2,"x",1,"x",5.95,"x",0.35,"x",0.3,"=",{"$f":"K384*I384*G384*E384*C384","v":1.2495000000000001}]
[null,"Short side platform",2,"x",2,"x",1.8,"x",0.35,"x",0.3,"=",{"$f":"K385*I385*G385*E385*C385","v":0.75600000000000001}]
[null,null,null,null,null,null,null,null,null,null,"Total",null,{"$f":"SUM(M384:M385)","v":2.0055000000000001}]
[null,null,null,null,null,null,null,null,null,null,"Say",null,{"$f":"ROUNDUP(M386,0)","v":3}]
[]
[2,"Removing rich mix cement concrete  and sorting out the materials such  as  steel  etc.  as  directed  and  stacking  them  within  the specified lead as directed etc. complete.",null,null,null,null,null,null,null,null,null,null,null,null,"46.13/377",746]
[null,"Platform beam "]
[null,"PB1 L/S",1,"X",1,"X",5.95,"X",0.35,"X",0.3,"=",{"$f":"C391*E391*G391*I391*K391","v":0.62475000000000003}]
[null,"PB1 S/S",2,"X",2,"X",1.8,"X",0.35,"X",0.3,"=",{"$f":"C392*E392*G392*I392*K392","v":0.75600000000000001}]
[null,null,null,null,null,null,null,null,null,null,"Total ",null,{"$f":"SUM(M391:M392)","v":1.3807499999999999}]
[null,null,null,null,null,null,null,null,null,null,"Say","=",{"$f":"ROUNDUP(M393,0)","v":2},"Cum"]
[]
[3,"Providing second class Burnt Brick masonry with conventional /I.S.type bricks in cement mortar 1:6 in plinth as backing in composite masonry including bailing out water manually, striking joints, raking out joints and watering etc Complete.",null,null,null,null,null,null,null,null,null,null,null,"cum","27.03/254",5628]
[null,"Long side platform",2,"x",1,"x",5.95,"x",0.35,"x",0.3,"=",{"$f":"K397*I397*G397*E397*C397","v":1.2495000000000001}]
[null,"Short side platform",2,"x",2,"x",1.8,"x",0.35,"x",0.3,"=",{"$f":"K398*I398*G398*E398*C398","v":0.75600000000000001}]
[null,null,null,null,null,null,null,null,null,null,"Total",null,{"$f":"SUM(M397:M398)","v":2.0055000000000001}]
[null,null,null,null,null,null,null,null,null,null,"Say","=",{"$f":"ROUNDUP(M399,0)","v":3}]
[]
[4,"Providing and fixing in position TMT -FE-500 bar reinforcement of various diameters for R.C.C. pile caps, footings, foundations, slabs, beams columns, canopies, staircase, newels, chajjas, lintels pardis, copings, fins, arches etc. as per detailed designs, drawings and schedules. including cutting, bending, hooking the bars, binding with wires or tack welding and supporting as required complete.",null,null,null,null,null,null,null,null,null,null,null,"M.T.","26.33/245",62581]
[null,"Forbeam",1,null,1,null,{"$f":"M415","v":3},"@",125,null,null,"=",{"$f":"I403*G403*E403*C403","v":375}]
[null,null,null,null,null,null,null,null,null,null,"Total",null,{"$f":"SUM(M403:M403)/1000","v":0.375},"Kg"]
[]
[null,null,null,null,null,null,null,null,null,null,"Say","=",0.5,"M.T."]
[]
[5,"Providing and laying Cast in situ/Ready Mix cement concrete M-20 of trap / granite /quartzite/ gneiss metal for R.C.C. beams and lintels as per detailed designs and drawings or as directed including centering, formwork, cover blocks, laying/pumping, compaction and roughening the surface if special finish is to be provided and curing etc. complete. (Excluding reinforcement and structural steel).  etc. complete. With natural sand/ V.S.I. quality Artificial Sand",null,null,null,null,null,null,null,null,null,null,null,null,"25.50/234",9908]
[null,"Platform beam "]
[null,"Long side platform",1,"x",2,"x",5.95,"x",0.35,"x",0.3,"=",{"$f":"K410*I410*G410*E410*C410","v":1.2495000000000001}]
[null,"Short side platform",2,"x",2,"x",1.8,"x",0.35,"x",0.3,"=",{"$f":"K411*I411*G411*E411*C411","v":0.75600000000000001}]
[null,"Coping",0.5,"x",2,"x",5.95,"x",0.15,"x",0.15,"=",{"$f":"K412*I412*G412*E412*C412","v":0.13387499999999999}]
[null,null,0.5,"x",4,"x",1.8,"x",0.15,"x",0.15,"=",{"$f":"K413*I413*G413*E413*C413","v":8.1000000000000003E-2}]
[null,null,null,null,null,null,null,null,null,null,"Total","=",{"$f":"SUM(M410:M413)","v":2.2203750000000002},"Cum"]
[null,null,null,null,null,null,null,null,null,null,"Say","=",{"$f":"ROUNDUP(M414,0)","v":3},"Cum"]
[]
[6,"Providing and laying Cast in situ/Ready Mix cement concrete in M-10 of trap/ granite/ quartzite/ gneiss metal for foundation and bedding including bailing out water, formwork, laying/pumping, compacting, roughening them if special finish is to be provided, finishing if required and curing complete, etc. complete. With natural sand/V.S.I. quality Artificial Sand",null,null,null,null,null,null,null,null,null,null,null,"CuM","24.01/226",4766]
[null,"For Foundation Bedding",2,"x",1,"x",5.35,"x",1.2450000000000001,"x",0.1,"=",{"$f":"K418*I418*G418*E418*C418","v":1.3321499999999999}]
[null,null,null,null,null,null,null,null,null,null,"Total","=",{"$f":"SUM(M418)","v":1.3321499999999999},"Cum"]
[null,null,null,null,null,null,null,null,null,null,"Say","=",{"$f":"ROUNDUP(M419,0)","v":2},"Cum"]
[]
[7,"Providing and laying Cast insitu /Ready Mix cement concrete in M15 of trap /granite /quartzite/ gneiss metal for Flooring including steel centering, formwork, laying /pumping, compacting, roughening them if special finish is to be provided, finishing uneven and honeycombed surface and curing etc. complete. With fine aggregate (Natural Sand / Crushed sand VSI Grade finely washed etc)",null,null,null,null,null,null,null,null,null,null,null,"cum","24.04/226",5179]
[null,"platform slab",2,"X",1,"X",5.35,"X",1.2450000000000001,"X",0.15,"=",{"$f":"K423*I423*G423*E423*C423","v":1.9982249999999999}]
[null,null,null,null,null,null,null,null,null,null,"Total",null,{"$f":"SUM(M423:M423)","v":1.9982249999999999}]
[null,null,null,null,null,null,null,null,null,null,"Say","=",{"$f":"ROUNDUP(M424,0)","v":2}]
[]
[8,"Providing internal cement plaster 20mm thick in two coats in cement mortar 1:4 without neeru finish, to concrete, brick surface, in all positions including scaffolding and curing etc.complete.",null,null,null,null,null,null,null,null,null,null,null,"Sqm","32.07/227",328]
[]
[null,"Long side platform",1,"x",2,"x",5.95,"x",null,null,0.7,"=",{"$f":"K429*G429*E429*C429","v":8.33}]
[null,"Short side platform",2,"x",2,"x",1.8,"x",null,null,0.7,"=",{"$f":"K430*G430*E430*C430","v":5.04}]
[null,null,null,null,null,null,null,null,null,null,"Total","=",{"$f":"SUM(M429:M430)","v":13.370000000000001},"Sqm"]
[null,null,null,null,null,null,null,null,null,null,"Say","=",{"$f":"ROUNDUP(M431,0)","v":14},"Sqm"]
[]
[9,"Refixing in position existing M.S. Channel including removing from damaged platforms, welding at cornes, providing new 20mm dia. and 0.50 metre long bolts and nuts @ 1.00 metre center to centre and applying three coats of oilpaint etc. Complete.",null,null,null,null,null,null,null,null,null,null,null,"Job Work","M.R",2000]
[null,null,1,"x",2,null,null,null,null,"=",null,null,{"$f":"E435*C435","v":2},null,null,null,null,null,null,null,null,null,null,null,null,null,null,null,null,null,null,null,null,null,null,null,null,null,null,null,null,null,null,null,null,null,null,null,null,null,null,null,null,null,null,null,null,null,null,null,null,null,null,null,null,null,null,null,null,null,null,null,null,null,null,null,null,null,null,null,null,null,null,null,null,null,null,null,null,null,null,null,null,null,null,null,null,null,null,null,null,null,null,null,null,null,null,null,null,null,null,null,null,null,null,null,null,null,null,null,null,null,null,null,null,null,null,null,null,null,null,null,null,null,null,null,null,null,null,null,null,null,null,null,null,null,null,null,null,null,null,null,null,null,null,null,null,null,null,null,null,null,null,null,null,null,null,null,null,null,null,null,null,null,null,null,null,null,null,null,null,null,null,null,null,null,null,null,null,null,null,null,null,null,null,null,null,null,null,null,null,null,null,null,null,null,null,null,null,null,null,null,null,null,null,null,null,null,null,null,null,null,null,null,null,null,null,null,null,null,null,null,null,null,null,null,null,null,null,null,null,null,null,null,null,null,null,null,null,null,null,null,null,null,null,null,null,null,null,null,null,null,null,null,null,null,null,null,null,null,null,null,null,null,null,null,null,null,null,null,null,null,null,null,null,null,null,null,null,null,null,null,null,null,null,null,null,null,null,null,null,null,null,null,null,null,null,null,null,null,null,null,null,null,null,null,null,null,null,null,null,null,null,null,null,null,null,null,null,null,null,null,null,null,null,null,null,null,null,null,null,null,null,null,null,null,null,null,null,null,null,null,null,null,null,null,null,null,null,null,null,null,null,null,null,null,null,null,null,null,null,null,null,null,null,null,null,null,null,null,null,null,null,null,null,null,null,null,null,null,null,null,null,null,null,null,null,null,null,null,null,null,null,null,null,null,null,null,null,null,null,null,null,null,null,null,null,null,null,null,null,null,null,null,null,null,null,null,null,null,null,null,null,null,null,null,null,null,null,null,null,null,null,null,null,null,null,null,null,null,null,null,null,null,null,null,null,null,null,null,null,null,null,null,null,null,null,null,null,null,null,null,null,null,null,null,null,null,null,null,null,null,null,null,null,null,null,null,null,null,null,null,null,null,null,null,null,null,null,null,null,null,null,null,null,null,null,null,null,null,null,null,null,null,null,null,null,null,null,null,null,null,null,null,null,null,null,null,null,null,null,null,null,null,null,null,null,null,null,null,null,null,null,null,null,null,null,null,null,null,null,null,null,null,null,null,null,null,null,null,null,null,null,null,null,null,null,null,null,null,null,null,null,null,null,null,null,null,null,null,null,null,null,null,null,null,null,null,null,null,null,null,null,null,null,null,null,null,null,null,null,null,null,null,null,null,null,null,null,null,null,null,null,null,null,null,null,null,null,null,null,null,null,null,null,null,null,null,null,null,null,null,null,null,null,null,null,null,null,null,null,null,null,null,null,null,null,null,null,null,null,null,null,null,null,null,null,null,null,null,null,null,null,null,null,null,null,null,null,null,null,null,null,null,null,null,null,null,null,null,null,null,null,null,null,null,null,null,null,null,null,null,null,null,null,null,null,null,null,null,null,null,null,null,null,null,null,null,null,null,null,null,null,null,null,null,null,null,null,null,null,null,null,null,null,null,null,null,null,null,null,null,null,null,null,null,null,null,null,null,null,null,null,null,null,null,null,null,null,null,null,null,null,null,null,null,null,null,null,null,null,null,null,null,null,null,null,null,null,null,null,null,null,null,null,null,null,null,null,null,null,null,null,null,null,null,null,null,null,null,null,null,null,null,null,null,null,null,null,null,null,null,null,null,null,null,null,null,null,null,null,null,null,null,null,null,null,null,null,null,null,null,null,null,null,null,null,null,null,null,null,null,null,null,null,null,null,null,null,null,null,null,null,null,null,null,null,null,null,null,null,null,null,null,null,null,null,null,null,null,null,null,null,null,null,null,null,null,null,null,null,null,null,null,null,null,null,null,null,null,null,null,null,null,null,null,null,null,null,null,null,null,null,null,null,null,null,null,null,null,null,null,null,null,null,null,null,null,null,null,null,null,null,null,null,null,null,null,null,null,null,null,null,null,null,null,null,null,null,null,null,null,null,null,null,null,null,null,null,null,null,null,null,null,null,null,null,null,null,null,null,null,null,null,null,null,null,null,null,null,null,null,null,null,null,null,null,null,null,null,null,null,null,null,null,null,null,null,null,null,null,null,null,null,null,null,null,null,null,null,null,null,null,null,null,null,null,null,null,null,null,null,null,null,null,null,null,null,null,null,null,null,null,null,null,null,null,null,null,null,null,null,null,null,null,null,null,null,null,null,null,null,null,null,null,null,null,null,null,null,null,null,null,null,null,null,null,null,null,null,null,null,null,null,null,null,null,null,null,null,null,null,null,null,null,null,null,null,null,null,null,null,null,null,null,null,null,null,null,null,null,null,null,null,null,null,null,null,null,null,null,null,null,null,null,null,null,null,null,null,null,null,null,null,null,null,null,null,null,null,null,null,null,null,null,null,null,null,null,null,null,null,null,null,null,null,null,null,null,null,null,null,null,null,null,null,null,null,null,null,null,null,null,null,null,null,null,null,null,null,null,null,null,null,null,null,null,null,null,null,null,null,null,null,null,null,null,null,null,null,null,null,null,null,null,null,null,null,null,null,null,null,null,null,null,null,null,null,null,null,null,null,null,null,null,null,null,null,null,null,null,null,null,null,null,null,null,null,null,null,null,null,null,null,null,null,null,null,null,null,null,null,null,null,null,null,null,null,null,null,null,null,null,null,null,null,null,null,null,null,null,null,null,null,null,null,null,null,null,null,null,null,null,null,null,null,null,null,null,null,null,null,null,null,null,null,null,null,null,null,null,null,null,null,null,null,null,null,null,null,null,null,null,null,null,null,null,null,null,null,null,null,null,null,null,null,null,null,null,null,null,null,null,null,null,null,null,null,null,null,null,null,null,null,null,null,null,null,null,null,null,null,null,null,null,null,null,null,null,null,null,null,null,null,null,null,null,null,null,null,null,null,null,null,null,null,null,null,null,null,null,null,null,null,null,null,null,null,null,null,null,null,null,null,null,null,null,null,null,null,null,null,null,null,null,null,null,null,null,null,null,null,null,null,null,null,null,null,null,null,null,null,null,null,null,null,null,null,null,null,null,null,null,null,null,null,null,null,null,null,null,null,null,null,null,null,null,null,null,null,null,null,null,null,null,null,null,null,null,null,null,null,null,null,null,null,null,null,null,null,null,null,null,null,null,null,null,null,null,null,null,null,null,null,null,null,null,null,null,null,null,null,null,null,null,null,null,null,null,null,null,null,null,null,null,null,null,null,null,null,null,null,null,null,null,null,null,null,null,null,null,null,null,null,null,null,null,null,null,null,null,null,null,null,null,null,null,null,null,null,null,null,null,null,null,null,null,null,null,null,null,null,null,null,null,null,null,null,null,null,null,null,null,null,null,null,null,null,null,null,null,null,null,null,null,null,null,null,null,null,null,null,null,null,null,null,null,null,null,null,null,null,null,null,null,null,null,null,null,null,null,null,null,null,null,null,null,null,null,null,null,null,null,null,null,null,null,null,null,null,null,null,null,null,null,null,null,null,null,null,null,null,null,null,null,null,null,null,null,null,null,null,null,null,null,null,null,null,null,null,null,null,null,null,null,null,null,null,null,null,null,null,null,null,null,null,null,null,null,null,null,null,null,null,null,null,null,null,null,null,null,null,null,null,null,null,null,null,null,null,null,null,null,null,null,null,null,null,null,null,null,null,null,null,null,null,null,null,null,null,null,null,null,null,null,null,null,null,null,null,null,null,null,null,null,null,null,null,null,null,null,null,null,null,null,null,null,null,null,null,null,null,null,null,null,null,null,null,null,null,null,null,null,null,null,null,null,null,null,null,null,null,null,null,null,null,null,null,null,null,null,null,null,null,null,null,null,null,null,null,null,null,null,null,null,null,null,null,null,null,null,null,null,null,null,null,null,null,null,null,null,null,null,null,null,null,null,null,null,null,null,null,null,null,null,null,null,null,null,null,null,null,null,null,null,null,null,null,null,null,null,null,null,null,null,null,null,null,null,null,null,null,null,null,null,null,null,null,null,null,null,null,null,null,null,null,null,null,null,null,null,null,null,null,null,null,null,null,null,null,null,null,null,null,null,null,null,null,null,null,null,null,null,null,null,null,null,null,null,null,null,null,null,null,null,null,null,null,null,null,null,null,null,null,null,null,null,null,null,null,null,null,null,null,null,null,null,null,null,null,null,null,null,null,null,null,null,null,null,null,null,null,null,null,null,null,null,null,null,null,null,null,null,null,null,null,null,null,null,null,null,null,null,null,null,null,null,null,null,null,null,null,null,null,null,null,null,null,null,null,null,null,null,null,null,null,null,null,null,null,null,null,null,null,null,null,null,null,null,null,null,null,null,null,null,null,null,null,null,null,null,null,null,null,null,null,null,null,null,null,null,null,null,null,null,null,null,null,null,null,null,null,null,null,null,null,null,null,null,null,null,null,null,null,null,null,null,null,null,null,null,null,null,null,null,null,null,null,null,null,null,null,null,null,null,null,null,null,null,null,null,null,null,null,null,null,null,null,null,null,null,null,null,null,null,null,null,null,null,null,null,null,null,null,null,null,null,null,null,null,null,null,null,null,null,null,null,null,null,null,null,null,null,null,null,null,null,null,null,null,null,null,null,null,null,null,null,null,null,null,null,null,null,null,null,null,null,null,null,null,null,null,null,null,null,null,null,null,null,null,null,null,null,null,null,null,null,null,null,null,null,null,null,null,null,null,null,null,null,null,null,null,null,null,null,null,null,null,null,null,null,null,null,null,null,null,null,null,null,null,null,null,null,null,null,null,null,null,null,null,null,null,null,null,null,null,null,null,null,null,null,null,null,null,null,null,null,null,null,null,null,null,null,null,null,null,null,null,null,null,null,null,null,null,null,null,null,null,null,null,null,null,null,null,null,null,null,null,null,null,null,null,null,null,null,null,null,null,null,null,null,null,null,null,null,null,null,null,null,null,null,null,null,null,null,null,null,null,null,null,null,null,null,null,null,null,null,null,null,null,null,null,null,null,null,null,null,null,null,null,null,null,null,null,null,null,null,null,null,null,null,null,null,null,null,null,null,null,null,null,null,null,null,null,null,null,null,null,null,null,null,null,null,null,null,null,null,null,null,null,null,null,null,null,null,null,null,null,null,null,null,null,null,null,null,null,null,null,null,null,null,null,null,null,null,null,null,null,null,null,null,null,null,null,null,null,null,null,null,null,null,null,null,null,null,null,null,null,null,null,null,null,null,null,null,null,null,null,null,null,null,null,null,null,null,null,null,null,null,null,null,null,null,null,null,null,null,null,null,null,null,null,null,null,null,null,null,null,null,null,null,null,null,null,null,null,null,null,null,null,null,null,null,null,null,null,null,null,null,null,null,null,null,null,null,null,null,null,null,null,null,null,null,null,null,null,null,null,null,null,null,null,null,null,null,null,null,null,null,null,null,null,null,null,null,null,null,null,null,null,null,null,null,null,null,null,null,null,null,null,null,null,null,null,null,null,null,null,null,null,null,null,null,null,null,null,null,null,null,null,null,null,null,null,null,null,null,null,null,null,null,null,null,null,null,null,null,null,null,null,null,null,null,null,null,null,null,null,null,null,null,null,null,null,null,null,null,null,null,null,null,null,null,null,null,null,null,null,null,null,null,null,null,null,null,null,null,null,null,null,null,null,null,null,null,null,null,null,null,null,null,null,null,null,null,null,null,null,null,null,null,null,null,null,null,null,null,null,null,null,null,null,null,null,null,null,null,null,null,null,null,null,null,null,null,null,null,null,null,null,null,null,null,null,null,null,null,null,null,null,null,null,null,null,null,null,null,null,null,null,null,null,null,null,null,null,null,null,null,null,null,null,null,null,null,null,null,null,null,null,null,null,null,null,null,null,null,null,null,null,null,null,null,null,null,null,null,null,null,null,null,null,null,null,null,null,null,null,null,null,null,null,null,null,null,null,null,null,null,null,null,null,null,null,null,null,null,null,null,null,null,null,null,null,null,null,null,null,null,null,null,null,null,null,null,null,null,null,null,null,null,null,null,null,null,null,null,null,null,null,null,null,null,null,null,null,null,null,null,null,null,null,null,null,null,null,null,null,null,null,null,null,null,null,null,null,null,null,null,null,null,null,null,null,null,null,null,null,null,null,null,null,null,null,null,null,null,null,null,null,null,null,null,null,null,null,null,null,null,null,null,null,null,null,null,null,null,null,null,null,null,null,null,null,null,null,null,null,null,null,null,null,null,null,null,null,null,null,null,null,null,null,null,null,null,null,null,null,null,null,null,null,null,null,null,null,null,null,null,null,null,null,null,null,null,null,null,null,null,null,null,null,null,null,null,null,null,null,null,null,null,null,null,null,null,null,null,null,null,null,null,null,null,null,null,null,null,null,null,null,null,null,null,null,null,null,null,null,null,null,null,null,null,null,null,null,null,null,null,null,null,null,null,null,null,null,null,null,null,null,null,null,null,null,null,null,null,null,null,null,null,null,null,null,null,null,null,null,null,null,null,null,null,null,null,null,null,null,null,null,null,null,null,null,null,null,null,null,null,null,null,null,null,null,null,null,null,null,null,null,null,null,null,null,null,null,null,null,null,null,null,null,null,null,null,null,null,null,null,null,null,null,null,null,null,null,null,null,null,null,null,null,null,null,null,null,null,null,null,null,null,null,null,null,null,null,null,null,null,null,null,null,null,null,null,null,null,null,null,null,null,null,null,null,null,null,null,null,null,null,null,null,null,null,null,null,null,null,null,null,null,null,null,null,null,null,null,null,null,null,null,null,null,null,null,null,null,null,null,null,null,null,null,null,null,null,null,null,null,null,null,null,null,null,null,null,null,null,null,null,null,null,null,null,null,null,null,null,null,null,null,null,null,null,null,null,null,null,null,null,null,null,null,null,null,null,null,null,null,null,null,null,null,null,null,null,null,null,null,null,null,null,null,null,null,null,null,null,null,null,null,null,null,null,null,null,null,null,null,null,null,null,null,null,null,null,null,null,null,null,null,null,null,null,null,null,null,null,null,null,null,null,null,null,null,null,null,null,null,null,null,null,null,null,null,null,null,null,null,null,null,null,null,null,null,null,null,null,null,null,null,null,null,null,null,null,null,null,null,null,null,null,null,null,null,null,null,null,null,null,null,null,null,null,null,null,null,null,null,null,null,null,null,null,null,null,null,null,null,null,null,null,null,null,null,null,null,null,null,null,null,null,null,null,null,null,null,null,null,null,null,null,null,null,null,null,null,null,null,null,null,null,null,null,null,null,null,null,null,null,null,null,null,null,null,null,null,null,null,null,null,null,null,null,null,null,null,null,null,null,null,null,null,null,null,null,null,null,null,null,null,null,null,null,null,null,null,null,null,null,null,null,null,null,null,null,null,null,null,null,null,null,null,null,null,null,null,null,null,null,null,null,null,null,null,null,null,null,null,null,null,null,null,null,null,null,null,null,null,null,null,null,null,null,null,null,null,null,null,null,null,null,null,null,null,null,null,null,null,null,null,null,null,null,null,null,null,null,null,null,null,null,null,null,null,null,null,null,null,null,null,null,null,null,null,null,null,null,null,null,null,null,null,null,null,null,null,null,null,null,null,null,null,null,null,null,null,null,null,null,null,null,null,null,null,null,null,null,null,null,null,null,null,null,null,null,null,null,null,null,null,null,null,null,null,null,null,null,null,null,null,null,null,null,null,null,null,null,null,null,null,null,null,null,null,null,null,null,null,null,null,null,null,null,null,null,null,null,null,null,null,null,null,null,null,null,null,null,null,null,null,null,null,null,null,null,null,null,null,null,null,null,null,null,null,null,null,null,null,null,null,null,null,null,null,null,null,null,null,null,null,null,null,null,null,null,null,null,null,null,null,null,null,null,null,null,null,null,null,null,null,null,null,null,null,null,null,null,null,null,null,null,null,null,null,null,null,null,null,null,null,null,null,null,null,null,null,null,null,null,null,null,null,null,null,null,null,null,null,null,null,null,null,null,null,null,null,null,null,null,null,null,null,null,null,null,null,null,null,null,null,null,null,null,null,null,null,null,null,null,null,null,null,null,null,null,null,null,null,null,null,null,null,null,null,null,null,null,null,null,null,null,null,null,null,null,null,null,null,null,null,null,null,null,null,null,null,null,null,null,null,null,null,null,null,null,null,null,null,null,null,null,null,null,null,null,null,null,null,null,null,null,null,null,null,null,null,null,null,null,null,null,null,null,null,null,null,null,null,null,null,null,null,null,null,null,null,null,null,null,null,null,null,null,null,null,null,null,null,null,null,null,null,null,null,null,null,null,null,null,null,null,null,null,null,null,null,null,null,null,null,null,null,null,null,null,null,null,null,null,null,null,null,null,null,null,null,null,null,null,null,null,null,null,null,null,null,null,null,null,null,null,null,null,null,null,null,null,null,null,null,null,null,null,null,null,null,null,null,null,null,null,null,null,null,null,null,null,null,null,null,null,null,null,null,null,null,null,null,null,null,null,null,null,null,null,null,null,null,null,null,null,null,null,null,null,null,null,null,null,null,null,null,null,null,null,null,null,null,null,null,null,null,null,null,null,null,null,null,null,null,null,null,null,null,null,null,null,null,null,null,null,null,null,null,null,null,null,null,null,null,null,null,null,null,null,null,null,null,null,null,null,null,null,null,null,null,null,null,null,null,null,null,null,null,null,null,null,null,null,null,null,null,null,null,null,null,null,null,null,null,null,null,null,null,null,null,null,null,null,null,null,null,null,null,null,null,null,null,null,null,null,null,null,null,null,null,null,null,null,null,null,null,null,null,null,null,null,null,null,null,null,null,null,null,null,null,null,null,null,null,null,null,null,null,null,null,null,null,null,null,null,null,null,null,null,null,null,null,null,null,null,null,null,null,null,null,null,null,null,null,null,null,null,null,null,null,null,null,null,null,null,null,null,null,null,null,null,null,null,null,null,null,null,null,null,null,null,null,null,null,null,null,null,null,null,null,null,null,null,null,null,null,null,null,null,null,null,null,null,null,null,null,null,null,null,null,null,null,null,null,null,null,null,null,null,null,null,null,null,null,null,null,null,null,null,null,null,null,null,null,null,null,null,null,null,null,null,null,null,null,null,null,null,null,null,null,null,null,null,null,null,null,null,null,null,null,null,null,null,null,null,null,null,null,null,null,null,null,null,null,null,null,null,null,null,null,null,null,null,null,null,null,null,null,null,null,null,null,null,null,null,null,null,null,null,null,null,null,null,null,null,null,null,null,null,null,null,null,null,null,null,null,null,null,null,null,null,null,null,null,null,null,null,null,null,null,null,null,null,null,null,null,null,null,null,null,null,null,null,null,null,null,null,null,null,null,null,null,null,null,null,null,null,null,null,null,null,null,null,null,null,null,null,null,null,null,null,null,null,null,null,null,null,null,null,null,null,null,null,null,null,null,null,null,null,null,null,null,null,null,null,null,null,null,null,null,null,null,null,null,null,null,null,null,null,null,null,null,null,null,null,null,null,null,null,null,null,null,null,null,null,null,null,null,null,null,null,null,null,null,null,null,null,null,null,null,null,null,null,null,null,null,null,null,null,null,null,null,null,null,null,null,null,null,null,null,null,null,null,null,null,null,null,null,null,null,null,null,null,null,null,null,null,null,null,null,null,null,null,null,null,null,null,null,null,null,null,null,null,null,null,null,null,null,null,null,null,null,null,null,null,null,null,null,null,null,null,null,null,null,null,null,null,null,null,null,null,null,null,null,null,null,null,null,null,null,null,null,null,null,null,null,null,null,null,null,null,null,null,null,null,null,null,null,null,null,null,null,null,null,null,null,null,null,null,null,null,null,null,null,null,null,null,null,null,null,null,null,null,null,null,null,null,null,null,null,null,null,null,null,null,null,null,null,null,null,null,null,null,null,null,null,null,null,null,null,null,null,null,null,null,null,null,null,null,null,null,null,null,null,null,null,null,null,null,null,null,null,null,null,null,null,null,null,null,null,null,null,null,null,null,null,null,null,null,null,null,null,null,null,null,null,null,null,null,null,null,null,null,null,null,null,null,null,null,null,null,null,null,null,null,null,null,null,null,null,null,null,null,null,null,null,null,null,null,null,null,null,null,null,null,null,null,null,null,null,null,null,null,null,null,null,null,null,null,null,null,null,null,null,null,null,null,null,null,null,null,null,null,null,null,null,null,null,null,null,null,null,null,null,null,null,null,null,null,null,null,null,null,null,null,null,null,null,null,null,null,null,null,null,null,null,null,null,null,null,null,null,null,null,null,null,null,null,null,null,null,null,null,null,null,null,null,null,null,null,null,null,null,null,null,null,null,null,null,null,null,null,null,null,null,null,null,null,null,null,null,null,null,null,null,null,null,null,null,null,null,null,null,null,null,null,null,null,null,null,null,null,null,null,null,null,null,null,null,null,null,null,null,null,null,null,null,null,null,null,null,null,null,null,null,null,null,null,null,null,null,null,null,null,null,null,null,null,null,null,null,null,null,null,null,null,null,null,null,null,null,null,null,null,null,null,null,null,null,null,null,null,null,null,null,null,null,null,null,null,null,null,null,null,null,null,null,null,null,null,null,null,null,null,null,null,null,null,null,null,null,null,null,null,null,null,null,null,null,null,null,null,null,null,null,null,null,null,null,null,null,null,null,null,null,null,null,null,null,null,null,null,null,null,null,null,null,null,null,null,null,null,null,null,null,null,null,null,null,null,null,null,null,null,null,null,null,null,null,null,null,null,null,null,null,null,null,null,null,null,null,null,null,null,null,null,null,null,null,null,null,null,null,null,null,null,null,null,null,null,null,null,null,null,null,null,null,null,null,null,null,null,null,null,null,null,null,null,null,null,null,null,null,null,null,null,null,null,null,null,null,null,null,null,null,null,null,null,null,null,null,null,null,null,null,null,null,null,null,null,null,null,null,null,null,null,null,null,null,null,null,null,null,null,null,null,null,null,null,null,null,null,null,null,null,null,null,null,null,null,null,null,null,null,null,null,null,null,null,null,null,null,null,null,null,null,null,null,null,null,null,null,null,null,null,null,null,null,null,null,null,null,null,null,null,null,null,null,null,null,null,null,null,null,null,null,null,null,null,null,null,null,null,null,null,null,null,null,null,null,null,null,null,null,null,null,null,null,null,null,null,null,null,null,null,null,null,null,null,null,null,null,null,null,null,null,null,null,null,null,null,null,null,null,null,null,null,null,null,null,null,null,null,null,null,null,null,null,null,null,null,null,null,null,null,null,null,null,null,null,null,null,null,null,null,null,null,null,null,null,null,null,null,null,null,null,null,null,null,null,null,null,null,null,null,null,null,null,null,null,null,null,null,null,null,null,null,null,null,null,null,null,null,null,null,null,null,null,null,null,null,null,null,null,null,null,null,null,null,null,null,null,null,null,null,null,null,null,null,null,null,null,null,null,null,null,null,null,null,null,null,null,null,null,null,null,null,null,null,null,null,null,null,null,null,null,null,null,null,null,null,null,null,null,null,null,null,null,null,null,null,null,null,null,null,null,null,null,null,null,null,null,null,null,null,null,null,null,null,null,null,null,null,null,null,null,null,null,null,null,null,null,null,null,null,null,null,null,null,null,null,null,null,null,null,null,null,null,null,null,null,null,null,null,null,null,null,null,null,null,null,null,null,null,null,null,null,null,null,null,null,null,null,null,null,null,null,null,null,null,null,null,null,null,null,null,null,null,null,null,null,null,null,null,null,null,null,null,null,null,null,null,null,null,null,null,null,null,null,null,null,null,null,null,null,null,null,null,null,null,null,null,null,null,null,null,null,null,null,null,null,null,null,null,null,null,null,null,null,null,null,null,null,null,null,null,null,null,null,null,null,null,null,null,null,null,null,null,null,null,null,null,null,null,null,null,null,null,null,null,null,null,null,null,null,null,null,null,null,null,null,null,null,null,null,null,null,null,null,null,null,null,null,null,null,null,null,null,null,null,null,null,null,null,null,null,null,null,null,null,null,null,null,null,null,null,null,null,null,null,null,null,null,null,null,null,null,null,null,null,null,null,null,null,null,null,null,null,null,null,null,null,null,null,null,null,null,null,null,null,null,null,null,null,null,null,null,null,null,null,null,null,null,null,null,null,null,null,null,null,null,null,null,null,null,null,null,null,null,null,null,null,null,null,null,null,null,null,null,null,null,null,null,null,null,null,null,null,null,null,null,null,null,null,null,null,null,null,null,null,null,null,null,null,null,null,null,null,null,null,null,null,null,null,null,null,null,null,null,null,null,null,null,null,null,null,null,null,null,null,null,null,null,null,null,null,null,null,null,null,null,null,null,null,null,null,null,null,null,null,null,null,null,null,null,null,null,null,null,null,null,null,null,null,null,null,null,null,null,null,null,null,null,null,null,null,null,null,null,null,null,null,null,null,null,null,null,null,null,null,null,null,null,null,null,null,null,null,null,null,null,null,null,null,null,null,null,null,null,null,null,null,null,null,null,null,null,null,null,null,null,null,null,null,null,null,null,null,null,null,null,null,null,null,null,null,null,null,null,null,null,null,null,null,null,null,null,null,null,null,null,null,null,null,null,null,null,null,null,null,null,null,null,null,null,null,null,null,null,null,null,null,null,null,null,null,null,null,null,null,null,null,null,null,null,null,null,null,null,null,null,null,null,null,null,null,null,null,null,null,null,null,null,null,null,null,null,null,null,null,null,null,null,null,null,null,null,null,null,null,null,null,null,null,null,null,null,null,null,null,null,null,null,null,null,null,null,null,null,null,null,null,null,null,null,null,null,null,null,null,null,null,null,null,null,null,null,null,null,null,null,null,null,null,null,null,null,null,null,null,null,null,null,null,null,null,null,null,null,null,null,null,null,null,null,null,null,null,null,null,null,null,null,null,null,null,null,null,null,null,null,null,null,null,null,null,null,null,null,null,null,null,null,null,null,null,null,null,null,null,null,null,null,null,null,null,null,null,null,null,null,null,null,null,null,null,null,null,null,null,null,null,null,null,null,null,null,null,null,null,null,null,null,null,null,null,null,null,null,null,null,null,null,null,null,null,null,null,null,null,null,null,null,null,null,null,null,null,null,null,null,null,null,null,null,null,null,null,null,null,null,null,null,null,null,null,null,null,null,null,null,null,null,null,null,null,null,null,null,null,null,null,null,null,null,null,null,null,null,null,null,null,null,null,null,null,null,null,null,null,null,null,null,null,null,null,null,null,null,null,null,null,null,null,null,null,null,null,null,null,null,null,null,null,null,null,null,null,null,null,null,null,null,null,null,null,null,null,null,null,null,null,null,null,null,null,null,null,null,null,null,null,null,null,null,null,null,null,null,null,null,null,null,null,null,null,null,null,null,null,null,null,null,null,null,null,null,null,null,null,null,null,null,null,null,null,null,null,null,null,null,null,null,null,null,null,null,null,null,null,null,null,null,null,null,null,null,null,null,null,null,null,null,null,null,null,null,null,null,null,null,null,null,null,null,null,null,null,null,null,null,null,null,null,null,null,null,null,null,null,null,null,null,null,null,null,null,null,null,null,null,null,null,null,null,null,null,null,null,null,null,null,null,null,null,null,null,null,null,null,null,null,null,null,null,null,null,null,null,null,null,null,null,null,null,null,null,null,null,null,null,null,null,null,null,null,null,null,null,null,null,null,null,null,null,null,null,null,null,null,null,null,null,null,null,null,null,null,null,null,null,null,null,null,null,null,null,null,null,null,null,null,null,null,null,null,null,null,null,null,null,null,null,null,null,null,null,null,null,null,null,null,null,null,null,null,null,null,null,null,null,null,null,null,null,null,null,null,null,null,null,null,null,null,null,null,null,null,null,null,null,null,null,null,null,null,null,null,null,null,null,null,null,null,null,null,null,null,null,null,null,null,null,null,null,null,null,null,null,null,null,null,null,null,null,null,null,null,null,null,null,null,null,null,null,null,null,null,null,null,null,null,null,null,null,null,null,null,null,null,null,null,null,null,null,null,null,null,null,null,null,null,null,null,null,null,null,null,null,null,null,null,null,null,null,null,null,null,null,null,null,null,null,null,null,null,null,null,null,null,null,null,null,null,null,null,null,null,null,null,null,null,null,null,null,null,null,null,null,null,null,null,null,null,null,null,null,null,null,null,null,null,null,null,null,null,null,null,null,null,null,null,null,null,null,null,null,null,null,null,null,null,null,null,null,null,null,null,null,null,null,null,null,null,null,null,null,null,null,null,null,null,null,null,null,null,null,null,null,null,null,null,null,null,null,null,null,null,null,null,null,null,null,null,null,null,null,null,null,null,null,null,null,null,null,null,null,null,null,null,null,null,null,null,null,null,null,null,null,null,null,null,null,null,null,null,null,null,null,null,null,null,null,null,null,null,null,null,null,null,null,null,null,null,null,null,null,null,null,null,null,null,null,null,null,null,null,null,null,null,null,null,null,null,null,null,null,null,null,null,null,null,null,null,null,null,null,null,null,null,null,null,null,null,null,null,null,null,null,null,null,null,null,null,null,null,null,null,null,null,null,null,null,null,null,null,null,null,null,null,null,null,null,null,null,null,null,null,null,null,null,null,null,null,null,null,null,null,null,null,null,null,null,null,null,null,null,null,null,null,null,null,null,null,null,null,null,null,null,null,null,null,null,null,null,null,null,null,null,null,null,null,null,null,null,null,null,null,null,null,null,null,null,null,null,null,null,null,null,null,null,null,null,null,null,null,null,null,null,null,null,null,null,null,null,null,null,null,null,null,null,null,null,null,null,null,null,null,null,null,null,null,null,null,null,null,null,null,null,null,null,null,null,null,null,null,null,null,null,null,null,null,null,null,null,null,null,null,null,null,null,null,null,null,null,null,null,null,null,null,null,null,null,null,null,null,null,null,null,null,null,null,null,null,null,null,null,null,null,null,null,null,null,null,null,null,null,null,null,null,null,null,null,null,null,null,null,null,null,null,null,null,null,null,null,null,null,null,null,null,null,null,null,null,null,null,null,null,null,null,null,null,null,null,null,null,null,null,null,null,null,null,null,null,null,null,null,null,null,null,null,null,null,null,null,null,null,null,null,null,null,null,null,null,null,null,null,null,null,null,null,null,null,null,null,null,null,null,null,null,null,null,null,null,null,null,null,null,null,null,null,null,null,null,null,null,null,null,null,null,null,null,null,null,null,null,null,null,null,null,null,null,null,null,null,null,null,null,null,null,null,null,null,null,null,null,null,null,null,null,null,null,null,null,null,null,null,null,null,null,null,null,null,null,null,null,null,null,null,null,null,null,null,null,null,null,null,null,null,null,null,null,null,null,null,null,null,null,null,null,null,null,null,null,null,null,null,null,null,null,null,null,null,null,null,null,null,null,null,null,null,null,null,null,null,null,null,null,null,null,null,null,null,null,null,null,null,null,null,null,null,null,null,null,null,null,null,null,null,null,null,null,null,null,null,null,null,null,null,null,null,null,null,null,null,null,null,null,null,null,null,null,null,null,null,null,null,null,null,null,null,null,null,null,null,null,null,null,null,null,null,null,null,null,null,null,null,null,null,null,null,null,null,null,null,null,null,null,null,null,null,null,null,null,null,null,null,null,null,null,null,null,null,null,null,null,null,null,null,null,null,null,null,null,null,null,null,null,null,null,null,null,null,null,null,null,null,null,null,null,null,null,null,null,null,null,null,null,null,null,null,null,null,null,null,null,null,null,null,null,null,null,null,null,null,null,null,null,null,null,null,null,null,null,null,null,null,null,null,null,null,null,null,null,null,null,null,null,null,null,null,null,null,null,null,null,null,null,null,null,null,null,null,null,null,null,null,null,null,null,null,null,null,null,null,null,null,null,null,null,null,null,null,null,null,null,null,null,null,null,null,null,null,null,null,null,null,null,null,null,null,null,null,null,null,null,null,null,null,null,null,null,null,null,null,null,null,null,null,null,null,null,null,null,null,null,null,null,null,null,null,null,null,null,null,null,null,null,null,null,null,null,null,null,null,null,null,null,null,null,null,null,null,null,null,null,null,null,null,null,null,null,null,null,null,null,null,null,null,null,null,null,null,null,null,null,null,null,null,null,null,null,null,null,null,null,null,null,null,null,null,null,null,null,null,null,null,null,null,null,null,null,null,null,null,null,null,null,null,null,null,null,null,null,null,null,null,null,null,null,null,null,null,null,null,null,null,null,null,null,null,null,null,null,null,null,null,null,null,null,null,null,null,null,null,null,null,null,null,null,null,null,null,null,null,null,null,null,null,null,null,null,null,null,null,null,null,null,null,null,null,null,null,null,null,null,null,null,null,null,null,null,null,null,null,null,null,null,null,null,null,null,null,null,null,null,null,null,null,null,null,null,null,null,null,null,null,null,null,null,null,null,null,null,null,null,null,null,null,null,null,null,null,null,null,null,null,null,null,null,null,null,null,null,null,null,null,null,null,null,null,null,null,null,null,null,null,null,null,null,null,null,null,null,null,null,null,null,null,null,null,null,null,null,null,null,null,null,null,null,null,null,null,null,null,null,null,null,null,null,null,null,null,null,null,null,null,null,null,null,null,null,null,null,null,null,null,null,null,null,null,null,null,null,null,null,null,null,null,null,null,null,null,null,null,null,null,null,null,null,null,null,null,null,null,null,null,null,null,null,null,null,null,null,null,null,null,null,null,null,null,null,null,null,null,null,null,null,null,null,null,null,null,null,null,null,null,null,null,null,null,null,null,null,null,null,null,null,null,null,null,null,null,null,null,null,null,null,null,null,null,null,null,null,null,null,null,null,null,null,null,null,null,null,null,null,null,null,null,null,null,null,null,null,null,null,null,null,null,null,null,null,null,null,null,null,null,null,null,null,null,null,null,null,null,null,null,null,null,null,null,null,null,null,null,null,null,null,null,null,null,null,null,null,null,null,null,null,null,null,null,null,null,null,null,null,null,null,null,null,null,null,null,null,null,null,null,null,null,null,null,null,null,null,null,null,null,null,null,null,null,null,null,null,null,null,null,null,null,null,null,null,null,null,null,null,null,null,null,null,null,null,null,null,null,null,null,null,null,null,null,null,null,null,null,null,null,null,null,null,null,null,null,null,null,null,null,null,null,null,null,null,null,null,null,null,null,null,null,null,null,null,null,null,null,null,null,null,null,null,null,null,null,null,null,null,null,null,null,null,null,null,null,null,null,null,null,null,null,null,null,null,null,null,null,null,null,null,null,null,null,null,null,null,null,null,null,null,null,null,null,null,null,null,null,null,null,null,null,null,null,null,null,null,null,null,null,null,null,null,null,null,null,null,null,null,null,null,null,null,null,null,null,null,null,null,null,null,null,null,null,null,null,null,null,null,null,null,null,null,null,null,null,null,null,null,null,null,null,null,null,null,null,null,null,null,null,null,null,null,null,null,null,null,null,null,null,null,null,null,null,null,null,null,null,null,null,null,null,null,null,null,null,null,null,null,null,null,null,null,null,null,null,null,null,null,null,null,null,null,null,null,null,null,null,null,null,null,null,null,null,null,null,null,null,null,null,null,null,null,null,null,null,null,null,null,null,null,null,null,null,null,null,null,null,null,null,null,null,null,null,null,null,null,null,null,null,null,null,null,null,null,null,null,null,null,null,null,null,null,null,null,null,null,null,null,null,null,null,null,null,null,null,null,null,null,null,null,null,null,null,null,null,null,null,null,null,null,null,null,null,null,null,null,null,null,null,null,null,null,null,null,null,null,null,null,null,null,null,null,null,null,null,null,null,null,null,null,null,null,null,null,null,null,null,null,null,null,null,null,null,null,null,null,null,null,null,null,null,null,null,null,null,null,null,null,null,null,null,null,null,null,null,null,null,null,null,null,null,null,null,null,null,null,null,null,null,null,null,null,null,null,null,null,null,null,null,null,null,null,null,null,null,null,null,null,null,null,null,null,null,null,null,null,null,null,null,null,null,null,null,null,null,null,null,null,null,null,null,null,null,null,null,null,null,null,null,null,null,null,null,null,null,null,null,null,null,null,null,null,null,null,null,null,null,null,null,null,null,null,null,null,null,null,null,null,null,null,null,null,null,null,null,null,null,null,null,null,null,null,null,null,null,null,null,null,null,null,null,null,null,null,null,null,null,null,null,null,null,null,null,null,null,null,null,null,null,null,null,null,null,null,null,null,null,null,null,null,null,null,null,null,null,null,null,null,null,null,null,null,null,null,null,null,null,null,null,null,null,null,null,null,null,null,null,null,null,null,null,null,null,null,null,null,null,null,null,null,null,null,null,null,null,null,null,null,null,null,null,null,null,null,null,null,null,null,null,null,null,null,null,null,null,null,null,null,null,null,null,null,null,null,null,null,null,null,null,null,null,null,null,null,null,null,null,null,null,null,null,null,null,null,null,null,null,null,null,null,null,null,null,null,null,null,null,null,null,null,null,null,null,null,null,null,null,null,null,null,null,null,null,null,null,null,null,null,null,null,null,null,null,null,null,null,null,null,null,null,null,null,null,null,null,null,null,null,null,null,null,null,null,null,null,null,null,null,null,null,null,null,null,null,null,null,null,null,null,null,null,null,null,null,null,null,null,null,null,null,null,null,null,null,null,null,null,null,null,null,null,null,null,null,null,null,null,null,null,null,null,null,null,null,null,null,null,null,null,null,null,null,null,null,null,null,null,null,null,null,null,null,null,null,null,null,null,null,null,null,null,null,null,null,null,null,null,null,null,null,null,null,null,null,null,null,null,null,null,null,null,null,null,null,null,null,null,null,null,null,null,null,null,null,null,null,null,null,null,null,null,null,null,null,null,null,null,null,null,null,null,null,null,null,null,null,null,null,null,null,null,null,null,null,null,null,null,null,null,null,null,null,null,null,null,null,null,null,null,null,null,null,null,null,null,null,null,null,null,null,null,null,null,null,null,null,null,null,null,null,null,null,null,null,null,null,null,null,null,null,null,null,null,null,null,null,null,null,null,null,null,null,null,null,null,null,null,null,null,null,null,null,null,null,null,null,null,null,null,null,null,null,null,null,null,null,null,null,null,null,null,null,null,null,null,null,null,null,null,null,null,null,null,null,null,null,null,null,null,null,null,null,null,null,null,null,null,null,null,null,null,null,null,null,null,null,null,null,null,null,null,null,null,null,null,null,null,null,null,null,null,null,null,null,null,null,null,null,null,null,null,null,null,null,null,null,null,null,null,null,null,null,null,null,null,null,null,null,null,null,null,null,null,null,null,null,null,null,null,null,null,null,null,null,null,null,null,null,null,null,null,null,null,null,null,null,null,null,null,null,null,null,null,null,null,null,null,null,null,null,null,null,null,null,null,null,null,null,null,null,null,null,null,null,null,null,null,null,null,null,null,null,null,null,null,null,null,null,null,null,null,null,null,null,null,null,null,null,null,null,null,null,null,null,null,null,null,null,null,null,null,null,null,null,null,null,null,null,null,null,null,null,null,null,null,null,null,null,null,null,null,null,null,null,null,null,null,null,null,null,null,null,null,null,null,null,null,null,null,null,null,null,null,null,null,null,null,null,null,null,null,null,null,null,null,null,null,null,null,null,null,null,null,null,null,null,null,null,null,null,null,null,null,null,null,null,null,null,null,null,null,null,null,null,null,null,null,null,null,null,null,null,null,null,null,null,null,null,null,null,null,null,null,null,null,null,null,null,null,null,null,null,null,null,null,null,null,null,null,null,null,null,null,null,null,null,null,null,null,null,null,null,null,null,null,null,null,null,null,null,null,null,null,null,null,null,null,null,null,null,null,null,null,null,null,null,null,null,null,null,null,null,null,null,null,null,null,null,null,null,null,null,null,null,null,null,null,null,null,null,null,null,null,null,null,null,null,null,null,null,null,null,null,null,null,null,null,null,null,null,null,null,null,null,null,null,null,null,null,null,null,null,null,null,null,null,null,null,null,null,null,null,null,null,null,null,null,null,null,null,null,null,null,null,null,null,null,null,null,null,null,null,null,null,null,null,null,null,null,null,null,null,null,null,null,null,null,null,null,null,null,null,null,null,null,null,null,null,null,null,null,null,null,null,null,null,null,null,null,null,null,null,null,null,null,null,null,null,null,null,null,null,null,null,null,null,null,null,null,null,null,null,null,null,null,null,null,null,null,null,null,null,null,null,null,null,null,null,null,null,null,null,null,null,null,null,null,null,null,null,null,null,null,null,null,null,null,null,null,null,null,null,null,null,null,null,null,null,null,null,null,null,null,null,null,null,null,null,null,null,null,null,null,null,null,null,null,null,null,null,null,null,null,null,null,null,null,null,null,null,null,null,null,null,null,null,null,null,null,null,null,null,null,null,null,null,null,null,null,null,null,null,null,null,null,null,null,null,null,null,null,null,null,null,null,null,null,null,null,null,null,null,null,null,null,null,null,null,null,null,null,null,null,null,null,null,null,null,null,null,null,null,null,null,null,null,null,null,null,null,null,null,null,null,null,null,null,null,null,null,null,null,null,null,null,null,null,null,null,null,null,null,null,null,null,null,null,null,null,null,null,null,null,null,null,null,null,null,null,null,null,null,null,null,null,null,null,null,null,null,null,null,null,null,null,null,null,null,null,null,null,null,null,null,null,null,null,null,null,null,null,null,null,null,null,null,null,null,null,null,null,null,null,null,null,null,null,null,null,null,null,null,null,null,null,null,null,null,null,null,null,null,null,null,null,null,null,null,null,null,null,null,null,null,null,null,null,null,null,null,null,null,null,null,null,null,null,null,null,null,null,null,null,null,null,null,null,null,null,null,null,null,null,null,null,null,null,null,null,null,null,null,null,null,null,null,null,null,null,null,null,null,null,null,null,null,null,null,null,null,null,null,null,null,null,null,null,null,null,null,null,null,null,null,null,null,null,null,null,null,null,null,null,null,null,null,null,null,null,null,null,null,null,null,null,null,null,null,null,null,null,null,null,null,null,null,null,null,null,null,null,null,null,null,null,null,null,null,null,null,null,null,null,null,null,null,null,null,null,null,null,null,null,null,null,null,null,null,null,null,null,null,null,null,null,null,null,null,null,null,null,null,null,null,null,null,null,null,null,null,null,null,null,null,null,null,null,null,null,null,null,null,null,null,null,null,null,null,null,null,null,null,null,null,null,null,null,null,null,null,null,null,null,null,null,null,null,null,null,null,null,null,null,null,null,null,null,null,null,null,null,null,null,null,null,null,null,null,null,null,null,null,null,null,null,null,null,null,null,null,null,null,null,null,null,null,null,null,null,null,null,null,null,null,null,null,null,null,null,null,null,null,null,null,null,null,null,null,null,null,null,null,null,null,null,null,null,null,null,null,null,null,null,null,null,null,null,null,null,null,null,null,null,null,null,null,null,null,null,null,null,null,null,null,null,null,null,null,null,null,null,null,null,null,null,null,null,null,null,null,null,null,null,null,null,null,null,null,null,null,null,null,null,null,null,null,null,null,null,null,null,null,null,null,null,null,null,null,null,null,null,null,null,null,null,null,null,null,null,null,null,null,null,null,null,null,null,null,null,null,null,null,null,null,null,null,null,null,null,null,null,null,null,null,null,null,null,null,null,null,null,null,null,null,null,null,null,null,null,null,null,null,null,null,null,null,null,null,null,null,null,null,null,null,null,null,null,null,null,null,null,null,null,null,null,null,null,null,null,null,null,null,null,null,null,null,null,null,null,null,null,null,null,null,null,null,null,null,null,null,null,null,null,null,null,null,null,null,null,null,null,null,null,null,null,null,null,null,null,null,null,null,null,null,null,null,null,null,null,null,null,null,null,null,null,null,null,null,null,null,null,null,null,null,null,null,null,null,null,null,null,null,null,null,null,null,null,null,null,null,null,null,null,null,null,null,null,null,null,null,null,null,null,null,null,null,null,null,null,null,null,null,null,null,null,null,null,null,null,null,null,null,null,null,null,null,null,null,null,null,null,null,null,null,null,null,null,null,null,null,null,null,null,null,null,null,null,null,null,null,null,null,null,null,null,null,null,null,null,null,null,null,null,null,null,null,null,null,null,null,null,null,null,null,null,null,null,null,null,null,null,null,null,null,null,null,null,null,null,null,null,null,null,null,null,null,null,null,null,null,null,null,null,null,null,null,null,null,null,null,null,null,null,null,null,null,null,null,null,null,null,null,null,null,null,null,null,null,null,null,null,null,null,null,null,null,null,null,null,null,null,null,null,null,null,null,null,null,null,null,null,null,null,null,null,null,null,null,null,null,null,null,null,null,null,null,null,null,null,null,null,null,null,null,null,null,null,null,null,null,null,null,null,null,null,null,null,null,null,null,null,null,null,null,null,null,null,null,null,null,null,null,null,null,null,null,null,null,null,null,null,null,null,null,null,null,null,null,null,null,null,null,null,null,null,null,null,null,null,null,null,null,null,null,null,null,null,null,null,null,null,null,null,null,null,null,null,null,null,null,null,null,null,null,null,null,null,null,null,null,null,null,null,null,null,null,null,null,null,null,null,null,null,null,null,null,null,null,null,null,null,null,null,null,null,null,null,null,null,null,null,null,null,null,null,null,null,null,null,null,null,null,null,null,null,null,null,null,null,null,null,null,null,null,null,null,null,null,null,null,null,null,null,null,null,null,null,null,null,null,null,null,null,null,null,null,null,null,null,null,null,null,null,null,null,null,null,null,null,null,null,null,null,null,null,null,null,null,null,null,null,null,null,null,null,null,null,null,null,null,null,null,null,null,null,null,null,null,null,null,null,null,null,null,null,null,null,null,null,null,null,null,null,null,null,null,null,null,null,null,null,null,null,null,null,null,null,null,null,null,null,null,null,null,null,null,null,null,null,null,null,null,null,null,null,null,null,null,null,null,null,null,null,null,null,null,null,null,null,null,null,null,null,null,null,null,null,null,null,null,null,null,null,null,null,null,null,null,null,null,null,null,null,null,null,null,null,null,null,null,null,null,null,null,null,null,null,null,null,null,null,null,null,null,null,null,null,null,null,null,null,null,null,null,null,null,null,null,null,null,null,null,null,null,null,null,null,null,null,null,null,null,null,null,null,null,null,null,null,null,null,null,null,null,null,null,null,null,null,null,null,null,null,null,null,null,null,null,null,null,null,null,null,null,null,null,null,null,null,null,null,null,null,null,null,null,null,null,null,null,null,null,null,null,null,null,null,null,null,null,null,null,null,null,null,null,null,null,null,null,null,null,null,null,null,null,null,null,null,null,null,null,null,null,null,null,null,null,null,null,null,null,null,null,null,null,null,null,null,null,null,null,null,null,null,null,null,null,null,null,null,null,null,null,null,null,null,null,null,null,null,null,null,null,null,null,null,null,null,null,null,null,null,null,null,null,null,null,null,null,null,null,null,null,null,null,null,null,null,null,null,null,null,null,null,null,null,null,null,null,null,null,null,null,null,null,null,null,null,null,null,null,null,null,null,null,null,null,null,null,null,null,null,null,null,null,null,null,null,null,null,null,null,null,null,null,null,null,null,null,null,null,null,null,null,null,null,null,null,null,null,null,null,null,null,null,null,null,null,null,null,null,null,null,null,null,null,null,null,null,null,null,null,null,null,null,null,null,null,null,null,null,null,null,null,null,null,null,null,null,null,null,null,null,null,null,null,null,null,null,null,null,null,null,null,null,null,null,null,null,null,null,null,null,null,null,null,null,null,null,null,null,null,null,null,null,null,null,null,null,null,null,null,null,null,null,null,null,null,null,null,null,null,null,null,null,null,null,null,null,null,null,null,null,null,null,null,null,null,null,null,null,null,null,null,null,null,null,null,null,null,null,null,null,null,null,null,null,null,null,null,null,null,null,null,null,null,null,null,null,null,null,null,null,null,null,null,null,null,null,null,null,null,null,null,null,null,null,null,null,null,null,null,null,null,null,null,null,null,null,null,null,null,null,null,null,null,null,null,null,null,null,null,null,null,null,null,null,null,null,null,null,null,null,null,null,null,null,null,null,null,null,null,null,null,null,null,null,null,null,null,null,null,null,null,null,null,null,null,null,null,null,null,null,null,null,null,null,null,null,null,null,null,null,null,null,null,null,null,null,null,null,null,null,null,null,null,null,null,null,null,null,null,null,null,null,null,null,null,null,null,null,null,null,null,null,null,null,null,null,null,null,null,null,null,null,null,null,null,null,null,null,null,null,null,null,null,null,null,null,null,null,null,null,null,null,null,null,null,null,null,null,null,null,null,null,null,null,null,null,null,null,null,null,null,null,null,null,null,null,null,null,null,null,null,null,null,null,null,null,null,null,null,null,null,null,null,null,null,null,null,null,null,null,null,null,null,null,null,null,null,null,null,null,null,null,null,null,null,null,null,null,null,null,null,null,null,null,null,null,null,null,null,null,null,null,null,null,null,null,null,null,null,null,null,null,null,null,null,null,null,null,null,null,null,null,null,null,null,null,null,null,null,null,null,null,null,null,null,null,null,null,null,null,null,null,null,null,null,null,null,null,null,null,null,null,null,null,null,null,null,null,null,null,null,null,null,null,null,null,null,null,null,null,null,null,null,null,null,null,null,null,null,null,null,null,null,null,null,null,null,null,null,null,null,null,null,null,null,null,null,null,null,null,null,null,null,null,null,null,null,null,null,null,null,null,null,null,null,null,null,null,null,null,null,null,null,null,null,null,null,null,null,null,null,null,null,null,null,null,null,null,null,null,null,null,null,null,null,null,null,null,null,null,null,null,null,null,null,null,null,null,null,null,null,null,null,null,null,null,null,null,null,null,null,null,null,null,null,null,null,null,null,null,null,null,null,null,null,null,null,null,null,null,null,null,null,null,null,null,null,null,null,null,null,null,null,null,null,null,null,null,null,null,null,null,null,null,null,null,null,null,null,null,null,null,null,null,null,null,null,null,null,null,null,null,null,null,null,null,null,null,null,null,null,null,null,null,null,null,null,null,null,null,null,null,null,null,null,null,null,null,null,null,null,null,null,null,null,null,null,null,null,null,null,null,null,null,null,null,null,null,null,null,null,null,null,null,null,null,null,null,null,null,null,null,null,null,null,null,null,null,null,null,null,null,null,null,null,null,null,null,null,null,null,null,null,null,null,null,null,null,null,null,null,null,null,null,null,null,null,null,null,null,null,null,null,null,null,null,null,null,null,null,null,null,null,null,null,null,null,null,null,null,null,null,null,null,null,null,null,null,null,null,null,null,null,null,null,null,null,null,null,null,null,null,null,null,null,null,null,null,null,null,null,null,null,null,null,null,null,null,null,null,null,null,null,null,null,null,null,null,null,null,null,null,null,null,null,null,null,null,null,null,null,null,null,null,null,null,null,null,null,null,null,null,null,null,null,null,null,null,null,null,null,null,null,null,null,null,null,null,null,null,null,null,null,null,null,null,null,null,null,null,null,null,null,null,null,null,null,null,null,null,null,null,null,null,null,null,null,null,null,null,null,null,null,null,null,null,null,null,null,null,null,null,null,null,null,null,null,null,null,null,null,null,null,null,null,null,null,null,null,null,null,null,null,null,null,null,null,null,null,null,null,null,null,null,null,null,null,null,null,null,null,null,null,null,null,null,null,null,null,null,null,null,null,null,null,null,null,null,null,null,null,null,null,null,null,null,null,null,null,null,null,null,null,null,null,null,null,null,null,null,null,null,null,null,null,null,null,null,null,null,null,null,null,null,null,null,null,null,null,null,null,null,null,null,null,null,null,null,null,null,null,null,null,null,null,null,null,null,null,null,null,null,null,null,null,null,null,null,null,null,null,null,null,null,null,null,null,null,null,null,null,null,null,null,null,null,null,null,null,null,null,null,null,null,null,null,null,null,null,null,null,null,null,null,null,null,null,null,null,null,null,null,null,null,null,null,null,null,null,null,null,null,null,null,null,null,null,null,null,null,null,null,null,null,null,null,null,null,null,null,null,null,null,null,null,null,null,null,null,null,null,null,null,null,null,null,null,null,null,null,null,null,null,null,null,null,null,null,null,null,null,null,null,null,null,null,null,null,null,null,null,null,null,null,null,null,null,null,null,null,null,null,null,null,null,null,null,null,null,null,null,null,null,null,null,null,null,null,null,null,null,null,null,null,null,null,null,null,null,null,null,null,null,null,null,null,null,null,null,null,null,null,null,null,null,null,null,null,null,null,null,null,null,null,null,null,null,null,null,null,null,null,null,null,null,null,null,null,null,null,null,null,null,null,null,null,null,null,null,null,null,null,null,null,null,null,null,null,null,null,null,null,null,null,null,null,null,null,null,null,null,null,null,null,null,null,null,null,null,null,null,null,null,null,null,null,null,null,null,null,null,null,null,null,null,null,null,null,null,null,null,null,null,null,null,null,null,null,null,null,null,null,null,null,null,null,null,null,null,null,null,null,null,null,null,null,null,null,null,null,null,null,null,null,null,null,null,null,null,null,null,null,null,null,null,null,null,null,null,null,null,null,null,null,null,null,null,null,null,null,null,null,null,null,null,null,null,null,null,null,null,null,null,null,null,null,null,null,null,null,null,null,null,null,null,null,null,null,null,null,null,null,null,null,null,null,null,null,null,null,null,null,null,null,null,null,null,null,null,null,null,null,null,null,null,null,null,null,null,null,null,null,null,null,null,null,null,null,null,null,null,null,null,null,null,null,null,null,null,null,null,null,null,null,null,null,null,null,null,null,null,null,null,null,null,null,null,null,null,null,null,null,null,null,null,null,null,null,null,null,null,null,null,null,null,null,null,null,null,null,null,null,null,null,null,null,null,null,null,null,null,null,null,null,null,null,null,null,null,null,null,null,null,null,null,null,null,null,null,null,null,null,null,null,null,null,null,null,null,null,null,null,null,null,null,null,null,null,null,null,null,null,null,null,null,null,null,null,null,null,null,null,null,null,null,null,null,null,null,null,null,null,null,null,null,null,null,null,null,null,null,null,null,null,null,null,null,null,null,null,null,null,null,null,null,null,null,null,null,null,null,null,null,null,null,null,null,null,null,null,null,null,null,null,null,null,null,null,null,null,null,null,null,null,null,null,null,null,null,null,null,null,null,null,null,null,null,null,null,null,null,null,null,null,null,null,null,null,null,null,null,null,null,null,null,null,null,null,null,null,null,null,null,null,null,null,null,null,null,null,null,null,null,null,null,null,null,null,null,null,null,null,null,null,null,null,null,null,null,null,null,null,null,null,null,null,null,null,null,null,null,null,null,null,null,null,null,null,null,null,null,null,null,null,null,null,null,null,null,null,null,null,null,null,null,null,null,null,null,null,null,null,null,null,null,null,null,null,null,null,null,null,null,null,null,null,null,null,null,null,null,null,null,null,null,null,null,null,null,null,null,null,null,null,null,null,null,null,null,null,null,null,null,null,null,null,null,null,null,null,null,null,null,null,null,null,null,null,null,null,null,null,null,null,null,null,null,null,null,null,null,null,null,null,null,null,null,null,null,null,null,null,null,null,null,null,null,null,null,null,null,null,null,null,null,null,null,null,null,null,null,null,null,null,null,null,null,null,null,null,null,null,null,null,null,null,null,null,null,null,null,null,null,null,null,null,null,null,null,null,null,null,null,null,null,null,null,null,null,null,null,null,null,null,null,null,null,null,null,null,null,null,null,null,null,null,null,null,null,null,null,null,null,null,null,null,null,null,null,null,null,null,null,null,null,null,null,null,null,null,null,null,null,null,null,null,null,null,null,null,null,null,null,null,null,null,null,null,null,null,null,null,null,null,null,null,null,null,null,null,null,null,null,null,null,null,null,null,null,null,null,null,null,null,null,null,null,null,null,null,null,null,null,null,null,null,null,null,null,null,null,null,null,null,null,null,null,null,null,null,null,null,null,null,null,null,null,null,null,null,null,null,null,null,null,null,null,null,null,null,null,null,null,null,null,null,null,null,null,null,null,null,null,null,null,null,null,null,null,null,null,null,null,null,null,null,null,null,null,null,null,null,null,null,null,null,null,null,null,null,null,null,null,null,null,null,null,null,null,null,null,null,null,null,null,null,null,null,null,null,null,null,null,null,null,null,null,null,null,null,null,null,null,null,null,null,null,null,null,null,null,null,null,null,null,null,null,null,null,null,null,null,null,null,null,null,null,null,null,null,null,null,null,null,null,null,null,null,null,null,null,null,null,null,null,null,null,null,null,null,null,null,null,null,null,null,null,null,null,null,null,null,null,null,null,null,null,null,null,null,null,null,null,null,null,null,null,null,null,null,null,null,null,null,null,null,null,null,null,null,null,null,null,null,null,null,null,null,null,null,null,null,null,null,null,null,null,null,null,null,null,null,null,null,null,null,null,null,null,null,null,null,null,null,null,null,null,null,null,null,null,null,null,null,null,null,null,null,null,null,null,null,null,null,null,null,null,null,null,null,null,null,null,null,null,null,null,null,null,null,null,null,null,null,null,null,null,null,null,null,null,null,null,null,null,null,null,null,null,null,null,null,null,null,null,null,null,null,null,null,null,null,null,null,null,null,null,null,null,null,null,null,null,null,null,null,null,null,null,null,null,null,null,null,null,null,null,null,null,null,null,null,null,null,null,null,null,null,null,null,null,null,null,null,null,null,null,null,null,null,null,null,null,null,null,null,null,null,null,null,null,null,null,null,null,null,null,null,null,null,null,null,null,null,null,null,null,null,null,null,null,null,null,null,null,null,null,null,null,null,null,null,null,null,null,null,null,null,null,null,null,null,null,null,null,null,null,null,null,null,null,null,null,null,null,null,null,null,null,null,null,null,null,null,null,null,null,null,null,null,null,null,null,null,null,null,null,null,null,null,null,null,null,null,null,null,null,null,null,null,null,null,null,null,null,null,null,null,null,null,null,null,null,null,null,null,null,null,null,null,null,null,null,null,null,null,null,null,null,null,null,null,null,null,null,null,null,null,null,null,null,null,null,null,null,null,null,null,null,null,null,null,null,null,null,null,null,null,null,null,null,null,null,null,null,null,null,null,null,null,null,null,null,null,null,null,null,null,null,null,null,null,null,null,null,null,null,null,null,null,null,null,null,null,null,null,null,null,null,null,null,null,null,null,null,null,null,null,null,null,null,null,null,null,null,null,null,null,null,null,null,null,null,null,null,null,null,null,null,null,null,null,null,null,null,null,null,null,null,null,null,null,null,null,null,null,null,null,null,null,null,null,null,null,null,null,null,null,null,null,null,null,null,null,null,null,null,null,null,null,null,null,null,null,null,null,null,null,null,null,null,null,null,null,null,null,null,null,null,null,null,null,null,null,null,null,null,null,null,null,null,null,null,null,null,null,null,null,null,null,null,null,null,null,null,null,null,null,null,null,null,null,null,null,null,null,null,null,null,null,null,null,null,null,null,null,null,null,null,null,null,null,null,null,null,null,null,null,null,null,null,null,null,null,null,null,null,null,null,null,null,null,null,null,null,null,null,null,null,null,null,null,null,null,null,null,null,null,null,null,null,null,null,null,null,null,null,null,null,null,null,null,null,null,null,null,null,null,null,null,null,null,null,null,null,null,null,null,null,null,null,null,null,null,null,null,null,null,null,null,null,null,null,null,null,null,null,null,null,null,null,null,null,null,null,null,null,null,null,null,null,null,null,null,null,null,null,null,null,null,null,null,null,null,null,null,null,null,null,null,null,null,null,null,null,null,null,null,null,null,null,null,null,null,null,null,null,null,null,null,null,null,null,null,null,null,null,null,null,null,null,null,null,null,null,null,null,null,null,null,null,null,null,null,null,null,null,null,null,null,null,null,null,null,null,null,null,null,null,null,null,null,null,null,null,null,null,null,null,null,null,null,null,null,null,null,null,null,null,null,null,null,null,null,null,null,null,null,null,null,null,null,null,null,null,null,null,null,null,null,null,null,null,null,null,null,null,null,null,null,null,null,null,null,null,null,null,null,null,null,null,null,null,null,null,null,null,null,null,null,null,null,null,null,null,null,null,null,null,null,null,null,null,null,null,null,null,null,null,null,null,null,null,null,null,null,null,null,null,null,null,null,null,null,null,null,null,null,null,null,null,null,null,null,null,null,null,null,null,null,null,null,null,null,null,null,null,null,null,null,null,null,null,null,null,null,null,null,null,null,null,null,null,null,null,null,null,null,null,null,null,null,null,null,null,null,null,null,null,null,null,null,null,null,null,null,null,null,null,null,null,null,null,null,null,null,null,null,null,null,null,null,null,null,null,null,null,null,null,null,null,null,null,null,null,null,null,null,null,null,null,null,null,null,null,null,null,null,null,null,null,null,null,null,null,null,null,null,null,null,null,null,null,null,null,null,null,null,null,null,null,null,null,null,null,null,null,null,null,null,null,null,null,null,null,null,null,null,null,null,null,null,null,null,null,null,null,null,null,null,null,null,null,null,null,null,null,null,null,null,null,null,null,null,null,null,null,null,null,null,null,null,null,null,null,null,null,null,null,null,null,null,null,null,null,null,null,null,null,null,null,null,null,null,null,null,null,null,null,null,null,null,null,null,null,null,null,null,null,null,null,null,null,null,null,null,null,null,null,null,null,null,null,null,null,null,null,null,null,null,null,null,null,null,null,null,null,null,null,null,null,null,null,null,null,null,null,null,null,null,null,null,null,null,null,null,null,null,null,null,null,null,null,null,null,null,null,null,null,null,null,null,null,null,null,null,null,null,null,null,null,null,null,null,null,null,null,null,null,null,null,null,null,null,null,null,null,null,null,null,null,null,null,null,null,null,null,null,null,null,null,null,null,null,null,null,null,null,null,null,null,null,null,null,null,null,null,null,null,null,null,null,null,null,null,null,null,null,null,null,null,null,null,null,null,null,null,null,null,null,null,null,null,null,null,null,null,null,null,null,null,null,null,null,null,null,null,null,null,null,null,null,null,null,null,null,null,null,null,null,null,null,null,null,null,null,null,null,null,null,null,null,null,null,null,null,null,null,null,null,null,null,null,null,null,null,null,null,null,null,null,null,null,null,null,null,null,null,null,null,null,null,null,null,null,null,null,null,null,null,null,null,null,null,null,null,null,null,null,null,null,null,null,null,null,null,null,null,null,null,null,null,null,null,null,null,null,null,null,null,null,null,null,null,null,null,null,null,null,null,null,null,null,null,null,null,null,null,null,null,null,null,null,null,null,null,null,null,null,null,null,null,null,null,null,null,null,null,null,null,null,null,null,null,null,null,null,null,null,null,null,null,null,null,null,null,null,null,null,null,null,null,null,null,null,null,null,null,null,null,null,null,null,null,null,null,null,null,null,null,null,null,null,null,null,null,null,null,null,null,null,null,null,null,null,null,null,null,null,null,null,null,null,null,null,null,null,null,null,null,null,null,null,null,null,null,null,null,null,null,null,null,null,null,null,null,null,null,null,null,null,null,null,null,null,null,null,null,null,null,null,null,null,null,null,null,null,null,null,null,null,null,null,null,null,null,null,null,null,null,null,null,null,null,null,null,null,null,null,null,null,null,null,null,null,null,null,null,null,null,null,null,null,null,null,null,null,null,null,null,null,null,null,null,null,null,null,null,null,null,null,null,null,null,null,null,null,null,null,null,null,null,null,null,null,null,null,null,null,null,null,null,null,null,null,null,null,null,null,null,null,null,null,null,null,null,null,null,null,null,null,null,null,null,null,null,null,null,null,null,null,null,null,null,null,null,null,null,null,null,null,null,null,null,null,null,null,null,null,null,null,null,null,null,null,null,null,null,null,null,null,null,null,null,null,null,null,null,null,null,null,null,null,null,null,null,null,null,null,null,null,null,null,null,null,null,null,null,null,null,null,null,null,null,null,null,null,null,null,null,null,null,null,null,null,null,null,null,null,null,null,null,null,null,null,null,null,null,null,null,null,null,null,null,null,null,null,null,null,null,null,null,null,null,null,null,null,null,null,null,null,null,null,null,null,null,null,null,null,null,null,null,null,null,null,null,null,null,null,null,null,null,null,null,null,null,null,null,null,null,null,null,null,null,null,null,null,null,null,null,null,null,null,null,null,null,null,null,null,null,null,null,null,null,null,null,null,null,null,null,null,null,null,null,null,null,null,null,null,null,null,null,null,null,null,null,null,null,null,null,null,null,null,null,null,null,null,null,null,null,null,null,null,null,null,null,null,null,null,null,null,null,null,null,null,null,null,null,null,null,null,null,null,null,null,null,null,null,null,null,null,null,null,null,null,null,null,null,null,null,null,null,null,null,null,null,null,null,null,null,null,null,null,null,null,null,null,null,null,null,null,null,null,null,null,null,null,null,null,null,null,null,null,null,null,null,null,null,null,null,null,null,null,null,null,null,null,null,null,null,null,null,null,null,null,null,null,null,null,null,null,null,null,null,null,null,null,null,null,null,null,null,null,null,null,null,null,null,null,null,null,null,null,null,null,null,null,null,null,null,null,null,null,null,null,null,null,null,null,null,null,null,null,null,null,null,null,null,null,null,null,null,null,null,null,null,null,null,null,null,null,null,null,null,null,null,null,null,null,null,null,null,null,null,null,null,null,null,null,null,null,null,null,null,null,null,null,null,null,null,null,null,null,null,null,null,null,null,null,null,null,null,null,null,null,null,null,null,null,null,null,null,null,null,null,null,null,null,null,null,null,null,null,null,null,null,null,null,null,null,null,null,null,null,null,null,null,null,null,null,null,null,null,null,null,null,null,null,null,null,null,null,null,null,null,null,null,null,null,null,null,null,null,null,null,null,null,null,null,null,null,null,null,null,null,null,null,null,null,null,null,null,null,null,null,null,null,null,null,null,null,null,null,null,null,null,null,null,null,null,null,null,null,null,null,null,null,null,null,null,null,null,null,null,null,null,null,null,null,null,null,null,null,null,null,null,null,null,null,null,null,null,null,null,null,null,null,null,null,null,null,null,null,null,null,null,null,null,null,null,null,null,null,null,null,null,null,null,null,null,null,null,null,null,null,null,null,null,null,null,null,null,null,null,null,null,null,null,null,null,null,null,null,null,null,null,null,null,null,null,null,null,null,null,null,null,null,null,null,null,null,null,null,null,null,null,null,null,null,null,null,null,null,null,null,null,null,null,null,null,null,null,null,null,null,null,null,null,null,null,null,null,null,null,null,null,null,null,null,null,null,null,null,null,null,null,null,null,null,null,null,null,null,null,null,null,null,null,null,null,null,null,null,null,null,null,null,null,null,null,null,null,null,null,null,null,null,null,null,null,null,null,null,null,null,null,null,null,null,null,null,null,null,null,null,null,null,null,null,null,null,null,null,null,null,null,null,null,null,null,null,null,null,null,null,null,null,null,null,null,null,null,null,null,null,null,null,null,null,null,null,null,null,null,null,null,null,null,null,null,null,null,null,null,null,null,null,null,null,null,null,null,null,null,null,null,null,null,null,null,null,null,null,null,null,null,null,null,null,null,null,null,null,null,null,null,null,null,null,null,null,null,null,null,null,null,null,null,null,null,null,null,null,null,null,null,null,null,null,null,null,null,null,null,null,null,null,null,null,null,null,null,null,null,null,null,null,null,null,null,null,null,null,null,null,null,null,null,null,null,null,null,null,null,null,null,null,null,null,null,null,null,null,null,null,null,null,null,null,null,null,null,null,null,null,null,null,null,null,null,null,null,null,null,null,null,null,null,null,null,null,null,null,null,null,null,null,null,null,null,null,null,null,null,null,null,null,null,null,null,null,null,null,null,null,null,null,null,null,null,null,null,null,null,null,null,null,null,null,null,null,null,null,null,null,null,null,null,null,null,null,null,null,null,null,null,null,null,null,null,null,null,null,null,null,null,null,null,null,null,null,null,null,null,null,null,null,null,null,null,null,null,null,null,null,null,null,null,null,null,null,null,null,null,null,null,null,null,null,null,null,null,null,null,null,null,null,null,null,null,null,null,null,null,null,null,null,null,null,null,null,null,null,null,null,null,null,null,null,null,null,null,null,null,null,null,null,null,null,null,null,null,null,null,null,null,null,null,null,null,null,null,null,null,null,null,null,null,null,null,null,null,null,null,null,null,null,null,null,null,null,null,null,null,null,null,null,null,null,null,null,null,null,null,null,null,null,null,null,null,null,null,null,null,null,null,null,null,null,null,null,null,null,null,null,null,null,null,null,null,null,null,null,null,null,null,null,null,null,null,null,null,null,null,null,null,null,null,null,null,null,null,null,null,null,null,null,null,null,null,null,null,null,null,null,null,null,null,null,null,null,null,null,null,null,null,null,null,null,null,null,null,null,null,null,null,null,null,null,null,null,null,null,null,null,null,null,null,null,null,null,null,null,null,null,null,null,null,null,null,null,null,null,null,null,null,null,null,null,null,null,null,null,null,null,null,null,null,null,null,null,null,null,null,null,null,null,null,null,null,null,null,null,null,null,null,null,null,null,null,null,null,null,null,null,null,null,null,null,null,null,null,null,null,null,null,null,null,null,null,null,null,null,null,null,null,null,null,null,null,null,null,null,null,null,null,null,null,null,null,null,null,null,null,null,null,null,null,null,null,null,null,null,null,null,null,null,null,null,null,null,null,null,null,null,null,null,null,null,null,null,null,null,null,null,null,null,null,null,null,null,null,null,null,null,null,null,null,null,null,null,null,null,null,null,null,null,null,null,null,null,null,null,null,null,null,null,null,null,null,null,null,null,null,null,null,null,null,null,null,null,null,null,null,null,null,null,null,null,null,null,null,null,null,null,null,null,null,null,null,null,null,null,null,null,null,null,null,null,null,null,null,null,null,null,null,null,null,null,null,null,null,null,null,null,null,null,null,null,null,null,null,null,null,null,null,null,null,null,null,null,null,null,null,null,null,null,null,null,null,null,null,null,null,null,null,null,null,null,null,null,null,null,null,null,null,null,null,null,null,null,null,null,null,null,null,null,null,null,null,null,null,null,null,null,null,null,null,null,null,null,null,null,null,null,null,null,null,null,null,null,null,null,null,null,null,null,null,null,null,null,null,null,null,null,null,null,null,null,null,null,null,null,null,null,null,null,null,null,null,null,null,null,null,null,null,null,null,null,null,null,null,null,null,null,null,null,null,null,null,null,null,null,null,null,null,null,null,null,null,null,null,null,null,null,null,null,null,null,null,null,null,null,null,null,null,null,null,null,null,null,null,null,null,null,null,null,null,null,null,null,null,null,null,null,null,null,null,null,null,null,null,null,null,null,null,null,null,null,null,null,null,null,null,null,null,null,null,null,null,null,null,null,null,null,null,null,null,null,null,null,null,null,null,null,null,null,null,null,null,null,null,null,null,null,null,null,null,null,null,null,null,null,null,null,null,null,null,null,null,null,null,null,null,null,null,null,null,null,null,null,null,null,null,null,null,null,null,null,null,null,null,null,null,null,null,null,null,null,null,null,null,null,null,null,null,null,null,null,null,null,null,null,null,null,null,null,null,null,null,null,null,null,null,null,null,null,null,null,null,null,null,null,null,null,null,null,null,null,null,null,null,null,null,null,null,null,null,null,null,null,null,null,null,null,null,null,null,null,null,null,null,null,null,null,null,null,null,null,null,null,null,null,null,null,null,null,null,null,null,null,null,null,null,null,null,null,null,null,null,null,null,null,null,null,null,null,null,null,null,null,null,null,null,null,null,null,null,null,null,null,null,null,null,null,null,null,null,null,null,null,null,null,null,null,null,null,null,null,null,null,null,null,null,null,null,null,null,null,null,null,null,null,null,null,null,null,null,null,null,null,null,null,null,null,null,null,null,null,null,null,null,null,null,null,null,null,null,null,null,null,null,null,null,null,null,null,null,null,null,null,null,null,null,null,null,null,null,null,null,null,null,null,null,null,null,null,null,null,null,null,null,null,null,null,null,null,null,null,null,null,null,null,null,null,null,null,null,null,null,null,null,null,null,null,null,null,null,null,null,null,null,null,null,null,null,null,null,null,null,null,null,null,null,null,null,null,null,null,null,null,null,null,null,null,null,null,null,null,null,null,null,null,null,null,null,null,null,null,null,null,null,null,null,null,null,null,null,null,null,null,null,null,null,null,null,null,null,null,null,null,null,null,null,null,null,null,null,null,null,null,null,null,null,null,null,null,null,null,null,null,null,null,null,null,null,null,null,null,null,null,null,null,null,null,null,null,null,null,null,null,null,null,null,null,null,null,null,null,null,null,null,null,null,null,null,null,null,null,null,null,null,null,null,null,null,null,null,null,null,null,null,null,null,null,null,null,null,null,null,null,null,null,null,null,null,null,null,null,null,null,null,null,null,null,null,null,null,null,null,null,null,null,null,null,null,null,null,null,null,null,null,null,null,null,null,null,null,null,null,null,null,null,null,null,null,null,null,null,null,null,null,null,null,null,null,null,null,null,null,null,null,null,null,null,null,null,null,null,null,null,null,null,null,null,null,null,null,null,null,null,null,null,null,null,null,null,null,null,null,null,null,null,null,null,null,null,null,null,null,null,null,null,null,null,null,null,null,null,null,null,null,null,null,null,null,null,null,null,null,null,null,null,null,null,null,null,null,null,null,null,null,null,null,null,null,null,null,null,null,null,null,null,null,null,null,null,null,null,null,null,null,null,null,null,null,null,null,null,null,null,null,null,null,null,null,null,null,null,null,null,null,null,null,null,null,null,null,null,null,null,null,null,null,null,null,null,null,null,null,null,null,null,null,null,null,null,null,null,null,null,null,null,null,null,null,null,null,null,null,null,null,null,null,null,null,null,null,null,null,null,null,null,null,null,null,null,null,null,null,null,null,null,null,null,null,null,null,null,null,null,null,null,null,null,null,null,null,null,null,null,null,null,null,null,null,null,null,null,null,null,null,null,null,null,null,null,null,null,null,null,null,null,null,null,null,null,null,null,null,null,null,null,null,null,null,null,null,null,null,null,null,null,null,null,null,null,null,null,null,null,null,null,null,null,null,null,null,null,null,null,null,null,null,null,null,null,null,null,null,null,null,null,null,null,null,null,null,null,null,null,null,null,null,null,null,null,null,null,null,null,null,null,null,null,null,null,null,null,null,null,null,null,null,null,null,null,null,null,null,null,null,null,null,null,null,null,null,null,null,null,null,null,null,null,null,null,null,null,null,null,null,null,null,null,null,null,null,null,null,null,null,null,null,null,null,null,null,null,null,null,null,null,null,null,null,null,null,null,null,null,null,null,null,null,null,null,null,null,null,null,null,null,null,null,null,null,null,null,null,null,null,null,null,null,null,null,null,null,null,null,null,null,null,null,null,null,null,null,null,null,null,null,null,{"$f":"SUM(A435:XFC435)","v":5}]
[null,null,null,null,null,null,null,null,null,null,"Total ",null,{"$f":"SUM(M435:M435)","v":2}]
[null,null,null,null,null,null,null,null,null,null,"Say",null,{"$f":"ROUNDUP(M436,0)","v":2}]
[]
[10,"Conveying the materials obtained from excavation including laying in layers, breaking clods, dressing to the required lines, curves, grades and section for all leads & lifts from the site of excavation to the site of deposition  outside the complex as by directed engineer in charge.",null,null,null,null,null,null,null,null,null,null,null,null,"lead statement",105.25]
[null,null,null,null,null,null,null,null,null,null,null,"=",1,"Cu.M."]
[null,null,null,null,null,null,null,null,null,null,"Total","=",{"$f":"SUM(M440)","v":1},"Cu.M."]
[null,null,null,null,null,null,null,null,null,null,"SAY","=",{"$f":"ROUNDUP(M441,0)","v":1},"Cu.M."]
[]
[null,"SUBWORK V :- Borewell"]
[]
[1,"Drilling the bore well 150 mm dia. Upto a depth as directed in all types of strata by using bore drilling machine incluiding all necessary  material & equipment etc. complete as directed.",null,null,null,null,null,null,null,null,null,null,null,"Rmt."]
[]
[null,"Drilling of borewell",1,"X",100,null,null,null,null,null,null,"=",{"$f":"C448*E448","v":100}]
[null,null,null,null,null,null,null,null,null,null,"Total",null,{"$f":"SUM(M448:M448)","v":100}]
[null,null,null,null,null,null,null,null,null,null,"Say",null,{"$f":"ROUNDUP(M449,0)","v":100}]
[]
[2," Providing and fixing M. S. casing pipe of 150mm diameter of approved make with help of drilling machine upto desired depth including lowering & grouting etc. complete as directed..",null,null,null,null,null,null,null,null,null,null,null,"Rmt."]
[]
[null,"For borewell",1,"X",6,null,null,null,null,null,null,"=",{"$f":"E454*C454","v":6}]
[null,null,null,null,null,null,null,null,null,null,"Total",null,{"$f":"SUM(M454:M454)","v":6}]
[null,null,null,null,null,null,null,null,null,null,"SAY",null,{"$f":"M455","v":6}]
[]
[3,"Supplying and erecting submersible pumpset of 1.125 KW/1.5 HP with 230 V, 50 c/s AC supply suitable for 150 mm dia. borewell suitable for 84 to 40 LPM discharge at 30 to 90 m head & (max. efficiency at 69 m head & 60 lpm) discharge & delivery pipe of Size-50 mm diameter with a necessary H type clamps as per specification no. WP-SMP",null,null,null,null,null,null,null,null,null,null,null,"No."]
[]
[null,"Motor Pump",1,"X",1,null,null,null,null,null,null,"=",{"$f":"E460*C460","v":1}]
[null,null,null,null,null,null,null,null,null,null,"Total",null,{"$f":"SUM(M460:M460)","v":1}]
[null,null,null,null,null,null,null,null,null,null,"Say",null,{"$f":"ROUNDUP(M461,0)","v":1}]
[]
[4,"Supplying, erecting & terminating PVC armoured cable 3 core 4 sq mm copper conductor continuous 5.48 sq mm (12 SWG) G.I. earth wire complete erected with glands & lugs, on wall/ trusses/pole or laid in provided trench/ pipe as per specification no. CB-LT/CU ",null,null,null,null,null,null,null,null,null,null,null,"Rmt."]
[null,"For main supply",1,"X",{"$f":"E460","v":1},"X",20,null,null,null,null,"=",{"$f":"C465*E465*G465","v":20}]
[null,null,null,null,null,null,null,null,null,null,"Total",null,{"$f":"SUM(M465:M465)","v":20}]
[null,null,null,null,null,null,null,null,null,null,"Say",null,{"$f":"ROUNDUP(M466,0)","v":20}]
[]
[5,"Supplying and erecting high density polythene pipe ISI mark 32 mm dia. suitable for pressure of 6 kg/cm2 connected to Jet/Submersible pump with required material complete.",null,null,null,null,null,null,null,null,null,null,null,"Rmt."]
[null,"HDPE pipe 32 mm dia.",1,"X",1,"X",115,null,null,null,null,"=",{"$f":"C470*E470*G470","v":115}]
[null,null,null,null,null,null,null,null,null,null,"Total",null,{"$f":"SUM(M470:M470)","v":115}]
[null,null,null,null,null,null,null,null,null,null,"Say",null,{"$f":"ROUNDUP(M471,0)","v":115}]
["6-A"," Making trench in hard soil of suitable width and depth as per IS for laying provided L.T cable up to 25 sq mm complete. As per specification No. CW-EXN-CTR",null,null,null,null,null,null,null,null,null,null,null,"Rmt."]
[null,"For cable",1,"X",{"$f":"E465","v":1},"X",10,null,null,null,null,"=",{"$f":"C474*E474*G474","v":10}]
[null,null,null,null,null,null,null,null,null,null,"Total",null,{"$f":"SUM(M474:M474)","v":10}]
[null,null,null,null,null,null,null,null,null,null,"Say",null,{"$f":"ROUNDUP(M475,0)","v":10}]
[]
["6B","Supplyng and laying 75 mm diameter GI pipe A grade ISI mark for cable laid underground at required depth upto 90 cm including excavation, laying pipe, remaking the surface as it is. ",null,null,null,null,null,null,null,null,null,null,null,"Rmt."]
[]
[null,"75 mm GI pipe underground ",1,"X",1,"X",10,null,null,null,null,"=",{"$f":"C480*E480*G480","v":10}]
[null,"for road crossing",null,null,null,null,null,null,null,null,"Total",null,{"$f":"SUM(M480:M480)","v":10}]
[null,null,null,null,null,null,null,null,null,null,"Say",null,{"$f":"ROUNDUP(M481,0)","v":10}]
[]
[7,"Supplying and erecting G.I.pipe 15 mm dia. ‘B’ class at position with accessories. As per specification No. CW-PLB/GP",null,null,null,null,null,null,null,null,null,null,null,"Rmt."]
[]
[null,"15 mm dia. GI pipe ",1,"X",1,"X",10,null,null,null,null,"=",{"$f":"C486*E486*G486","v":10}]
[null,"for distribution",null,null,null,null,null,null,null,null,"Total",null,{"$f":"SUM(M486:M486)","v":10}]
[null,null,null,null,null,null,null,null,null,null,"SAY","=",{"$f":"ROUNDUP(M487,0)","v":10}]
[]
[8,"Supplying and erecting ISI mark G.I.pipe 20 mm dia.‘B’ class at position with accessories. As per specification No. CW-PLB/GP",null,null,null,null,null,null,null,null,null,null,null,"Rmt."]
[]
[null,"20 mm dia. GI pipe ",1,"X",1,"X",40,null,null,null,null,"=",{"$f":"C492*E492*G492","v":40}]
[null,"for supply from borewell to office ",null,null,null,null,null,null,null,null,"Total",null,{"$f":"SUM(M492:M492)","v":40}]
[null,null,null,null,null,null,null,null,null,null,"SAY","=",{"$f":"ROUNDUP(M493,0)","v":40}]
[]
[9," Providing & fixing in position 15 mm diameter screw down bib tap/ stop tap of brass heavy type and make including necessary sockets union nuts etc. complete.",null,null,null,null,null,null,null,null,null,null,null,"No."]
[null,"15 mm dia. Bib taps",1,"X",2,null,null,null,null,null,null,"=",{"$f":"C497*E497","v":2}]
[null,null,null,null,null,null,null,null,null,null,"SAY","=",{"$f":"ROUNDUP(M497,0)","v":2}]
[]
[10,"Providing & fixing in position 20 mm diameter screw down bib tap/ stop tap of brass heavy type and make including necessary sockets union nuts etc. complete.",null,null,null,null,null,null,null,null,null,null,null,"No."]
[null,"20 mm dia. Stop taps",1,"X",1,null,null,null,null,null,null,"=",{"$f":"C501*E501","v":1}]
[null,null,null,null,null,null,null,null,null,null,"SAY","=",{"$f":"ROUNDUP(M501,0)","v":1}]
[]
[11," Supplying and and fixing PVC wire rope for borewell etc. complete. ",null,null,null,null,null,null,null,null,null,null,null,"Rmt."]
[null,"For pump",1,"X",1,"X",100,null,null,null,null,"=",{"$f":"C505*E505*G505","v":100}]
[null,null,null,null,null,null,null,null,null,null,"Total",null,{"$f":"SUM(M505:M505)","v":100}]
[null,null,null,null,null,null,null,null,null,null,"SAY","=",{"$f":"ROUNDUP(M506,0)","v":100}]
[]
[12,"Supplying & erecting automatic control panel for 1 Ph, 230 volt, A.c. Submersible/centrifugal pump set upto 2 HP consisting of DOL starter Of suitable relay range S.P.P., Combined ammeter/ voltmeter, phase indicating lamp enclosed in CRCA powder coated Vibration proof encloser with IP 54 protection. Control Panel should offer single phasing, phase reversal, phase inbalence etc ( Similar to LT model no.MR G2) .",null,null,null,null,null,null,null,null,null,null,null,"No."]
[null,"For bore pump",1,"X",1,null,null,null,null,null,null,"=",{"$f":"C510*E510","v":1}]
[null,null,null,null,null,null,null,null,null,null,"SAY","=",{"$f":"ROUNDUP(M510,0)","v":1}]
[]
[13,"Supplying and erecting flat flexible 3 core 2.5 sq mm PVC sheathed submersible type copper cable suitably clamped at fixed intervals with column pipe assembly complete.",null,null,null,null,null,null,null,null,null,null,null,"Rmt."]
[null,null,1,"X",1,"X",120,null,null,null,null,"=",{"$f":"C514*E514*G514","v":120}]
[null,null,null,null,null,null,null,null,null,null,"Total",null,{"$f":"SUM(M514:M514)","v":120}]
[null,null,null,null,null,null,null,null,null,null,"SAY","=",{"$f":"ROUNDUP(M515,0)","v":120}]
[]
[14,"Supplying and erecting 40mm dia. Gun metal foot valve at position with necessary materials.",null,null,null,null,null,null,null,null,null,null,null,"No."]
[null,"For pump",1,"X",1,null,null,null,null,null,null,"=",{"$f":"C519*E519","v":1}]
[null,null,null,null,null,null,null,null,null,null,"Total",null,{"$f":"SUM(M519:M519)","v":1}]
[null,null,null,null,null,null,null,null,null,null,"SAY","=",{"$f":"ROUNDUP(M520,0)","v":1}]
[]
[15,"Supplying, erecting & marking DPMCB 6A to 32A, C- series (for  motor/power)  in  provided  distribution  board   as  per   specification No. SW-SWR/MCB  ",null,null,null,null,null,null,null,null,null,null,null,"No."]
[null,"For pump",1,"X",1,null,null,null,null,null,null,"=",{"$f":"C524*E524","v":1}]
[null,null,null,null,null,null,null,null,null,null,"Total",null,{"$f":"SUM(M524:M524)","v":1}]
[null,null,null,null,null,null,null,null,null,null,"SAY","=",{"$f":"ROUNDUP(M525,0)","v":1}]
[]
[16,"Supplying & erecting CRCA sheet metal one way enclosures suitable  for  D.P.M.C.B.   /T.P.  M.C.B.   /F.P  M.C.B.  Complete   erected on angle iron frame.  ",null,null,null,null,null,null,null,null,null,null,null,"No."]
[null,"For pump",1,"X",1,null,null,null,null,null,null,"=",{"$f":"C529*E529","v":1}]
[null,null,null,null,null,null,null,null,null,null,"Total",null,{"$f":"SUM(M529:M529)","v":1}]
[null,null,null,null,null,null,null,null,null,null,"SAY","=",{"$f":"ROUNDUP(M530,0)","v":1}]
[]
[]
[]
[]
[null,"Junior Engineer",null,null,null,null,null,null,null,"Deputy Manager(Engg.)"]
[null,{"$f":"'[8]Recap '!B57","v":"M.S.W.C. Kolhapur"},null,null,null,null,null,null,null,{"$f":"'[8]Recap '!F57","v":"M.S.W.C. Kolhapur"}]

{"sheet":"WBM Road","index":23,"n_rows":287,"n_cols":14,"rows_kept":287,"cut":false,"hidden":true,"merged":[[213,1,213,12],[222,1,222,12],[274,1,274,12],[234,1,234,12],[241,1,241,12],[253,1,253,12],[258,1,258,12],[266,1,266,12],[270,1,270,12],[246,1,246,12],[51,1,51,12],[3,1,3,13],[58,1,58,12],[62,1,62,2],[67,1,67,12],[18,2,18,5],[23,1,23,12],[31,1,31,12],[42,1,42,12],[48,1,48,2],[0,1,0,13],[1,1,1,13],[5,1,5,13],[7,2,7,5],[16,1,16,13],[73,1,73,2],[77,1,77,12],[82,1,82,2],[87,1,87,12],[102,1,102,12],[96,1,96,12],[281,1,281,12],[109,1,109,12],[115,1,115,12],[121,1,121,12],[129,1,129,12],[137,1,137,12],[229,1,229,12],[144,1,144,12],[152,1,152,12],[161,1,161,12],[169,1,169,12],[178,1,178,12],[185,1,185,12],[193,1,193,12],[200,1,200,12],[207,1,207,12]]}
[null,"MAHARASHTRA STATE  WAREHOUSING CORPORATION"]
[null,"583/B, MARKET YARD, GULTEKADI, PUNE-411037"]
[]
[null,{"$f":"Recap!B6","v":"NAME OF WORK :-  CONSTRUCTION OF 1/2160 MT CAP PRE- ENGINEERED WH BLDG WITH ANCILLARY WORKS AT: NAGZARI DIST. LATUR"}]
[]
[null,"Sub Work No:-II  :-WBM Road "]
[]
[null,"Item Nos & Description of Items ","NO.S",null,null,null,"LENGTH",null,"BREDTH",null,"DEPTH /",null,"TOTAL","Unit"]
[null,null,null,null,null,null,null,null,"Avg",null,"HIGHT",null,"QUANTITY"," "]
[null,"Road area",1,"X",2,"X",{"$f":"50.96+10+10","v":70.960000000000008},"X",6.5,null,null,null,{"$f":"C10*E10*G10*I10","v":922.48000000000013},"SQM"]
[null,null,1,"X",2,"X",22.46,"X",6,null,null,null,{"$f":"C11*E11*G11*I11","v":269.52},"SQM"]
[null,"Approch Road side",1,"x",1,"X",34.54,"X",10,null,null,null,{"$f":"C12*E12*G12*I12","v":345.4}]
[null,null,null,null,null,null,null,null,null,null,"TOTAL Area",null,{"$f":"SUM(M10:M12)","v":1537.4},"SQM"]
[]
[]
[]
[null,"MEASUREMENT SHEET "]
[]
[null,"Item Nos & Description of Items ","NO.S",null,null,null,"LENGTH",null,"BREDTH",null,"DEPTH /",null,"TOTAL","Unit"]
[null,null,1,"X",2,null,null,null,null,null,"HIGHT",null,"QUANTITY"," "]
[]
[null,2,null,null,null,null,null,null,null,null,null,null,null,3]
[]
[null,"Item No. 1-A :- Excavation for side gutters & road formation in earth soil of all type sand gravel including conveying the excavated materials upto a lead of 5o m and spreading for embankemnt or stacking as directed.",null,null,null,null,null,null,null,null,null,null,null,"cum"]
[]
[null,"Road formation "]
[null," long",1,"x",2,"X",{"$f":"G10","v":70.960000000000008},"X",{"$f":"I10+0.5","v":7},"X",0.6,"=",{"$f":"C27*E27*G27*I27*K27","v":596.06399999999996}]
[null," short",1,"x",2,"X",{"$f":"G11","v":22.46},"X",{"$f":"I11+0.5","v":6.5},"X",{"$f":"K27","v":0.6},"=",{"$f":"C28*E28*G28*I28*K28","v":175.18800000000002}]
[null,"Approch Road side",{"$f":"C12","v":1},{"$f":"D12","v":"x"},1,"X",34.54,"X",{"$f":"I12+0.5+0.5","v":11},"X",{"$f":"K28","v":0.6},"=",{"$f":"C29*E29*G29*I29*K29","v":227.964}]
[null,null,null,null,null,null,null,null,null,null,"Net ",null,{"$f":"SUM(M27:M29)","v":999.21599999999989}]
[null,null,null,null,null,null,null,null,null,null,"Say ",null,{"$f":"ROUND(M30,0)","v":999}]
[null,"Item No. 1-B :- Excavation for roadway & side gutters  in  hard murum, dressing section to the required grade camber and side slopes and conveying the excavated materials upto a lead of 50 m and spreading for embankemnt or stacking as directed.",null,null,null,null,null,null,null,null,null,null,null,"cum"]
[null,null,null,null,null,null,null,null,null,null,"Avg"]
[null,"Road formation Provision"]
[null," long",0,"x",{"$f":"E27","v":2},"X",{"$f":"G27","v":70.960000000000008},"X",{"$f":"I27","v":7},"X",0.1,"=",{"$f":"C35*E35*G35*I35*K35","v":0}]
[null," short",0,"x",{"$f":"E28","v":2},"X",{"$f":"G28","v":22.46},"X",{"$f":"I28","v":6.5},"X",{"$f":"K35","v":0.1},"=",{"$f":"C36*E36*G36*I36*K36","v":0}]
[null,"Approch Road side",1,"x",1,"X",22,"X",7,"X",0,"=",{"$f":"C37*E37*G37*I37*K37","v":0}]
[null,"Approch Road side",0,{"$f":"D29","v":"x"},1,"X",34.54,"X",11,"x",{"$f":"K36","v":0.1},null,{"$f":"C38*E38*G38*I38*K38","v":0}]
[null,null,null,null,null,null,null,null,null,null,"Net ",null,0]
[null,null,null,null,null,null,null,null,null,null,"Say ",null,5]
[]
[]
[null,"Item No. 1-C :- Excavation for roadway & side gutters  in soft rock dressing section to the required grade camber and side slopes and conveying the excavated materials upto a lead of 50 M  & spreading for embankment or stacking as directed.",null,null,null,null,null,null,null,null,null,null,null,"cum"]
[]
[null," long",1,"x",{"$f":"E35","v":2},"x",{"$f":"G35","v":70.960000000000008},"X",{"$f":"I35","v":7},"X",0,"=",{"$f":"C45*E45*G45*I45*K45","v":0}]
[null," short",1,"x",2,"x",{"$f":"G36","v":22.46},"X",{"$f":"I36","v":6.5},"X",0,"=",{"$f":"C46*E46*G46*I46*K46","v":0}]
[null,"Approch Road side",0,"x",1,"X",{"$f":"G38","v":34.54},"X",{"$f":"I38","v":11},"X",0,"=",{"$f":"C47*E47*G47*I47*K47","v":0}]
[null,null,0,"x",1,"x",0,"x",0,"X",0,"=",{"$f":"C48*E48*G48*I48*K48","v":0}]
[null,null,null,null,null,null,null,null,null,null,"Total",null,{"$f":"SUM(M45:M48)","v":0}]
[null,null,null,null,null,null,null,null,null,null,"Say",null,5]
[]
[null,"Item No. 1-D :- Excavation for roadway & side gutters  in Hard rock by controlled blasting dressing section to the required grade camber and side slopes and conveying the excavated materials upto a lead of 50 M  & spreading for embankment or stacking as directed.",null,null,null,null,null,null,null,null,null,null,null,"cum"]
[]
[null," long",1,"x",1,"X",{"$f":"G45","v":70.960000000000008},"X",{"$f":"I45","v":7},"X",0,"=",{"$f":"C54*E54*G54*I54*K54","v":0}]
[null," short",1,"x",{"$f":"2/2","v":1},"X",{"$f":"G46","v":22.46},"X",{"$f":"I46","v":6.5},"X",0,"=",{"$f":"C55*E55*G55*I55*K55","v":0}]
[null,"Approch Road side",0,"x",1,"X",{"$f":"G38","v":34.54},"X",{"$f":"I47","v":11},"X",0,"=",{"$f":"C56*E56*G56*I56*K56","v":0}]
[null,null,null,null,null,null,null,null,null,null,"Net ",null,{"$f":"SUM(M54:M56)","v":0}]
[null,null,null,null,null,null,null,null,null,null,"Say ",null,1]
[null,"Item No. 2- Supplying 80 mm trap stone metal at the road side including conveying & stacking etc. complete.",null,null,null,null,null,null,null,null,null,null,null,"cum"]
[null,{"$f":"B27","v":" long"},1,"x",2,"X",70.960000000000008,{"$f":"H54","v":"X"},{"$f":"I10","v":6.5},{"$f":"J54","v":"X"},0.15,{"$f":"L54","v":"="},{"$f":"C60*E60*G60*I60*K60","v":138.37200000000001}]
[null,{"$f":"B28","v":" short"},1,"x",2,"X",22.46,{"$f":"H55","v":"X"},{"$f":"I11","v":6},"X",0.15,"=",{"$f":"C61*E61*G61*I61*K61","v":40.427999999999997}]
[null,{"$f":"B29","v":"Approch Road side"},1,"x",1,"X",34.54,{"$f":"H56","v":"X"},10,"X",0.15,"=",{"$f":"C62*E62*G62*I62*K62","v":51.809999999999995}]
[null,null,null,null,null,null,null,null,null,null,"Total",null,{"$f":"SUM(M60:M62)","v":230.61}]
[null,"Add 32. % Voids",null,null,null,null,null,null,null,null,null,null,{"$f":"M63*0.32","v":73.795200000000008}]
[null,null,null,null,null,null,null,null,null,null,"Say",null,{"$f":"SUM(M63:M64)","v":304.40520000000004}]
[null,null,null,null,null,null,null,null,null,null,"Say",null,{"$f":"ROUNDUP(M65,0)","v":305}]
[]
[null,"Item No. 3 :- Supplying 40 mm trap stone metal at the road side including conveying & stacking etc. complete.",null,null,null,null,null,null,null,null,null,null,null,"cum"]
[null,{"$f":"B60","v":" long"},{"$f":"C60","v":1},"x",2,"X",70.960000000000008,"X",6.5,"X",0.1,"=",{"$f":"C69*E69*G69*I69*K69","v":92.248000000000019}]
[null,{"$f":"B61","v":" short"},1,"x",2,"X",22.46,"X",6,"X",0.1,"=",{"$f":"C70*E70*G70*I70*K70","v":26.951999999999998}]
[null,{"$f":"B62","v":"Approch Road side"},1,"x",1,"X",34.54,"X",10,"X",0.1,"=",{"$f":"C71*E71*G71*I71*K71","v":34.54}]
[null,null,null,null,null,null,null,null,null,null,null,null,{"$f":"SUM(M69:M71)","v":153.74}]
[null,"Add for Compaction factor 32 %",null,null,null,null,null,null,null,null,null,null,{"$f":"M72*32%","v":49.196800000000003}]
[null,null,null,null,null,null,null,null,null,null,"Total",null,{"$f":"SUM(M72:M73)","v":202.93680000000001}]
[null,null,null,null,null,null,null,null,null,null,"Say",null,{"$f":"ROUNDUP(M74,0)","v":203}]
[null,null,null,null,null,null,null,null,null,null,null,null,{"$f":"SUM(M69:M75)","v":762.61360000000002}]
[]
[null,"Item No. 4 - A :- Supplying hard murum at the road side including conveying & stacking etc. complete.",null,null,null,null,null,null,null,null,null,null,null,"cum"]
[null,{"$f":"B69","v":" long"},{"$f":"C69","v":1},"x",2,"X",70.960000000000008,"X",6.5,"X",0.05,"=",{"$f":"E79*G79*I79*K79*C79","v":46.124000000000009}]
[null,{"$f":"B70","v":" short"},1,"x",2,"X",22.46,"X",6,"X",0.05,"=",{"$f":"E80*G80*I80*K80*C80","v":13.475999999999999}]
[null,"Approch Road side",1,"x",1,"X",34.54,"X",10,"X",0.05,"=",{"$f":"E81*G81*I81*K81*C81","v":17.27}]
[null,"Side width",1,"x",2,"X",{"$f":"G79+G80+G81","v":127.96000000000001},"X",0.5,"X",0.1,"=",{"$f":"E82*G82*I82*K82*C82","v":12.796000000000001}]
[null,null,null,null,null,null,null,null,null,null,"Total",null,{"$f":"SUM(M79:M82)","v":89.666000000000011}]
[null,"Add for Compaction factor 20 %",null,null,null,null,null,null,null,null,null,null,{"$f":"M83*20%","v":17.933200000000003}]
[null,null,null,null,null,null,null,null,null,null,null,null,{"$f":"SUM(M83:M84)","v":107.59920000000001}]
[null,null,null,null,null,null,null,null,null,null,"Say",null,{"$f":"ROUNDUP(M85,0)","v":108}]
[]
[null,"Item No. 4 - B :- Supplying soft murum at the road side including conveying & stacking etc. complete. (Rd.24 / P. 203)",null,null,null,null,null,null,null,null,null,null,null,"cum"]
[null,{"$f":"B79","v":" long"},{"$f":"C79","v":1},"x",2,"X",70.960000000000008,"X",6.5,"X",0.03,"=",{"$f":"E89*G89*I89*K89*C89","v":27.674400000000002}]
[null,{"$f":"B80","v":" short"},1,"x",2,"X",22.46,"X",6,"X",0.03,"=",{"$f":"E90*G90*I90*K90*C90","v":8.0855999999999995}]
[null,"Approch Road side",1,"x",1,"X",34.54,"X",10,"X",0.03,"=",{"$f":"E91*G91*I91*K91*C91","v":10.361999999999998}]
[null,null,null,null,null,null,null,null,null,null,"TOTAL",null,0]
[null,"Add for Compaction factor 20 %",null,null,null,null,null,null,null,null,null,null,{"$f":"M92*20%","v":0}]
[null,null,null,null,null,null,null,null,null,null,null,null,{"$f":"SUM(M89:M93)","v":46.122}]
[null,null,null,null,null,null,null,null,null,null,"Say",null,{"$f":"ROUNDUP(M94,0)","v":47}]
[]
[null,"Item No. 5 - A :- Spreading hardmurum at the road side including conveying & stacking etc. complete. ",null,null,null,null,null,null,null,null,null,null,null,"cum"]
[null,"Qty. as per item 4-A",null,null,null,null,null,null,null,null,null,"=",{"$f":"M86","v":108}]
[null,null,null,null,null,null,null,null,null,null,"Total",null,{"$f":"M98","v":108}]
[null,null,null,null,null,null,null,null,null,null,"Say",null,{"$f":"ROUNDUP(M99,0)","v":108}]
[]
[]
[null,"Item No. 5 – B :- Spreading soft murum over size metal as blindage as directed etc. complete.",null,null,null,null,null,null,null,null,null,null,null,"cum"]
[]
[null,"Qty. as per item 4-B",null,null,null,null,null,null,null,null,null,"=",{"$f":"M95","v":47}]
[null,null,null,null,null,null,null,null,null,null,"Total",null,{"$f":"M105","v":47}]
[null,null,null,null,null,null,null,null,null,null,"Say",null,{"$f":"ROUNDUP(M106,0)","v":47}]
[]
[]
[null,"Item No. 6 :- Spreading 80 mm trap stone metal including sectioning as directed etc. complete.",null,null,null,null,null,null,null,null,null,null,null,"cum"]
[]
[null,"Qty. as per item 2",null,null,null,null,null,null,null,null,null,"=",{"$f":"M66","v":305}]
[null,null,null,null,null,null,null,null,null,null,"Total",null,{"$f":"SUM(M110:M112)","v":305}]
[null,null,null,null,null,null,null,null,null,null,"Say",null,{"$f":"M113","v":305}]
[]
[null,"Item No. 7 :- Spreading 40 mm trape stone metal including sectioning as directed etc. complete.",null,null,null,null,null,null,null,null,null,null,null,"cum"]
[]
[null,"Qty. as per item 3",null,null,null,null,null,null,null,null,null,"=",{"$f":"M75","v":203}]
[null,null,null,null,null,null,null,null,null,null,"Total",null,{"$f":"SUM(M118)","v":203}]
[null,null,null,null,null,null,null,null,null,null,"Say",null,{"$f":"M119","v":203}]
[]
[null,"Item No. 8 – A :- Compacting oversize  metal layer with H. M. with power roller including artificial watering & necy. Labour etc. complete.",null,null,null,null,null,null,null,null,null,null,null,"sqm"]
[null,"For Size & Oversize Metal"]
[null,{"$f":"B89","v":" long"},1,{"$f":"D89","v":"x"},2,"X",70.960000000000008,"X",6.5,null,null,"=",{"$f":"C124*E124*G124*I124","v":922.48000000000013}]
[null,{"$f":"B90","v":" short"},1,"x",2,"X",22.46,"X",6,null,null,"=",{"$f":"C125*E125*G125*I125","v":269.52}]
[null,"Approch Road side",0,"x",1,"X",34.54,"X",10,null,null,"=",{"$f":"C126*E126*G126*I126","v":0}]
[null,null,null,null,null,null,null,null,null,null,"TOTAL",null,{"$f":"SUM(M124:M126)","v":1192}]
[null,null,null,null,null,null,null,null,null,null,"Say",null,{"$f":"ROUNDUP(M127,0)","v":1192}]
[]
[null,"Item No. 8 – B :- Compacting  size metal layer with S. M. with power roller including artificial watering & necy. Labour etc. complete.",null,null,null,null,null,null,null,null,null,null,null,"sqm"]
[]
[null,{"$f":"B124","v":" long"},1,{"$f":"D124","v":"x"},2,"X",70.960000000000008,"X",6.5,null,null,"=",{"$f":"C132*E132*G132*I132","v":922.48000000000013}]
[null,{"$f":"B125","v":" short"},1,"x",2,"X",22.46,"X",6,null,null,"=",{"$f":"C133*E133*G133*I133","v":269.52}]
[null,"Approch Road side",1,"x",1,"X",34.54,"X",10,null,null,"=",{"$f":"C134*E134*G134*I134","v":345.4}]
[null,null,null,null,null,null,null,null,null,null,"TOTAL",null,{"$f":"SUM(M132:M134)","v":1537.4}]
[null,null,null,null,null,null,null,null,null,null,"Say",null,{"$f":"ROUNDUP(M135,0)","v":1538}]
[]
[null,"Item No. 9 :- Compacting hard murum side width layer on each side  with power roller including artificial watering etc. complete.",null,null,null,null,null,null,null,null,null,null,null,"sqm"]
[]
[null,"Side width",null,null,1,"X",{"$f":"G82","v":127.96000000000001},"X",0.5,null,null,"=",{"$f":"E140*G140*I140","v":63.980000000000004}]
[null,null,null,null,null,null,null,null,null,null,"Total",null,{"$f":"SUM(M140:M140)","v":63.980000000000004}]
[null,null,null,null,null,null,null,null,null,null,"Say",null,{"$f":"ROUNDUP(M141,0)","v":64}]
[]
[]
[null,"Item No. 3 :- providing & fixing R. C. C. 1:2:4 guard stones as per type design including painting numbering fixing in std. Size C. C. 1:4:8 block complete.",null,null,null,null,null,null,null,null,null,null,null,"No"]
[]
[null,null,null,null,1,"X",100,null,null,null,null,"=",{"$f":"E147*G147","v":100}]
[null,null,null,null,null,null,null,null,null,null,"Total",null,{"$f":"SUM(M147:M147)","v":100}]
[null,null,null,null,null,null,null,null,null,null,"Say",null,{"$f":"M148","v":100}]
[]
[null,"PART  II :- CROSS DRAINAGE WORKS "]
[]
[null,"Item No (11-A) :- Excavation for foundation in earth soil of all types sand, gravel & soft murum, depth upto 1.50 meters including removing the excavated stuff upto a distance of 50 meters beyond the bldg. area all lifts stacking or spreading as directed, dewatering, shoring, strutting if necessary preparing the bed for foundation including necessary backfilling (Bd.A.1/259)"]
[null,"C  D Works ",1,"x",1,"x",10,"x",1.5,"x",0.65,"=",{"$f":"K154*I154*G154*E154*C154","v":9.75},"cum "]
[null,"PIPE",1,"x",1,"x",10,"x",1.5,"x",0.7,"=",{"$f":"K155*I155*G155*E155*C155","v":10.499999999999998}]
[null,"App.  C D work  Head wall ",1,"x",2,"x",2,"x",0.75,"x",{"$f":"K29","v":0.6},"=",{"$f":"K156*I156*G156*E156*C156","v":1.7999999999999998}]
[null,"Width of C D work ",0,"x",1,"x",9,"x",1.5,"x",0.2,"=",{"$f":"K157*I157*G157*E157*C157","v":0}]
[]
[null,null,null,null,null,null,null,null,null,null,"Total ",null,{"$f":"SUM(M154:M157)","v":22.05},"cum "]
[null,null,null,null,null,null,null,null,null,null,"Say ",null,{"$f":"ROUND(M159,2)","v":22.05},"cum "]
[]
[null,"Item No (11-B) :- Excavation for foundation in hard murum depth upto 1.50m  including removing the excavated stuff upto a distance of 50 meters beyond the building area all lifts stacking or spreading as directed, dewatering, shoring, strutting if necessary preparing the bed for foundation including necessary backfilling  etc complete (Bd.A.2/ 259)"]
[null,{"$f":"B154","v":"C  D Works "},0,{"$f":"D154","v":"x"},1,"x",10,"x",1.5,"x",0.2,"=",{"$f":"K163*I163*G163*E163*C163","v":0},"cum "]
[null,{"$f":"B155","v":"PIPE"},1,"x",1,"x",10,"x",1.5,"x",0,"=",{"$f":"K164*I164*G164*E164*C164","v":0}]
[null,{"$f":"B156","v":"App.  C D work  Head wall "},1,"x",2,"x",2,"x",0.75,"x",0,"=",{"$f":"K165*I165*G165*E165*C165","v":0}]
[null,{"$f":"B157","v":"Width of C D work "},0,"x",1,"x",9,"x",1.5,"x",0,"=",{"$f":"K166*I166*G166*E166*C166","v":0}]
[]
[null,null,null,null,null,null,null,null,null,null,"Total ",null,1,"cum "]
[null,null,null,null,null,null,null,null,null,null,"Say ",null,{"$f":"ROUND(M168,0)","v":1},"cum "]
[null,"Item No ( 11-C) :- Excavation for foundation in H.M. & boulder upto 1.50 meters including removing the excavated stuff upto a distance of 50 meters beyond the building area all lifts stacking or spreading as directed, dewatering, shoring, strutting if necessary preparing the bed for foundation including necessary backfilling etc complete (Bd. A3/259)"]
[]
[null,{"$f":"B163","v":"C  D Works "},{"$f":"C163","v":0},"x",1,"x",10,"x",1.5,"x",0.1,"=",{"$f":"K172*I172*G172*E172*C172","v":0},"cum"]
[null,{"$f":"B164","v":"PIPE"},1,"x",1,"x",10,"x",1.5,"x",0,"=",{"$f":"K173*I173*G173*E173*C173","v":0}]
[null,{"$f":"B165","v":"App.  C D work  Head wall "},1,"x",2,"x",2,"x",0.75,"x",0,"=",{"$f":"K174*I174*G174*E174*C174","v":0}]
[null,{"$f":"B166","v":"Width of C D work "},0,"x",1,"x",9,"x",1.5,"x",0,"=",{"$f":"K175*I175*G175*E175*C175","v":0}]
[null,null,null,null,null,null,null,null,null,null,"Total ",null,1,"cum "]
[null,null,null,null,null,null,null,null,null,null,"Say ",null,{"$f":"ROUND(M176,0)","v":1},"cum "]
[]
[null,"Item No. 11-D :- Excavation for roadway & side gutters  in Hard rock dressing section to the required grade camber and side slopes and conveying the excavated materials upto a lead of 50 M  & spreading for embankment or stacking as directed.",null,null,null,null,null,null,null,null,null,null,null,"cum"]
[]
[null,{"$f":"B172","v":"C  D Works "},{"$f":"C172","v":0},"x",1,"x",10,"x",1.5,"X",0,"=",{"$f":"C181*E181*G181*I181*K181","v":0}]
[null,{"$f":"B173","v":"PIPE"},1,"x",1,"x",10,"x",1.5,"X",0,"=",{"$f":"E182*G182*I182*K182","v":0}]
[null,{"$f":"B174","v":"App.  C D work  Head wall "},1,"x",2,"x",2,"x",0.75,"X",0,"=",{"$f":"E183*G183*I183*K183","v":0}]
[null,null,null,null,null,null,null,null,null,null,"Net ",null,{"$f":"SUM(M181:M183)","v":0}]
[null,null,null,null,null,null,null,null,null,null,"Say ",null,1]
[null,"Item No (12) :- Providing & laying in situ cement concrete (1:5:10) of trap metal  for foundation & bedding including dewatering if necessary, compacting, curing etc. complete [Bd.E.1 / 287]"]
[]
[null,{"$f":"B181","v":"C  D Works "},1,{"$f":"D181","v":"x"},1,"x",10,"x",1.5,"x",0.1,"=",{"$f":"K188*I188*G188*E188*C188","v":1.5000000000000002},"cum "]
[null,{"$f":"B182","v":"PIPE"},1,"x",1,"x",10,"x",1.5,"x",0.1,"=",{"$f":"K189*I189*G189*E189*C189","v":1.5000000000000002}]
[null,{"$f":"B183","v":"App.  C D work  Head wall "},1,"x",2,"x",2,"x",0.75,"x",0.1,"=",{"$f":"K190*I190*G190*E190*C190","v":0.30000000000000004}]
[null,"Width of C D work ",0,"x",1,"x",{"$f":"G175","v":9},"x",1.5,"x",0.1,"=",{"$f":"K191*I191*G191*E191*C191","v":0}]
[null,null,null,null,null,null,null,null,null,null,"Total ",null,{"$f":"SUM(M188:M191)","v":3.3000000000000007},"cum "]
[null,null,null,null,null,null,null,null,null,null,"Say ",null,{"$f":"ROUND(M192,0)","v":3},"cum "]
[null,"Item No (13) :- Providing U.C.R. masonary of trap stones in C.M. 1:6 in foundation & plinth including dewatering, striking joints on exposed surfaces and pointing with C.M. 1:3 on outside surfaces curing etc. complete.(Bd. H.1/329)"]
[null,{"$f":"B188","v":"C  D Works "},{"$f":"C188","v":1},"x",2,"x",10,"x",0.44500000000000001,"x",0.35,null,{"$f":"K195*I195*G195*E195*C195","v":3.1150000000000002}]
[null,"Open U C R drain ",0,"x",2,"x",5,"x",0.45,"x",0.35,null,{"$f":"K196*I196*G196*E196*C196","v":0}]
[null,"App.  C D work  Head wall ",1,"x",2,"x",2.2000000000000002,"x",0.45,"x",1.3,null,{"$f":"K197*I197*G197*E197*C197","v":2.5740000000000007}]
[null,null,null,null,null,null,null,null,null,null,"Total ",null,{"$f":"SUM(M195:M197)","v":5.6890000000000009},"cum "]
[null,null,null,null,null,null,null,null,null,null,"Say ",null,{"$f":"ROUNDUP(M198,0)","v":6},"cum "]
[]
[null,"Item No (14) :- Providing & fixing in position M.S. tor reinforcement of various diameters for R.C.C. foundations footings, columns, beams, lintels, weathersheds, canopy drops etc as per detailed design, drawing & schedule including cutting, bending, hooking the bars, binding with wires or tack welding and supporting as required etc. complete (Bd.F.17/306)"]
[]
[null,"at 125 Kgs / cum ",{"$f":"M212","v":3},null,null,null,150,null,null,null,null,null,{"$f":"G203*C203/1000","v":0.45},"MT"]
[]
[null,null,null,null,null,null,null,null,null,null,"Total ",null,{"$f":"SUM(M203:M204)","v":0.45},"MT"]
[null,null,null,null,null,null,null,null,null,null,"Say ",null,{"$f":"ROUNDUP(M205,1)","v":0.5},"MT"]
[]
[null,"Item No (15) :- Providing & laying in situ cement concrete M-30 of trap metal for R. C. C. work in beams and lintels as per detailed drawing and design as directed including dewatering if necessary centering, forwork, compaction, finishing the formed surface with C. M. 1:3 of sufficient minimum thickness to give smooth finish and even surface or roughening if special finish is to be provided and curing etc. complete. (Excluding reinforcement) [ Bd. F. 6 / 300]"]
[]
[null,null,1,null,{"$f":"G154/0.2","v":50},null,1.3,null,0.2,null,0.2,null,{"$f":"C210*E210*G210*I210*K210","v":2.6}]
[null,null,null,null,null,null,null,null,null,null,"Total ",null,{"$f":"SUM(M210:M210)","v":2.6},"cum "]
[null,null,null,null,null,null,null,null,null,null,"Say ",null,{"$f":"ROUNDUP(M211,0)","v":3},"cum "]
[]
[null,"Item No (16) :- Providing cement plaster 20 mm thick in two coats in C. M. 1 : 4 with slurry finish to concrete or brick surface or U. C. R surface in all positions including scaffolding & curing smooth cement slurry  finish of 1.5 mm thickness  etc. complete as directed.   [ Bd. L 4 / 368]"]
[]
[null,"C  D Works ",1,"x",1,"x",{"$f":"G154","v":10},"x",1.2,null,null,null,{"$f":"I216*G216*E216*C216","v":12},"sqm"]
[null,"App.  C D work  Head wall ",{"$f":"C190","v":1},"x",2,"x",2,"x",0.65,null,null,null,{"$f":"I217*G217*E217*C217","v":2.6}]
[null,null,0,"x",2,"x",0.45,"x",0.1,null,null,"=",{"$f":"I218*G218*E218*C218","v":0}]
[]
[null,null,null,null,null,null,null,null,null,null,"Total ",null,{"$f":"SUM(M216:M219)","v":14.6},"sqm"]
[null,null,null,null,null,null,null,null,null,null,"Say",null,{"$f":"ROUNDUP(M220,0)","v":15},"sqm"]
[]
[null,"Item No (17) :- Providing pointing with Cement Morter (1: 3) for stone masonary including scaffolding curing etc. complete [Bd. L. 15 / 372]"]
[]
[null,null,1,"x",2,"x",{"$f":"G217","v":2},"x",0.7,"x",null,".=",{"$f":"C225*E225*G225*I225","v":2.8},"sqm"]
[null,null,0,"x",{"$f":"E225","v":2},"x",0.45,"x",{"$f":"I225","v":0.7},"x",null,".=",{"$f":"C226*E226*G226*I226","v":0}]
[null,null,null,null,null,null,null,null,null,null,"Total ",null,{"$f":"SUM(M225:M226)","v":2.8},"sqm"]
[null,null,null,null,null,null,null,null,null,null,"Say",null,{"$f":"ROUND(M227,0)","v":3},"sqm"]
[]
[null,"Item No(18) :- providing & laying C. C. pipe of NP2 class 600 mm dia metre in proper line, level & slope including providing & laying in position the coller in C. M. 1 : 2 etc. complete. "]
[null,"I S N P III Class pipe ",1,"x",1,"x",10,null,null,null,null,"=",{"$f":"C231*E231*G231","v":10},"Rm "]
[null,null,null,null,null,null,null,null,null,null,"Total ",null,{"$f":"SUM(M231:M231)","v":10},"Rm"]
[null,null,null,null,null,null,null,null,null,null,"Say",null,{"$f":"ROUND(M232,1)","v":10},"Rm"]
[]
[null,"Item No( 19):- Supplynig & spreading Hard mumrum for cushioning of R C C pipe including watering rammi ng & leveling etc complete."]
[null,"I S N P III Class pipe ",1,"x",1,"x",10,"x",1.5,"x",0.9,"=",{"$f":"K236*I236*G236*E236*C236","v":13.5},"cum "]
[null,null,null,null,null,null,null,null,null,null,null,null,null,"cum"]
[null,"Deduct ",null,null,null,"x",10,"x",0.7,"x",0.7,"=",{"$f":"K238*I238*G238*E238*C238","v":0}]
[null,null,null,null,null,null,null,null,null,null,"Net ",null,{"$f":"M236-M238","v":13.5},"cum"]
[null,null,null,null,null,null,null,null,null,null,"Say",null,{"$f":"ROUND(M239,1)","v":13.5},"cu m "]
[]
[null,"Item No (20) :- Providing & laying in situ cement concrete    1 : 2 : 4 of trap metal for coping to column & compound wall moulded chamfered as per  drawing and design as directed including necessary centering, formwork, compaction, finishing the formed surface with C. M. 1 : 3 of sufficient minimum thickness to give smooth finish and even surface or roughening if special finish is to be provided and curing etc. complete. (Excluding reinforcement)"]
[null,"App.  C D work  Head wall ",1,"x",2,"x",2,"x",0.45,"x",0.1,"=",{"$f":"K243*I243*G243*E243*C243","v":0.18000000000000002},"cum"]
[null,"Above C.C. pipe ",1,"x",1,"x",10,"x",1.5,"x",0.3,"=",{"$f":"K244*I244*G244*E244*C244","v":4.5}]
[null,null,null,null,null,null,null,null,null,null,"Total ",null,{"$f":"SUM(M243:M244)","v":4.68},"cum"]
[null,null,null,null,null,null,null,null,null,null,"Say",null,{"$f":"ROUNDUP(M245,0)","v":5},"cu m "]
[null,"Item No :-21 ) Providing soling using 80 mm size trap metal in 15 cm. layer including filling voids with Crushed sand/grit, ramming, watering etc. complete.",null,null,null,null,null,null,null,null,null,null,null,"Cum"]
[null,null,0,"x",0,"x",0,"x",1,"x",0,"=",0]
[null,null,0,"x",0,"x",0,"x",1,"x",{"$f":"K248","v":0},"=",0]
[null,null,0,"x",0,"x",0,"x",1,"x",{"$f":"K248","v":0},"=",0]
[null,null,null,null,0,null,0,null,1,null,"Total ",null,0]
[null,null,null,null,0,null,null,null,null,null,{"$f":"K251","v":"Total "},null,5]
[]
[null,"Item No (22A) :- Preaparing embankment with approved materials obtained from the cutting within  a lead of 50 m including laying in layers of 20 to 30 cms , breaking clods , dressing to the requiredlines curves grades & sections , compacting with power roller etc complete.( Rd14/195)"]
[]
[null,null,null,null,null,null,null,null,null,null,"Total ",null,5,"cum "]
[null,null,null,null,null,null,null,null,null,null,"Say ",null,{"$f":"ROUNDUP(M256,0)","v":5},"cum"]
[]
[null,"Item No (22B) :- Providing earthwork for embankment with materials obtained from other sources with all leads & lift including laying in layers of 20 to 30 cms breaking clods, dressing to the required lines, curves, grades & sections and compaction with power roller complete. [ Rd. 13 / P 194]"]
[null,"Road formation "]
[null,null,1,"x",{"$f":"E10","v":2},{"$f":"F10","v":"X"},70.960000000000008,"X",6.5,"X",0.6,"=",{"$f":"E261*G261*I261*K261","v":553.48800000000006}]
[null,null,1,"x",{"$f":"E11","v":2},"X",22.46,"X",6,"X",{"$f":"K261","v":0.6},"=",{"$f":"E262*G262*I262*K262","v":161.71199999999999}]
[null,{"$f":"B12","v":"Approch Road side"},{"$f":"C12","v":1},"x",1,"X",34.54,"X",10,"X",{"$f":"K262","v":0.6},"=",{"$f":"E263*G263*I263*K263","v":207.23999999999998}]
[null,null,null,null,null,null,null,null,null,null,"Net ",null,{"$f":"SUM(M261:M263)","v":922.44}]
[null,null,null,null,null,null,null,null,null,null,"Say ",null,{"$f":"ROUNDUP(M264,0)","v":923}]
[]
[null,"Item No (23 ): - Conveying the materials obtained from excavation including all lifts, laying in layers, breaking clods, dressing to the required lines, curves, grades and section for a lead over 50 m to 300 m from the site of excavation to the site of deposition as directed. (Rd.18 Page No. 197)"]
[null,null,null,null,null,null,null,null,null,null,"Total ",null,{"$f":"SUM(M267:M267)","v":0}]
[null,null,null,null,null,null,null,null,null,null,"Say ",null,10]
[]
[null,"Item No (24) :- Conveying the materials obtained from excavation including all lifts, laying in layers, breaking clods, dressing to the required lines, curves, grades and section for all leads & lifts from the site of excavation to the site of deposition as directed. (Rd. 18 / P. 197)"]
[null,"Qty. as per item No- 1",null,null,null,null,null,null,null,null,null,null,{"$f":"M31","v":999},"cum"]
[null,null,null,null,null,null,null,null,null,null,"Total",null,{"$f":"SUM(M272)","v":999}]
[null,null,null,null,null,null,null,null,null,null,"Say ",null,{"$f":"M273","v":999}]
[null,"Item No. 25 :- Providing  stone rubble pitching "]
[null,"Road formation "]
[null,"West long",1,"x",1,"X",44.1,"X",0,"X",0.6,"=",{"$f":"E277*G277*I277*K277","v":0},"Sq.mtr."]
[null,"South short",1,"x",1,"X",24.9,"X",0,"X",0.8,"=",{"$f":"E278*G278*I278*K278","v":0}]
[null,null,null,null,null,null,null,null,null,null,"Net ",null,1]
[null,null,null,null,null,null,null,null,null,null,"Say ",null,1]
[]
[25,"Providing and constructing 50mm. thick Modified Penetration Macadam (MPM) road surface including all materials, preparing the existing road surface, spreading 40mm. stone layers metal 30% crusher broken metal +70% Hand broken metal (Bybreaking Rubble obtained by blasting) ,heating and spraying the bitumen of specified grade @ 1.75 kg /sqm ,spreading 12mm. size chips compacting with Static roller having weight 8 to 10MT. to achive the desired degree of compaction as per Technical Specification Clause 506 etc.complete ,including applying tack coat of bitumen 0f specified grade at the rate of  0.30 Kg  Sqm. "]
[]
[null,{"$f":"B10","v":"Road area"},1,{"$f":"D10","v":"X"},2,"X",70.960000000000008,"X",6.5,null,null,null,922.48000000000013,"SQM"]
[null,null,1,{"$f":"D11","v":"X"},2,"X",22.46,"X",6,null,null,null,269.52]
[null,{"$f":"B12","v":"Approch Road side"},1,"x",1,"X",34.54,"X",10,null,null,null,345.4]
[null,null,null,null,null,null,null,null,null,null,{"$f":"K13","v":"TOTAL Area"},null,1537.4]

{"sheet":"UG watertank","index":24,"n_rows":173,"n_cols":14,"rows_kept":173,"cut":false,"hidden":true,"merged":[[24,1,24,12],[0,0,0,13],[1,1,1,13],[5,0,5,13],[6,1,6,13],[8,2,8,5],[3,1,3,13],[145,1,145,12],[88,1,88,2],[28,1,28,12],[33,1,33,12],[37,1,37,12],[42,1,46,10],[52,1,52,12],[58,1,58,12],[67,1,67,12],[72,1,72,12],[75,1,75,3],[79,1,79,12],[85,1,85,12],[117,1,117,12],[123,1,123,12],[129,1,129,12],[134,1,134,12],[140,1,140,12],[91,1,91,12],[96,1,96,12],[100,1,100,12],[105,1,105,12],[111,1,111,12],[155,1,155,12],[160,1,160,12],[165,1,165,12],[170,1,170,12],[150,1,150,12]]}
["MAHARASHTRA STATE  WAREHOUSING CORPORATION"]
[null,"583/B, MARKET YARD, GULTEKADI, PUNE-411037"]
[]
[null,{"$f":"Recap!B6","v":"NAME OF WORK :-  CONSTRUCTION OF 1/2160 MT CAP PRE- ENGINEERED WH BLDG WITH ANCILLARY WORKS AT: NAGZARI DIST. LATUR"}]
[]
["S.W.IV :- UNDERGROUND WATER TANK  10000 ltr"]
[null,"MEASUREMENT SHEET "]
[]
[null,"Item Nos & Description of Items ","NO.S",null,null,null,"LENGTH",null,"BREDTH",null,"DEPTH /HEIGHT ",null,"TOTAL QTY","Unit"]
[null,null,1,"X",2,"X",3,"X",4,"X",5,"=","1 TO 5"]
[]
[]
[null,"Above ground",null,null,null,null,0.45]
[]
[null,"Total depth of Excavation;- ",null,null,null,null,1.65]
[]
[null,"Srata"]
[null,"Soil:- ",null,null,null,null,{"$f":"'Wh. '!K14","v":1.5}]
[null,"Hard murum:- ",null,null,null,null,{"$f":"'Wh. '!K15","v":0.3}]
[null,"H.M & Boulder",null,null,null,null,{"$f":"'Wh. '!K15","v":0.3}]
[null,"Soft Rock :- ",null,null,null,null,0]
[null,"Hard Rock:- ",null,null,null,null,0]
[null,"Total Depth",null,null,null,null,{"$f":"SUM(G18:G22)","v":2.1}]
[]
[null,"Item No (1) :- Excavation for foundation in earth, soil of all types, sand, gravel and soft murum, including removing the excavated material up to a distance of 50 m. beyond the building area and stacking and spreading as directed, dewatering, preparing the bed for the foundation and necessary back filling, ramming, watering including shoring and strutting etc. complete. (Lift upto 1.5 m.) By Mechanical Means",null,null,null,null,null,null,null,null,null,null,null,"CUBIC METRE"]
[null,"WT",1,"X",1,"X",4.4000000000000004,"X",2.4,"X",{"$f":"G18","v":1.5},"=",{"$f":"C26*E26*G26*I26*K26","v":15.84}]
[null,null,null,null,null,null,null,null,null,null,"Total","=",{"$f":"SUM(M26:M26)","v":15.84}]
[null,null,null,null,null,null,null,null,null,null,"SAY","=",{"$f":"ROUNDUP(M27,0)","v":16}]
[null,"Item No (2) :- Excavation for foundation in hard murum including removing the excavated material upto distance of 50 metres beyond the building area and stacking and spreading as directed, dewatering, preparing the bed for the foundation and necessary back filling, ramming, watering including shoring and strutting etc. complete. (Lift upto 1.50m)   By Mechanical Means",null,null,null,null,null,null,null,null,null,null,null,"CUBIC METRE"]
[null,"WT",1,"X",1,"X",{"$f":"G26","v":4.4000000000000004},"X",{"$f":"I26","v":2.4},"X",0,"=",{"$f":"C30*E30*G30*I30*K30","v":0}]
[null,null,null,null,null,null,null,null,null,null,"Total","=",{"$f":"SUM(M30:M30)","v":0}]
[null,null,null,null,null,null,null,null,"Provision",null,"SAY","=",1]
[]
[null,"Item No (3) :- Excavation for foundation in hard murum and boulders including removing the excavated material up to a distance 50 metres, beyond the building area and stacking and spreading as directed, dewatering,preparing the bed for the foundation and necessary back filling,ramming, watering including shoring and strutting etc. complete. (Lift upto 1.5m.) By Mechanical Means",null,null,null,null,null,null,null,null,null,null,null,"CUBIC METRE"]
[null,"WT",1,"X",1,"X",{"$f":"G30","v":4.4000000000000004},"X",{"$f":"I30","v":2.4},"X",0,"=",{"$f":"C35*E35*G35*I35*K35","v":0}]
[null,null,null,null,null,null,null,null,null,null,"Total","=",{"$f":"M35","v":0}]
[null,null,null,null,null,null,null,null,"Provision",null,"SAY","=",1]
[null,"Item No (4) : - Excavation for foundation in Soft rock and old cement or lime masonry foundations including removing the excavated material upto a distance of 50 metres beyond the building area and stacking as directed, including dewatering, preparing the bed for the foundation and necessary back filling with available earth /murum, ramming watering including shoring and strutting etc. complete (lift upto 1.5m) By Mechanical Means",null,null,null,null,null,null,null,null,null,null,null,"CUBIC METRE"]
[null,"WT",1,"X",1,"X",{"$f":"G35","v":4.4000000000000004},"X",{"$f":"I35","v":2.4},"X",{"$f":"G21","v":0},"=",{"$f":"C39*E39*G39*I39*K39","v":0}]
[null,null,null,null,null,null,null,null,null,null,"Total","=",{"$f":"SUM(M39:M39)","v":0}]
[null,null,null,null,null,null,null,null,null,null,"SAY","=",1]
[]
[null,"Item No (1-D): - Excavation for foundation in Hard  rock a depth upto1.50 meters by hydraulic machine  with  needle breaker including removing the excavated stuff upto a distance of 50 meters beyond the building area all lifts stacking or spreading as directed, dewatering, shoring, strutting if necessary preparing the bed for foundation including necessary backfilling etc complete as directed.",null,null,null,null,null,null,null,null,null,null,null,"CUBIC METRE"]
[]
[]
[]
[]
[null,null,1,"X",1,"X",{"$f":"G39","v":4.4000000000000004},"X",{"$f":"I39","v":2.4},"X",{"$f":"G22","v":0},"=",{"$f":"C48*E48*G48*I48*K48","v":0}]
[null,null,null,null,null,null,null,null,null,null,"Total",null,{"$f":"SUM(M48:M48)","v":0}]
[null,null,null,null,null,null,null,null,null,null,"SAY",null,{"$f":"ROUNDUP(M49,0)","v":0}]
[]
[]
[null,"Item No ( 5) : - Providing soling using 80mm size trap metal in15cm.layer including filling voids with Crushed sand/grit, ramming, watering etc. complete.",null,null,null,null,null,null,null,null,null,null,null,"CUBIC METRE"]
[]
[null,"below raft",1,"X",1,"X",{"$f":"G48","v":4.4000000000000004},"X",{"$f":"I48","v":2.4},"X",0,"=",{"$f":"C55*E55*G55*I55*K55","v":0}]
[null,null,null,null,null,null,null,null,null,null,"Total","=",{"$f":"SUM(M55)","v":0}]
[null,null,null,null,null,null,null,null,null,null,"SAY","=",1]
[]
[null,"Item No ( 6 ) : - Providing and filling in the foundation with sand of approved quality including watering, compacting etc.complete.(To be executed with prior approval of Superintending Engineer)",null,null,null,null,null,null,null,null,null,null,null,"CUBIC METRE"]
[]
[null,null,1,"X",1,"X",{"$f":"G55","v":4.4000000000000004},{"$f":"H55","v":"X"},{"$f":"I55","v":2.4},{"$f":"J55","v":"X"},0,{"$f":"L55","v":"="},{"$f":"K61*I61*G61*E61*C61","v":0}]
[null,"side filling",0,"X",2,"X",{"$f":"2.8+2*0.6","v":4},"X",0.6,"X",1,{"$f":"L56","v":"="},{"$f":"C62*E62*G62*I62*K62","v":0}]
[null,null,0,"X",2,"X",{"$f":"2.8","v":2.8},"X",0.6,"X",1,"=",{"$f":"C63*E63*G63*I63*K63","v":0}]
[]
[null,null,null,null,null,null,null,null,null,null,"Total",null,1]
[null,null,null,null,null,null,null,null,null,null,"SAY",null,{"$f":"M65","v":1}]
[]
[null,"Item No (7) :- Providing and laying Cast in situ / Ready Mix cement concrete in M-10 of trap / granite/quartzite/gneiss metal for foundation and bedding including bailing out water, Steel centering, formwork, laying / pumping, compacting, roughening them if special finish is to be provided, finishing if required and curing complete, With fine aggregate (Natural Sand/Crusheds and VSI Grade finely washed etc)",null,null,null,null,null,null,null,null,null,null,null,"CUBIC METRE"]
[null,"For Water Tank",1,"X",1,"X",4.4000000000000004,"X",2.4,"X",0.1,"=",{"$f":"C69*E69*G69*I69*K69","v":1.056}]
[null,null,null,null,null,null,null,null,null,null,"Total","=",{"$f":"SUM(M69:M69)","v":1.056}]
[null,null,null,null,null,null,null,null,null,null,"Say","=",{"$f":"ROUNDUP(M70,0)","v":2}]
[]
[null,"Item No (8) : Filling in plinth and floors with approved excavated materials  approved by Engineer in charge in layers of 15cmto20cm including watering and compaction etc. complete.",null,null,null,null,null,null,null,null,null,null,null,"CUBIC METRE"]
[null,{"$f":"B69","v":"For Water Tank"},1,"X",1,"X",4.4000000000000004,"X",2.4,"X",1.55,"=",{"$f":"C74*E74*G74*I74*K74","v":16.368000000000002}]
[null,"Deductiond for tanks area",-1,"X",2,"X",3.14,"X",1,"X",1.55,"=",{"$f":"C75*E75*G75*I75*K75","v":-9.734}]
[null,"Area of tank = 3.14 X 1.00X1.00"]
[null,"                             = 3.14 Sqm",null,null,null,null,null,null,null,null,"Total","=",{"$f":"SUM(M74:M76)","v":6.6340000000000021}]
[null,null,null,null,null,null,null,null,null,null,"Say","=",7]
[]
[null,"Item No. -(9):- Providing and fixing H.D.P container Syntex  only 3 layer   one piece moulded water tank made out of low density polythyler and built corrugation including of delivery up to destination hoisting and fixing of accessories such as inlet, outlet overflow of all tanks capacity above 1000 to 20,000 litres  ( Syntex only ) \n",null,null,null,null,null,null,null,null,null,null,null,"LITRE"]
[null,"For Fire Fighting",1,"X",2,"X",5000,"X",1,"X",1,"=",{"$f":"C81*E81*G81*I81*K81","v":10000}]
[null,null,null,null,null,null,null,null,null,null,"Total","=",{"$f":"SUM(M81:M81)","v":10000}]
[null,null,null,null,null,null,null,null,null,null,"Say","=",10000]
[]
[]
[null,"Item No -(10) : - Conveying the materials obtained from excavation (B C Soil) including laying in layers, breaking clods, dressing to the required lines, curves, grades and section for all leads & lifts from the site of excavation to the site of deposition  away from ",null,null,null,null,null,null,null,null,null,null,null,"CUBIC METRE"]
[null,"Qty of excavation From Item No. 1",null,null,null,null,null,null,null,null,null,"=",{"$f":"M28","v":16}]
[]
[null,"Qty of excavation From Item No. 2",null,null,null,null,null,null,null,null,null,"=",{"$f":"M32-M78","v":-6}]
[null,null,null,null,null,null,null,null,null,null,"Total","=",{"$f":"SUM(M87:M89)","v":10}]
[]
[null,"Item No -(11) : - Conveying the materials obtained from excavation  including laying in layers, breaking clods, dressing to the required lines, curves, grades and section for all leads & lifts from the site of excavation to the site of deposition  aeay from 300 to 500 m",null,null,null,null,null,null,null,null,null,null,null,"CUBIC METRE"]
[null,"Qty of excavation From Item No. 2 ,3, 4",null,null,null,null,null,null,null,null,null,"=",{"$f":"M32+M37+M41","v":3}]
[null,"Inside the complex 300 to  500m",null,null,null,null,null,null,null,null,"Total","=",{"$f":"M93","v":3}]
[]
[]
[null,"Item No - (12) :-Providing and laying in trenches 25 mm dia. CPVC pipe including necessary excavation, fittings. Refilling trenches etc. complete. Including removing existing pipe line if necessary and conveying and stacking the same in PWD chowky or as directed etc. complete.",null,null,null,null,null,null,null,null,null,null,null,"RMT"]
[null,"From Borewell To Water Tank",null,null,null,null,null,null,null,null,null,"=",10]
[null,null,null,null,null,null,null,null,null,null,"Total","=",{"$f":"ROUNDUP(M98,0)","v":10}]
[]
[null,"Item No - (13) :-Providing and laying in trenches 20 mm dai. CPVC pipe including necessary excavation, fittings. Refilling trenches etc. complete. Including removing existing pipe line if necessary and conveying and stacking the same in PWD chowky or as directed etc. complete.",null,null,null,null,null,null,null,null,null,null,null,"RMT"]
[null,"From Borewell To Water Tank",null,null,null,null,null,null,null,null,null,"=",10]
[null,null,null,null,null,null,null,null,null,null,"Total","=",{"$f":"ROUNDUP(M102,0)","v":10}]
[]
[]
[null,"Item No - (14) :- Providing and fixing screw down for 15 mm dia. wheeled stop tap of brass including necessary sockets/union nut complete).",null,null,null,null,null,null,null,null,null,null,null,"NO"]
[]
[null,"At Water Tank ",1,"x",1,null,null,null,null,null,null,"=",2]
[null,null,null,null,null,null,null,null,null,null,"Total ","=",{"$f":"M108","v":2}]
[null,null,null,null,null,null,null,null,null,null,"Say","=",{"$f":"M109","v":2}]
[]
[null,"Item No - (15) :- Providing and fixing screw down 15 mm dia. wheeled stop tap of brass including necessary sockets/union nut complete",null,null,null,null,null,null,null,null,null,null,null,"NO"]
[]
[null,"At Water Tank ",1,"x",1,null,null,null,null,null,null,"=",1]
[null,null,null,null,null,null,null,null,null,null,"Total ","=",{"$f":"M114","v":1}]
[null,null,null,null,null,null,null,null,null,null,"Say","=",{"$f":"M115","v":1}]
[]
[null," Item No - (16) :- Supplying and erecting cetrifugal water pump   3.75 KW / 5.00 HP ,  65 mm suction and 50 mm delivery pipe … ( 12-1-10/208) ele",null,null,null,null,null,null,null,null,null,null,null,"NO"]
[]
[null,"At Water Tank ",1,"x",1,null,null,null,null,null,null,"=",1]
[null,null,null,null,null,null,null,null,null,null,"Total ","=",{"$f":"M120","v":1}]
[null,null,null,null,null,null,null,null,null,null,"Say","=",{"$f":"M121","v":1}]
[]
[null," Item No - (17) :- Supplying and erecting D.O. L. starter  400 V 3 ph.  ( 12-4-2/218 ) ele",null,null,null,null,null,null,null,null,null,null,null,"NO"]
[]
[null,"At Water Tank ",1,"x",1,null,null,null,null,null,null,"=",1]
[null,null,null,null,null,null,null,null,null,null,"Total ","=",{"$f":"M126","v":1}]
[null,null,null,null,null,null,null,null,null,null,"Say","=",{"$f":"M127","v":1}]
[]
[null," Item No - (18) :- Supplying and erecting  65 mm dia. Ball type footvalve  ( 16-6-34/248 ) ele",null,null,null,null,null,null,null,null,null,null,null,"NO"]
[]
[null,"At Water Tank ",1,"x",1,null,null,null,null,null,null,"=",1]
[null,null,null,null,null,null,null,null,null,null,"Total ","=",{"$f":"M132","v":1}]
[null,null,null,null,null,null,null,null,null,null,"Say","=",{"$f":"M133","v":1}]
[null," Item No - (19) :- Supplying and erecting  & terminating XLPE armoured cable  4 core 6 sqmm  copper conductor  ( 7-2-32/133) ele ",null,null,null,null,null,null,null,null,null,null,null,"Rmt "]
[]
[null,"At Water Tank ",1,"x",1,null,100,null,null,null,null,"=",{"$f":"G137*E137*C137","v":100}]
[null,null,null,null,null,null,null,null,null,null,"Total ","=",{"$f":"M137","v":100}]
[null,null,null,null,null,null,null,null,null,null,"Say","=",{"$f":"M138","v":100}]
[]
[null," Item No - ( 20) :- Supplying and erecting  & marking FPMCB  6  Amp to 32 Amp  ( 5-3-16/97) ele ",null,null,null,null,null,null,null,null,null,null,null,"Nos"]
[]
[null,"At Water Tank ",1,"x",1,null,1,null,null,null,null,"=",{"$f":"G143*E143*C143","v":1}]
[null,null,null,null,null,null,null,null,null,null,"Total ","=",{"$f":"M143","v":1}]
[null,null,null,null,null,null,null,null,null,null,"Say","=",{"$f":"M144","v":1}]
[null," Item No - ( 21) :- Supplying and erecting  CRCA sheet metal  one way enclosure suitable for DPMCB  ( 5-4-23/99) ele",null,null,null,null,null,null,null,null,null,null,null,"Nos"]
[]
[null,"At Water Tank ",1,"x",1,null,1,null,null,null,null,"=",{"$f":"G148*E148*C148","v":1}]
[null,null,null,null,null,null,null,null,null,null,"Total ","=",{"$f":"M148","v":1}]
[null,null,null,null,null,null,null,null,null,null,"Say","=",{"$f":"M149","v":1}]
[null," Item No - ( 22) :-  Providing earthing with GI earthplate  size 60x60x0.6 cm ( 9-1-1/161) ele",null,null,null,null,null,null,null,null,null,null,null,"Nos"]
[]
[null,"At Water Tank ",1,"x",1,null,1,null,null,null,null,"=",{"$f":"G153*E153*C153","v":1}]
[null,null,null,null,null,null,null,null,null,null,"Total ","=",{"$f":"M153","v":1}]
[]
[null," Item No - ( 23) :-  Supplying and ercting GI sheet 1.6 mm (  16SWG) for fabrication of boxes  ( 6-1-2/114) ele ",null,null,null,null,null,null,null,null,null,null,null,"sqm"]
[]
[null,"At Water Tank ",1,"x",1,null,1,null,null,null,null,"=",{"$f":"G158*E158*C158","v":1}]
[null,null,null,null,null,null,null,null,null,null,"Total ","=",{"$f":"M158","v":1}]
[]
[null," Item No - ( 24) :-  Supplying and ercting marine plywood 18/19 mm tk. ( 6-1-14/114) ele",null,null,null,null,null,null,null,null,null,null,null,"sqm"]
[]
[null,"At Water Tank ",1,"x",1,null,1,null,null,null,null,"=",{"$f":"G163*E163*C163","v":1}]
[null,null,null,null,null,null,null,null,null,null,"Total ","=",{"$f":"M163","v":1}]
[]
[null," Item No - ( 25) :-  Supplying and ercting HDP pipe  ISI mark 50 mm dia. ( 16-5-18/247) ele ",null,null,null,null,null,null,null,null,null,null,null,"Rmt"]
[]
[null,"At Water Tank ",1,"x",1,null,30,null,null,null,null,"=",{"$f":"G168*E168*C168","v":30}]
[null,"provision ",null,null,null,null,null,null,null,null,"Total ","=",{"$f":"M168","v":30}]
[]
[null,"Item No - (26) :-Providing and laying in trenches 50 mm dia. CPVC pipe including necessary excavation, fittings. Refilling trenches etc. complete. Including removing existing pipe line if necessary and conveying and stacking the same as directed etc. complete."]
[null,"From Borewell To Water Tank",null,null,null,null,null,null,null,null,null,"=",10]
[null,null,null,null,null,null,null,null,null,null,"Total","=",{"$f":"ROUNDUP(M172,0)","v":10}]

{"sheet":"RA","index":25,"n_rows":250,"n_cols":9,"rows_kept":250,"cut":false,"hidden":false,"merged":[[243,1,243,4],[246,1,246,3],[249,1,249,4],[0,0,0,6],[1,0,1,6],[4,0,4,6],[3,0,3,7],[239,1,241,7]]}
[{"$f":"'Lab Tests'!A1:I1","v":"VIKAS AGRO PRODUCER CO.LTD"}]
[{"$f":"'Lab Tests'!A2:I2","v":"Gat No.79 / Nagzari, Tal- Latur Dist- Latur "}]
[null,null,1]
[{"$f":"'Wh. '!B74","v":"NAME OF WORK :-  CONSTRUCTION OF 1/2160 MT CAP PRE- ENGINEERED WH BLDG WITH ANCILLARY WORKS AT: NAGZARI DIST. LATUR"}]
[]
[]
[]
["I.N.5","P & L 35 cm wide d.p.c.layer at plinth"]
[]
[null,"consider 1.00 sqm area"]
[null,"1- Tarfelt                       MR",null,1,150,100]
[null,"2 - Tarplastic @ 1.50 kg per sq m @ M R ",null,1.5,150,{"$f":"D12*E12","v":225}]
[null,"3 - Nails , labour charges, transporation  etc       L S ",null,1,15,{"$f":"D13*E13","v":15}]
[null,"Total Rs ",null,null,null,{"$f":"SUM(F11:F13)","v":340}]
[null,"Add for Agencies profit 10 %",null,null,null,{"$f":"F14*0.1","v":34}]
[null,"Grand Total Rs",null,null,null,{"$f":"SUM(F14:F15)","v":374}]
[]
[null,"SAY RS ",null,null,null,{"$f":"F16","v":374}]
[]
[]
["I.N.20.","P & f Steel rolling shutter 20 gauge"]
[null,null,null,"Qty ","Rate","Amount"]
[null,"1- Basic rate  I.No.39.24/318",null,1,3796,{"$f":"D23*E23","v":3796}]
[null,"2 - Add  for central lock                M R           ",null,1,150,{"$f":"D24*E24","v":150},2.1,2.5499999999999998,{"$f":"G24*H24","v":5.3549999999999995}]
[null,"3 - Add for painting not considered in basic rate"]
[null," 1x 2 x 1.14 x 2.20 x 2.55 = 12.79"]
[null," 1x 1 x  2.40 x 1.25           =   3.13 "]
[null,"Total       = 15.92 sq m ",null,15.92,70,{"$f":"D28*E28/I24","v":208.10457516339872}]
[null,"I.N. page no 35.09/287"]
[null,"4. M R Diff for weight of   R S ",null,{"$f":"75/I24","v":14.00560224089636},0,{"$f":"D30*E30","v":0}]
[null,"5. Handles ",null,4,35,{"$f":"D31*E31","v":140}]
[null,null,null,"Total",null,{"$f":"SUM(F23:F31)","v":4294.1045751633983}]
[]
[null,null,null,"Say",null,{"$f":"F32","v":4294.1045751633983}]
[]
["I.N.19-C","P & f Steel rolling shutter 20 gauge with Mechanical gear arrangement"]
[null,null,null,"Qty ","Rate","Amount"]
[null,"1- Basic rate as per D.S.R.I N 39.25/318",null,1,4174,{"$f":"D38*E38","v":4174}]
[null,"2 - Add  for central lock                M R           ",null,0,150,{"$f":"D39*E39","v":0},3,3.5,{"$f":"G39*H39","v":10.5}]
[null,"3 - Add for painting  not considered in basic rate"]
[null," 1x 2 x 1.14 x 3.60 x 4.00 = 32.83",null,{"$f":"2*1.14*3.6*4","v":32.832000000000001}]
[null," 1x 1 x  2.40 x 1.25           =   4.75 ",null,{"$f":"3.8*1.25","v":4.75}]
[null,"Total       = 37.58 sq m ",null,{"$f":"SUM(D41:D42)","v":37.582000000000001},{"$f":"E28","v":70},{"$f":"D43*E43/I39","v":250.54666666666668}]
[null,{"$f":"B29","v":"I.N. page no 35.09/287"}]
[null,"4. M R Diff for weight of   R S ",null,{"$f":"196/I39","v":18.666666666666668},{"$f":"E30","v":0},{"$f":"D45*E45","v":0}]
[null,"5. Handles ",null,4,35,{"$f":"D46*E46","v":140}]
[null,null,null,"Total",null,{"$f":"SUM(F38:F44)","v":4424.5466666666671}]
[]
[null,null,null,"Say",null,{"$f":"F47","v":4424.5466666666671}]
[]
["I.N.20.C","P & f Steel rolling with grilled  shutter 20 gauge "]
[null,null,null,"Quantity","Rate","Amount"]
[null,"For area 2.10 x 2.55 = 5.355 Sq.M",null,null,null,null,2.1,2.5499999999999998,{"$f":"G53*H53","v":5.3549999999999995}]
[null,{"$f":"B23","v":"1- Basic rate  I.No.39.24/318"},null,{"$f":"5.355 - (2.25*1.7)","v":1.5300000000000007},{"$f":"E23","v":3796},{"$f":"D54*E54","v":5807.8800000000028}]
[null,"[5.355 - ( 2.25 x 1.7 )] = 1.53"]
[null,"2- Add for grilled Rolling Shutter",null,{"$f":"2.25*1.7","v":3.8249999999999997},2500,{"$f":"D56*E56","v":9562.5},102.24,10.76,{"$f":"G56*H56","v":1100.1024}]
[null,"[ 2.25 x 1.7 ] = 3.82 Sq.M"]
[]
[null,"3 - Add  for central lock                M R           ",null,null,null,0]
[null,"4 - Add for painting if not considered in basic rate"]
[null," 1x 2 x 1.14 x 2.20 x 2.55 = 12.79"]
[null," 1x 1 x  2.40 x 1.25           =   3.13 "]
[null,"Total       = 15.92 sq m ",null,{"$f":"15.92-(2*3.82*1.14)","v":7.2104000000000017},{"$f":"E28","v":70},{"$f":"D63*E63","v":504.72800000000012}]
[null,"[15.92 - 3.82 ] = 12.10 Sq.M"]
[null,"4-A - Add for painting for grilled work",null,3.82,{"$f":"E63","v":70},{"$f":"D65*E65","v":267.39999999999998}]
[]
[null,{"$f":"B29","v":"I.N. page no 35.09/287"}]
[null,"4. M R Diff for weight of   R S ",null,{"$f":"75/I53","v":14.00560224089636},null,{"$f":"D68*E68","v":0}]
[null,"5. Handles ",null,4,25,{"$f":"D69*E69","v":100}]
[]
[null,"Add contractors profit 10% over2,3,4",null,null,null,607.92999999999995]
[null,null,null,null,null,{"$f":"SUM(F54:F71)","v":16850.438000000002}]
[null,"per sq m rate will be   ",null,null,null,{"$f":"F72/I53","v":3146.6737628384694}]
[]
[null,null,null,null,"Say ",{"$f":"F73","v":3146.6737628384694}]
[]
["I.N.18","P , f & f steel ventilors V1 ",null,"Qty ","Rate","Amount"]
[null,"Consider 0.36 sq m area ",null,0.36]
[null,"Alluminim opertable ventilors"]
[null,"1 - Basic rate   I.N. 39.55 /328",null,{"$f":"D78","v":0.36},4975,{"$f":"D80*E80","v":1791}]
[]
[null,"2 - Add for M.S.flat  19mm x 3mm"]
[null," For 0.36 sq m  =    2.40 M   ",null,null,null,null,2.4,0.45,{"$f":"G83*H83","v":1.08}]
[null,"2x2.40 = 4.80"]
[null,"Weight 0.45 Kg/ Rm            (0.45 x 4.80)       =  2.16   Kgs"]
[]
[null,"As per I N 23.01/223",null,2.16,73.84,{"$f":"E87*D87","v":159.49440000000001}]
[]
[null,"3 - Add G.I.wiremesh 18G x 6 sqmm "]
[null," M R                 ",null,{"$f":"D78","v":0.36},400,{"$f":"D90*E90","v":144}]
[]
[null,"4 - Painting three coats for G.I.wire mesh"]
[null,"1/2 x 2 x 1.00 x 1.00 = 1.00 sq m "]
[]
[null,{"$f":"B29","v":"I.N. page no 35.09/287"},null,{"$f":"D78","v":0.36},{"$f":"E65","v":70},{"$f":"D95*E95","v":25.2}]
[]
[null,"5 - Add for 12 mm sq bars "]
[]
[null," For 0.36 sq m  =  7 x 0.60 + 4 x 0.10 = 4.60 Rm",0,{"$f":"I99","v":5.1979999999999995},{"$f":"E87","v":73.84},{"$f":"D99*E99*C99","v":0},4.5999999999999996,1.1299999999999999,{"$f":"G99*H99","v":5.1979999999999995}]
[null,"Weight 1.13  Kg/ Rm                          ",null,null,null,null,null,null,"Kgs "]
[null,{"$f":"B87","v":"As per I N 23.01/223"}]
[null,"6 - Add for fixing charges of wire mesh "]
[null,"MR",null,{"$f":"D78","v":0.36},100,{"$f":"D103*E103","v":36}]
[]
[null,"7 - Add for sundries, overheads & agencies profit "]
["*","      over  [ 3 & 6 ]     10 %     ",null,null,null,{"$f":"(F90+F103)*0.1","v":18}]
[null,"Total Rs",null,null,null,{"$f":"SUM(F80:F106)","v":2173.6943999999999}]
[]
[null,"Rate per sq m will be RS. ",null,null,null,{"$f":"F107/D78","v":6038.04}]
[]
["I N 24","P & F plain G.I Ridge of 24 gauge"]
[]
[null,"Basic rate as per I N  / P N 2a/91",null,null,null,635]
[null,"Wt. Of 22 g-24g"]
[null,"5.88-5.55=0.33kg",null,0,60,{"$f":"-E115*D115","v":0}]
[null,"DSR Supply 114/326"]
[null,"Therefore rate per sq m will be",null,null,null,0]
[]
["I N26 ","P & FM S wind ties 40 x 6 mm"]
[null,"Consider 1.00 m lenghth "]
[null,"weight 1.90 kg / Rm  i.e. 1.90 Kgs"]
[null,{"$f":"B87","v":"As per I N 23.01/223"},null,1.9,{"$f":"E87","v":73.84},{"$f":"D122*E122","v":140.29599999999999}]
[]
[null,"2 - Labour charges for cutting, drilling holes  M R  ",null,1,0,{"$f":"D124*E124","v":0}]
[]
[null,"3 - Labour charges for fixing                         M R",null,1,0,{"$f":"D126*E126","v":0}]
[]
[null,"4 - Painting three coats "]
[null,"item No 16/ PN 69",null,9.1999999999999998E-2,0,{"$f":"D129*E129","v":0}]
[null,null,null,"Total","Rs ",{"$f":"SUM(F122:F129)","v":140.29599999999999}]
[null,"5 - Agencies profit 10 % ",null,null,null,0]
[null,"Grand Total",null,null,"Rs",{"$f":"SUM(F130:F131)","v":140.29599999999999}]
[null,"Therefore rate per R M will be ",null,null,"Rs.",0]
[]
["I N 27","P & C Parapet coping "]
[null,"Consider 1.00 m lenghth "]
[null,"1 - Brickwork in CM 1:4"]
[null,"1 x 1.00 x 0.35 x 0.20                            = 0.70 cum"]
[null,"1 x 1.00 x 0.40 x 0.075                          = 0.03 cum "]
[null,"1 x 1/2 x 1.00 x 0.40 x 0.075                = 0.015 cum "]
[null,"Total quantity                                         = 0.115 cum "]
[null,"Rate as per I N 11 of S W I ",null,0.115,{"$f":"'DSR-Sheet I  '!G89","v":5820},{"$f":"D142*E142","v":669.30000000000007}]
[null,"Add cement diff. bet. CM 1:4 & 1:6 ( 2.60 - 1.44)=1.16 Bag "]
[null,"[1.16 x0.115] = ",null,{"$f":"1.16*0.115","v":0.13339999999999999},290,{"$f":"D144*E144","v":38.686}]
[]
[null,"2 - Cement plastrer 20 mm tk in C M 1:4 with slurry"]
[]
[null,"1 x 1.00 x 2 X [ 0.20 +0.025 + 0.075 + 0.21] = 1.02"]
[null,"1.02 sq     @ Rate as per I N (14-D) of S W I ",null,1.02,{"$f":"'DSR-Sheet I  '!O94","v":474.91},{"$f":"D149*E149","v":484.40820000000002}]
[]
[null,"3 -  Butt joint in C M 1:4  with slurry finish"]
[null,"1/2x0.15 x0.15x1.00 =0.01125/ 0.02=0.5625sqm"]
[null,"0.5625sq m                 @ Rate as per I N 15 of S W I ",null,0.5625,{"$f":"E149","v":474.91},{"$f":"D153*E153","v":267.13687500000003}]
[]
[null,"Grand Total",null,null,null,{"$f":"SUM(F142:F154)","v":1459.5310750000003}]
[null,"Therefore rate per R M will be ",null,null,null,0]
[]
["I N 21-A","P H.M.filling in plinth "]
[]
[null,"Consider 1.00 cu m quantity"]
[null,"1 - Basic rate  2.29a pg no 29",null,1,327,{"$f":"D161*E161","v":327}]
[null,"2 - Lead Charges ",null,1,{"$f":"'DSR-Sheet I  '!K15","v":210.71},{"$f":"D162*E162","v":210.71}]
[null,"ROYALTY",null,1,0,{"$f":"D163*E163","v":0}]
[]
[null,"3 - Spreading charges 2.30 / 29",null,1,63,{"$f":"D165*E165","v":63}]
[null,"Total  Rs ",null,null,null,{"$f":"SUM(F161:F165)","v":600.71}]
[null,"4 - For compaction  20 % OF  H.M.cost",null,null,null,{"$f":"F166*0.2","v":120.14200000000001}]
[null,"Grand total Rs.",null,null,null,{"$f":"F166+F167","v":720.85200000000009}]
[null,"Deduction for stacking charges "]
[null,"S. N 3/255",null,1.2,10.3,{"$f":"-D170*E170","v":-12.360000000000001}]
[null,"Net Rs",null,null,null,{"$f":"F168-F170","v":733.2120000000001}]
[null,"Therefore rate per cu m  will be  say       Rs",null,null,null,{"$f":"F171","v":733.2120000000001}]
[]
[null,null,null,"-- 4 --"]
["I.N.22A","P oversize & size metal filling in plinth"]
[null,"Consider 1.00 cu m quantity of 80  mm O.S.metal "]
[null,"1 - Basic rate  50.56/ Pg no 446",null,1,700,{"$f":"D177*E177","v":700}]
[null,"2 - Lead Charges ",null,1,{"$f":"'DSR-Sheet I  '!K11","v":347.44600000000003},{"$f":"D178*E178","v":347.44600000000003}]
[null,"ROYALTY",null,1,{"$f":"E163","v":0},{"$f":"D179*E179","v":0}]
[null,"3 - Spreading charges 50.58/447",null,1,85,{"$f":"D180*E180","v":85}]
[null,"Total  Rs ",null,null,null,{"$f":"SUM(F177:F180)","v":1132.4459999999999}]
[null,"4 - Add for compaction  32 % ",null,null,null,{"$f":"F181*0.32","v":362.38272000000001}]
[null,"Grand Total Rs.",null,null,null,{"$f":"SUM(F181:F182)","v":1494.82872}]
[null,"Deduction for stacking charges"]
[null,"1./251",null,1.32,17.170000000000002,{"$f":"-D185*E185","v":-22.664400000000004}]
[null,"Net Rs",null,null,null,{"$f":"F183-F185","v":1517.4931200000001}]
[null,"Therefore rate per cu m  will be  say Rs",null,null,null,{"$f":"F186","v":1517.4931200000001},{"$f":"F187*0.65","v":986.37052800000004}]
[]
[null,"Consider 1.00 cu m quantity of 40 mm .metal "]
[null,"1 - Basic rate  50.57/ 447",null,1,750,{"$f":"D190*E190","v":750}]
[null,"lead charges-",null,1,{"$f":"'DSR-Sheet I  '!K11","v":347.44600000000003},163]
[null,"ROYALTY",null,1,{"$f":"E179","v":0},{"$f":"D192*E192","v":0}]
[null,{"$f":"B180","v":"3 - Spreading charges 50.58/447"},null,1,{"$f":"E180","v":85},{"$f":"D193*E193","v":85}]
[null,"Total  Rs ",null,null,null,{"$f":"SUM(F190:F193)","v":998}]
[null,"4 - Add for compaction  32 % ",null,null,null,{"$f":"F194*0.32","v":319.36}]
[null,"Grand Total Rs.",null,null,null,{"$f":"SUM(F194:F195)","v":1317.3600000000001}]
[null,"Deduction for stacking charges"]
[null,{"$f":"B185","v":"1./251"},null,1.32,{"$f":"E185","v":17.170000000000002},{"$f":"-D198*E198","v":-22.664400000000004}]
[null,"Net Rs",null,null,null,{"$f":"F196-F198","v":1340.0244000000002}]
[null,"Therefore rate per cu m  will be  say Rs",null,null,null,{"$f":"F199","v":1340.0244000000002},{"$f":"F200*0.35","v":469.00854000000004}]
[null,null,null,null,null,null,{"$f":"SUM(G187:G200)","v":1455.3790680000002}]
[]
[null,"Say Rs ",null,null,null,null,{"$f":"ROUND(G201,2)","v":1455.38}]
[]
["I.N.24-B","Laying charges for form work, running vibrator, "]
[null,"laying suction matt, dewatering etc."]
[null,"Consider 1.0 sq m area "]
[null,"1 - Market rate as per .quotation for above  ",null,1,60,{"$f":"D208*E208","v":60}]
[null,"2 - Transportation charges to & fro  100        Kms",null,1,0.83,{"$f":"D209*E209","v":0.83},2000,2406.69,{"$f":"G209/H209","v":0.83101687379762246}]
["    "]
[]
[null,"3- Generator Hire charges 5x2000=18000",null,1,{"$f":"I212/H209","v":4.1550843689881125},{"$f":"D212*E212","v":4.1550843689881125},5,2000,{"$f":"H212*G212","v":10000}]
[null,"Total Rs.",null,null,null,{"$f":"SUM(F208:F212)","v":64.985084368988112}]
[null,"4. Diesel charges 5 days * 20 ltr/ day ",null,1,{"$f":"I214/H209","v":1.8797601685302219},{"$f":"D214*E214","v":1.8797601685302219},{"$f":"5*20","v":100},45.24,{"$f":"G214*H214","v":4524}]
[null,"5 - Overheads & contractors pfofit      10 % ",null,null,null,{"$f":"(F213+F214)*0.1","v":6.6864844537518344}]
[null,"Grand Total Rs.",null,null,null,{"$f":"SUM(F213:F215)","v":73.551328991270168}]
[null,"Therefore rate per sq  m  will be  say Rs",null,null,null,0]
[]
["I.N.24-C","Labour charges for groove cutting "]
[]
[null,"Consider 1.00 R m lenghth"]
[null,"1 - Market rate as per .quotation ( Nagpur S.D.) ",null,1,35,{"$f":"D222*E222","v":35}]
[null,"2- Generator hire charges ",null,1,{"$f":"I223/H209","v":1.6620337475952449},{"$f":"D223*E223","v":1.6620337475952449},2,2000,{"$f":"H223*G223","v":4000}]
[null,"3. Diesel charges ",null,1,{"$f":"I224/H209","v":0.75190406741208882},{"$f":"D224*E224","v":0.75190406741208882},{"$f":"2*20","v":40},45.24,{"$f":"G224*H224","v":1809.6000000000001}]
[null,"2 - Overheads & contractors pfofit      10 % ",null,null,null,{"$f":"(F222+F223+F224)*0.1","v":3.7413937815007339}]
[null,"Grand Total Rs.",null,null,null,{"$f":"SUM(F222:F225)","v":41.15533159650807}]
[]
[null,"Therefore rate per R  m  will be  say Rs",null,null,null,0]
[]
["I No.28","P/F Lightening conductor"]
[null,null,null,15,"m."]
[null,"I No. 44.18/ P.NO.375",null,21962,null,{"$f":"D232/15","v":1464.1333333333334}]
[null,"Copper strip 25x3 @ 0.666Kg/m"]
[null,"I No. / P.NO. 44.19/375","Per","RM",634,{"$f":"E234","v":634}]
[null,null,null,null,null,{"$f":"SUM(F232:F234)","v":2098.1333333333332}]
[]
[null,"Therefore rate per R M will be ",null,null,"RS",{"$f":"F235","v":2098.1333333333332}]
[]
[]
["I.N.23 A","Providing and laying in situ Cement Concrete  M -20, with Natural Sand,  with Tremix tratment for 150 mm thickness for flooring with groove cuting of 4 mm wide and 20 mm deep at every 4.00 m c/c both sides with necessary refilling with bitumen,etc. complete as directed by Engineer Incharge."]
[]
[]
[]
[null,"The Rate Anlysis  for 15 cm. thickness against of 10 cm thick",null,null,null,"Rs."]
[null,"i ) Tremix C. C. in M - 10  thick Rate Rs.","=",null,null,638,"Smt."]
[null,"( I/N , 33.30 / Page No. 277 )"]
[null,"ii ) Add Laid 0.05 cm thick M -20 C.C. additional layer below 10 cm thick Tremix cement concrete"]
[null,"  PCC M -20 Rate is 5028.00 / Cmt."]
[null,".:.  5028 X0.05  (As per DSR It. 24.10 Page  No.219)",null,null,"=",{"$f":"5028*0.05","v":251.4},"Smt."]
[null,"Hence for 15 cm thick M  - 20 Tremix cement concrete Rate Rs is.",null,null,null,{"$f":"SUM(F245:F249)","v":889.4},"Smt."]

{"sheet":"RA (PEB)","index":26,"n_rows":59,"n_cols":12,"rows_kept":59,"cut":false,"hidden":false,"merged":[[57,1,57,4],[54,6,54,7],[53,6,53,7],[0,0,0,6],[1,0,1,6],[4,0,4,6],[22,1,22,2],[19,1,19,2],[3,0,3,10]]}
[{"$f":"'Royaly '!A2:M2","v":"VIKAS AGRO PRODUCER CO.LTD"}]
[{"$f":"'Royaly '!A3:M3","v":"Gat No.79 / Nagzari, Tal- Latur Dist- Latur "}]
[null,null,1]
[{"$f":"'Wh. '!B74","v":"NAME OF WORK :-  CONSTRUCTION OF 1/2160 MT CAP PRE- ENGINEERED WH BLDG WITH ANCILLARY WORKS AT: NAGZARI DIST. LATUR"}]
[]
["I.N.5","Above Plinth PEB Structure",null,null,null,null,null,"TOTAL WT",28000,"KG"]
[null,null,null,null,"L","B","Area",null,null,"L","B","Area"]
[null,"Area of 1800MT ",null,42,22,{"$f":"D8*E8","v":924},null,5383293]
[null,"LessRock wool for wall(765 x 340.50/Sq.Mtr",null,765,340.5,null,null,{"$f":"D9*E9","v":260482.5}]
[null,"Less G.I.Wiremesh cost  for wall(765 x 67.00/Sq.Mtr)",null,765,67,null,null,{"$f":"D10*E10","v":51255}]
[null,"Net Cost After Deduction of Rock wool cost of Wall",null,null,null,null,null,{"$f":"H8-H9-H10","v":5071555.5}]
[null,"Rate / Sq.Mtr",null,null,null,null,null,{"$f":"H11/F8","v":5488.6964285714284}]
[null,"Area of 3000MT ",null,73,22,{"$f":"D13*E13","v":1606}]
[]
[null,"Rate analysis for 3000 MT ",null,null,null,null,{"$f":"F13*H12","v":8814846.4642857146}]
[]
[null,"Add 1% for Power & other misleanious ",null,null,null,null,{"$f":"G15*2%","v":176296.92928571429}]
[]
[]
[null,"Above Plinth PEB Cost (Without Partition  )",null,null,null,"Total",{"$f":"SUM(G15:G19)","v":8991143.393571429}]
[]
[]
[null,null,null,null,null,"Say",{"$f":"G20","v":8991143.393571429}]
[]
[null,"For 3000 MT"]
[null,null,null,"LENGTH","HT","AREA","COST","Cost/Sq.Mtr"]
[null,"22.42+22.42+42+42=128.84",null,128.84,5.45,{"$f":"D27*E27","v":702.178},4003611,{"$f":"G27/F27","v":5701.7038414760927}]
[null,"(3683322+320289)=4003611"]
[null,"For Partiation Wall  ",1,22.45,3,{"$f":"C29*D29*E29","v":67.349999999999994},{"$f":"F29*H27","v":384009.75372341479}]
[]
[]
[null,"Say Extra gable Cost For 22.00 m Span",null,null,null,null,{"$f":"G29","v":384009.75372341479}]
[null,null,null,null,null,null,null,null,null,{"$f":"'Wh. '!G7","v":50.96},{"$f":"'Wh. '!I7","v":22.46},{"$f":"J33*K33","v":1144.5616}]
[null,null,null,null,null,null,null,null,null,{"$f":"J33-0.46","v":50.5},{"$f":"K33-0.46","v":22},{"$f":"J34*K34","v":1111}]
[null,null,null,"Length of Bldg","Height","T wt","Cost","Cost/Sq.Mtr"]
[]
[null,"Structural Steel members for wh.Bldg",null,{"$f":"L33","v":1144.5616},null,{"$f":"I6/D37*D37","v":28000},{"$f":"F37*91.817","v":2570876},{"$f":"G37/D37","v":2246.1665671817054}]
[null,"Sheeting",null,null,null,null,{"$f":"H57","v":1326363.6000000001}]
[]
[null,"R S ",6,null,null,{"$f":"C40*3*3.65*10.76","v":706.93200000000002},{"$f":"F40*200","v":141386.4},{"$f":"G40/C40","v":23564.399999999998}]
[]
[null,"W",28,null,null,null,0,{"$f":"G42/C42","v":0}]
[]
[null,"W2",84,null,null,{"$f":"C44*0.6*1.2*10.76","v":650.76479999999992},{"$f":"F44*70","v":45553.535999999993},{"$f":"G44/C44","v":542.30399999999986}]
[]
[]
[]
[null,"TOTAL ",null,null,null,null,{"$f":"SUM(G37:G44)","v":4084179.5359999998},{"$f":"G48/D37","v":3568.3352787652493}]
[]
[]
[]
[]
[]
[null,null,null,"Periphery","Ht","Sheet area","Quated rate",null,{"$f":"H48","v":3568.3352787652493}]
[null,"Cladding",null,102,0.6,{"$f":"D55*E55","v":61.199999999999996},"Add for RMP & XLPE",null,0,null,"Area"]
[null,"Roofing",null,null,null,1295,null,null,{"$f":"SUM(I54:I55)","v":3568.3352787652493},"X",{"$f":"L34","v":1111},{"$f":"K56*I56","v":3964420.4947081921}]
[null,null,null,null,"Total",{"$f":"SUM(F55:F56)","v":1356.2},978,{"$f":"F57*G57","v":1326363.6000000001}]
[null," For RMP & XLPE isulation sheet",null,null,null,0]
[null,null,null,null,null,{"$f":"F57*F58","v":0},{"$f":"K56","v":1111},{"$f":"F59/G59","v":0}]

{"sheet":"01","index":27,"n_rows":85,"n_cols":13,"rows_kept":85,"cut":false,"hidden":true,"merged":[[84,8,84,9],[9,8,10,8],[8,10,9,10],[0,0,0,11]]}
["                                      MAHARASHTRA STATE WAREHOUSING CORPORATION"]
["                                                                                       583/B, MARKET YARD , GULTEKADI, PUNE-411037"]
[]
[{"$f":"'Wh. '!B74","v":"NAME OF WORK :-  CONSTRUCTION OF 1/2160 MT CAP PRE- ENGINEERED WH BLDG WITH ANCILLARY WORKS AT: NAGZARI DIST. LATUR"}]
[]
[]
["SUBWORK  III :- ELECTRIFICATION",null,null,null,null,"Elect.D.S.R.2015-16 & Market Rates"]
[]
["I.N.","DESCRIPTON OF ITEM","QUANTITY","UNIT","I.N./ P.N"," BASIC",null,"TOTAL","Add 5 %","TOTAL OF","At 6% Service Tax","Rate","AMOUNT"]
[null,null,null,null,null,"RATE","R.A.",null,"excluding district","RATES"]
[null,null,null,null,null,null,null,null,null,"8 & 9"]
[1,2,3,4,5,6,7,8,9,10,null,null,11]
[]
["P I","M S E B DEPOSIT CHARGES ",1,null,null,null,null,{"$f":"F14","v":0},0,{"$f":"H14+I14","v":0},null,null,{"$f":"ROUND(C14*J14,0)","v":0}]
[]
["1-A","Supplying & errectting PVC armoured cable 3 core 6 sq mm",120,"R M ","7-2-7/67",322,null,{"$f":"F16","v":322},{"$f":"H16*5%","v":16.100000000000001},{"$f":"H16+I16","v":338.1},{"$f":"F16*6%","v":19.32},{"$f":"J16+K16","v":357.42},{"$f":"C16*L16","v":42890.400000000001}]
[]
["1-B","Supplying & errectting PVC armoured cable 3 core 10 sq mm",0,"R M ","7-2-8/47",0,null,{"$f":"F18","v":0},{"$f":"H18*5%","v":0},{"$f":"H18+I18","v":0},{"$f":"F18*6%","v":0},{"$f":"J18+K18","v":0},{"$f":"ROUND(C18*J18,0)","v":0}]
[]
["2-A","Supplying & laying  PVC armoured cable 3 core 6 sq mm",0,"R M ","R A ",0,0,{"$f":"F20","v":0},{"$f":"H20*5%","v":0},{"$f":"H20+I20","v":0},0,{"$f":"J20+K20","v":0},{"$f":"ROUND(C20*J20,0)","v":0}]
[]
["2-B","Supplying & laying PVC armoured cable 3 core 10 sq mm",0,"R M ","R A ",0,0,{"$f":"F22","v":0},{"$f":"H22*5%","v":0},{"$f":"H22+I22","v":0},0,{"$f":"J22+K22","v":0},{"$f":"ROUND(C22*J22,0)","v":0}]
[]
["3-A","Making the trench in soil ",100,"R M ","16-1-1/193",128,null,{"$f":"F24","v":128},{"$f":"H24*5%","v":6.4},{"$f":"H24+I24","v":134.4},7.68,{"$f":"J24+K24","v":142.08000000000001},{"$f":"C24*L24","v":14208.000000000002}]
[]
["3-B","Making the trench in murum & hard rock ",10,"R M ","16-1-2/193",153,null,{"$f":"F26","v":153},{"$f":"H26*5%","v":7.65},{"$f":"H26+I26","v":160.65},9.18,{"$f":"J26+K26","v":169.83},{"$f":"C26*L26","v":1698.3000000000002}]
[]
["4-A","Supplying & laying 75 mm dia G.I.pipe Agrade ",10,"R M ","7-6-4/116 & 16-1-2/193  ",667,null,{"$f":"F28","v":667},{"$f":"H28*5%","v":33.35},{"$f":"H28+I28","v":700.35},40.019999999999996,{"$f":"J28+K28","v":740.37},{"$f":"C28*L28","v":7403.7}]
[]
["4-B","Supplying & laying 25 mm dia G.I.pipe A grade ",6,"R M ","7-6-1/116",164,null,{"$f":"F30","v":164},{"$f":"H30*5%","v":8.2000000000000011},{"$f":"H30+I30","v":172.2},9.84,{"$f":"J30+K30","v":182.04},{"$f":"C30*L30","v":1092.24}]
[]
["5-A","S & E heavy duty flangecable glands  3 to 4 core 6.00 sq mm /",0,"NO","7-7-2/118",39,null,{"$f":"F32","v":39},{"$f":"H32*5%","v":1.9500000000000002},{"$f":"H32+I32","v":40.950000000000003},2.34,{"$f":"J32+K32","v":43.290000000000006},{"$f":"C32*L32","v":0}]
[null," 2 to 4 core 10 sq mm"]
["5-B","S & E heavy duty flangecable glands  2 to 4 core 2.50 sq mm / ",10,"NO","7-7-1/118",34,null,{"$f":"F34","v":34},{"$f":"H34*5%","v":1.7000000000000002},{"$f":"H34+I34","v":35.700000000000003},2.04,{"$f":"J34+K34","v":37.74},{"$f":"C34*L34","v":377.40000000000003}]
[null,"2 to 4 core 4 sq mm"]
[6,"P point wiring for street light 3 core 1.5 sq mm ",8,"NO","R A ",null,921,{"$f":"F36+G36","v":921},0,{"$f":"H36+I36","v":921},0,{"$f":"J36+K36","v":921},{"$f":"C36*L36","v":7368}]
[]
[7,"S & E waterproof powder coated distribution board 4 way ",8,"NO","R A ",null,1419,{"$f":"F38+G38","v":1419},{"$f":"H38*5%","v":70.95},{"$f":"H38+I38","v":1489.95},0,{"$f":"J38+K38","v":1489.95},{"$f":"C38*L38","v":11919.6}]
[null,"2 x 6 Amp S P M C B "]
["8-A","S & E mains with PVC unarmoured cable 3 core 2.5 sq mm Including bracket,Bobins,GI wires.",200,"R M ","R A ",null,146.75,{"$f":"F40+G40","v":146.75},0,{"$f":"H40+I40","v":146.75},0,{"$f":"J40+K40","v":146.75},{"$f":"C40*L40","v":29350}]
[]
["8-B","S & E mains with PVC unarmoured cable 2 core 4.00 sq mm",0,"R M ","R A ",null,0,{"$f":"F42+G42","v":0},{"$f":"H42*5%","v":0},{"$f":"H42+I42","v":0},0,null,{"$f":"ROUND(C42*J42,0)","v":0}]
[]
[9,"S, E & marking M C B of double pole 16 Amp.  ",2,"NO","5-3-6/82",516,null,{"$f":"F44","v":516},{"$f":"H44*5%","v":25.8},{"$f":"H44+I44","v":541.79999999999995},30.959999999999997,{"$f":"J44+K44","v":572.76},{"$f":"C44*L44","v":1145.52}]
[]
[10,"Supplyi ng shockproof type hand lamp ",2,"NO","R A ",null,1038,{"$f":"F46+G46","v":1038},0,{"$f":"H46+I46","v":1038},0,{"$f":"J46+K46","v":1038},{"$f":"C46*L46","v":2076}]
[]
[11,"S & E street light CFL lamp fittings for 36 watts including braket.",8,"NO","RA",1696,null,1696,{"$f":"H48*5%","v":84.800000000000011},{"$f":"H48+I48","v":1780.8},101.75999999999999,{"$f":"J48+K48","v":1882.56},{"$f":"C48*L48","v":15060.48}]
[]
[12,"S & E G.I. earth plate 60 x 60 x 0.6 cms",1,"NO","9-1-1/139",4018,null,{"$f":"F50","v":4018},{"$f":"H50*5%","v":200.9},{"$f":"H50+I50","v":4218.8999999999996},241.07999999999998,{"$f":"J50+K50","v":4459.9799999999996},{"$f":"C50*L50","v":4459.9799999999996}]
[]
[13,"S & E sheet metal one way enclosures for MCB",2,"NO","5-4-23/85",413,null,{"$f":"F52","v":413},{"$f":"H52*5%","v":20.650000000000002},{"$f":"H52+I52","v":433.65},24.779999999999998,{"$f":"J52+K52","v":458.42999999999995},{"$f":"C52*L52","v":916.8599999999999}]
[]
[14,"Point wiring for light bell with 2-1.5 sq mm PVC insulated wire",{"$f":"'[9]Electrification Est'!O162","v":0},"NO","1-9-16/10",304,0,{"$f":"F54","v":304},{"$f":"H54*5%","v":15.200000000000001},{"$f":"H54+I54","v":319.2},18.239999999999998,{"$f":"J54+K54","v":337.44},{"$f":"C54*L54","v":0}]
[]
[15,"Point wiring for independent plug with 2-1.5 sq mm PVC ",{"$f":"'[9]Electrification Est'!O173","v":0},"NO","1-9-18/10",344,0,{"$f":"F56","v":344},{"$f":"H56*5%","v":17.2},{"$f":"H56+I56","v":361.2},20.64,{"$f":"J56+K56","v":381.84},0]
[null,"insulated wire on existing board."]
[16,"Point wiring for plug on board of light or fan board",{"$f":"'[9]Electrification Est'!O180","v":0},"NO","1-9-13/10",88,null,{"$f":"F58","v":88},{"$f":"H58*5%","v":4.4000000000000004},{"$f":"H58+I58","v":92.4},5.2799999999999994,{"$f":"J58+K58","v":97.68},0]
[]
[17,"S & F gas filled lamps ",2,"NO","2-1-5/39",17,null,{"$f":"F60","v":17},{"$f":"H60*5%","v":0.85000000000000009},{"$f":"H60+I60","v":17.850000000000001},1.02,{"$f":"J60+K60","v":18.87},37.74]
[]
[18,"S & E marine plywood 19 mm tk",1,"Sq m ","6-1-15/98",1058,null,{"$f":"F62","v":1058},{"$f":"H62*5%","v":52.900000000000006},{"$f":"H62+I62","v":1110.9000000000001},63.48,{"$f":"J62+K62","v":1174.3800000000001},1174.3800000000001]
[]
[19,"P & F M S boxes of 16 swg ",1,"Sq m ","6-1-2/59",2054,null,{"$f":"F64","v":2054},{"$f":"H64*5%","v":102.7},{"$f":"H64+I64","v":2156.6999999999998},123.24,{"$f":"J64+K64","v":2279.9399999999996},2279.9399999999996]
[]
[20,"S & E philips make fluroscent box type fittings of 1 x 40 watt",{"$f":"'[9]Electrification Est'!O214","v":0},"NO","RA",638,null,{"$f":"F66+G66","v":638},{"$f":"H66*5%","v":31.900000000000002},{"$f":"H66+I66","v":669.9},38.28,{"$f":"J66+K66","v":708.18},0]
[]
[21,"S & E ceiling fan 48 \"",{"$f":"'[9]Electrification Est'!O222","v":0},"NO","2-6-3/28",1995,null,{"$f":"F68","v":1995},{"$f":"H68*5%","v":99.75},{"$f":"H68+I68","v":2094.75},119.69999999999999,{"$f":"J68+K68","v":2214.4499999999998},0]
[]
[22,"S & E 4 pole insulator only switch version of MCB of 40 Amp",1,"NO","5-3-24/50",700,null,{"$f":"F70","v":700},{"$f":"H70*5%","v":35},{"$f":"H70+I70","v":735},42,{"$f":"J70+K70","v":777},777]
[]
[23,"S & E 40 mm dia G.I.pipe 2.5 m lenghth for earthplate",0,"NO","9-1-5/85",1536,null,{"$f":"F72","v":1536},{"$f":"H72*5%","v":76.800000000000011},{"$f":"H72+I72","v":1612.8},92.16,{"$f":"J72+K72","v":1704.96},0]
[]
[24,"P & F cover made of wiremesh jalli",8,"NO","2-2-10/42",390,null,{"$f":"F74","v":390},0,{"$f":"H74+I74","v":390},23.4,{"$f":"J74+K74","v":413.4},3307.2]
[]
[25,"S & E ding dong type call bell ",0,"NO","2-4-23/27",96,null,{"$f":"F76","v":96},{"$f":"H76*5%","v":4.8000000000000007},{"$f":"H76+I76","v":100.8},5.76,{"$f":"J76+K76","v":106.56},0]
[]
[26,"S & E 4 \" x 4\" epoxy coated  3 way junction box",8,"NO","M.R.",60,null,{"$f":"F78","v":60},0,{"$f":"H78+I78","v":60},3.5999999999999996,{"$f":"J78+K78","v":63.6},508.8]
[]
[27,"S & E metal clad D.B eight way ",0,"NO","5-2-5/48",0,null,{"$f":"F80","v":0},{"$f":"H80*5%","v":0},{"$f":"H80+I80","v":0},0,{"$f":"J80+K80","v":0},0]
[]
["28A","S & E P V C armoured cable 4 core 10 sq mm on wall ",0,"R M ","7-1-18/66",0,0,{"$f":"F82","v":0},{"$f":"H82*5%","v":0},{"$f":"H82+I82","v":0},{"$f":"F82*6%","v":0},{"$f":"J82+K82","v":0},0]
[]
["28B","S &L P V C armoured cable 4 core 10 sq mm in trench",0,"R M ","R.A",0,0,{"$f":"F84+G84","v":0},0,{"$f":"H84+I84","v":0},{"$f":"F84*6%","v":0},{"$f":"J84+K84","v":0},0]
[null,null,null,null,null,null,null,null,"TOTAL RS",null,null,null,{"$f":"SUM(M16:M84)","v":148051.54}]

{"sheet":"Sheet1","index":28,"n_rows":30,"n_cols":7,"rows_kept":30,"cut":false,"hidden":true,"merged":[[29,6,29,8],[18,0,18,8],[20,0,20,4],[21,0,21,8],[23,0,23,9],[28,6,28,9],[19,1,19,8]]}
["                          MAHARASHTRA STATE WAREHOUSING CORPORAION "]
["                                3rd  floor, N.I.T.Commercial complex, Gokulpeth, Nagpur."]
["                                                        Telefax No.  0712 – 2560891."]
["By Email -"]
["mswcorporation@yahoo.co.in"]
[null,null,null,null,null,"    No:- MSW:NGP:CON:SD-IV: 562"]
[null,null,null,null,null,"    Dated :- 08 /09/2013."]
["To,"]
["The General Manager (Engg.),"]
["M. S. Warehousing Corporation,"]
["Pune - 37."]
[]
[null,"Subject:- Submission of estimate for construction of 2/2000 M.T. capacity"]
[null,"                  Warehouse building at KARANJA DIST. WARDHA"]
[]
[null,"Reference - H. O. letter No. MSW/C/CON/2156, Dated 21/08/2013"]
[]
["Sir,"]
["               With reference to  above  letter the estimate  for construction of 2/2000 M.T. capacity  Warehouse building at KARANJA Taluka . Ashiti  DIST. WARDHA  is prepared & submitted herewith for further necessary process  please. "]
[null,"Total amount of the Estimate is  Rupees  9362600/- including 5% contingency ."]
[]
["              The estimate is  based  on D.S.R. 2013 -2014 of Nagpur region."]
[]
["              Submitted, please."]
[]
[null,null,null,null,null,null,"       Yours faithfully"]
["Encl:- As above."]
["         "]
[null,null,null,null,null,"I/C","Deputy Manager (Engg.), "]
[null,null,null,null,null,null,"              Nagpur."]

{"sheet":"RA Elect","index":29,"n_rows":66,"n_cols":2,"rows_kept":66,"cut":false,"hidden":false,"merged":[[0,0,0,1],[1,0,1,1],[3,0,3,1]]}
[{"$f":"'RA (PEB)'!A1:G1","v":"VIKAS AGRO PRODUCER CO.LTD"}]
[{"$f":"'RA (PEB)'!A2:G2","v":"Gat No.79 / Nagzari, Tal- Latur Dist- Latur "}]
[]
["RATE ANALYSIS."]
[]
[{"$f":"Recap!B6","v":"NAME OF WORK :-  CONSTRUCTION OF 1/2160 MT CAP PRE- ENGINEERED WH BLDG WITH ANCILLARY WORKS AT: NAGZARI DIST. LATUR"}]
[]
[]
["Item No. (6) S/E Point wiring for street light ... …….."]
[]
["M.R.    A) PVC unarmoured cable 3 core 1.5 sq.mm …….(13x45)                         ",585]
[]
["M.R.    B) M.S. Box epoxy coated ( 2 way) 4\"x4\" …………....                                      ",50]
[]
[]
["M.R.    C) Nylon connector strip 10 Amp…………....                                                    ",6]
[]
["M.R.    D) G.I. saddle, screw and rawl plug etc…………....                                          ",18]
[]
["M.R.    E) Flexible cable for street light connection 3 core 1.5 sq.mm (2x45)……          ",90]
[null,{"$f":"SUM(B11:B20)","v":749}]
["                                                                                           Add 10% C.P.                                        ",{"$f":"B21*10%","v":74.900000000000006}]
[]
["M..R.    C) Labour charges ( 20x13 )  …………....                                                      ",260]
["                                                                                   Total Rs.                           ",{"$f":"SUM(B21:B24)","v":1083.9000000000001}]
[]
[]
["Item No. (7) S/E weather proof  powder coated ..…….."]
[]
["I.N. 5-3-2/96   A) SPMCB 6 Amp.- 1 No. @ Rs.153/- …….                                 ",{"$f":"153+2","v":155}]
[]
["I.N. 5-4-22/99    B) 1.25 mm CRCA sheet metal enclosure with 10 Amp. 2 pin plug….  ",{"$f":"717+6","v":723}]
[]
[]
["I.N.5-4-23/99    C) CRCA sheet metal one way enclosure………. 1 No.                                      ",{"$f":"339+2","v":341}]
[]
["                                                                                   Total Rs.                                   ",{"$f":"SUM(B30:B36)","v":1219}]
[]
["Item No. (8) S/E mains PVC unarmoured cable 3 core 2.5 sq.mm ……..","Rs."]
[]
["M.R.    A) PVC unarmoured cable 3 core 2.5 sq.mm …….                                       ",74]
[]
["M.R.    B) G.I. saddle, screw and rawl plug etc…………....                                           ",10]
["Total",{"$f":"SUM(B41:B43)","v":84}]
["                                                     Add 10% C.P……..                                               ",{"$f":"B44*10%","v":8.4}]
["               "]
["D.S..R.    C) Labour charges…………....                                                                     ",17]
[]
["                                                                                   Total Rs.                            ",{"$f":"SUM(B44:B48)","v":109.4}]
[]
[]
["Item No. (10) Supplying shockproof type hand lamp  ..…….."]
[]
["I.N. 2-2-1/33   A) Shockproof hand lamp  ...…  1 No.                                                 ",{"$f":"156","v":156}]
[]
["I.N. 2-10-12/42  B) LED lamp 10/12W…... 1 No.                                                  ",{"$f":"293+1","v":294}]
["M.R.            C) 3 core 1.50 Sq.mm flexible cord ... …. 20 Rmt.            @ Rs.45/-                           ",{"$f":"45*20","v":900}]
["                                                                                   Add 10% C.P. on  ( C )                    ",{"$f":"B57*10%","v":90}]
["                                                                                   Total Rs.                                    ",{"$f":"SUM(B54:B58)","v":1440}]
[]
["Item No. (11) Supplying and erecting LED Street light fitting suitable for 20 to 25W,"]
[]
["I.N. 2-5-2/35  A) LED street light fitting.- 1 No.  …….                                            ",{"$f":"1898+7","v":1905}]
[]
["I.N. 2-9-1/40    B) Street light bracket 25 mm -1 No.                                                             ",{"$f":"527+6","v":533}]
["                                                                                   Total Rs.                                 ",{"$f":"SUM(B63:B65)","v":2438}]

{"sheet":"Cement consumption","index":30,"n_rows":115,"n_cols":12,"rows_kept":115,"cut":false,"hidden":true,"merged":[[85,0,86,0],[85,4,87,4],[85,5,87,5],[0,0,0,6],[1,0,1,6],[2,0,2,6],[4,0,4,6],[6,0,7,0],[6,4,8,4],[6,5,8,5],[76,0,76,6],[77,0,77,6],[78,0,78,6],[80,0,81,6],[83,0,83,1]]}
["Maharashtra State Warehousing Corporation"]
["Pune-37"]
["CEMENT CONSUMPTION STATEMENT"]
[]
[{"$f":"Recap!B6","v":"NAME OF WORK :-  CONSTRUCTION OF 1/2160 MT CAP PRE- ENGINEERED WH BLDG WITH ANCILLARY WORKS AT: NAGZARI DIST. LATUR"}]
[]
["Item No.","Brief description of item.","Quantity ","Unit","Actual rate of consumption Bag / unit","Total Consumption in bags.","Remarks"]
[null,null,"Executed"]
[]
[null,"Sub work I :- W.H.Building 1/3000 MT"]
[]
[2,"P/L C.C. M-10 for foundation ",{"$f":"'DSR-Sheet I  '!D80","v":100},"Cum",4.4000000000000004,{"$f":"C12*E12","v":440.00000000000006}]
[3,"P/UCR Masonry for foundation ",{"$f":"'DSR-Sheet I  '!D81","v":0},"Cum",1.7,{"$f":"C13*E13","v":0}]
[4,"P/BBM for foundation ",{"$f":"'DSR-Sheet I  '!D82","v":28},"Cum",1.58,44.24]
[6,"P/L C.C. M-20 for footings",{"$f":"'DSR-Sheet I  '!D84","v":19},"Cum",7.5,142.5]
[7,"P/L C.C. M-20 for Columns",{"$f":"'DSR-Sheet I  '!D85","v":33},"Cum",8,264]
[8,"P/L C.C. M-20 for Beams",{"$f":"'DSR-Sheet I  '!D86","v":59},"Cum",8,472]
[9,"P/L C.C. M-20 for slabs",{"$f":"'DSR-Sheet I  '!D87","v":13},"Cum",8,104]
[10,"P/L C.C. M-20 for wethersheds",{"$f":"'DSR-Sheet I  '!D88","v":4},"Cum",8,32]
[11,"P/BBM for superstructure",{"$f":"'DSR-Sheet I  '!D89","v":144},"Cum",1.58,227.52]
[12,"P/L C.C. M-20 for bed blocks",{"$f":"'DSR-Sheet I  '!D90","v":0},"Cum",8,{"$f":"C21*E21","v":0}]
["14-A","P/ Cement plaster 20 mm in C.M. 1:4",{"$f":"'DSR-Sheet I  '!D91","v":902},"Sqm",0.17,153.34]
["14-B","P/ Cement plaster 20 mm in C.M. 1:4",{"$f":"'DSR-Sheet I  '!D92","v":60},"Sqm",0.17,10.200000000000001,null,null,null,null,null,"`"]
["14-C","P/ Cement plaster 25 mm in C.M. 1:4",{"$f":"'DSR-Sheet I  '!D93","v":1080},"Sqm",0.217,234.35999999999999,null,null,null,null,null,"`"]
["14-D","P/ Cement plaster 20 mm in C.M. 1:4",{"$f":"'DSR-Sheet I  '!D94","v":0},"Sqm",0.17,0,null,null,null,null,null,"`"]
[18,"P/ sills of polished shahabad",{"$f":"'DSR-Sheet I  '!D99","v":20},"Sqm",0.18,3.5999999999999996,null,null,null,null,null,"`"]
["24-A","P/L C.C. M-15 for flooring",{"$f":"'DSR-Sheet I  '!D109","v":1111},"Cum",6,6666]
[]
[]
[null,"Sub work II :- Cement Concrete Road"]
[null,"Construction of M10 Dry Lean Concrete",0,"Cum",4.4000000000000004,{"$f":"E31*C31","v":0}]
[null,"P//L C.C. M-35 for road pavement",0,"Cum",8.25,{"$f":"E32*C32","v":0}]
[null,"P/F RCC M-15 guard stones",0,"No",0.18,{"$f":"E33*C33","v":0}]
[null,"P/L C.C M-35 ",0,"Cum",8.25,{"$f":"E34*C34","v":0}]
[null,"20 mm plaster",0,"Sqm",0.17,{"$f":"E35*C35","v":0}]
[null,null,null,null,null,{"$f":"SUM(F12:F35)","v":8793.76},"Bags"]
[null,null,null,null,null,{"$f":"F36/20","v":439.68799999999999},"M.T."]
[]
[]
[]
[]
[]
[]
[null,"Sectional Engineer,",null,null,null,"Dy. Manager (Engg),"]
[]
[]
[]
[]
[]
[]
[]
[]
[]
[]
[]
[]
[]
[]
[]
[]
[]
[]
[]
[]
[]
[]
[]
[]
[]
[]
[]
[]
[]
[]
[]
[]
["Maharashtra State Warehousing Corporation"]
["Pune-37"]
["CEMENT CONSUMPTION STATEMENT"]
[]
["Name of work :- Supply &  installation of Racking system in W.H.complex at Dronagiri node."]
[]
[]
["R.A. Bill No.  -5th"]
[]
["Item No.","Brief description of item.","Quantity ","Unit","Actual rate of consumption Bag / unit","Total Consumption in bags.","Remarks"]
[null,null,"Executed"]
[]
[]
[]
[null,"Sub work- I -Fabrication work for installation of Racking system & strengthening "]
[null,"                    of slab with ancillary works"]
[]
[17,"Removing damaged plaster and"]
[null,"P/ cement plastewrv 20 mm ",1677.35,"Sq.M",0.18,{"$f":"C95*E95","v":301.92299999999994}]
[]
[]
[]
[]
[]
[]
[]
[]
[]
[]
[null,null,null,null,null,{"$f":"F95","v":301.92299999999994},"Bags"]
[null,null,null,null,null,{"$f":"F106/20","v":15.096149999999998},"M.T."]
[]
[]
[]
[]
[]
[]
[null,"Sectional Engineer,",null,null,null,"Dy. Manager (Engg),"]
[null,"Vashi.",null,null,null,"Vashi."]

{"sheet":"Sheet2","index":31,"n_rows":36,"n_cols":18,"rows_kept":36,"cut":false,"hidden":true,"merged":[]}
[]
[]
[null,"Qty","Sand","metal","Cement","Rubble","Bricks","HM filling","Steel Bar","Morter","40/60","HM road","Gal. sheet"]
[]
["1:5:10 PCC",{"$f":"'[10]Sheet 1 DSR -22m '!Q264","v":124},{"$f":"B5*Q5","v":58.279999999999994},{"$f":"B5*Q6","v":116.55999999999999},{"$f":"B5*Q7","v":312.48},null,null,null,null,null,null,null,null,1,"C.C. 1:5:10 for foundation & beddding","SAND",0.47,418.29]
[null,null,null,null,null,null,null,null,null,null,null,null,null,null,null,"METAL",0.94,494.81]
["01:02:04",{"$f":"'[10]Sheet 1 DSR -22m '!R264","v":148.30000000000001},{"$f":"B7*Q19","v":65.25200000000001},{"$f":"B7*Q20","v":130.50400000000002},{"$f":"B7*Q21","v":874.97000000000014},null,null,null,null,null,null,null,null,null,null,"CEMENT",2.52,6.5314999999999994]
[]
["RCC M20",{"$f":"'[10]Sheet 1 DSR -22m '!S264","v":172},{"$f":"B9*Q16","v":73.099999999999994},{"$f":"B9*Q17","v":146.19999999999999},{"$f":"B9*Q18","v":1186.8},null,null,null,null,null,null,null,null,2,"P & C U.C.R masonary","SAND",0.4,418.29]
[null,null,null,null,null,null,null,null,null,null,null,null,null,null,null,"RUBBLE",1.25,605.36]
["UCR",{"$f":"'[10]Sheet 1 DSR -22m '!T264","v":20},{"$f":"B11*Q9","v":8},null,null,{"$f":"B11*Q10","v":25},null,null,null,null,null,null,null,null,null,"CEMENT",1.78,6.5314999999999994]
[null,null,null,null,null,null,null,null,null,null,null,null,null,null,null,"ROYALTY ",1.25,141.34]
["BBM",{"$f":"'[10]Sheet 1 DSR -22m '!U264","v":181},{"$f":"B13*Q13","v":54.3},null,null,null,{"$f":"(B13*Q14)*1000","v":85975},null,null,null,null,null,null,3,"P &C B.B. masonary in   plinth & S.S ","SAND",0.3,418.29]
[null,null,null,null,null,null,null,null,null,null,null,null,null,null,null,"BRICKS",0.47499999999999998,143.982]
["HM",{"$f":"'[10]Sheet 1 DSR -22m '!V264","v":697},null,null,null,null,null,{"$f":"B15","v":697},null,null,null,null,null,null,null,"CEMENT",1.44,6.5314999999999994]
[null,null,null,null,null,null,null,null,null,null,null,null,null,4,"P & L R.C.C. (M-20)   1:1.5:3 ","SAND",0.42499999999999999,418.29]
["Steel Bar",{"$f":"'[10]Sheet 1 DSR -22m '!W264","v":19.2},null,null,null,null,null,null,{"$f":"B17","v":19.2},null,null,null,null,null,null,"METAL",0.85,494.81]
[null,null,null,null,null,null,null,null,null,null,null,null,null,null,null,"CEMENT",6.9,6.5314999999999994]
["Struct. Steel",{"$f":"'[10]Sheet 1 DSR -22m '!X264","v":0},null,null,null,null,null,null,null,null,null,null,null,"4-A","P & L R.C.C. 1:2:4 ","SAND",0.44,418.29]
[null,null,null,null,null,null,null,null,null,null,null,null,null,null,null,"METAL",0.88,494.81]
["Plaster",{"$f":"'[10]Sheet 1 DSR -22m '!Y264","v":1226},{"$f":"B21*Q23","v":29.423999999999999},null,null,null,null,null,null,{"$f":"B21*0.02","v":24.52},null,null,null,null,null,"CEMENT",5.9,6.5314999999999994]
[]
["40/60 MM",{"$f":"'[10]Sheet 1 DSR -22m '!Z264","v":708.4},null,null,null,null,null,null,null,null,{"$f":"B23","v":708.4},null,null,5,"P & A 20mm tk plaster inside neeru finish","SAND",2.4E-2,418.29]
[null,null,null,null,null,null,null,null,null,null,null,null,null,null,null,"ROYALTY ",1.7000000000000001E-2,6.5314999999999994]
["HM for Road",{"$f":"'[10]Sheet 1 DSR -22m '!AA264","v":94},null,null,null,null,null,null,null,null,null,{"$f":"B25","v":94},null,null,null,"CEMENT",0.19,6.5314999999999994]
[]
[null,null,{"$f":"SUM(C5:C25)","v":288.35599999999999},{"$f":"SUM(D5:D25)","v":393.26400000000001},2374.25,25,85975,697,19.2,24.52,708.4,94,null,6,"P & A Sand face plaster ","SAND",2.4E-2,418.29]
[null,null,null,null,null,null,null,null,null,null,null,null,null,null,null,"ROYALTY ",0.2,0]
[null,null,null,null,null,null,null,null,null,null,null,null,null,null,null,"CEMENT",0.22,6.5314999999999994]
[null,null,null,null,null,null,null,null,null,null,null,null,null,7,"P & F ploished shahabad for sills & dado","SAND",2.4E-2,418.29]
[null,null,null,null,null,null,null,null,null,null,null,null,null,null,null,"ROYALTY ",2.4E-2,0]
[null,null,null,null,null,null,null,null,null,null,null,null,null,8,"P & C half brick wall ","sand",3.5999999999999997E-2,418.29]
[null,null,null,null,null,null,null,null,null,null,null,null,null,null,"120 bricks per cum","bricks",1,36.374400000000001]
[null,null,null,null,null,null,null,null,null,null,null,null,null,null,null,"ROYALTY ",3.5999999999999997E-2,0]
[null,null,null,null,null,null,null,null,null,null,null,null,null,9,"P & a flush pointing in c.m.1:3 for stone masonary","sand",3.0000000000000001E-3,418.29]
[null,null,null,null,null,null,null,null,null,null,null,null,null,null,null,"ROYALTY ",3.5999999999999997E-2,0]

{"sheet":"Lab Test","index":32,"n_rows":49,"n_cols":9,"rows_kept":49,"cut":false,"hidden":true,"merged":[[16,8,16,10],[0,0,0,8],[1,0,1,8],[2,0,2,4],[4,1,4,9],[7,8,7,10],[8,8,8,10],[9,8,9,10],[10,8,10,10],[11,8,11,10],[13,8,13,10],[15,8,15,10],[29,1,30,1],[29,8,29,10],[30,8,30,10],[17,8,17,10],[19,8,19,10],[20,8,20,10],[21,8,21,10],[22,8,22,10],[23,8,23,10],[24,8,24,10],[25,8,25,10],[26,8,26,10],[27,8,27,10],[28,8,28,10],[37,8,37,10],[39,8,39,10],[40,8,40,10],[41,8,41,10],[31,8,31,10],[32,8,32,10],[33,8,33,10],[34,8,34,10],[35,8,35,10],[36,8,36,10]]}
["MAHARASHTRA STATE WAREHOUSING CORPORATION"]
["583/B, Market Yard, Gultekadi, Pune 411 037."]
["Sub work IV:- Material Lab Testing charges"]
[]
[null,{"$f":"#REF!","v":{"$error":"#REF!"}}]
["Statement showing the details of requirement of Lab. Tests to be carried out:-"]
[]
["Sr. No.","Particulars","Quantity ","Unit","Tests to be carried out","Nos. of tests","Rate per test","Amount","Remarks"]
[1,"Cement",{"$f":"[11]Sheet2!E27","v":5235.5187999999998},"Bags","Fineness,  Standard Consistency, Setting Time (Initial & Final ), Compressive strength, Soundness",6,3000,{"$f":"F9*G9","v":18000},"one tesr per 1000 Bags"]
[]
[2,"Concrete M-10 grade",0,"cum","i)Concrete cube compressive strength (Set of 3 Cubes) ",0,550,{"$f":"F11*G11","v":0},"1 test for 15 cum"]
[]
[3,"Concrete M-20 grade",0,"cum","i)Mix Design with all tests on basic materials",0,11000,{"$f":"F13*G13","v":0},"One per 500 cum of concrete"]
[null,null,null,null,"ii)Concrete cube compressive strength (Set of 3 Cubes) ",0,550,{"$f":"F14*G14","v":0},"1 test for 15 cum"]
[4," Concrete M-30 grade",704.25,"cum","i)Mix Design with all tests on basic materials",2,11000,{"$f":"F15*G15","v":22000},"One per 500 cum of concrete"]
[null,null,null,null,"ii)Concrete cube compressive strength(Set of 3 Cubes) ",47,550,{"$f":"F16*G16","v":25850},"1 test for 15 cum"]
[]
[5,"Crushed metal for concrete",{"$f":"[11]Sheet2!D27","v":860.52519999999993},"cum","i)Water absorption, Specific gravity,Impact value,Crushing value",1,2100,{"$f":"F18*G18","v":2100},"one test per 1000 cum per source / change in source."]
[null,null,null,null,"ii)Gradation",5,550,{"$f":"F19*G19","v":2750},"one test per 200 cum"]
[null,null,null,null,"iii) Combined Flakiness & Elongation of single metal",2,1400,{"$f":"F20*G20","v":2800},"one test per 500 cum"]
[]
[6,"Bricks",{"$f":"[11]Sheet2!G27","v":190950},"cum","Crushing value, Water absorbation, & Specific Gravity",3,1750,{"$f":"F22*G22","v":5250},"one test per 50000 Nos. of bricks or part."]
[]
[7,"Masonry stones",{"$f":"[11]Sheet2!B11","v":43},"cum","Crushing value/Compressive strength, water absorbation & Specific Gravity",1,1600,{"$f":"F24*G24","v":1600},"one test per source"]
[]
[8,"TMT steel bars",{"$f":"[11]Sheet2!B17","v":43.2},"M.T.","Tensile strength ,Yield stress, ultimate tensile stress, %elongation, weight per running meter,Bend/Rebend test.(Set of 3 Bars)",5,1300,{"$f":"F26*G26","v":6500},"1 test per  10.00 M.T. and one for each dia. Of use bar"]
[]
[9,"Sand",{"$f":"[11]Sheet2!C27","v":639.10259999999994},"cum","Fineness Modulus, silt & clay content.",1,1800,{"$f":"F28*G28","v":1800},"1 test per source"]
[]
[10,"Murum in plinth ",{"$f":"[11]Sheet2!B15+[11]Sheet2!B25","v":1847},"cum","i)Plasticity Index",2,900,{"$f":"F30*G30","v":1800},"1 test per 1000 Cum."]
[null,null,null,null,"ii)  Field Density of compacted layer",6,900,{"$f":"F31*G31","v":5400},"1 test per 250 Sq.m"]
[null,null,null,null,"iii) Proctor Test",2,1500,{"$f":"F32*G32","v":3000},"1 test per 1000 Cum."]
[]
[11,"Earthwork ",{"$f":"[11]Sheet2!B21+[11]Sheet2!B31","v":2960},"cum","i) Gradation",5,550,{"$f":"F34*G34","v":2750},"1 test per 400 Cum."]
[null,"For embankment",null,null,"i)Plasticity Index",5,900,4500,"1 test per 400 Cum."]
[null,"(H.M/S.M.)",null,null,"iii) Moisture content prior to compaction",8,350,2800,"1 test per 400 Cum."]
[null,null,null,null,"iv) Density of compacted layer",2,900,1800,"1 test per 1000 Sq.m"]
[null,null,null,null,"v) Proctor Test",2,1500,3000,"2 test per 3000 Cum."]
[12,"Metal for Road/ Filling metal in plinth",{"$f":"[11]Sheet2!K27","v":1487.5},"cum","Basic test on aggregates  Water absorption,specific gravity,impact value/crushing value",2,2100,4200,"one test per 1000 cum"]
[null,null,null,null,"ii)Gradation",6,550,3300,"one test per 250 cum"]
[null,null,null,null,"iii) Combined Flakiness & Elongation ",4,700,2800,"one test per 500 cum"]
[null,null,null,null,null,"TOTAL",null,{"$f":"SUM(H9:H41)","v":124000}]
[]
[]
[]
[]
[]
[null,"Sectional Engineer",null,null,null,"Deputy Manager(Engg.)"]
[null,"Mumbai.",null,null,null,"Mumbai."]

{"sheet":"Sheet3","index":33,"n_rows":27,"n_cols":14,"rows_kept":27,"cut":false,"hidden":true,"merged":[[3,9,3,15],[4,0,4,16],[8,10,8,12],[7,9,7,14],[26,9,26,14],[24,9,24,14]]}
[]
[]
[]
[null,null,null,null,null,null,null,null,null,"MAHARASHTRA STATE  WAREHOUSING CORPORATION"]
["                                                                                                   583/B, MARKET YARD, GULTEKADI, PUNE-411037"]
[]
[]
[null,null,null,null,null,null,null,null,null,"NAME OF WORK :-  CONSTRUCTION OF 1/3600  MT CAP. PRE ENGINEERED WH BLDG WITH ANCILLARY WORKS AT:-MURTIZAPUR (MIDC) DIST. AKOLA."]
[null,null,null,null,null,null,null,null,null,null,"LEAD STATEMENT"]
[]
[null,null,null,null,null,null,null,null,null,"SR.NO.","NAME OF MATERIAL","NAME OF QUARRY","LEAD IN  KM","FULL RATE "]
[null,null,null,null,null,null,null,null,null,1,"SAND    ","Lakhpuri",17,347.09]
[null,null,null,null,null,null,null,null,null,2,"METAL UPTO 40MM  crushed ","-----",6,217.94]
[null,null,null,null,null,null,null,null,null,3,"METAL ABOVE 40 MM   Road ","Anbhora Quarry",11,285.89999999999998]
[null,null,null,null,null,null,null,null,null,4,"RUBBLE","Anbhora Quarry",11,349.77]
[null,null,null,null,null,null,null,null,null,5,"BRICKS(475 bricks per cum)","-----",17,"749.96"]
[null,null,null,null,null,null,null,null,null,6,"Hard murum ","Anbhora Quarry",11,{"$f":"310.36+(366.04-310.36)/5*1","v":321.49600000000004}]
[null,null,null,null,null,null,null,null,null,7,"Soft murum","Anbhora Quarry",11,{"$f":"310.36+(366.04-310.36)/5*1","v":321.49600000000004}]
[null,null,null,null,null,null,null,null,null,8,"Cement","murtizapur city",5,157.09]
[]
[null,null,null,null,null,null,null,null,null,"1. This is certify that the lead statement prepaired on the basis of quarry chart obtained from PWD."]
[]
[null,null,null,null,null,null,null,null,null,"2. The lead stated above has the nearest one and having good quality of material."]
[]
[null,null,null,null,null,null,null,null,null,"3. This is to certify that the quarries shown in the lead statement and lead distance are verified by me personally"]
[]
[null,null,null,null,null,null,null,null,null,"4.Royalty charges for Hard murum, soft murum, road metal hand broken, rubbles stones etc considered of Rs.141.34 per cubic meter."]